Workbook
Name Excel_BuiltIn_Database: #REF!
Name Excel_BuiltIn_Database_2: #REF!

Sheet ORÇ
D2: MEMÓRIA DE CÁLCULO
G3: Processo:
G4: Data-Base:JANEIRO/2018
E5: MEDIÇÃO:
B6: OBRA: Muro de Divisa proteção Corrego . | G6: LOCAL: | H6: Ferraz de Vasconcelos
B7: CÓDIGO: Travessa Cosme Abate xRua Washington Luiz | H7: -
B9: CÓDIGO | C9: DESCRIÇÃO DOS SERVIÇOS | H9: UNID | I9: QUANT
B11: 170164 | C11: FV.15/16 - MURO DE FECHO EM BLOCOS E ESTRUTURA DE CONCRETO, FUNDAÇÃO COM BROCAS | H11: M | I11: 102 | K11: 526.03 | L11: =K11*I11 -> 53655.06
B12: EDIF | C12: 69,50+20,50+12=102,00
B13: 40198 | C13: VERGAS, CINTAS E PILARETES DE CONCRETO | H13: M3 | I13: 0.12 | K13: 1153.95 | L13: =K13*I13 -> 138.474
B14: EDIF | C14: 1,5*0,20*0,20 *2 =0,12
B15: 100408 | C15: TUBO DE AÇO GALVANIZADO, CLASSE LEVE I (LINHA ÁGUA) - 3" | H15: M | I15: 6 | K15: 151.13 | L15: =K15*I15 -> 906.78
B16: EDIF
M17: =B17 -> 0
B18: VICENTE NUNES DA EIRA ENG. CIVIL CREA : 5060580945SP | I18: SUB-TOTAL | L18: =SUM(L11:L17) -> 54700.314
I19: BDI 25% | L19: =(L18*0.25) -> 13675.078
B20: ITEM DE MAIOR RELEVÂNCIA | I20: TOTAL | L20: =SUM(L18:L19) -> 68375.393
B21: 170164 | C21: FV.15/16 - MURO DE FECHO EM BLOCOS E ESTRUTURA DE CONCRETO, FUNDAÇÃO COM BROCAS | H21: M | I21: 102 | K21: 526.03 | L21: =K21*I21 -> 53655.06
B22: EDIF | C22: 69,50+20,50+12=102,00
B24: CRITÉRIO POR MEDIÇÃO ---- LATITUDE :23°32' 05,26"S , LONGITUDE :46° 21' 29,20" O

Sheet Planilha
B1: PREFEITURA MUNICIPAL DE FERRAZ DE VASCONCELOS
B2: SECRETARIA DE OBRAS
B3: PLAN. ORÇAMENT.DA EXEC.DO Muro de Divisa proteção Corrego- Travessa Cosme Abate x Rua Washington Luiz
A5: Item | B5: Descrição | C5: Unid | D5: Qtde | E5: Preço Unit. | F5: Total
A6: 1 | B6: =ORÇ!C11 -> FV.15/16 - MURO DE FECHO EM BLOCOS E ESTRUTURA DE CONCRETO, FUNDAÇÃO COM BROCAS
A7: =ORÇ!B11 -> 170164 | C7: M | D7: 102
A8: EDIF | E8: Subtotal: | F8: =SUM(F7:F7) -> 0
A9: 2 | B9: =ORÇ!C13 -> VERGAS, CINTAS E PILARETES DE CONCRETO
A10: =ORÇ!B13 -> 40198 | C10: M3 | D10: 0.12
A11: EDIF | E11: Subtotal: | F11: =SUM(F10:F10)+0.01 -> 0.01
A12: 3 | B12: =ORÇ!C15 -> TUBO DE AÇO GALVANIZADO, CLASSE LEVE I (LINHA ÁGUA) - 3"
A13: =ORÇ!B15 -> 100408 | C13: M | D13: 6
A14: EDIF | E14: Subtotal: | F14: =SUM(F13:F13)+0.01 -> 0.01
E15: Total:
E16: BDI (25%): | F16: =F15*0.25 -> 0
E17: Total Geral: | F17: =F15+F16 -> 0
A18: VICENTE NUNES DA EIRA ENG. CIVIL CREA : 5060580945SP
A23: Obs: planilhas elaboradas em conformidade com o dados coletados no local .
A24: ,não foram apresentados levantamentos topog., cotas e projetos complementares (eletr.,hidr.,A.Plv.,esgoto)
A25: CRITÉRIO POR MEDIÇÃO ---- LATITUDE :23°32' 05,26"S , LONGITUDE :46° 21' 29,20" O

Sheet Cronograma
B2: PREFEITURA MUNICIPAL DE FERRAZ DE VASCONCELOS
B3: SECRETARIA MUNICIPAL DE OBRAS
A4: CRONOG.DA EXEC. DO Muro de Divisa proteção Corrego- Travessa Cosme Abate x Rua Washington
E6: VALOR | F6: total %
A7: Item | B7: Descrição | C7: 1ºMÊS | D7: 2ºMÊS | E7: C/BDI | F7: p/serviço
A8: 1 | B8: MURO | C8: =(E8/2) -> 33534.412 | D8: =(E8/2) -> 33534.412 | E8: =SUM(53655.06*1.25) -> 67068.825 | F8: =SUM(E8/E16)*100 -> 98.089133
A11: 4 | B11: INFRAESTRUTURA E TUBO | C11: =(E11/2) -> 653.28125 | D11: =(E11/2) -> 653.28125 | E11: =SUM(1045.25*1.25) -> 1306.5625 | F11: =SUM(E11/E16)*100 -> 1.9108667
B14: TOTAL % por mês | C14: =SUM(C8:C13) -> 34187.694 | D14: =SUM(D8:D13) -> 34187.694
C15: =SUM(C8:C13)/E16 -> 0.5 | D15: =SUM(D8:D13)/E16 -> 0.5 | E15: =SUM(C15:D15) -> 1 | F15: =SUM(F8:F13) -> 100
E16: =SUM(E8:E13) -> 68375.387
A18: ITEM DE MAIOR RELEVÂNCIA
A19: 1 | B19: MURO | C19: =(E19/2) -> 33534.412 | D19: =(E19/2) -> 33534.412 | E19: =SUM(53655.06*1.25) -> 67068.825 | F19: =SUM(E8/E16)*100 -> 98.089133
A23: VICENTE NUNES DA EIRA ENG. CIVIL CREA : 5060580945SP
A24: Obs: planilhas elaboradas em conformidade com o dados coletados no local
A25: ,não foram apresentados levantamentos topog., cotas e projetos complementares (eletr.,hidr.,A.Plv.,esgoto)
A27: CRITÉRIO POR MEDIÇÃO ---- LATITUDE :23°32' 05,26"S , LONGITUDE :46° 21' 29,20" O
