Workbook
Name Excel_BuiltIn_Database: #REF!
Name Excel_BuiltIn_Database_2: #REF!

Sheet ORÇ
D2: MEMÓRIA DE CÁLCULO
G3: Processo:
G4: Data-Base: JULHO/2018- EDIF/ FDE-OUT-18
E5: MEDIÇÃO:
B6: OBRA: CONSTRUÇÃO DO PISO E PINTURA DA QUADRA | G6: LOCAL: | H6: Ferraz de Vasconcelos
B7: CÓDIGO: QUADRA MARCÍLIO GUERRA -RUA:Jacomo Zanchetta nº77 | H7: -
B9: CÓDIGO | C9: DESCRIÇÃO DOS SERVIÇOS | H9: UNID | I9: QUANT
B11: 25006 | C11: 1-DEMOLIÇÃO MECANIZADA DE CONCRETO ARMADO | H11: M3 | I11: 71.75 | J11: 258.47 | K11: =J11*I11 -> 18545.223
B12: EDIF | C12: 35,00X20,50=717,50x0,10=71,75m3
B13: 10105 | C13: 2-CARGA MECANIZADA E REMOÇÃO DE ENTULHO, INCL.TRANSPORTE ATÉ 1KM | H13: M3 | I13: 93.28 | J13: 7.26 | K13: =J13*I13 -> 677.2128
B14: EDIF | C14: 35,00X20,50X0,10=71,75X1,30(coef. empolamento)=93,28m3 | K14: =J14*I14 -> 0
B15: 10110 | C15: 3-TRANSPORTE DE ENTULHO POR CAMINHÃO BASCULANTE, A PARTIR DE 1KM | H15: m3xkm | I15: 1865.6 | J15: 1.22 | K15: =J15*I15 -> 2276.032
B16: EDIF | C16: 93,28x20=1865,60m3xkm | K16: =J16*I16 -> 0
B17: 170351 | C17: 4-QC.02 - QUADRA POLIESPORTIVA - PISO ARMADO | H17: M2 | I17: 717.5 | J17: 90.06 | K17: =J17*I17 -> 64618.05
B18: EDIF | C18: 35,00X20,50=717,50m3
B19: 130110 | C19: 5-LASTRO DE BRITA | H19: M3 | I19: 35.88 | J19: 130.79 | K19: =J19*I19 -> 4692.7452
B20: EDIF | C20: 35,00X20,50=717,50x0,05=35,88m3
B21: 102100 | C21: 6-CORTE DE CONCRETO COM DISCO DIAMANTADO ATÉ PROFUNDIDADE DE 13CM | H21: M2 | I21: 3.6 | J21: 77.44 | K21: =J21*I21 -> 278.784
B22: INFRA | C22: 35,00X5X0,01=1,75M2+ 9X20,50*0,01=1,85M2 =3,60M2
B23: 130204 | C23: 7-ACABAMENTO DE PISO DE CONCRETO TIPO BAMBOLÊ | H23: M2 | I23: 717.5 | J23: 4.65 | K23: =J23*I23 -> 3336.375
B24: EDIF | C24: 35,00X20,50=717,50m2
B25: 50244 | C25: 8-PINTURA PROTETORA COM TINTA A BASE DE EPÓXI (PARA ARGAMASSA IMPERMEÁVEL) | H25: M2 | I25: 717.5 | J25: 113.48 | K25: =J25*I25 -> 81421.9
B26: EDIF | C26: 35,00X20,50=717,50m2
B27: 16.01.090 | C27: 9-FE-01 FECHAMENTO PARA SETORIZAÇAO 120<H<200 CM (ALAMBRADO) | H27: M | I27: 75 | J27: 456.84 | K27: =J27*I27 -> 34263
B28: FDE | C28: 35,00*1,5 =52,5+15*1,5=22,50- TOTAL =75M | K28: =J28*I28 -> 0
B29: 170360 | C29: 10-POSTES PARA VOLEIBOL, INCLUSIVE PINTURA E REDE | H29: UNID | I29: 1 | J29: 2114.3 | K29: =J29*I29 -> 2114.3
B30: EDIF | K30: =J30*I30 -> 0
B31: 170361 | C31: 11-TRAVE PARA FUTEBOL DE SALÃO, INCLUSIVE PINTURA E REDE | H31: UNID | I31: 2 | J31: 2237.58 | K31: =J31*I31 -> 4475.16
B32: EDIF | K32: =J32*I32 -> 0
B33: COTAÇÃO | C33: 12- ESTRUTURA DE BASQUETE MOD.N.B.A OFICIAL AXS- MOD. 119-E (PAR) | H33: UNID | I33: 1 | J33: 29389.5 | K33: =J33*I33 -> 29389.5
B34: INTERNET | C34: MERCADO DOS ESPORTES= 29.389,50 , RAPINI =29.700,00 ,PEQUITA SPORTS =34.980,00
B35: 170355 | C35: 13-QD.01 - DEMARCAÇÃO DE QUADRA COM TINTA A BASE DE BORRACHA CLORADA - VOLEIBOL | H35: UNID | I35: 1 | J35: 190.91 | K35: =J35*I35 -> 190.91
B36: EDIF | K36: =J36*I36 -> 0
B37: 170356 | C37: 14-QD.02 - DEMARCAÇÃO DE QUADRA COM TINTA A BASE DE BORRACHA. CLORADA - FUTEBOL DE SALÃO | H37: UNID | I37: 1 | J37: 353.53 | K37: =J37*I37 -> 353.53
B38: EDIF | K38: =J38*I38 -> 0
B39: 170357 | C39: 15-QD.03 - DEMARCAÇÃO DE QUADRA COM TINTA A BASE DE BORRACHA CLORADA - BASQUETE | H39: UNID | I39: 1 | J39: 471.38 | K39: =J39*I39 -> 471.38
B40: EDIF | K40: =J40*I40 -> 0
B41: 170358 | C41: 16-QD.05 - DEMARC.QUADRA C/ TINTA A BASE DE BORRACHA CLORADA - HANDBOL | H41: UNID | I41: 1 | J41: 260.71 | K41: =J41*I41 -> 260.71
B42: EDIF
B43: 34050 | C43: 17-POLIMENTO DE CONCRETO | H43: M2 | I43: 717.5 | J43: 5.37 | K43: =J43*I43 -> 3852.975
...

Sheet Planilha
C3: PREFEITURA MUNICIPAL DE FERRAZ DE VASCONCELOS
C4: SECRETARIA MUNICIPAL DE OBRAS
B5: PLANILHA ORÇAMENTÁRIA DA EXECUÇÃO CONSTRUÇÃO DO PISO E PINTURA DA QUADRA MARCÍLIO GUERRA -RUA:Jacomo Zanchetta nº77
B7: Item | C7: Descrição | D7: Unid | E7: Qtde | F7: Preço Unit. | G7: Total
B8: 1 | C8: =ORÇ!C11 -> 1-DEMOLIÇÃO MECANIZADA DE CONCRETO ARMADO
B9: =ORÇ!B11 -> 25006 | D9: =ORÇ!H11 -> M3 | E9: =ORÇ!I11 -> 71.75
B10: =ORÇ!B12 -> EDIF | F10: Subtotal: | G10: =SUM(G9:G9) -> 0
B11: 2 | C11: =ORÇ!C13 -> 2-CARGA MECANIZADA E REMOÇÃO DE ENTULHO, INCL.TRANSPORTE ATÉ 1KM
B12: =ORÇ!B13 -> 10105 | D12: =ORÇ!H13 -> M3 | E12: =ORÇ!I13 -> 93.28
B13: EDIF | F13: Subtotal: | G13: =SUM(G12:G12) -> 0
B14: 3 | C14: =ORÇ!C15 -> 3-TRANSPORTE DE ENTULHO POR CAMINHÃO BASCULANTE, A PARTIR DE 1KM
B15: =ORÇ!B15 -> 10110 | D15: =ORÇ!H15 -> m3xkm | E15: =ORÇ!I15 -> 1865.6 | G15: =F15*E15 -> 0
B16: EDIF | F16: Subtotal: | G16: =SUM(G15:G15) -> 0
B17: 4 | C17: =ORÇ!C17 -> 4-QC.02 - QUADRA POLIESPORTIVA - PISO ARMADO
B18: =ORÇ!B17 -> 170351 | D18: =ORÇ!H17 -> M2 | E18: =ORÇ!I17 -> 717.5 | G18: =F18*E18 -> 0
B19: EDIF | F19: Subtotal: | G19: =SUM(G18:G18) -> 0
B20: 5 | C20: =ORÇ!C19 -> 5-LASTRO DE BRITA
B21: =ORÇ!B19 -> 130110 | D21: =ORÇ!H19 -> M3 | E21: =ORÇ!I19 -> 35.88 | G21: =F21*E21 -> 0
B22: EDIF | F22: Subtotal: | G22: =SUM(G21:G21) -> 0
B23: 6 | C23: =ORÇ!C21 -> 6-CORTE DE CONCRETO COM DISCO DIAMANTADO ATÉ PROFUNDIDADE DE 13CM
B24: =ORÇ!B21 -> 102100 | D24: =ORÇ!H21 -> M2 | E24: =ORÇ!I21 -> 3.6 | G24: =F24*E24 -> 0
B25: EDIF | F25: Subtotal: | G25: =SUM(G24:G24) -> 0
B26: 7 | C26: =ORÇ!C23 -> 7-ACABAMENTO DE PISO DE CONCRETO TIPO BAMBOLÊ
B27: =ORÇ!B23 -> 130204 | D27: =ORÇ!H23 -> M2 | E27: =ORÇ!I23 -> 717.5 | G27: =F27*E27 -> 0
B28: EDIF | F28: Subtotal: | G28: =SUM(G27:G27) -> 0
B29: 8 | C29: =ORÇ!C25 -> 8-PINTURA PROTETORA COM TINTA A BASE DE EPÓXI (PARA ARGAMASSA IMPERMEÁVEL)
B30: =ORÇ!B25 -> 50244 | D30: =ORÇ!H25 -> M2 | E30: =ORÇ!I25 -> 717.5 | G30: =F30*E30 -> 0
B31: EDIF | F31: Subtotal: | G31: =SUM(G30:G30) -> 0
B32: 9 | C32: =ORÇ!C27 -> 9-FE-01 FECHAMENTO PARA SETORIZAÇAO 120<H<200 CM (ALAMBRADO)
B33: =ORÇ!B27 -> 16.01.090 | D33: =ORÇ!H27 -> M | E33: =ORÇ!I27 -> 75 | G33: =F33*E33 -> 0
B34: EDIF | F34: Subtotal: | G34: =SUM(G33:G33) -> 0
B35: 10 | C35: =ORÇ!C29 -> 10-POSTES PARA VOLEIBOL, INCLUSIVE PINTURA E REDE
B36: =ORÇ!B29 -> 170360 | D36: =ORÇ!H29 -> UNID | E36: =ORÇ!I29 -> 1 | G36: =F36*E36 -> 0
B37: EDIF | F37: Subtotal: | G37: =SUM(G36:G36) -> 0
B38: 11 | C38: =ORÇ!C31 -> 11-TRAVE PARA FUTEBOL DE SALÃO, INCLUSIVE PINTURA E REDE
B39: =ORÇ!B31 -> 170361 | D39: =ORÇ!H31 -> UNID | E39: =ORÇ!I31 -> 2 | G39: =F39*E39 -> 0
B40: EDIF | F40: Subtotal: | G40: =SUM(G39:G39) -> 0
B41: 12 | C41: =ORÇ!C33 -> 12- ESTRUTURA DE BASQUETE MOD.N.B.A OFICIAL AXS- MOD. 119-E (PAR)
B42: =ORÇ!B33 -> COTAÇÃO | C42: =ORÇ!C34 -> MERCADO DOS ESPORTES= 29.389,50 , RAPINI =29.700,00 ,PEQUITA SPORTS =34.980,00 | D42: =ORÇ!H33 -> UNID | E42: =ORÇ!I33 -> 1 | G42: =F42*E42 -> 0
B43: INTERNET | F43: Subtotal: | G43: =SUM(G42:G42) -> 0
...

Sheet CRONOGRAMA
C3: PREFEITURA MUNICIPAL DE FERRAZ DE VASCONCELOS
C4: SECRETARIA MUNICIPAL DE OBRAS
B5: CRONOGRAMA DA EXEC. CONSTRUÇÃO DO PISO E PINTURA DA QUADRA MARCÍLIO GUERRA -RUA:Jacomo Zanchetta nº77
G7: VALOR | H7: total %
B8: Item | C8: Descrição | D8: 1ºMÊS | E8: 2ºMÊS | F8: 3ºMÊS | G8: C/BDI | H8: por serviço
B9: 1 | C9: DEMOLIÇÃO | D9: =(G9/2) -> 13436.544 | E9: =(G9/2) -> 13436.544 | G9: =SUM(21498.47*1.25) -> 26873.088 | H9: =SUM(G9/G26)*100 -> 5.8326646
B12: 2 | C12: PISO DE CONCRETO | D12: =(F12/3) -> 10663.74 | E12: =(G12/3) -> 31991.221 | F12: =(G12/3) -> 31991.221 | G12: =SUM((76778.93*1.25)) -> 95973.662 | H12: =SUM(G12/G26)*100 -> 20.830587
B15: 3 | C15: ESTRUT. METAL.E ELETR. | D15: =(G15/2) -> 84212.669 | E15: =(G15/2) -> 84212.669 | G15: =SUM(134740.27*1.25) -> 168425.34 | H15: =SUM(G15/G26)*100 -> 36.555848
B18: 4 | C18: EQUIPAMENTOS ESPORTIVOS | D18: =(G18/3) -> 20319.233 | E18: =(G18/3) -> 20319.233 | G18: =SUM(48766.16*1.25) -> 60957.7 | H18: =SUM(G18/G26)*100 -> 13.230553
B21: 5 | C21: PINTURA | E21: =(G21/3) -> 36168.179 | F21: =(G21/3) -> 36168.179 | G21: =SUM(86803.63*1.25) -> 108504.54 | H21: =SUM(G21/G26)*100 -> 23.550349
C24: TOTAL % por quinzena | D24: =SUM(D9:D23) -> 128632.19 | E24: =SUM(E9:E23) -> 186127.85 | F24: =SUM(F18:F23) -> 36168.179
D25: =SUM(D9:D21)/G26 -> 0.27918951 | E25: =SUM(E9:E21)/G26 -> 0.40398086 | F25: =SUM(F18:F22)/G26 -> 0.078501162 | G25: =SUM(D25:F25)*100 -> 76.167153 | H25: =SUM(H9:H21) -> 100
G26: =SUM((G9:G23))-0.01 -> 460734.32
B28: CRITÉRIO POR MEDIÇÕES
B29: Planilha elaborada por: Vicente Nunes da Eira - Eng.Civil - crea/sp - 5060580945
B30: LATITUDE : 23°32'27.21" S - LONGITUDE : 46°21'52.00" O
