Workbook
Name Excel_BuiltIn_Database: #REF!
Name Excel_BuiltIn_Database_2: #REF!

Sheet ORÇ
D2: MEMÓRIA DE CÁLCULO
G3: Processo:
G4: Data-Base: JULHO/2018- EDIF/ FDE-OUT-18
E5: MEDIÇÃO:
B6: OBRA: CONSTRUÇÃO DO PISO E PINTURA DA QUADRA | G6: LOCAL: | H6: Ferraz de Vasconcelos
B7: CÓDIGO: QUADRA MARCÍLIO GUERRA -RUA:Jacomo Zanchetta nº77 | H7: -
B9: CÓDIGO | C9: DESCRIÇÃO DOS SERVIÇOS | H9: UNID | I9: QUANT
B11: 25006 | C11: 1-DEMOLIÇÃO MECANIZADA DE CONCRETO ARMADO | H11: M3 | I11: 71.75 | J11: 258.47 | K11: =J11*I11 -> 18545.223
B12: EDIF | C12: 35,00X20,50=717,50x0,10=71,75m3
B13: 10105 | C13: 2-CARGA MECANIZADA E REMOÇÃO DE ENTULHO, INCL.TRANSPORTE ATÉ 1KM | H13: M3 | I13: 93.28 | J13: 7.26 | K13: =J13*I13 -> 677.2128
B14: EDIF | C14: 35,00X20,50X0,10=71,75X1,30(coef. empolamento)=93,28m3 | K14: =J14*I14 -> 0
B15: 10110 | C15: 3-TRANSPORTE DE ENTULHO POR CAMINHÃO BASCULANTE, A PARTIR DE 1KM | H15: m3xkm | I15: 1865.6 | J15: 1.22 | K15: =J15*I15 -> 2276.032
B16: EDIF | C16: 93,28x20=1865,60m3xkm | K16: =J16*I16 -> 0
B17: 170351 | C17: 4-QC.02 - QUADRA POLIESPORTIVA - PISO ARMADO | H17: M2 | I17: 717.5 | J17: 90.06 | K17: =J17*I17 -> 64618.05
B18: EDIF | C18: 35,00X20,50=717,50m3
B19: 130110 | C19: 5-LASTRO DE BRITA | H19: M3 | I19: 35.88 | J19: 130.79 | K19: =J19*I19 -> 4692.7452
B20: EDIF | C20: 35,00X20,50=717,50x0,05=35,88m3
B21: 102100 | C21: 6-CORTE DE CONCRETO COM DISCO DIAMANTADO ATÉ PROFUNDIDADE DE 13CM | H21: M2 | I21: 3.6 | J21: 77.44 | K21: =J21*I21 -> 278.784
B22: INFRA | C22: 35,00X5X0,01=1,75M2+ 9X20,50*0,01=1,85M2 =3,60M2
B23: 130204 | C23: 7-ACABAMENTO DE PISO DE CONCRETO TIPO BAMBOLÊ | H23: M2 | I23: 717.5 | J23: 4.65 | K23: =J23*I23 -> 3336.375
B24: EDIF | C24: 35,00X20,50=717,50m2
B25: 50244 | C25: 8-PINTURA PROTETORA COM TINTA A BASE DE EPÓXI (PARA ARGAMASSA IMPERMEÁVEL) | H25: M2 | I25: 717.5 | J25: 113.48 | K25: =J25*I25 -> 81421.9
B26: EDIF | C26: 35,00X20,50=717,50m2
B27: 16.01.090 | C27: 9-FE-01 FECHAMENTO PARA SETORIZAÇAO 120<H<200 CM (ALAMBRADO) | H27: M | I27: 75 | J27: 456.84 | K27: =J27*I27 -> 34263
B28: FDE | C28: 35,00*1,5 =52,5+15*1,5=22,50- TOTAL =75M | K28: =J28*I28 -> 0
B29: 170360 | C29: 10-POSTES PARA VOLEIBOL, INCLUSIVE PINTURA E REDE | H29: UNID | I29: 1 | J29: 2114.3 | K29: =J29*I29 -> 2114.3
B30: EDIF | K30: =J30*I30 -> 0
B31: 170361 | C31: 11-TRAVE PARA FUTEBOL DE SALÃO, INCLUSIVE PINTURA E REDE | H31: UNID | I31: 2 | J31: 2237.58 | K31: =J31*I31 -> 4475.16
B32: EDIF | K32: =J32*I32 -> 0
B33: COTAÇÃO | C33: 12- ESTRUTURA DE BASQUETE MOD.N.B.A OFICIAL AXS- MOD. 119-E (PAR) | H33: UNID | I33: 1 | J33: 29389.5 | K33: =J33*I33 -> 29389.5
B34: INTERNET | C34: MERCADO DOS ESPORTES= 29.389,50 , RAPINI =29.700,00 ,PEQUITA SPORTS =34.980,00
B35: 170355 | C35: 13-QD.01 - DEMARCAÇÃO DE QUADRA COM TINTA A BASE DE BORRACHA CLORADA - VOLEIBOL | H35: UNID | I35: 1 | J35: 190.91 | K35: =J35*I35 -> 190.91
B36: EDIF | K36: =J36*I36 -> 0
B37: 170356 | C37: 14-QD.02 - DEMARCAÇÃO DE QUADRA COM TINTA A BASE DE BORRACHA. CLORADA - FUTEBOL DE SALÃO | H37: UNID | I37: 1 | J37: 353.53 | K37: =J37*I37 -> 353.53
B38: EDIF | K38: =J38*I38 -> 0
B39: 170357 | C39: 15-QD.03 - DEMARCAÇÃO DE QUADRA COM TINTA A BASE DE BORRACHA CLORADA - BASQUETE | H39: UNID | I39: 1 | J39: 471.38 | K39: =J39*I39 -> 471.38
B40: EDIF | K40: =J40*I40 -> 0
B41: 170358 | C41: 16-QD.05 - DEMARC.QUADRA C/ TINTA A BASE DE BORRACHA CLORADA - HANDBOL | H41: UNID | I41: 1 | J41: 260.71 | K41: =J41*I41 -> 260.71
B42: EDIF
B43: 34050 | C43: 17-POLIMENTO DE CONCRETO | H43: M2 | I43: 717.5 | J43: 5.37 | K43: =J43*I43 -> 3852.975
B44: EDIF | C44: 35,00X20,50=717,50m2
B45: 170365 | C45: 18- TELA DE NYLON PARA COBERTURA DE QUADRA | H45: M2 | I45: 1110 | J45: 11.52 | K45: =J45*I45 -> 12787.2
B46: EDIF | C46: 35,00x10=350m2 +20,50x10m=205,00m2 - total =555,00m2 x2=1110,00m2
B47: 60222 | C47: 19- TELHA ONDULADA CRFS 8MM | H47: M2 | I47: 107.36 | J47: 48.01 | K47: =J47*I47 -> 5154.3536
B48: EDIF | C48: 2,44X1,10X40 UNIDADES=107,36
B49: 30130 | C49: 20-CIMBRAMENTO PARA ALTURAS ENTRE 3,01M E 7,00M | H49: M3 | I49: 108 | J49: 26.94 | K49: =J49*I49 -> 2909.52
B50: EDIF | C50: 20X7X0,20=28M3 + 15X30X0,20=90M3
B51: 60130 | C51: 21-FORNECIMENTO DE ESTRUTURA METÁLICA PARA COBERTURA | H51: KG | I51: 2884.8 | J51: 8.96 | K51: =J51*I51 -> 25847.808
B52: EDIF | C52: 40X2(PERFIL DUPLO)X2 X18,03KG/M= 2.884,80
B53: 60131 | C53: 22-MONTAGEM DE ESTRUTURA METÁLICA PARA COBERTURA | H53: KG | I53: 2884.8 | J53: 2.37 | K53: =J53*I53 -> 6836.976
B54: EDIF | C54: 40X2(PERFIL DUPLO)X2 X18,03KG/M= 2.884,80
B55: 66008 | C55: 23-RETIRADA DE ESTRUTURA METÁLICA INCLUSIVE PERFIS DE FIXAÇÃO | H55: KG | I55: 2884.8 | J55: 1.66 | K55: =J55*I55 -> 4788.768
B56: EDIF | C56: 40X2(PERFIL DUPLO)X2 X18,03KG/M= 2.884,80
B57: 150312 | C57: 24-ESMALTE SINTÉTICO - ESTRUTURAS METÁLICAS | H57: M2 | I57: 220 | J57: 18.66 | K57: =J57*I57 -> 4105.2
B58: EDIF | C58: 40X1X2X2(LADOS)=160M2 VIGAS - PANTOGRAFICO =60M2
B59: COTAÇÃO | C59: 25- BRISE - FECHAMENTO DAS LATERAIS DO GINÁSIO /c/fornec.,transp.e instalação | H59: M2 | I59: 142 | J59: 300 | K59: =J59*I59 -> 42600
B60: TELEF. | C60: 65,80+75,25=142,00 - INTER HOUSE- REQUINTE
B61: 101134 | C61: 26-RUFO EM CHAPA DE AÇO GALVANIZADO N.24 - DESENVOLVIMENTO 100CM | H61: M | I61: 100 | J61: 102.66 | K61: =J61*I61 -> 10266
B62: EDIF | C62: 50 +50 =100M
B63: 16.06.076 | C63: 27- FORNECIMENTO E INSTALAÇAO DE PLACAS DE OBRA | H63: M2 | I63: 6 | J63: 345.64 | K63: =J63*I63 -> 2073.84
B64: FDE | C64: 2X3 M = 6,0M2
K65: =J65*I65 -> 0
B66: Planilha elaborada por: Vicente Nunes da Eira - Eng.Civil - crea/sp - 5060580945 | K66: =SUM(K11:K65) -> 368587.45
K67: =SUM(K66*1.25) -> 460734.32
B69: ITEM DE MAIOR RELEVÂNCIA
B70: 170351 | C70: 4-QC.02 - QUADRA POLIESPORTIVA - PISO ARMADO | H70: M2 | I70: 717.5 | J70: 90.06 | K70: =J70*I70 -> 64618.05
B71: EDIF | C71: 35,00X20,50=717,50m3
B72: LATITUDE : 23°32'27.21" S - LONGITUDE : 46°21'52.00" O

Sheet Planilha
C3: PREFEITURA MUNICIPAL DE FERRAZ DE VASCONCELOS
C4: SECRETARIA MUNICIPAL DE OBRAS
B5: PLANILHA ORÇAMENTÁRIA DA EXECUÇÃO CONSTRUÇÃO DO PISO E PINTURA DA QUADRA MARCÍLIO GUERRA -RUA:Jacomo Zanchetta nº77
B7: Item | C7: Descrição | D7: Unid | E7: Qtde | F7: Preço Unit. | G7: Total
B8: 1 | C8: =ORÇ!C11 -> 1-DEMOLIÇÃO MECANIZADA DE CONCRETO ARMADO
B9: =ORÇ!B11 -> 25006 | D9: =ORÇ!H11 -> M3 | E9: =ORÇ!I11 -> 71.75
B10: =ORÇ!B12 -> EDIF | F10: Subtotal: | G10: =SUM(G9:G9) -> 0
B11: 2 | C11: =ORÇ!C13 -> 2-CARGA MECANIZADA E REMOÇÃO DE ENTULHO, INCL.TRANSPORTE ATÉ 1KM
B12: =ORÇ!B13 -> 10105 | D12: =ORÇ!H13 -> M3 | E12: =ORÇ!I13 -> 93.28
B13: EDIF | F13: Subtotal: | G13: =SUM(G12:G12) -> 0
B14: 3 | C14: =ORÇ!C15 -> 3-TRANSPORTE DE ENTULHO POR CAMINHÃO BASCULANTE, A PARTIR DE 1KM
B15: =ORÇ!B15 -> 10110 | D15: =ORÇ!H15 -> m3xkm | E15: =ORÇ!I15 -> 1865.6 | G15: =F15*E15 -> 0
B16: EDIF | F16: Subtotal: | G16: =SUM(G15:G15) -> 0
B17: 4 | C17: =ORÇ!C17 -> 4-QC.02 - QUADRA POLIESPORTIVA - PISO ARMADO
B18: =ORÇ!B17 -> 170351 | D18: =ORÇ!H17 -> M2 | E18: =ORÇ!I17 -> 717.5 | G18: =F18*E18 -> 0
B19: EDIF | F19: Subtotal: | G19: =SUM(G18:G18) -> 0
B20: 5 | C20: =ORÇ!C19 -> 5-LASTRO DE BRITA
B21: =ORÇ!B19 -> 130110 | D21: =ORÇ!H19 -> M3 | E21: =ORÇ!I19 -> 35.88 | G21: =F21*E21 -> 0
B22: EDIF | F22: Subtotal: | G22: =SUM(G21:G21) -> 0
B23: 6 | C23: =ORÇ!C21 -> 6-CORTE DE CONCRETO COM DISCO DIAMANTADO ATÉ PROFUNDIDADE DE 13CM
B24: =ORÇ!B21 -> 102100 | D24: =ORÇ!H21 -> M2 | E24: =ORÇ!I21 -> 3.6 | G24: =F24*E24 -> 0
B25: EDIF | F25: Subtotal: | G25: =SUM(G24:G24) -> 0
B26: 7 | C26: =ORÇ!C23 -> 7-ACABAMENTO DE PISO DE CONCRETO TIPO BAMBOLÊ
B27: =ORÇ!B23 -> 130204 | D27: =ORÇ!H23 -> M2 | E27: =ORÇ!I23 -> 717.5 | G27: =F27*E27 -> 0
B28: EDIF | F28: Subtotal: | G28: =SUM(G27:G27) -> 0
B29: 8 | C29: =ORÇ!C25 -> 8-PINTURA PROTETORA COM TINTA A BASE DE EPÓXI (PARA ARGAMASSA IMPERMEÁVEL)
B30: =ORÇ!B25 -> 50244 | D30: =ORÇ!H25 -> M2 | E30: =ORÇ!I25 -> 717.5 | G30: =F30*E30 -> 0
B31: EDIF | F31: Subtotal: | G31: =SUM(G30:G30) -> 0
B32: 9 | C32: =ORÇ!C27 -> 9-FE-01 FECHAMENTO PARA SETORIZAÇAO 120<H<200 CM (ALAMBRADO)
B33: =ORÇ!B27 -> 16.01.090 | D33: =ORÇ!H27 -> M | E33: =ORÇ!I27 -> 75 | G33: =F33*E33 -> 0
B34: EDIF | F34: Subtotal: | G34: =SUM(G33:G33) -> 0
B35: 10 | C35: =ORÇ!C29 -> 10-POSTES PARA VOLEIBOL, INCLUSIVE PINTURA E REDE
B36: =ORÇ!B29 -> 170360 | D36: =ORÇ!H29 -> UNID | E36: =ORÇ!I29 -> 1 | G36: =F36*E36 -> 0
B37: EDIF | F37: Subtotal: | G37: =SUM(G36:G36) -> 0
B38: 11 | C38: =ORÇ!C31 -> 11-TRAVE PARA FUTEBOL DE SALÃO, INCLUSIVE PINTURA E REDE
B39: =ORÇ!B31 -> 170361 | D39: =ORÇ!H31 -> UNID | E39: =ORÇ!I31 -> 2 | G39: =F39*E39 -> 0
B40: EDIF | F40: Subtotal: | G40: =SUM(G39:G39) -> 0
B41: 12 | C41: =ORÇ!C33 -> 12- ESTRUTURA DE BASQUETE MOD.N.B.A OFICIAL AXS- MOD. 119-E (PAR)
B42: =ORÇ!B33 -> COTAÇÃO | C42: =ORÇ!C34 -> MERCADO DOS ESPORTES= 29.389,50 , RAPINI =29.700,00 ,PEQUITA SPORTS =34.980,00 | D42: =ORÇ!H33 -> UNID | E42: =ORÇ!I33 -> 1 | G42: =F42*E42 -> 0
B43: INTERNET | F43: Subtotal: | G43: =SUM(G42:G42) -> 0
B44: 13 | C44: =ORÇ!C35 -> 13-QD.01 - DEMARCAÇÃO DE QUADRA COM TINTA A BASE DE BORRACHA CLORADA - VOLEIBOL
B45: =ORÇ!B35 -> 170355 | D45: =ORÇ!H35 -> UNID | E45: =ORÇ!I37 -> 1 | G45: =F45*E45 -> 0
B46: EDIF | F46: Subtotal: | G46: =SUM(G45:G45) -> 0
B47: 14 | C47: =ORÇ!C37 -> 14-QD.02 - DEMARCAÇÃO DE QUADRA COM TINTA A BASE DE BORRACHA. CLORADA - FUTEBOL DE SALÃO
B48: =ORÇ!B37 -> 170356 | D48: =ORÇ!H37 -> UNID | E48: =ORÇ!I37 -> 1 | G48: =F48*E48 -> 0
B49: EDIF | F49: Subtotal: | G49: =SUM(G48:G48) -> 0
B50: 15 | C50: =ORÇ!C39 -> 15-QD.03 - DEMARCAÇÃO DE QUADRA COM TINTA A BASE DE BORRACHA CLORADA - BASQUETE
B51: =ORÇ!B39 -> 170357 | D51: =ORÇ!H39 -> UNID | E51: =ORÇ!I39 -> 1 | G51: =F51*E51 -> 0
B52: EDIF | F52: Subtotal: | G52: =SUM(G51:G51) -> 0
B53: 16 | C53: =ORÇ!C41 -> 16-QD.05 - DEMARC.QUADRA C/ TINTA A BASE DE BORRACHA CLORADA - HANDBOL
B54: =ORÇ!B41 -> 170358 | D54: =ORÇ!H41 -> UNID | E54: =ORÇ!I41 -> 1 | G54: =F54*E54 -> 0
B55: EDIF | F55: Subtotal: | G55: =SUM(G54:G54) -> 0
B56: 17 | C56: =ORÇ!C43 -> 17-POLIMENTO DE CONCRETO
B57: =ORÇ!B43 -> 34050 | D57: =ORÇ!H43 -> M2 | E57: =ORÇ!I43 -> 717.5 | G57: =F57*E57 -> 0
B58: EDIF | F58: Subtotal: | G58: =SUM(G57:G57) -> 0
B59: 18 | C59: =ORÇ!C45 -> 18- TELA DE NYLON PARA COBERTURA DE QUADRA
B60: =ORÇ!B45 -> 170365 | D60: M2 | E60: 1110 | G60: =F60*E60 -> 0
B61: EDIF | F61: Subtotal: | G61: =SUM(G60:G60) -> 0
B62: 19 | C62: =ORÇ!C47 -> 19- TELHA ONDULADA CRFS 8MM
B63: =ORÇ!B47 -> 60222 | D63: M2 | E63: 107.36 | G63: =F63*E63 -> 0
B64: EDIF | F64: Subtotal: | G64: =SUM(G63:G63) -> 0
B65: 20 | C65: =ORÇ!C49 -> 20-CIMBRAMENTO PARA ALTURAS ENTRE 3,01M E 7,00M
B66: =ORÇ!B49 -> 30130 | D66: M3 | E66: 108 | G66: =F66*E66 -> 0
B67: EDIF | F67: Subtotal: | G67: =SUM(G66:G66) -> 0
B68: 21 | C68: =ORÇ!C51 -> 21-FORNECIMENTO DE ESTRUTURA METÁLICA PARA COBERTURA
B69: =ORÇ!B51 -> 60130 | D69: KG | E69: 2884.8 | G69: =F69*E69 -> 0
B70: EDIF | F70: Subtotal: | G70: =SUM(G69:G69) -> 0
B71: 22 | C71: =ORÇ!C53 -> 22-MONTAGEM DE ESTRUTURA METÁLICA PARA COBERTURA
B72: =ORÇ!B53 -> 60131 | D72: KG | E72: 2884.8 | G72: =F72*E72 -> 0
B73: EDIF | F73: Subtotal: | G73: =SUM(G72:G72) -> 0
B74: 23 | C74: =ORÇ!C55 -> 23-RETIRADA DE ESTRUTURA METÁLICA INCLUSIVE PERFIS DE FIXAÇÃO
B75: =ORÇ!B55 -> 66008 | D75: KG | E75: 2884.8 | G75: =F75*E75 -> 0
B76: EDIF | F76: Subtotal: | G76: =SUM(G75:G75) -> 0
B77: 24 | C77: =ORÇ!C57 -> 24-ESMALTE SINTÉTICO - ESTRUTURAS METÁLICAS
B78: =ORÇ!B57 -> 150312 | D78: M2 | E78: 220 | G78: =F78*E78 -> 0
B79: EDIF | F79: Subtotal: | G79: =SUM(G78:G78) -> 0
B80: 25 | C80: =ORÇ!C59 -> 25- BRISE - FECHAMENTO DAS LATERAIS DO GINÁSIO /c/fornec.,transp.e instalação
B81: COTAÇÃO | D81: M2 | E81: 142 | G81: =F81*E81 -> 0
F82: Subtotal: | G82: =SUM(G81:G81) -> 0
B83: 26 | C83: =ORÇ!C61 -> 26-RUFO EM CHAPA DE AÇO GALVANIZADO N.24 - DESENVOLVIMENTO 100CM
B84: =ORÇ!B57 -> 150312 | D84: M | E84: 100 | G84: =F84*E84 -> 0
B85: EDIF | F85: Subtotal: | G85: =SUM(G84:G84) -> 0
B86: 27 | C86: =ORÇ!C63 -> 27- FORNECIMENTO E INSTALAÇAO DE PLACAS DE OBRA
B87: 16.06.076 | D87: M2 | E87: 6 | G87: =F87*E87 -> 0
B88: FDE | F88: Subtotal: | G88: =SUM(G87:G87) -> 0
F90: Total: | G90: =SUM(G9:G89)/2 -> 0
F91: BDI (25%): | G91: =G90*0.25 -> 0
F92: Total Geral: | G92: =G90+G91 -> 0
B93: Planilha elaborada por: Vicente Nunes da Eira - Eng.Civil - crea/sp - 5060580945

Sheet CRONOGRAMA
C3: PREFEITURA MUNICIPAL DE FERRAZ DE VASCONCELOS
C4: SECRETARIA MUNICIPAL DE OBRAS
B5: CRONOGRAMA DA EXEC. CONSTRUÇÃO DO PISO E PINTURA DA QUADRA MARCÍLIO GUERRA -RUA:Jacomo Zanchetta nº77
G7: VALOR | H7: total %
B8: Item | C8: Descrição | D8: 1ºMÊS | E8: 2ºMÊS | F8: 3ºMÊS | G8: C/BDI | H8: por serviço
B9: 1 | C9: DEMOLIÇÃO | D9: =(G9/2) -> 13436.544 | E9: =(G9/2) -> 13436.544 | G9: =SUM(21498.47*1.25) -> 26873.088 | H9: =SUM(G9/G26)*100 -> 5.8326646
B12: 2 | C12: PISO DE CONCRETO | D12: =(F12/3) -> 10663.74 | E12: =(G12/3) -> 31991.221 | F12: =(G12/3) -> 31991.221 | G12: =SUM((76778.93*1.25)) -> 95973.662 | H12: =SUM(G12/G26)*100 -> 20.830587
B15: 3 | C15: ESTRUT. METAL.E ELETR. | D15: =(G15/2) -> 84212.669 | E15: =(G15/2) -> 84212.669 | G15: =SUM(134740.27*1.25) -> 168425.34 | H15: =SUM(G15/G26)*100 -> 36.555848
B18: 4 | C18: EQUIPAMENTOS ESPORTIVOS | D18: =(G18/3) -> 20319.233 | E18: =(G18/3) -> 20319.233 | G18: =SUM(48766.16*1.25) -> 60957.7 | H18: =SUM(G18/G26)*100 -> 13.230553
B21: 5 | C21: PINTURA | E21: =(G21/3) -> 36168.179 | F21: =(G21/3) -> 36168.179 | G21: =SUM(86803.63*1.25) -> 108504.54 | H21: =SUM(G21/G26)*100 -> 23.550349
C24: TOTAL % por quinzena | D24: =SUM(D9:D23) -> 128632.19 | E24: =SUM(E9:E23) -> 186127.85 | F24: =SUM(F18:F23) -> 36168.179
D25: =SUM(D9:D21)/G26 -> 0.27918951 | E25: =SUM(E9:E21)/G26 -> 0.40398086 | F25: =SUM(F18:F22)/G26 -> 0.078501162 | G25: =SUM(D25:F25)*100 -> 76.167153 | H25: =SUM(H9:H21) -> 100
G26: =SUM((G9:G23))-0.01 -> 460734.32
B28: CRITÉRIO POR MEDIÇÕES
B29: Planilha elaborada por: Vicente Nunes da Eira - Eng.Civil - crea/sp - 5060580945
B30: LATITUDE : 23°32'27.21" S - LONGITUDE : 46°21'52.00" O
