Workbook
Name Excel_BuiltIn_Database: #REF!
Name Excel_BuiltIn_Database_2: #REF!

Sheet ORÇ
D2: MEMÓRIA DE CÁLCULO
G3: Processo:
G4: Data-Base: JANEIRO/2018
E5: MEDIÇÃO:
B6: OBRA: REFORMA DA UBS MARIO M. DA SILVA -CSII | G6: LOCAL: | H6: Ferraz de Vasconcelos
B7: CÓDIGO: | C7: Rua :Japão nº 121 | G7: CONTRATO: | H7: -
B9: CÓDIGO | C9: DESCRIÇÃO DOS SERVIÇOS | H9: UNID | I9: QUANT
B11: 150115 | C11: 1-TINTA ACRÍLICA - CONCRETO OU REBOCO SEM MASSA CORRIDA | H11: M2 | I11: 2195.38 | K11: =J11*I11 -> 0
B12: EDIF | C12: 13,20*2+10,20*2=47,60X6X2=571,20+248,40*2=496,80+264*2=528,00=1596,32
C13: 138,72+138,72+132,88+89,06=499,38M2 *1,20=599,26+1596,32=2195,38M2
B14: 150110 | C14: 2-TINTA PVA (LÁTEX) - CONCRETO OU REBOCO SEM MASSA CORRIDA | H14: M2 | I14: 299.2 | K14: =J14*I14 -> 0
B15: EDIF | C15: MURO =23,45*2*2+41,60*2*2+19,50*2=299,20
B16: 150310 | C16: 3-ESMALTE SINTÉTICO - ESQUADRIAS E PEÇAS DE SERRALHERIA | H16: M2 | I16: 178.3 | K16: =J16*I16 -> 0
B17: EDIF | C17: 10*1,40*0,80=11,20M2*2=22,40M2 + PORTAS 109,00M2 +GRADIL =23,45*2=46,90=
B18: 50143 | C18: 4-PINTURA PROTETORA COM TINTA BETUMINOSA (PARA ARG. IMPERMEÁVEL) - 2 DEMÃOS | H18: M2 | I18: 46.5 | K18: =J18*I18 -> 0
B19: EDIF | C19: 47,60+66+41,40=155*0,30=46,50
B20: 68001 | C20: 5-REVISÃO GERAL DE TELHADOS DE BARRO, INCLUSIVE TOMADA DE GOTEIRA | H20: M2 | I20: 418.99 | K20: =J20*I20 -> 0
B21: EDIF | C21: 148,88+145,35+89,06+(10,20*3,5)=35,70=418,99M2
B22: 101102 | C22: 6-CALHA EM CHAPA DE AÇO GALVANIZADO N.24 - DESENVOLVIMENTO 50CM | H22: M | I22: 20 | K22: =J22*I22 -> 0
B23: EDIF | C23: 11,40+5,90+0,50=17,80 =20M2
B24: 100932 | C24: 7-TUBO DE PVC RÍGIDO, PONTA E BOLSA (LINHA ESGOTO) - 75MM (3") | H24: M | I24: 6 | K24: =J24*I24 -> 0
B25: EDIF | C25: 6M
B26: 10107 | C26: 8-REMOÇÃO DE ENTULHO COM CAÇAMBA METÁLICA, INCLUSIVE CARGA MANUAL E DESCARGA EM BOTA-FORA | H26: M3 | I26: 3.5 | K26: =J26*I26 -> 0
B27: EDIF | C27: 6M3
B28: 70107 | C28: 9-PM.07 - PORTA LISA ESPECIAL/ SÓLIDA - 82X210CM | H28: UNID | I28: 1 | K28: =J28*I28 -> 0
B29: EDIF
B30: 80101 | C30: 10-PP.01 - PORTA EM FERRO PERFILADO, DUPLA ALMOFADADA - ABRIR, 1 FOLHA | H30: M2 | I30: 1.72 | K30: =J30*I30 -> 0
B31: EDIF | C31: 0,82*2,10=1,72M2 - ENTRADA FUNDO PROX . A FARMACIA
B32: 70240 | C32: 11-CONJUNTO DE FECHADURA TIPO TETRA - SOMENTE TRANCA | H32: UNID | I32: 1 | K32: =J32*I32 -> 0
B33: EDIF
B34: 115003 | C34: 12-DEMOLIÇÃO DE ARGAMASSA DE CIMENTO E AREIA | H34: M2 | I34: 23.44 | K34: =J34*I34 -> 0
B35: EDIF | C35: 11,40+11,35+0,7=23,45*0,50=11,72M2*2=23,44M2
B36: 110101 | C36: 13-CHAPISCO COMUM - ARGAMASSA DE CIMENTO E AREIA 1:3 | H36: M2 | I36: 23.44 | K36: =J36*I36 -> 0
B37: EDIF | C37: 23,44 - MURO -FACHADA
B38: 110308 | C38: 14-EMBOÇO EXTERNO - ARGAMASSA MISTA DE CIMENTO, CAL E AREIA 1:4/12 | H38: M2 | I38: 23.44 | K38: =J38*I38 -> 0
B39: EDIF | C39: MURO -FACHADA
B40: 70202 | C40: 15-CONJUNTO DE FECHADURA DE CILINDRO, 55MM, TRÁF.INTENSO, MAÇANETA | H40: UNID | I40: 1 | K40: =J40*I40 -> 0
B41: EDIF | C41: EM ZAMAC, GUARNIÇÕES EM AÇO, ACAB.CROM.- P/PORTA INTERNA OU EXTERNA
B42: 130202 | C42: 16-CIMENTADO COMUM, DESEMPENADO E ALISADO - ESPESSURA 20MM | H42: M2 | I42: 20 | K42: =J42*I42 -> 0
B43: EDIF | C43: 20M2
B44: 74209/001 | C44: 17-AQUISICAO E ASSENTAMENTO PLACA DE OBRA | H44: M2 | I44: 12 | K44: =J44*I44 -> 0
B45: SINAPI | C45: PLACA DE OBRA EM CHAPA DE ACO GALVANIZADO 3X4M
K49: =J49*I49 -> 0 | L49: =B49 -> 0
B50: ELABORADO POR : VICENTE NUNES DA EIRA - ENG. CIVIL - DEP.DE OBRAS CREA 5060580945 | K50: =SUM(K11:K49) -> 0
B51: ADOTAR CRITÉRIO POR MEDIÇÃO | K51: =SUM(K50*1.25) -> 0
B52: LATITUDE : 23º 32' 37,16" S LONGITUDE : 46º 22' 03,98" O | K52: =SUM(K49*1.25) -> 0

Sheet Planilha
B3: PREFEITURA MUNICIPAL DE FERRAZ DE VASCONCELOS
B4: SECRETARIA MUNICIPAL DE OBRAS
A5: PLANILHA ORÇAMENTÁRIA DA EXECUÇÃO DOS SERV.DE REFORMA- UBS MARIO M. DA SILVA -CSII- R.JAPÃO N.121
A7: Item | B7: Descrição | C7: Unid | D7: Qtde | E7: Preço Unit. | F7: Total
A8: 1 | B8: =ORÇ!C11 -> 1-TINTA ACRÍLICA - CONCRETO OU REBOCO SEM MASSA CORRIDA
A9: =ORÇ!B11 -> 150115 | C9: M2 | D9: =ORÇ!I11 -> 2195.38 | F9: =E9*D9 -> 0
A10: =[1]ORÇ!B12 -> EDIF | E10: Subtotal: | F10: =SUM(F9:F9) -> 0
A11: 2 | B11: =ORÇ!C14 -> 2-TINTA PVA (LÁTEX) - CONCRETO OU REBOCO SEM MASSA CORRIDA
A12: =ORÇ!B14 -> 150110 | C12: M2 | D12: =ORÇ!I14 -> 299.2 | F12: =E12*D12 -> 0
A13: =[1]ORÇ!B14 -> EDIF | E13: Subtotal: | F13: =SUM(F12:F12) -> 0
A14: 3 | B14: =ORÇ!C16 -> 3-ESMALTE SINTÉTICO - ESQUADRIAS E PEÇAS DE SERRALHERIA
A15: =ORÇ!B16 -> 150310 | C15: M2 | D15: =ORÇ!I16 -> 178.3 | F15: =E15*D15 -> 0
A16: =[1]ORÇ!B19 -> EDIF | E16: Subtotal: | F16: =SUM(F15:F15) -> 0
A17: 4 | B17: =ORÇ!C18 -> 4-PINTURA PROTETORA COM TINTA BETUMINOSA (PARA ARG. IMPERMEÁVEL) - 2 DEMÃOS
A18: =ORÇ!B18 -> 50143 | C18: M2 | D18: =ORÇ!I18 -> 46.5 | F18: =E18*D18 -> 0
A19: =[1]ORÇ!B31 -> EDIF | E19: Subtotal: | F19: =SUM(F18:F18) -> 0
A20: 5 | B20: =ORÇ!C20 -> 5-REVISÃO GERAL DE TELHADOS DE BARRO, INCLUSIVE TOMADA DE GOTEIRA
A21: =ORÇ!B20 -> 68001 | C21: M2 | D21: =ORÇ!I20 -> 418.99 | F21: =E21*D21 -> 0
A22: EDIF | E22: Subtotal: | F22: =SUM(F21:F21) -> 0
A23: 6 | B23: =ORÇ!C22 -> 6-CALHA EM CHAPA DE AÇO GALVANIZADO N.24 - DESENVOLVIMENTO 50CM
A24: =ORÇ!B22 -> 101102 | C24: M | D24: =ORÇ!I22 -> 20 | F24: =E24*D24 -> 0
A25: EDIF | E25: Subtotal: | F25: =SUM(F24:F24) -> 0
A26: 7 | B26: =ORÇ!C24 -> 7-TUBO DE PVC RÍGIDO, PONTA E BOLSA (LINHA ESGOTO) - 75MM (3")
A27: =ORÇ!B24 -> 100932 | C27: M | D27: =ORÇ!I24 -> 6 | F27: =E27*D27 -> 0
A28: EDIF | E28: Subtotal: | F28: =SUM(F27:F27) -> 0
A29: 8 | B29: =ORÇ!C26 -> 8-REMOÇÃO DE ENTULHO COM CAÇAMBA METÁLICA, INCLUSIVE CARGA MANUAL E DESCARGA EM BOTA-FORA
A30: =ORÇ!B26 -> 10107 | C30: M3 | D30: =ORÇ!I26 -> 3.5 | F30: =E30*D30 -> 0
A31: EDIF | E31: Subtotal: | F31: =SUM(F30:F30) -> 0
A32: 9 | B32: =ORÇ!C28 -> 9-PM.07 - PORTA LISA ESPECIAL/ SÓLIDA - 82X210CM
A33: =ORÇ!B28 -> 70107 | C33: UNID | D33: =ORÇ!I28 -> 1 | F33: =E33*D33 -> 0
A34: EDIF | E34: Subtotal: | F34: =SUM(F33:F33) -> 0
A35: 10 | B35: =ORÇ!C30 -> 10-PP.01 - PORTA EM FERRO PERFILADO, DUPLA ALMOFADADA - ABRIR, 1 FOLHA
A36: =ORÇ!B30 -> 80101 | C36: M2 | D36: =ORÇ!I30 -> 1.72 | F36: =E36*D36 -> 0
A37: EDIF | E37: Subtotal: | F37: =SUM(F36:F36) -> 0
A38: 11 | B38: =ORÇ!C32 -> 11-CONJUNTO DE FECHADURA TIPO TETRA - SOMENTE TRANCA
A39: =ORÇ!B32 -> 70240 | C39: UNID | D39: =ORÇ!I32 -> 1 | F39: =E39*D39 -> 0
A40: EDIF | E40: Subtotal: | F40: =SUM(F39:F39) -> 0
A41: 12 | B41: =ORÇ!C34 -> 12-DEMOLIÇÃO DE ARGAMASSA DE CIMENTO E AREIA
A42: =ORÇ!B34 -> 115003 | C42: M2 | D42: =ORÇ!I34 -> 23.44 | F42: =E42*D42 -> 0
A43: EDIF | E43: Subtotal: | F43: =SUM(F42:F42) -> 0
A44: 13 | B44: =ORÇ!C36 -> 13-CHAPISCO COMUM - ARGAMASSA DE CIMENTO E AREIA 1:3
A45: =ORÇ!B36 -> 110101 | C45: M2 | D45: =ORÇ!I36 -> 23.44 | F45: =E45*D45 -> 0
A46: EDIF | E46: Subtotal: | F46: =SUM(F45:F45) -> 0
A47: 14 | B47: =ORÇ!C38 -> 14-EMBOÇO EXTERNO - ARGAMASSA MISTA DE CIMENTO, CAL E AREIA 1:4/12
A48: =ORÇ!B38 -> 110308 | C48: M2 | D48: =ORÇ!I38 -> 23.44 | F48: =E48*D48 -> 0
A49: EDIF | E49: Subtotal: | F49: =SUM(F48:F48) -> 0
A50: 15 | B50: =ORÇ!C40 -> 15-CONJUNTO DE FECHADURA DE CILINDRO, 55MM, TRÁF.INTENSO, MAÇANETA
A51: =ORÇ!B40 -> 70202 | C51: UNID | D51: 1 | F51: =E51*D51 -> 0
A52: EDIF | E52: Subtotal: | F52: =SUM(F51:F51) -> 0
A53: 16 | B53: =ORÇ!C42 -> 16-CIMENTADO COMUM, DESEMPENADO E ALISADO - ESPESSURA 20MM
A54: =ORÇ!B42 -> 130202 | C54: M2 | D54: 20 | F54: =E54*D54 -> 0
A55: EDIF | E55: Subtotal: | F55: =SUM(F54:F54) -> 0
A56: 17 | B56: =ORÇ!C44 -> 17-AQUISICAO E ASSENTAMENTO PLACA DE OBRA
A57: =ORÇ!B44 -> 74209/001 | C57: M2 | D57: 12 | F57: =E57*D57 -> 0
A58: SINAPI | E58: Subtotal: | F58: =SUM(F57:F57) -> 0
E60: Total: | F60: =SUM(F9:F59)/2 -> 0
E61: BDI (25%): | F61: =F60*0.25 -> 0
E62: Total Geral: | F62: =F60+F61 -> 0
A63: ELABORADO POR : VICENTE NUNES DA EIRA - ENG. CIVIL - DEP.DE OBRAS CREA 5060580945
A64: ADOTAR CRITÉRIO POR MEDIÇÃO
A65: LATITUDE : 23º 32' 37,16" S LONGITUDE : 46º 22' 03,98" O

Sheet Cronograma
C1: PREFEITURA MUNICIPAL DE FERRAZ DE VASCONCELOS
C2: SECRETARIA MUNICIPAL DE OBRAS
B3: CRONOGRAMA DA EXECUÇÃO DOS SERVIÇOS DE REFORMA DA UBS MARIO M. DA SILVA -CSII- R.JAPÃO N.121
G5: TOTAL | H5: total %
B6: Item | C6: Descrição | D6: 1ºQUINZENA | E6: 2ºQUINZENA | F6: 3ºQUINZENA | G6: VALOR C/ BDI | H6: por serviço
B7: 1 | C7: PINTURA | D7: =SUM(G7/2) -> 0 | E7: =SUM(G7/2) -> 0 | H7: =(G7/G28)*100 -> #DIV/0!
B10: 2 | C10: DEMOLIÇÃO | E10: =SUM(G10/2) -> 0 | F10: =SUM(G10/2) -> 0 | H10: =(G10/G28)*100 -> #DIV/0!
B13: 3 | C13: COBERTURA | E13: =SUM(G13/2) -> 0 | F13: =SUM(G13/2) -> 0 | H13: =(G13/G28)*100 -> #DIV/0!
B16: 4 | C16: PORTA E FERRAGEM | F16: =SUM(G16/1) -> 0 | H16: =(G16/G28)*100 -> #DIV/0!
B19: 5 | C19: CHAPISCO E EMBOÇO | D19: =SUM(G19/2) -> 0 | E19: =SUM(G19/2) -> 0 | H19: =(G19/G28)*100 -> #DIV/0!
B22: 6 | C22: REMOÇÃO DE ENTULHO | F22: =SUM(G22/1) -> 0 | H22: =(G22/G28)*100 -> #DIV/0!
C25: TOTAL % por semana
D26: =(((D7/G28)*100)) -> #DIV/0! | E26: =(((E10+E7+E13))/G28)*100 -> #DIV/0! | F26: =(((F10+F13+F16))/G28)*100 -> #DIV/0!
H27: =SUM(H7:H26) -> #DIV/0!
C28: TOTAL COM BDI 25%
B30: ELABORADO POR : VICENTE NUNES DA EIRA - ENG. CIVIL - DEP.DE OBRAS CREA 5060580945
B31: ADOTAR CRITÉRIO POR MEDIÇÃO
B32: LATITUDE : 23º 32' 37,16" S LONGITUDE : 46º 22' 03,98" O
