Workbook
Name Excel_BuiltIn_Database: #REF!
Name Excel_BuiltIn_Database_2: #REF!

Sheet ORÇ
D2: MEMÓRIA DE CÁLCULO
G3: Processo:
G4: Data-Base: JANEIRO/2018
B6: OBRA: EMEIF SYLVIA DA SILVEIRA | G6: LOCAL: | H6: Ferraz de Vasconcelos
B7: CÓDIGO: Rua : Stella Mazzuca Nº415- Vila Margarida | G7: CONTRATO: | H7: -
B9: CÓDIGO | C9: DESCRIÇÃO DOS SERVIÇOS | H9: UNID | I9: QUANT | J9: PREÇO UNIT | K9: PREÇO TOTAL
B11: 01.01.08 | C11: 1- LIMPEZA MANUAL GERAL INCLUSIVE REMOÇÃO DE COBERTURA VEGETAL - TRONCO ATÉ 10CM - SEM TRANSPORTE | H11: M2 | I11: 570 | J11: 4.32 | K11: =J11*I11 -> 2462.4
B12: EDIF | C12: 6x30+15x6+10x30=540m²
B13: 175001 | C13: 2- DEMOLIÇÃO DE MURO DE ALVENARIA - H=1,80 À 2,00M H =5,00/2,00=2,50 | H13: M | I13: 25 | J13: 43.25 | K13: =J13*I13 -> 1081.25
B14: EDIF | C14: 10,00(L)X2,500(h) = 25,00M2
B15: 10107 | C15: 3- REMOÇÃO DE ENTULHO COM CAÇAMBA METÁLICA, INCL.CARGA MANUAL E DESCARGA EM BOTA-FORA | H15: M3 | I15: 32.2 | J15: 83.13 | K15: =J15*I15 -> 2676.786
B16: EDIF | C16: 20,00 X0,20= 4m3x1,30= 5,20m3 + 540x0,05=27m³
B17: 170164 | C17: 4- FV.15/16 - MURO DE FECHO EM BLOCOS E ESTRUTURA DE CONCRETO, FUNDAÇÃO C/BROCAS | H17: M | I17: 66 | J17: 526.03 | K17: =J17*I17 -> 34717.98
B18: EDIF | C18: 15X(1,00)=15,00 + 30(L)X1,00(h) = 45,00M2+9M2(ESCADA)+ 1*6*2=12M2(ESC. HIDR.)
B19: 180301 | C19: 5- GRAMA BATATAES EM PLACAS (PASPALUM NOTATUM) | H19: M2 | I19: 270 | J19: 12.76 | K19: =J19*I19 -> 3445.2
B20: EDIF | C20: 45X6=270,00M2
B21: 101176 | C21: 6- CANALETA MEIA CANA EM CONCRETO D=30CM | H21: M | I21: 45 | J21: 45.44 | K21: =J21*I21 -> 2044.8
B22: EDIF | C22: 45M
B23: 101291 | C23: 7- CAIXA DE LIGAÇÃO OU INSPEÇÃO - LASTRO DE CONCRETO (FUNDO) | H23: M3 | I23: 1.28 | J23: 333.78 | K23: =J23*I23 -> 427.2384
B24: EDIF | C24: 0,80X0,80X1,00 x2
B25: 100933 | C25: 8- TUBO DE PVC RÍGIDO, PONTA E BOLSA (LINHA ESGOTO) - 100MM (4") | H25: M | I25: 18 | J25: 52.28 | K25: =J25*I25 -> 941.04
B26: EDIF | C26: 18M
B27: 40151 | C27: 9- BLOCOS VAZADOS DE CONCRETO APARENTE - 14CM | H27: M2 | I27: 9 | J27: 62.31 | K27: =J27*I27 -> 560.79
B28: EDIF | C28: 9M2
B29: 110101 | C29: 10- CHAPISCO COMUM - ARGAMASSA DE CIMENTO E AREIA 1:3 | H29: M2 | I29: 18 | J29: 12.3 | K29: =J29*I29 -> 221.4
B30: EDIF | C30: 4X2 + 5X2 = 18MX1,00M =18M2
B31: 110309 | C31: 11- EMBOÇO EXTERNO DESEMPENADO P/PINTURA - ARGAMASSA MISTA DE CIMENTO, CAL E AREIA 1:3/12 | H31: M2 | I31: 18 | J31: 31.24 | K31: =J31*I31 -> 562.32
B32: EDIF
B33: 170524 | C33: 12- DP.04 - CORRIMÃO EM TUBO GALVANIZADO | H33: M | I33: 14 | J33: 55.72 | K33: =J33*I33 -> 780.08
B34: EDIF | C34: 4+5+2+3=14M
B35: 130201 | C35: 13- CIMENTADO COMUM, DESEMPENADO - ESPESSURA 20MM | H35: M2 | I35: 14.25 | J35: 42.78 | K35: =J35*I35 -> 609.615
B36: EDIF | C36: 8+6=14M2+0,25 (ESP. ESC. HIDR.)
B37: 130110 | C37: 14- LASTRO DE BRITA | H37: M3 | I37: 1.57 | J37: 128.93 | K37: =J37*I37 -> 202.4201
B38: EDIF | C38: 14+0,5*0,5**7=15,75M2*0,10M
B39: 130115 | C39: 15- LASTRO DE CONCRETO - 200KG CIM/M3 | H39: M3 | I39: 0.15 | J39: 333.78 | K39: =J39*I39 -> 50.067
B40: EDIF | C40: 0,5*0,5*0,10*6 (ESC. HIDR)
B41: 35305 | C41: 16- DESENV./PRANCHA TÉCNICA C/DETALHAM. FORMATO A1, P/PROJ. BÁSICO - ESTR. E ARQ. | H41: UNID | I41: 1 | J41: 10081.056 | K41: =J41*I41 -> 10081.056
B42: INFRA
K43: =J43*I43 -> 0 | L43: =B43 -> 0
K44: =SUM(K11:K43) -> 60864.442
J45: BDI 25% | K45: =K44*0.25 -> 15216.111
I46: TOTAL | K46: =SUM(K44:K45) -> 76080.553
B47: Elaborada por Vicente Nunes da Eira -Eng. Civil - CREA : 5060580945
B48: LATITUDE: 23º31'18.99" S LONGITUDE:46º22'21.35" O
B50: ITEM DE MAIOR RELEVÂNCIA
B51: 170164 | C51: 4- FV.15/16 - MURO DE FECHO EM BLOCOS E ESTRUTURA DE CONCRETO, FUNDAÇÃO C/BROCAS | H51: M | I51: 66 | J51: 526.03 | K51: =J51*I51 -> 34717.98

Sheet Planilha
C3: PREFEITURA MUNICIPAL DE FERRAZ DE VASCONCELOS
C4: SECRETARIA MUNICIPAL DE OBRAS
B5: PLANILHA ORÇAMENTÁRIA DA EXECUÇÃO DOS SERVIÇOS DE REFORMA -MURO E CONTENÇÃO DE TALUDE -EMEIF SYLVIA DA SILVEIRA
B7: Item | C7: Descrição | D7: Unid | E7: Qtde | F7: Preço Unit. | G7: Total
B8: 1 | C8: =ORÇ!C11 -> 1- LIMPEZA MANUAL GERAL INCLUSIVE REMOÇÃO DE COBERTURA VEGETAL - TRONCO ATÉ 10CM - SEM TRANSPORTE
B9: =ORÇ!B11 -> 01.01.08 | D9: M2 | E9: =ORÇ!I11 -> 570 | G9: =F9*E9 -> 0
B10: EDIF | F10: Subtotal: | G10: =SUM(G9:G9) -> 0
B11: 2 | C11: =ORÇ!C13 -> 2- DEMOLIÇÃO DE MURO DE ALVENARIA - H=1,80 À 2,00M H =5,00/2,00=2,50
B12: =ORÇ!B13 -> 175001 | D12: M | E12: =ORÇ!I13 -> 25 | G12: =F12*E12 -> 0
B13: EDIF | F13: Subtotal: | G13: =SUM(G12:G12) -> 0
B14: 3 | C14: =ORÇ!C15 -> 3- REMOÇÃO DE ENTULHO COM CAÇAMBA METÁLICA, INCL.CARGA MANUAL E DESCARGA EM BOTA-FORA
B15: =ORÇ!B15 -> 10107 | D15: M3 | E15: =ORÇ!I15 -> 32.2 | G15: =F15*E15 -> 0
B16: EDIF | F16: Subtotal: | G16: =SUM(G15:G15) -> 0
B17: 4 | C17: =ORÇ!C17 -> 4- FV.15/16 - MURO DE FECHO EM BLOCOS E ESTRUTURA DE CONCRETO, FUNDAÇÃO C/BROCAS
B18: =ORÇ!B17 -> 170164 | D18: M | E18: =ORÇ!I17 -> 66 | G18: =F18*E18 -> 0
B19: EDIF | F19: Subtotal: | G19: =SUM(G18:G18) -> 0
B20: 5 | C20: =ORÇ!C19 -> 5- GRAMA BATATAES EM PLACAS (PASPALUM NOTATUM)
B21: =ORÇ!B19 -> 180301 | D21: M2 | E21: =ORÇ!I19 -> 270 | G21: =F21*E21 -> 0
B22: EDIF | F22: Subtotal: | G22: =SUM(G21:G21) -> 0
B23: 6 | C23: =ORÇ!C21 -> 6- CANALETA MEIA CANA EM CONCRETO D=30CM
B24: =ORÇ!B21 -> 101176 | D24: M | E24: =ORÇ!I21 -> 45 | G24: =F24*E24 -> 0
B25: EDIF | F25: Subtotal: | G25: =SUM(G24:G24) -> 0
B26: 7 | C26: =ORÇ!C23 -> 7- CAIXA DE LIGAÇÃO OU INSPEÇÃO - LASTRO DE CONCRETO (FUNDO)
B27: =ORÇ!B23 -> 101291 | D27: M3 | E27: =ORÇ!I23 -> 1.28 | G27: =F27*E27 -> 0
B28: EDIF | F28: Subtotal: | G28: =SUM(G27:G27) -> 0
B29: 8 | C29: =ORÇ!C25 -> 8- TUBO DE PVC RÍGIDO, PONTA E BOLSA (LINHA ESGOTO) - 100MM (4")
B30: =ORÇ!B25 -> 100933 | D30: M | E30: =ORÇ!I25 -> 18 | G30: =F30*E30 -> 0
B31: EDIF | F31: Subtotal: | G31: =SUM(G30:G30) -> 0
B32: 9 | C32: =ORÇ!C27 -> 9- BLOCOS VAZADOS DE CONCRETO APARENTE - 14CM
B33: =ORÇ!B27 -> 40151 | D33: M2 | E33: =ORÇ!I27 -> 9 | G33: =F33*E33 -> 0
B34: EDIF | F34: Subtotal: | G34: =SUM(G33:G33) -> 0
B35: 10 | C35: =ORÇ!C29 -> 10- CHAPISCO COMUM - ARGAMASSA DE CIMENTO E AREIA 1:3
B36: =ORÇ!B29 -> 110101 | D36: M2 | E36: =ORÇ!I29 -> 18 | G36: =F36*E36 -> 0
B37: EDIF | F37: Subtotal: | G37: =SUM(G36:G36) -> 0
B38: 11 | C38: =ORÇ!C31 -> 11- EMBOÇO EXTERNO DESEMPENADO P/PINTURA - ARGAMASSA MISTA DE CIMENTO, CAL E AREIA 1:3/12
B39: =ORÇ!B31 -> 110309 | D39: M2 | E39: =ORÇ!I31 -> 18 | G39: =F39*E39 -> 0
B40: EDIF | F40: Subtotal: | G40: =SUM(G39:G39) -> 0
B41: 12 | C41: =ORÇ!C33 -> 12- DP.04 - CORRIMÃO EM TUBO GALVANIZADO
B42: =ORÇ!B33 -> 170524 | D42: M | E42: =ORÇ!I33 -> 14 | G42: =F42*E42 -> 0
B43: EDIF | F43: Subtotal: | G43: =SUM(G42:G42) -> 0
B44: 13 | C44: =ORÇ!C35 -> 13- CIMENTADO COMUM, DESEMPENADO - ESPESSURA 20MM
B45: =ORÇ!B35 -> 130201 | D45: M2 | E45: =ORÇ!I35 -> 14.25 | G45: =F45*E45 -> 0
B46: EDIF | F46: Subtotal: | G46: =SUM(G45:G45) -> 0
B47: 14 | C47: =ORÇ!C37 -> 14- LASTRO DE BRITA
B48: =ORÇ!B37 -> 130110 | D48: M3 | E48: =ORÇ!I37 -> 1.57 | G48: =F48*E48 -> 0
B49: EDIF | F49: Subtotal: | G49: =SUM(G48:G48) -> 0
B50: 15 | C50: =ORÇ!C39 -> 15- LASTRO DE CONCRETO - 200KG CIM/M3
B51: =ORÇ!B39 -> 130115 | D51: M3 | E51: =ORÇ!I39 -> 0.15 | G51: =F51*E51 -> 0
B52: EDIF | F52: Subtotal: | G52: =SUM(G51:G51) -> 0
B53: 16 | C53: =ORÇ!C41 -> 16- DESENV./PRANCHA TÉCNICA C/DETALHAM. FORMATO A1, P/PROJ. BÁSICO - ESTR. E ARQ.
B54: =ORÇ!B41 -> 35305 | D54: Unid | E54: 1 | G54: =F54*E54 -> 0
B55: INFRA | F55: Subtotal: | G55: =SUM(G54:G54) -> 0
F57: Total: | G57: =SUM(G9:G56)/2 -> 0
F58: BDI (25%): | G58: =G57*0.25 -> 0
F59: Total Geral: | G59: =G57+G58 -> 0
B61: Elaborada por Vicente Nunes da Eira -Eng. Civil - CREA : 5060580945
B62: LATITUDE: 23º31'18.99" S LONGITUDE:46º22'21.35" O
C64: ITEM DE MAIOR RELEVÂNCIA
B65: 4 | C65: =ORÇ!C17 -> 4- FV.15/16 - MURO DE FECHO EM BLOCOS E ESTRUTURA DE CONCRETO, FUNDAÇÃO C/BROCAS
B66: 170164 | D66: M | E66: 66 | G66: =F66*E66 -> 0
B67: EDIF | F67: Subtotal: | G67: =SUM(G66:G66) -> 0

Sheet CRONOGRAMA
C2: PREFEITURA MUNICIPAL DE FERRAZ DE VASCONCELOS
C3: SECRETARIA MUNICIPAL DE OBRAS
B4: CRONOGRAMA DA EXECUÇÃO DOS SERVIÇOS DE MURO DE FECHO -EMEIF SYLVIA DA SILVEIRA Nº 415
G6: TOTAL | H6: total %
B7: Item | C7: Descrição | D7: 1ºQUINZENA | E7: 2ºQUINZENA | F7: 3ºQUINZENA | G7: C/BDI | H7: por serviço
B8: 1 | C8: LIMPEZA MANUAL GERAL | D8: =SUM(G9/2) -> 1539 | E8: =SUM(G9/2) -> 1539
G9: =ORÇ!K11*1.25 -> 3078 | H9: =SUM(G9/G24)*100 -> 4.0457117
B11: 2 | C11: DEMOLIÇÃO | D11: =SUM(G12/1) -> 1351.5625
G12: =ORÇ!K13*1.25 -> 1351.5625 | H12: =SUM(G12/G24)*100 -> 1.7764887
B14: 3 | C14: REMOÇAO DE ENTULHO | F14: =SUM(G15/1) -> 3345.9825
G15: =ORÇ!K15*1.25 -> 3345.9825 | H15: =SUM(G15/G24)*100 -> 4.3979469
B17: 4 | C17: MURO | D17: =SUM(G18/3) -> 14465.825 | E17: =SUM(G18/3) -> 14465.825 | F17: =SUM(G18/3) -> 14465.825
G18: =ORÇ!K17*1.25 -> 43397.475 | H18: =SUM(G18/G24)*100 -> 57.041479
B20: 5 | C20: INFRAESTRUTURA | D20: =SUM(G21/3) -> 8302.5125 | E20: =SUM(G21/3) -> 8302.5125 | F20: =SUM(G21/3) -> 8302.5125
G21: =SUM(19926.03*1.25) -> 24907.537 | H21: =SUM(G21/G24)*100 -> 32.738374
C23: TOTAL C/BDI
D24: =SUM(D8+D11+D17+D20) -> 25658.9 | E24: =SUM(E17+E8+E20) -> 24307.337 | F24: =SUM(F17+F14+F20) -> 26114.32 | G24: =SUM(G9:G23) -> 76080.557 | H24: =SUM(H6:H23) -> 100
C26: TOTAL % por Quinzena
D27: =SUM((D8+D11+D17+D20)/G24)*100 -> 33.725962 | E27: =SUM((E8+E17+E20)/G24)*100 -> 31.949473 | F27: =SUM((F14+F17+F20)/G24)*100 -> 34.324564 | H27: =SUM(D27:F27) -> 100
B30: Elaborada por Vicente Nunes da Eira -Eng. Civil - CREA : 5060580945
B31: LATITUDE: 23º31'18.99" S LONGITUDE:46º22'21.35" O
B32: CRITÉRIO POR MEDIÇÃO
C33: ITEM DE MAIOR RELEVÂNCIA
B34: 4 | C34: FV.15/16 - MURO DE FECHO EM BLOCOS E ESTRUTURA DE CONCRETO, FUNDAÇÃO C/BROCAS
D35: M | E35: 66 | F35: 526.03 | G35: =F35*E35 -> 34717.98
B36: EDIF | F36: Subtotal: | G36: =SUM(G35:G35) -> 34717.98
