Workbook
Name AreaTeste: #REF!
Name AreaTeste2: #REF!
Name CélulaInicioPlanilha: #REF!
Name CélulaResumo: #REF!
Name Excel_BuiltIn_Database: #REF!
Name Excel_BuiltIn_Database_2: #REF!

Sheet ORÇ
D2: MEMÓRIA DE CÁLCULO
G3: Processo:
G4: Data-Base: julho/2017
E5: MEDIÇÃO:
B6: OBRA: Reforma da CEI Dr Oliveira Laet | G6: LOCAL: | H6: Ferraz de Vasconcelos
B7: CÓDIGO: | G7: CONTRATO: | H7: -
B9: CÓDIGO | C9: DESCRIÇÃO DOS SERVIÇOS | H9: UNID | I9: QUANT
C11: 1 - COZINHA | L11: =K11*I11 -> 0 | M11: =B11 -> 0
B12: 115005 | C12: DEMOLIÇÃO DE REVESTIMENTO CERÂMICO OU SIMILAR | H12: M2 | I12: 44.4 | K12: 24.46 | L12: =K12*I12 -> 1086.024 | M12: =B12 -> 115005
C13: Parede: (4,70x2+2,70x2)x3,00= 44,40m² | L13: =K13*I13 -> 0 | M13: =B13 -> 0
L14: =K14*I14 -> 0 | M14: =B14 -> 0
B15: 135005 | C15: DEMOLIÇÃO DE ARGAMASSA, CERÂMICA OU SIMILAR INCLUSIVE ARGAMASSA DE REGULARIZAÇÃO | H15: M2 | I15: 12.7 | K15: 26.2 | L15: =K15*I15 -> 332.74 | M15: =B15 -> 135005
C16: Piso: 4,70x2,70= 12,70m² | L16: =K16*I16 -> 0 | M16: =B16 -> 0
L17: =K17*I17 -> 0 | M17: =B17 -> 0
B18: 45004 | C18: DEMOLIÇÃO DE ALVENARIA EM GERAL (TIJOLOS OU BLOCOS) | H18: M3 | I18: 0.5 | K18: 46.7 | L18: =K18*I18 -> 23.35 | M18: =B18 -> 45004
C19: Parede: 0,90x2,10x0,15 (porta) + 1,50x1,00x0,15= 0,50m³ | L19: =K19*I19 -> 0 | M19: =B19 -> 0
L20: =K20*I20 -> 0 | M20: =B20 -> 0
B21: 115003 | C21: DEMOLIÇÃO DE ARGAMASSA DE CIMENTO E AREIA | H21: M2 | I21: 2 | K21: 6.99 | L21: =K21*I21 -> 13.98 | M21: =B21 -> 115003
C22: Reparos em infiltração: 2,00m² | L22: =K22*I22 -> 0 | M22: =B22 -> 0
L23: =K23*I23 -> 0 | M23: =B23 -> 0
B24: 10107 | C24: REMOÇÃO DE ENTULHO COM CAÇAMBA METÁLICA, INCLUSIVE CARGA MANUAL E DESCARGA EM BOTA-FORA | H24: M3 | I24: =SUM(J25:J29) -> 3.0069 | K24: 80.22 | L24: =K24*I24 -> 241.21352 | M24: =B24 -> 10107
C25: Ver item 13.50.05 x 0,03 + 30% de empolamento= 0,50m³ | J25: =I15*0.03*1.3 -> 0.4953 | L25: =K25*I25 -> 0 | M25: =B25 -> 0
C26: Ver item 11.50.05 x 0,03 + 30% de empolamento= 1,73m³ | J26: =I12*0.03*1.3 -> 1.7316 | L26: =K26*I26 -> 0 | M26: =B26 -> 0
C27: Ver item 04.50.04 + 30% de empolamento= 0,65m³ | J27: =I18*1.3 -> 0.65 | L27: =K27*I27 -> 0 | M27: =B27 -> 0
C28: Ver item 11.50.03 x 0,03 + 30% de empolamento= 0,13m³ | J28: =I21*0.05*1.3 -> 0.13 | L28: =K28*I28 -> 0 | M28: =B28 -> 0
L29: =K29*I29 -> 0 | M29: =B29 -> 0
B30: 50140 | C30: REGULARIZAÇÃO COM ARGAMASSA DE CIMENTO E AREIA - TRAÇO 1:3, ESPESSURA MÉDIA 30MM | H30: M2 | I30: 12.7 | K30: 28.71 | L30: =K30*I30 -> 364.617 | M30: =B30 -> 50140
C31: Piso: 4,70x2,70= 12,70m² | L31: =K31*I31 -> 0 | M31: =B31 -> 0
L32: =K32*I32 -> 0 | M32: =B32 -> 0
B33: 130239 | C33: PISO CERÂMICO NÃO ESMALTADO ANTIDERRAPANTE - ASSENTADO COM ARGAMASSA COLANTE (PARA COZINHAS E REFEITÓRIOS) | H33: M2 | I33: 12.7 | K33: 155.29 | L33: =K33*I33 -> 1972.183 | M33: =B33 -> 130239
C34: Piso: 4,70x2,70= 12,70m² | L34: =K34*I34 -> 0 | M34: =B34 -> 0
L35: =K35*I35 -> 0 | M35: =B35 -> 0
B36: 110229 | C36: AZULEJOS, JUNTA AMARRAÇÃO OU A PRUMO - ASSENTES COM ARGAMASSA COLANTE | H36: M2 | I36: 42 | K36: 42.94 | L36: =K36*I36 -> 1803.48 | M36: =B36 -> 110229
C37: Parede: (4,70x2+2,70x2)x3,00 - 2,40 (janela)= 42,00m² | L37: =K37*I37 -> 0 | M37: =B37 -> 0
L38: =K38*I38 -> 0 | M38: =B38 -> 0
B39: 76001 | C39: RETIRADA DE FOLHAS DE PORTA DE PASSAGEM OU JANELA | H39: UNID | I39: 1 | K39: 9.79 | L39: =K39*I39 -> 9.79 | M39: =B39 -> 76001
C40: Porta= 1unid | L40: =K40*I40 -> 0 | M40: =B40 -> 0
L41: =K41*I41 -> 0 | M41: =B41 -> 0
B42: 76002 | C42: RETIRADA DE BATENTES DE MADEIRA | H42: UNID | I42: 1 | K42: 41.5 | L42: =K42*I42 -> 41.5 | M42: =B42 -> 76002
C43: Porta= 1unid | L43: =K43*I43 -> 0 | M43: =B43 -> 0
L44: =K44*I44 -> 0 | M44: =B44 -> 0
B45: 80145 | C45: PA.16 - PORTA EM ALUMÍNIO ANODIZADO, VENEZIANA - ABRIR, 1 FOLHA | H45: M2 | I45: 3.8 | K45: 751.66 | L45: =K45*I45 -> 2856.308 | M45: =B45 -> 80145
C46: Porta: 0,90x2,10 x 2 unid= 3,80m² | L46: =K46*I46 -> 0 | M46: =B46 -> 0
L47: =K47*I47 -> 0 | M47: =B47 -> 0
B48: 80174 | C48: EF.03 - BATENTE EM PERFIL DE CHAPA DOBRADA Nº20,1 FOLHA, SEM BANDEIRA | H48: JG | I48: 2 | K48: 316.19 | L48: =K48*I48 -> 632.38 | M48: =B48 -> 80174
C49: Porta= 2unid | L49: =K49*I49 -> 0 | M49: =B49 -> 0
L50: =K50*I50 -> 0 | M50: =B50 -> 0
B51: 70202 | C51: CONJUNTO DE FECHADURA DE CILINDRO, 55MM, TRÁFEGO INTENSO, MAÇANETA EM ZAMAC, GUARNIÇÕES EM AÇO, ACABAMENTO CROMADO - PARA PORTA INTERNA OU EXTERNA | H51: UNID | I51: 2 | K51: 192.91 | L51: =K51*I51 -> 385.82 | M51: =B51 -> 70202
C52: Porta= 2unid | L52: =K52*I52 -> 0 | M52: =B52 -> 0
L53: =K53*I53 -> 0 | M53: =B53 -> 0
B54: 80281 | C54: EP.11 - TELA MOSQUITEIRO EM ARAME GALVANIZADO MALHA 14, FIO 28 INCLUSIVE REQUADRO | H54: M2 | I54: 3.2 | K54: 102.87 | L54: =K54*I54 -> 329.184 | M54: =B54 -> 80281
C55: Tela: 3,20x1,00= 3,20m² | L55: =K55*I55 -> 0 | M55: =B55 -> 0
L56: =K56*I56 -> 0 | M56: =B56 -> 0
B57: 80266 | C57: CA.17 - CAIXILHO EM ALUMÍNIO ANODIZADO - DE CORRER | H57: M2 | I57: 1.5 | K57: 703.82 | L57: =K57*I57 -> 1055.73 | M57: =B57 -> 80266
C58: Passa prato: 1,50x1,00= 1,50m² | L58: =K58*I58 -> 0 | M58: =B58 -> 0
L59: =K59*I59 -> 0 | M59: =B59 -> 0
B60: 118006 | C60: REPAROS EM REBOCO - ARGAMASSA DE CAL E AREIA 1:2 | H60: M2 | I60: 2 | K60: 21.35 | L60: =K60*I60 -> 42.7 | M60: =B60 -> 118006
C61: Reparos em infiltração= 2,00m² | L61: =K61*I61 -> 0 | M61: =B61 -> 0
L62: =K62*I62 -> 0 | M62: =B62 -> 0
B63: 158001 | C63: PVA (LÁTEX) - REPINTURA DE ALVENARIA E CONCRETO, COM RETOQUES DE MASSA | H63: M2 | I63: 12.7 | K63: 12.83 | L63: =K63*I63 -> 162.941 | M63: =B63 -> 158001
C64: Teto: 4,70x2,70= 12,70m² | L64: =K64*I64 -> 0 | M64: =B64 -> 0
L65: =K65*I65 -> 0 | M65: =B65 -> 0
B66: 158034 | C66: ESMALTE SINTÉTICO - REPINTURA DE ESQUADRIAS METÁLICAS | H66: M2 | I66: 2.4 | K66: 22.91 | L66: =K66*I66 -> 54.984 | M66: =B66 -> 158034
C67: Janela: 3,00x0,80= 2,40m² | L67: =K67*I67 -> 0 | M67: =B67 -> 0
L68: =K68*I68 -> 0 | M68: =B68 -> 0
C69: 2 - REFEITÓRIO | L69: =K69*I69 -> 0 | M69: =B69 -> 0
B70: 115005 | C70: DEMOLIÇÃO DE REVESTIMENTO CERÂMICO OU SIMILAR | H70: M2 | I70: 63 | K70: 24.46 | L70: =K70*I70 -> 1540.98 | M70: =B70 -> 115005
C71: Parede: (4,70x2+5,80x2)x3,00= 63,00m² | L71: =K71*I71 -> 0 | M71: =B71 -> 0
L72: =K72*I72 -> 0 | M72: =B72 -> 0
B73: 135005 | C73: DEMOLIÇÃO DE ARGAMASSA, CERÂMICA OU SIMILAR INCLUSIVE ARGAMASSA DE REGULARIZAÇÃO | H73: M2 | I73: 27.3 | K73: 26.2 | L73: =K73*I73 -> 715.26 | M73: =B73 -> 135005
C74: Piso: 4,70x5,80= 27,30m² | L74: =K74*I74 -> 0 | M74: =B74 -> 0
L75: =K75*I75 -> 0 | M75: =B75 -> 0
B76: 45004 | C76: DEMOLIÇÃO DE ALVENARIA EM GERAL (TIJOLOS OU BLOCOS) | H76: M3 | I76: 0.45 | K76: 46.7 | L76: =K76*I76 -> 21.015 | M76: =B76 -> 45004
C77: Parede: 3,00x1,00x0,15= 0,45m³ | L77: =K77*I77 -> 0 | M77: =B77 -> 0
L78: =K78*I78 -> 0 | M78: =B78 -> 0
B79: 115003 | C79: DEMOLIÇÃO DE ARGAMASSA DE CIMENTO E AREIA | H79: M2 | I79: 2 | K79: 6.99 | L79: =K79*I79 -> 13.98 | M79: =B79 -> 115003
C80: Reparos em infiltração: 2,00m² | L80: =K80*I80 -> 0 | M80: =B80 -> 0
L81: =K81*I81 -> 0 | M81: =B81 -> 0
B82: 10107 | C82: REMOÇÃO DE ENTULHO COM CAÇAMBA METÁLICA, INCLUSIVE CARGA MANUAL E DESCARGA EM BOTA-FORA | H82: M3 | I82: =SUM(J83:J87) -> 4.2367 | K82: 80.22 | L82: =K82*I82 -> 339.86807 | M82: =B82 -> 10107
C83: Ver item 13.50.05 x 0,03 + 30% de empolamento= 0,50m³ | J83: =I73*0.03*1.3 -> 1.0647 | L83: =K83*I83 -> 0 | M83: =B83 -> 0
C84: Ver item 11.50.05 x 0,03 + 30% de empolamento= 1,73m³ | J84: =I70*0.03*1.3 -> 2.457 | L84: =K84*I84 -> 0 | M84: =B84 -> 0
C85: Ver item 04.50.04 + 30% de empolamento= 0,65m³ | J85: =I76*1.3 -> 0.585 | L85: =K85*I85 -> 0 | M85: =B85 -> 0
C86: Ver item 11.50.03 x 0,03 + 30% de empolamento= 0,13m³ | J86: =I79*0.05*1.3 -> 0.13 | L86: =K86*I86 -> 0 | M86: =B86 -> 0
L87: =K87*I87 -> 0 | M87: =B87 -> 0
B88: 50140 | C88: REGULARIZAÇÃO COM ARGAMASSA DE CIMENTO E AREIA - TRAÇO 1:3, ESPESSURA MÉDIA 30MM | H88: M2 | I88: 27.3 | K88: 28.71 | L88: =K88*I88 -> 783.783 | M88: =B88 -> 50140
C89: Piso: 4,70x5,80= 27,30m² | L89: =K89*I89 -> 0 | M89: =B89 -> 0
L90: =K90*I90 -> 0 | M90: =B90 -> 0
B91: 130239 | C91: PISO CERÂMICO NÃO ESMALTADO ANTIDERRAPANTE - ASSENTADO COM ARGAMASSA COLANTE (PARA COZINHAS E REFEITÓRIOS) | H91: M2 | I91: 27.3 | K91: 155.29 | L91: =K91*I91 -> 4239.417 | M91: =B91 -> 130239
C92: Piso: 4,70x5,80= 27,30m² | L92: =K92*I92 -> 0 | M92: =B92 -> 0
L93: =K93*I93 -> 0 | M93: =B93 -> 0
B94: 110229 | C94: AZULEJOS, JUNTA AMARRAÇÃO OU A PRUMO - ASSENTES COM ARGAMASSA COLANTE | H94: M2 | I94: 57.9 | K94: 42.94 | L94: =K94*I94 -> 2486.226 | M94: =B94 -> 110229
C95: Parede: (4,70x2+5,80x2)x3,00 - 4,50 (janela e passa prato)= 57,90m² | L95: =K95*I95 -> 0 | M95: =B95 -> 0
L96: =K96*I96 -> 0 | M96: =B96 -> 0
B97: 80281 | C97: EP.11 - TELA MOSQUITEIRO EM ARAME GALVANIZADO MALHA 14, FIO 28 INCLUSIVE REQUADRO | H97: M2 | I97: 3.85 | K97: 102.87 | L97: =K97*I97 -> 396.0495 | M97: =B97 -> 80281
C98: Tela: 3,20x1,20= 3,85m² | L98: =K98*I98 -> 0 | M98: =B98 -> 0
L99: =K99*I99 -> 0 | M99: =B99 -> 0
B100: 118006 | C100: REPAROS EM REBOCO - ARGAMASSA DE CAL E AREIA 1:2 | H100: M2 | I100: 2 | K100: 21.35 | L100: =K100*I100 -> 42.7 | M100: =B100 -> 118006
C101: Reparos em infiltração= 2,00m² | L101: =K101*I101 -> 0 | M101: =B101 -> 0
L102: =K102*I102 -> 0 | M102: =B102 -> 0
B103: 158001 | C103: PVA (LÁTEX) - REPINTURA DE ALVENARIA E CONCRETO, COM RETOQUES DE MASSA | H103: M2 | I103: 27.3 | K103: 12.83 | L103: =K103*I103 -> 350.259 | M103: =B103 -> 158001
...

Sheet Planilha
D4: ANEXO II - Modelo de Planilha de preços unitários para apresentação da proposta
D6: Obra: Reforma do Anexo CEI Analivia Pedro
G8: Data base: | H8: 43101
B9: Referência | C9: Item | D9: Descrição | E9: Unid | F9: Quantidade | G9: Preço Unit | H9: Total
D10: 1 - ALVENARIAS E REVESTIMENTOS DE PAREDE
B11: EDIF | C11: =VLOOKUP($D11,ORÇ!$C$9:$M$914,11,0) -> 110229 | D11: AZULEJOS, JUNTA AMARRAÇÃO OU A PRUMO - ASSENTES COM ARGAMASSA COLANTE | E11: =VLOOKUP($D11,ORÇ!$C$9:$M$914,6,0) -> M2 | F11: 21.17 | H11: =F11*G11 -> 0
B12: EDIF | C12: =VLOOKUP($D12,ORÇ!$C$9:$M$914,11,0) -> 115005 | D12: DEMOLIÇÃO DE REVESTIMENTO CERÂMICO OU SIMILAR | E12: =VLOOKUP($D12,ORÇ!$C$9:$M$914,6,0) -> M2 | F12: 21.17 | H12: =F12*G12 -> 0
B13: EDIF | C13: =VLOOKUP($D13,ORÇ!$C$9:$M$914,11,0) -> 118006 | D13: REPAROS EM REBOCO - ARGAMASSA DE CAL E AREIA 1:2 | E13: =VLOOKUP($D13,ORÇ!$C$9:$M$914,6,0) -> M2 | F13: 10 | H13: =F13*G13 -> 0
G14: Subtotal: | H14: =SUM(H11:H13) -> 0 | I14: =H14*1.25 -> 0 | J14: =SUM(H14,H21,H28,H36,H45,H54,H57,H64,H73) -> 0
D15: 2 - REVESTIMENTOS DE FORRO E DE PISO
B16: EDIF | C16: ='[1]Comp CustosUnit EDIF SD Jan18'!$A$8636 -> 120140 | D16: FORRO DE GESSO COMUM - PLACA CONVENCIONAL (FORNECIMENTO E INSTALAÇÃO) | E16: M2 | F16: 37.5 | H16: =F16*G16 -> 0
B17: EDIF | C17: ='[2]Comp CustosUnit EDIF SD Jan18'!$A$9048 -> 138061 | D17: POLIMENTO DE PISO DE GRANILITE OU ARGAMASSA DE ALTA RESISTÊNCIA | E17: M2 | F17: 37.5 | H17: =F17*G17 -> 0
B18: EDIF | C18: ='[2]Comp CustosUnit EDIF SD Jan18'!$A$9060 -> 138072 | D18: RESINA POLIURETANO PARA PISO GRANILITE | E18: M2 | F18: 37.5 | H18: =F18*G18 -> 0
B19: SINAP | C19: 79640 | D19: PINTURA EPOXI, DUAS DEMAOS-PISO DE TODAS AS SALAS (PISOS) | E19: M2 | F19: 145.83 | H19: =F19*G19 -> 0
B20: EDIF | C20: ='[2]Comp CustosUnit EDIF SD Jan18'!$A$9971 -> 170245 | D20: PASSEIO DE CONCRETO ARMADO, FCK=30MPA, INCLUINDO PREPARO DA CAIXA E LASTRO DE BRITA | E20: M3 | F20: 1.62 | H20: =F20*G20 -> 0
G21: Subtotal: | H21: =SUM(H16:H20) -> 0 | I21: =H21*1.25 -> 0
D22: 3 - COBERTURA
B23: EDIF | C23: =VLOOKUP($D23,ORÇ!$C$9:$M$914,11,0) -> 60221 | D23: TELHA ONDULADA CRFS 6MM | E23: =VLOOKUP($D23,ORÇ!$C$9:$M$914,6,0) -> M2 | F23: 130 | H23: =F23*G23 -> 0
B24: EDIF | C24: =VLOOKUP($D24,ORÇ!$C$9:$M$914,11,0) -> 68003 | D24: REVISÃO, ESCOVAÇÃO, INCLUSIVE TOMADA DE GOTEIRAS DE TELHADOS EM GERAL, EXCLUSIVE PARA TELHAS DE BARRO COZIDO OU VIDRO | E24: =VLOOKUP($D24,ORÇ!$C$9:$M$914,6,0) -> M2 | F24: 178.13 | H24: =F24*G24 -> 0
B25: EDIF | C25: ='[2]Comp CustosUnit EDIF SD Jan18'!$A$1329 -> 60116 | D25: ESTRUTURA COM TESOURAS DE MADEIRA PARA TELHAS ONDULADAS CA/AL/PL - VÃOS 7,01 À 10,00M | E25: M2 | F25: 130 | H25: =F25*G25 -> 0
B26: EDIF | C26: ='[2]Comp CustosUnit EDIF SD Jan18'!$A$1430 -> 60255 | D26: CUMEEIRA PARA TELHA ONDULADA (CRFS, PVC RÍGIDO E POLIÉSTER), TRAPEZOIDAL E GRECA (PVC RÍGIDO E POLIÉSTER) | E26: M | F26: 8 | H26: =F26*G26 -> 0
B27: EDIF | C27: ='[2]Comp CustosUnit EDIF SD Jan18'!$A$1318 -> 60113 | D27: ESTRUTURA DE MADEIRA, PONTALETADA, PARA TELHAS ONDULADAS CA/AL/PL/AG | E27: M2 | F27: 16.2 | H27: =F27*G27 -> 0
G28: Subtotal: | H28: =SUM(H23:H27) -> 0 | I28: =H28*1.25 -> 0
D29: 4 - ESQUADRIAS METÁLICAS E DE MADEIRA
B30: EDIF | C30: =VLOOKUP($D30,ORÇ!$C$9:$M$914,11,0) -> 70113 | D30: PM.13 - PORTA LISA COMUM/ ENCABEÇADA - 92X210CM | E30: =VLOOKUP($D30,ORÇ!$C$9:$M$914,6,0) -> UNID | F30: 2 | H30: =F30*G30 -> 0
B31: EDIF | C31: =VLOOKUP($D31,ORÇ!$C$9:$M$914,11,0) -> 70150 | D31: EM.01 - BATENTE DE MADEIRA (14CM) - PARA PORTA DE 1 FOLHA, SEM BANDEIRA | E31: =VLOOKUP($D31,ORÇ!$C$9:$M$914,6,0) -> JG | F31: 2 | H31: =F31*G31 -> 0
B32: EDIF | C32: =VLOOKUP($D32,ORÇ!$C$9:$M$914,11,0) -> 70202 | D32: CONJUNTO DE FECHADURA DE CILINDRO, 55MM, TRÁFEGO INTENSO, MAÇANETA EM ZAMAC, GUARNIÇÕES EM AÇO, ACABAMENTO CROMADO - PARA PORTA INTERNA OU EXTERNA | E32: =VLOOKUP($D32,ORÇ!$C$9:$M$914,6,0) -> UNID | F32: 2 | H32: =F32*G32 -> 0
B33: EDIF | C33: =VLOOKUP($D33,ORÇ!$C$9:$M$914,11,0) -> 76001 | D33: RETIRADA DE FOLHAS DE PORTA DE PASSAGEM OU JANELA | E33: =VLOOKUP($D33,ORÇ!$C$9:$M$914,6,0) -> UNID | F33: 1 | H33: =F33*G33 -> 0
B34: EDIF | C34: =VLOOKUP($D34,ORÇ!$C$9:$M$914,11,0) -> 76002 | D34: RETIRADA DE BATENTES DE MADEIRA | E34: =VLOOKUP($D34,ORÇ!$C$9:$M$914,6,0) -> UNID | F34: =SUMIF(ORÇ!C:C,D34,ORÇ!I:I) -> 1 | H34: =F34*G34 -> 0
B35: EDIF | C35: =VLOOKUP($D35,ORÇ!$C$9:$M$914,11,0) -> 80275 | D35: EP.07 - GRADE DE PROTEÇÃO EM FERRO CHATO | E35: =VLOOKUP($D35,ORÇ!$C$9:$M$914,6,0) -> M2 | F35: 4.2 | H35: =F35*G35 -> 0
G36: Subtotal: | H36: =SUM(H30:H35) -> 0 | I36: =H36*1.25 -> 0
D37: 5 - INSTALAÇÕES ELÉTRICAS
B38: EDIF | C38: =VLOOKUP($D38,ORÇ!$C$9:$M$914,11,0) -> 90305 | D38: CABO 2,50MM2 - ISOLAMENTO PARA 0,7KV - CLASSE 4 - FLEXÍVEL | E38: =VLOOKUP($D38,ORÇ!$C$9:$M$914,6,0) -> M | F38: =SUMIF(ORÇ!C:C,D38,ORÇ!I:I) -> 50 | H38: =F38*G38 -> 0
B39: EDIF | C39: =VLOOKUP($D39,ORÇ!$C$9:$M$914,11,0) -> 90306 | D39: CABO 4,00MM2 - ISOLAMENTO PARA 0,7KV - CLASSE 4 - FLEXÍVEL | E39: =VLOOKUP($D39,ORÇ!$C$9:$M$914,6,0) -> M | F39: =SUMIF(ORÇ!C:C,D39,ORÇ!I:I) -> 20 | H39: =F39*G39 -> 0
B40: EDIF | C40: =VLOOKUP($D40,ORÇ!$C$9:$M$914,11,0) -> 95014 | D40: REMOÇÃO DE CABO EMBUTIDO - ATÉ 16MM2 | E40: =VLOOKUP($D40,ORÇ!$C$9:$M$914,6,0) -> M | F40: =SUMIF(ORÇ!C:C,D40,ORÇ!I:I) -> 70 | H40: =F40*G40 -> 0
B41: EDIF | C41: =VLOOKUP($D41,ORÇ!$C$9:$M$914,11,0) -> 96211 | D41: RETIRADA DE LUMINÁRIA INTERNA PARA LÂMPADA FLUORESCENTE | E41: =VLOOKUP($D41,ORÇ!$C$9:$M$914,6,0) -> UNID | F41: 20 | H41: =F41*G41 -> 0
B42: EDIF | C42: =VLOOKUP($D42,ORÇ!$C$9:$M$914,11,0) -> 97211 | D42: RECOLOCAÇÃO DE LUMINÁRIA INTERNA PARA LÂMPADA FLUORESCENTE | E42: =VLOOKUP($D42,ORÇ!$C$9:$M$914,6,0) -> UNID | F42: 20 | H42: =F42*G42 -> 0
B43: EDIF | C43: =VLOOKUP($D43,ORÇ!$C$9:$M$914,11,0) -> 98235 | D43: REATOR DUPLO PARA LÂMPADA FLUORESCENTE PARTIDA RÁPIDA, ALTO F.POTÊNCIA 110-220V/2X40W | E43: =VLOOKUP($D43,ORÇ!$C$9:$M$914,6,0) -> UNID | F43: 20 | H43: =F43*G43 -> 0
B44: EDIF | C44: =VLOOKUP($D44,ORÇ!$C$9:$M$914,11,0) -> 98256 | D44: LÂMPADA FLUORESCENTE - 40W | E44: =VLOOKUP($D44,ORÇ!$C$9:$M$914,6,0) -> UNID | F44: 20 | H44: =F44*G44 -> 0
G45: Subtotal: | H45: =SUM(H38:H44) -> 0 | I45: =H45*1.25 -> 0
D46: 6 - INSTALAÇÕES HIDRÁULICAS
B47: EDIF | C47: =VLOOKUP($D47,ORÇ!$C$9:$M$914,11,0) -> 100261 | D47: TUBO DE PVC RÍGIDO, SOLDÁVEL (LINHA ÁGUA) - 25MM (3/4") | E47: =VLOOKUP($D47,ORÇ!$C$9:$M$914,6,0) -> M | F47: =SUMIF(ORÇ!C:C,D47,ORÇ!I:I) -> 14.1 | H47: =F47*G47 -> 0
B48: EDIF | C48: ='[1]Comp CustosUnit EDIF SD Jan18'!$A$8026 -> 101357 | D48: CUBA DUPLA DE AÇO INOXIDÁVEL CHAPA 20 - 1020X400X200MM | E48: UNID | F48: 1 | H48: =F48*G48 -> 0
B49: EDIF | C49: ='[2]Comp CustosUnit EDIF SD Jan18'!$A$7998 -> 101351 | D49: CUBA SIMPLES DE AÇO INOXIDÁVEL CHAPA 20 - 560X335X150MM | E49: UNID | F49: 2 | H49: =F49*G49 -> 0
B50: EDIF | C50: ='[1]Comp CustosUnit EDIF SD Jan18'!$A$8182 -> 101442 | D50: CHUVEIRO DUCHA MODELO JET-SET METÁLICA OU SIMILAR | E50: UNID | F50: 2 | H50: =F50*G50 -> 0
B51: EDIF | C51: ='[1]Comp CustosUnit EDIF SD Jan18'!$A$8083 -> 101408 | D51: TORNEIRA DE PRESSÃO PARA PIA, COM CORPO LONGO E AERADOR - 3/4" | E51: UNID | F51: 2 | H51: =F51*G51 -> 0
B52: EDIF | C52: =VLOOKUP($D52,ORÇ!$C$9:$M$914,11,0) -> 100531 | D52: REGISTRO DE GAVETA, METAL CROMADO - 3/4" | E52: =VLOOKUP($D52,ORÇ!$C$9:$M$914,6,0) -> UNID | F52: =SUMIF(ORÇ!C:C,D52,ORÇ!I:I) -> 1 | H52: =F52*G52 -> 0
B53: EDIF | C53: ='[1]Comp CustosUnit EDIF SD Jan18'!$A$8216 -> 101475 | D53: TAMPO PARA BANCADA ÚMIDA - GRANITO CINZA ANDORINHA - ESPESSURA 2CM | E53: M2 | F53: 2.52 | H53: =F53*G53 -> 0
G54: Subtotal: | H54: =SUM(H47:H53) -> 0 | I54: =H54*1.25 -> 0
D55: 7 - VIDROS
B56: EDIF | C56: =VLOOKUP($D56,ORÇ!$C$9:$M$914,11,0) -> 140104 | D56: VIDRO LISO COMUM, TRANSPARENTE INCOLOR - ESPESSURA 5MM | E56: =VLOOKUP($D56,ORÇ!$C$9:$M$914,6,0) -> M2 | F56: 0.5 | H56: =F56*G56 -> 0
G57: Subtotal: | H57: =SUM(H56) -> 0 | I57: =H57*1.25 -> 0
D58: 8 - PINTURAS
B59: EDIF | C59: =VLOOKUP($D59,ORÇ!$C$9:$M$914,11,0) -> 150211 | D59: ESMALTE SINTÉTICO - ESQUADRIAS E PEÇAS DE MARCENARIA, COM EMASSAMENTO | E59: =VLOOKUP($D59,ORÇ!$C$9:$M$914,6,0) -> M2 | F59: 6.24 | H59: =F59*G59 -> 0
B60: EDIF | C60: =VLOOKUP($D60,ORÇ!$C$9:$M$914,11,0) -> 150310 | D60: ESMALTE SINTÉTICO - ESQUADRIAS E PEÇAS DE SERRALHERIA | E60: =VLOOKUP($D60,ORÇ!$C$9:$M$914,6,0) -> M2 | F60: 37.54 | H60: =F60*G60 -> 0
B61: EDIF | C61: =VLOOKUP($D61,ORÇ!$C$9:$M$914,11,0) -> 158001 | D61: PVA (LÁTEX) - REPINTURA DE ALVENARIA E CONCRETO, COM RETOQUES DE MASSA | E61: =VLOOKUP($D61,ORÇ!$C$9:$M$914,6,0) -> M2 | F61: =SUMIF(ORÇ!C:C,D61,ORÇ!I:I) -> 198.4 | H61: =F61*G61 -> 0
B62: EDIF | C62: =VLOOKUP($D62,ORÇ!$C$9:$M$914,11,0) -> 158005 | D62: TINTA ACRÍLICA - REPINTURA DE ALVENARIA E CONCRETO COM RETOQUE DE MASSA | E62: =VLOOKUP($D62,ORÇ!$C$9:$M$914,6,0) -> M2 | F62: =SUMIF(ORÇ!C:C,D62,ORÇ!I:I) -> 658.95 | H62: =F62*G62 -> 0
B63: EDIF | C63: =VLOOKUP($D63,ORÇ!$C$9:$M$914,11,0) -> 158034 | D63: ESMALTE SINTÉTICO - REPINTURA DE ESQUADRIAS METÁLICAS | E63: =VLOOKUP($D63,ORÇ!$C$9:$M$914,6,0) -> M2 | F63: 28.56 | H63: =F63*G63 -> 0
G64: Subtotal: | H64: =SUM(H59:H63) -> 0 | I64: =H64*1.25 -> 0
D65: 9 - SERVIÇOS COMPLEMENTARES
B68: EDIF | C68: 80306 | D68: PP.36 - PORTA EM FERRO PERFILADO COM TELA PARA ABRIGO DE GÁS | E68: M2 | F68: 2.04 | H68: =G68*F68 -> 0
B69: EDIF | C69: ='[2]Comp CustosUnit EDIF SD Jan18'!$A$6870 -> 100760 | D69: HV.13 - ABRIGO PARA GÁS EM BLOCOS DE CONCRETO APARENTE PARA 2 CILINDROS | E69: UN | F69: 1 | H69: =G69*F69 -> 0
B70: EDIF | C70: 100781 | D70: HD.11 - INSTALAÇÃO PARA 2 CILINDROS GLP 45 KG, EXCLUSIVE ABRIGO | E70: UN | F70: 1 | H70: =G70*F70 -> 0
B71: EDIF | C71: =VLOOKUP($D71,ORÇ!$C$9:$M$914,11,0) -> 170401 | D71: LIMPEZA GERAL DA OBRA | E71: =VLOOKUP($D71,ORÇ!$C$9:$M$914,6,0) -> M2 | F71: 248.41 | H71: =G71*F71 -> 0
B72: EDIF | C72: 01.01.07 | D72: REMOÇÃO DE ENTULHO COM CAÇAMBA METÁLICA, INCLUSIVE CARGA MANUAL E DESCARGA EM BOTA-FORA | E72: M3 | F72: 3 | H72: =G72*F72 -> 0
G73: Subtotal: | H73: =SUM(H67:H71) -> 0 | I73: =H73*1.25 -> 0
G74: Total: | H74: =SUM(H73,H64,H57,H54,H45,H36,H28,H21,H14) -> 0 | I74: =SUM(I10:I73) -> 0
G75: BDI (25%): | H75: =H74*0.25 -> 0
G76: TOTAL GERAL: | H76: =SUM(H74:H75) -> 0
