Workbook
Name AreaTeste: #REF!
Name AreaTeste2: #REF!
Name CélulaInicioPlanilha: #REF!
Name CélulaResumo: #REF!
Name Excel_BuiltIn_Database: #REF!
Name Excel_BuiltIn_Database_2: #REF!

Sheet ORÇ
D2: MEMÓRIA DE CÁLCULO
G3: Processo:
G4: Data-Base: julho/2017
E5: MEDIÇÃO:
B6: OBRA: Reforma da CEI Dr Oliveira Laet | G6: LOCAL: | H6: Ferraz de Vasconcelos
B7: CÓDIGO: | G7: CONTRATO: | H7: -
B9: CÓDIGO | C9: DESCRIÇÃO DOS SERVIÇOS | H9: UNID | I9: QUANT
C11: 1 - COZINHA | L11: =K11*I11 -> 0 | M11: =B11 -> 0
B12: 115005 | C12: DEMOLIÇÃO DE REVESTIMENTO CERÂMICO OU SIMILAR | H12: M2 | I12: 44.4 | K12: 24.46 | L12: =K12*I12 -> 1086.024 | M12: =B12 -> 115005
C13: Parede: (4,70x2+2,70x2)x3,00= 44,40m² | L13: =K13*I13 -> 0 | M13: =B13 -> 0
L14: =K14*I14 -> 0 | M14: =B14 -> 0
B15: 135005 | C15: DEMOLIÇÃO DE ARGAMASSA, CERÂMICA OU SIMILAR INCLUSIVE ARGAMASSA DE REGULARIZAÇÃO | H15: M2 | I15: 12.7 | K15: 26.2 | L15: =K15*I15 -> 332.74 | M15: =B15 -> 135005
C16: Piso: 4,70x2,70= 12,70m² | L16: =K16*I16 -> 0 | M16: =B16 -> 0
L17: =K17*I17 -> 0 | M17: =B17 -> 0
B18: 45004 | C18: DEMOLIÇÃO DE ALVENARIA EM GERAL (TIJOLOS OU BLOCOS) | H18: M3 | I18: 0.5 | K18: 46.7 | L18: =K18*I18 -> 23.35 | M18: =B18 -> 45004
C19: Parede: 0,90x2,10x0,15 (porta) + 1,50x1,00x0,15= 0,50m³ | L19: =K19*I19 -> 0 | M19: =B19 -> 0
L20: =K20*I20 -> 0 | M20: =B20 -> 0
B21: 115003 | C21: DEMOLIÇÃO DE ARGAMASSA DE CIMENTO E AREIA | H21: M2 | I21: 2 | K21: 6.99 | L21: =K21*I21 -> 13.98 | M21: =B21 -> 115003
C22: Reparos em infiltração: 2,00m² | L22: =K22*I22 -> 0 | M22: =B22 -> 0
L23: =K23*I23 -> 0 | M23: =B23 -> 0
B24: 10107 | C24: REMOÇÃO DE ENTULHO COM CAÇAMBA METÁLICA, INCLUSIVE CARGA MANUAL E DESCARGA EM BOTA-FORA | H24: M3 | I24: =SUM(J25:J29) -> 3.0069 | K24: 80.22 | L24: =K24*I24 -> 241.21352 | M24: =B24 -> 10107
C25: Ver item 13.50.05 x 0,03 + 30% de empolamento= 0,50m³ | J25: =I15*0.03*1.3 -> 0.4953 | L25: =K25*I25 -> 0 | M25: =B25 -> 0
C26: Ver item 11.50.05 x 0,03 + 30% de empolamento= 1,73m³ | J26: =I12*0.03*1.3 -> 1.7316 | L26: =K26*I26 -> 0 | M26: =B26 -> 0
C27: Ver item 04.50.04 + 30% de empolamento= 0,65m³ | J27: =I18*1.3 -> 0.65 | L27: =K27*I27 -> 0 | M27: =B27 -> 0
C28: Ver item 11.50.03 x 0,03 + 30% de empolamento= 0,13m³ | J28: =I21*0.05*1.3 -> 0.13 | L28: =K28*I28 -> 0 | M28: =B28 -> 0
L29: =K29*I29 -> 0 | M29: =B29 -> 0
B30: 50140 | C30: REGULARIZAÇÃO COM ARGAMASSA DE CIMENTO E AREIA - TRAÇO 1:3, ESPESSURA MÉDIA 30MM | H30: M2 | I30: 12.7 | K30: 28.71 | L30: =K30*I30 -> 364.617 | M30: =B30 -> 50140
C31: Piso: 4,70x2,70= 12,70m² | L31: =K31*I31 -> 0 | M31: =B31 -> 0
L32: =K32*I32 -> 0 | M32: =B32 -> 0
B33: 130239 | C33: PISO CERÂMICO NÃO ESMALTADO ANTIDERRAPANTE - ASSENTADO COM ARGAMASSA COLANTE (PARA COZINHAS E REFEITÓRIOS) | H33: M2 | I33: 12.7 | K33: 155.29 | L33: =K33*I33 -> 1972.183 | M33: =B33 -> 130239
C34: Piso: 4,70x2,70= 12,70m² | L34: =K34*I34 -> 0 | M34: =B34 -> 0
L35: =K35*I35 -> 0 | M35: =B35 -> 0
B36: 110229 | C36: AZULEJOS, JUNTA AMARRAÇÃO OU A PRUMO - ASSENTES COM ARGAMASSA COLANTE | H36: M2 | I36: 42 | K36: 42.94 | L36: =K36*I36 -> 1803.48 | M36: =B36 -> 110229
C37: Parede: (4,70x2+2,70x2)x3,00 - 2,40 (janela)= 42,00m² | L37: =K37*I37 -> 0 | M37: =B37 -> 0
L38: =K38*I38 -> 0 | M38: =B38 -> 0
B39: 76001 | C39: RETIRADA DE FOLHAS DE PORTA DE PASSAGEM OU JANELA | H39: UNID | I39: 1 | K39: 9.79 | L39: =K39*I39 -> 9.79 | M39: =B39 -> 76001
C40: Porta= 1unid | L40: =K40*I40 -> 0 | M40: =B40 -> 0
L41: =K41*I41 -> 0 | M41: =B41 -> 0
B42: 76002 | C42: RETIRADA DE BATENTES DE MADEIRA | H42: UNID | I42: 1 | K42: 41.5 | L42: =K42*I42 -> 41.5 | M42: =B42 -> 76002
C43: Porta= 1unid | L43: =K43*I43 -> 0 | M43: =B43 -> 0
...

Sheet Planilha
D4: ANEXO II - Modelo de Planilha de preços unitários para apresentação da proposta
D6: Obra: Reforma do Anexo CEI Analivia Pedro
G8: Data base: | H8: 43101
B9: Referência | C9: Item | D9: Descrição | E9: Unid | F9: Quantidade | G9: Preço Unit | H9: Total
D10: 1 - ALVENARIAS E REVESTIMENTOS DE PAREDE
B11: EDIF | C11: =VLOOKUP($D11,ORÇ!$C$9:$M$914,11,0) -> 110229 | D11: AZULEJOS, JUNTA AMARRAÇÃO OU A PRUMO - ASSENTES COM ARGAMASSA COLANTE | E11: =VLOOKUP($D11,ORÇ!$C$9:$M$914,6,0) -> M2 | F11: 21.17 | H11: =F11*G11 -> 0
B12: EDIF | C12: =VLOOKUP($D12,ORÇ!$C$9:$M$914,11,0) -> 115005 | D12: DEMOLIÇÃO DE REVESTIMENTO CERÂMICO OU SIMILAR | E12: =VLOOKUP($D12,ORÇ!$C$9:$M$914,6,0) -> M2 | F12: 21.17 | H12: =F12*G12 -> 0
B13: EDIF | C13: =VLOOKUP($D13,ORÇ!$C$9:$M$914,11,0) -> 118006 | D13: REPAROS EM REBOCO - ARGAMASSA DE CAL E AREIA 1:2 | E13: =VLOOKUP($D13,ORÇ!$C$9:$M$914,6,0) -> M2 | F13: 10 | H13: =F13*G13 -> 0
G14: Subtotal: | H14: =SUM(H11:H13) -> 0 | I14: =H14*1.25 -> 0 | J14: =SUM(H14,H21,H28,H36,H45,H54,H57,H64,H73) -> 0
D15: 2 - REVESTIMENTOS DE FORRO E DE PISO
B16: EDIF | C16: ='[1]Comp CustosUnit EDIF SD Jan18'!$A$8636 -> 120140 | D16: FORRO DE GESSO COMUM - PLACA CONVENCIONAL (FORNECIMENTO E INSTALAÇÃO) | E16: M2 | F16: 37.5 | H16: =F16*G16 -> 0
B17: EDIF | C17: ='[2]Comp CustosUnit EDIF SD Jan18'!$A$9048 -> 138061 | D17: POLIMENTO DE PISO DE GRANILITE OU ARGAMASSA DE ALTA RESISTÊNCIA | E17: M2 | F17: 37.5 | H17: =F17*G17 -> 0
B18: EDIF | C18: ='[2]Comp CustosUnit EDIF SD Jan18'!$A$9060 -> 138072 | D18: RESINA POLIURETANO PARA PISO GRANILITE | E18: M2 | F18: 37.5 | H18: =F18*G18 -> 0
B19: SINAP | C19: 79640 | D19: PINTURA EPOXI, DUAS DEMAOS-PISO DE TODAS AS SALAS (PISOS) | E19: M2 | F19: 145.83 | H19: =F19*G19 -> 0
B20: EDIF | C20: ='[2]Comp CustosUnit EDIF SD Jan18'!$A$9971 -> 170245 | D20: PASSEIO DE CONCRETO ARMADO, FCK=30MPA, INCLUINDO PREPARO DA CAIXA E LASTRO DE BRITA | E20: M3 | F20: 1.62 | H20: =F20*G20 -> 0
G21: Subtotal: | H21: =SUM(H16:H20) -> 0 | I21: =H21*1.25 -> 0
D22: 3 - COBERTURA
B23: EDIF | C23: =VLOOKUP($D23,ORÇ!$C$9:$M$914,11,0) -> 60221 | D23: TELHA ONDULADA CRFS 6MM | E23: =VLOOKUP($D23,ORÇ!$C$9:$M$914,6,0) -> M2 | F23: 130 | H23: =F23*G23 -> 0
B24: EDIF | C24: =VLOOKUP($D24,ORÇ!$C$9:$M$914,11,0) -> 68003 | D24: REVISÃO, ESCOVAÇÃO, INCLUSIVE TOMADA DE GOTEIRAS DE TELHADOS EM GERAL, EXCLUSIVE PARA TELHAS DE BARRO COZIDO OU VIDRO | E24: =VLOOKUP($D24,ORÇ!$C$9:$M$914,6,0) -> M2 | F24: 178.13 | H24: =F24*G24 -> 0
B25: EDIF | C25: ='[2]Comp CustosUnit EDIF SD Jan18'!$A$1329 -> 60116 | D25: ESTRUTURA COM TESOURAS DE MADEIRA PARA TELHAS ONDULADAS CA/AL/PL - VÃOS 7,01 À 10,00M | E25: M2 | F25: 130 | H25: =F25*G25 -> 0
B26: EDIF | C26: ='[2]Comp CustosUnit EDIF SD Jan18'!$A$1430 -> 60255 | D26: CUMEEIRA PARA TELHA ONDULADA (CRFS, PVC RÍGIDO E POLIÉSTER), TRAPEZOIDAL E GRECA (PVC RÍGIDO E POLIÉSTER) | E26: M | F26: 8 | H26: =F26*G26 -> 0
B27: EDIF | C27: ='[2]Comp CustosUnit EDIF SD Jan18'!$A$1318 -> 60113 | D27: ESTRUTURA DE MADEIRA, PONTALETADA, PARA TELHAS ONDULADAS CA/AL/PL/AG | E27: M2 | F27: 16.2 | H27: =F27*G27 -> 0
G28: Subtotal: | H28: =SUM(H23:H27) -> 0 | I28: =H28*1.25 -> 0
D29: 4 - ESQUADRIAS METÁLICAS E DE MADEIRA
B30: EDIF | C30: =VLOOKUP($D30,ORÇ!$C$9:$M$914,11,0) -> 70113 | D30: PM.13 - PORTA LISA COMUM/ ENCABEÇADA - 92X210CM | E30: =VLOOKUP($D30,ORÇ!$C$9:$M$914,6,0) -> UNID | F30: 2 | H30: =F30*G30 -> 0
B31: EDIF | C31: =VLOOKUP($D31,ORÇ!$C$9:$M$914,11,0) -> 70150 | D31: EM.01 - BATENTE DE MADEIRA (14CM) - PARA PORTA DE 1 FOLHA, SEM BANDEIRA | E31: =VLOOKUP($D31,ORÇ!$C$9:$M$914,6,0) -> JG | F31: 2 | H31: =F31*G31 -> 0
B32: EDIF | C32: =VLOOKUP($D32,ORÇ!$C$9:$M$914,11,0) -> 70202 | D32: CONJUNTO DE FECHADURA DE CILINDRO, 55MM, TRÁFEGO INTENSO, MAÇANETA EM ZAMAC, GUARNIÇÕES EM AÇO, ACABAMENTO CROMADO - PARA PORTA INTERNA OU EXTERNA | E32: =VLOOKUP($D32,ORÇ!$C$9:$M$914,6,0) -> UNID | F32: 2 | H32: =F32*G32 -> 0
B33: EDIF | C33: =VLOOKUP($D33,ORÇ!$C$9:$M$914,11,0) -> 76001 | D33: RETIRADA DE FOLHAS DE PORTA DE PASSAGEM OU JANELA | E33: =VLOOKUP($D33,ORÇ!$C$9:$M$914,6,0) -> UNID | F33: 1 | H33: =F33*G33 -> 0
B34: EDIF | C34: =VLOOKUP($D34,ORÇ!$C$9:$M$914,11,0) -> 76002 | D34: RETIRADA DE BATENTES DE MADEIRA | E34: =VLOOKUP($D34,ORÇ!$C$9:$M$914,6,0) -> UNID | F34: =SUMIF(ORÇ!C:C,D34,ORÇ!I:I) -> 1 | H34: =F34*G34 -> 0
B35: EDIF | C35: =VLOOKUP($D35,ORÇ!$C$9:$M$914,11,0) -> 80275 | D35: EP.07 - GRADE DE PROTEÇÃO EM FERRO CHATO | E35: =VLOOKUP($D35,ORÇ!$C$9:$M$914,6,0) -> M2 | F35: 4.2 | H35: =F35*G35 -> 0
G36: Subtotal: | H36: =SUM(H30:H35) -> 0 | I36: =H36*1.25 -> 0
D37: 5 - INSTALAÇÕES ELÉTRICAS
B38: EDIF | C38: =VLOOKUP($D38,ORÇ!$C$9:$M$914,11,0) -> 90305 | D38: CABO 2,50MM2 - ISOLAMENTO PARA 0,7KV - CLASSE 4 - FLEXÍVEL | E38: =VLOOKUP($D38,ORÇ!$C$9:$M$914,6,0) -> M | F38: =SUMIF(ORÇ!C:C,D38,ORÇ!I:I) -> 50 | H38: =F38*G38 -> 0
B39: EDIF | C39: =VLOOKUP($D39,ORÇ!$C$9:$M$914,11,0) -> 90306 | D39: CABO 4,00MM2 - ISOLAMENTO PARA 0,7KV - CLASSE 4 - FLEXÍVEL | E39: =VLOOKUP($D39,ORÇ!$C$9:$M$914,6,0) -> M | F39: =SUMIF(ORÇ!C:C,D39,ORÇ!I:I) -> 20 | H39: =F39*G39 -> 0
B40: EDIF | C40: =VLOOKUP($D40,ORÇ!$C$9:$M$914,11,0) -> 95014 | D40: REMOÇÃO DE CABO EMBUTIDO - ATÉ 16MM2 | E40: =VLOOKUP($D40,ORÇ!$C$9:$M$914,6,0) -> M | F40: =SUMIF(ORÇ!C:C,D40,ORÇ!I:I) -> 70 | H40: =F40*G40 -> 0
B41: EDIF | C41: =VLOOKUP($D41,ORÇ!$C$9:$M$914,11,0) -> 96211 | D41: RETIRADA DE LUMINÁRIA INTERNA PARA LÂMPADA FLUORESCENTE | E41: =VLOOKUP($D41,ORÇ!$C$9:$M$914,6,0) -> UNID | F41: 20 | H41: =F41*G41 -> 0
B42: EDIF | C42: =VLOOKUP($D42,ORÇ!$C$9:$M$914,11,0) -> 97211 | D42: RECOLOCAÇÃO DE LUMINÁRIA INTERNA PARA LÂMPADA FLUORESCENTE | E42: =VLOOKUP($D42,ORÇ!$C$9:$M$914,6,0) -> UNID | F42: 20 | H42: =F42*G42 -> 0
B43: EDIF | C43: =VLOOKUP($D43,ORÇ!$C$9:$M$914,11,0) -> 98235 | D43: REATOR DUPLO PARA LÂMPADA FLUORESCENTE PARTIDA RÁPIDA, ALTO F.POTÊNCIA 110-220V/2X40W | E43: =VLOOKUP($D43,ORÇ!$C$9:$M$914,6,0) -> UNID | F43: 20 | H43: =F43*G43 -> 0
B44: EDIF | C44: =VLOOKUP($D44,ORÇ!$C$9:$M$914,11,0) -> 98256 | D44: LÂMPADA FLUORESCENTE - 40W | E44: =VLOOKUP($D44,ORÇ!$C$9:$M$914,6,0) -> UNID | F44: 20 | H44: =F44*G44 -> 0
G45: Subtotal: | H45: =SUM(H38:H44) -> 0 | I45: =H45*1.25 -> 0
...
