Workbook
Name Excel_BuiltIn_Database: #REF!
Name Excel_BuiltIn_Database_2: #REF!

Sheet ORÇ
D2: MEMÓRIA DE CÁLCULO
G3: Processo:
G4: Data-Base:JANEIRO/2018
E5: MEDIÇÃO:
B6: OBRA: AV BRASIL N1229 | G6: LOCAL: | H6: Ferraz de Vasconcelos
B7: CÓDIGO:CRAS - CENTRO DE REFERENCIA E ASSITENCIA SOCIAL | H7: -
B9: CÓDIGO | C9: DESCRIÇÃO DOS SERVIÇOS | H9: UNID | I9: QUANT
B11: 70112 | C11: PM.12 - PORTA LISA COMUM/ ENCABEÇADA - 82X210CM | H11: UNID | I11: 8 | K11: 231.81 | L11: =K11*I11 -> 1854.48
B12: EDIF | C12: 8 UNIDADES -COMPLETA DOBRADIÇA E
B13: 70114 | C13: PM.14 - PORTA LISA COMUM/ ENCABEÇADA - 102X210CM | H13: UNID | I13: 1 | K13: 256.48 | L13: =K13*I13 -> 256.48
B14: EDIF | C14: 1 UNIDADE
B15: 74842 | C15: VÁLVULA DE DESCARGA EXTERNA - | H15: UNID | I15: 2 | K15: 155.5 | L15: =K15*I15 -> 311
B16: EDIF | C16: 2 UNIDADES | L16: =K16*I16 -> 0
B17: 98256 | C17: LÂMPADA FLUORESCENTE - 40W | H17: UNID | I17: 10 | K17: 8.18 | L17: =K17*I17 -> 81.8
B18: CUSTO-EDIF | C18: 10 UNIDADES
B19: 80275 | C19: EP.07 - GRADE DE PROTEÇÃO EM FERRO | H19: M2 | I19: 5.76 | K19: 93.84 | L19: =K19*I19 -> 540.5184
B20: EDIF | C20: 2,4X2,40=5,76M2
B21: COTAÇÃO | C21: SERVIÇOS DE SERRALHERIA /COM MATERIAL | H21: UNID | I21: 1 | L21: 800
B22: VERBA | C22: SOLDAS DE BARRAS P/TRAVAMENTO GRADE DO FORRO COZINHA + REPARO PORTÃO
C23: TROCA DO TRILHO DO PORTÃO
B24: 100933 | C24: TUBO DE PVC RÍGIDO, PONTA E BOLSA (LINHA ESGOTO) - 100MM (4") | H24: M | I24: 30 | K24: 52.28 | L24: =K24*I24 -> 1568.4
B25: EDIF | C25: 30 M | L25: =K25*I25 -> 0
B26: 101094 | C26: CAIXA DE LIGAÇÃO OU INSPEÇÃO - ESCAVAÇÃO E APILOAMENTO | H26: M3 | I26: 0.22 | K26: 46.71 | L26: =K26*I26 -> 10.2762
B27: EDIF | C27: 0,60X0,60X0,60=0,22M3 | L27: =K27*I27 -> 0
B28: 101095 | C28: CAIXA DE LIGAÇÃO OU INSPEÇÃO - LASTRO DE CONCRETO (FUNDO) | H28: M3 | I28: 0.06 | K28: 333.78 | L28: =K28*I28 -> 20.0268
B29: EDIF | C29: 0,60*0,10=0,06M3 | L29: =K29*I29 -> 0
B30: 101096 | C30: CAIXA DE LIGAÇÃO OU INSPEÇÃO - ALVENARIA DE 1/2 TIJOLO, REVESTIDA | H30: M2 | I30: 0.36 | K30: 203.68 | L30: =K30*I30 -> 73.3248
B31: EDIF | C31: 0,60X0,60=0,36M2 | L31: =K31*I31 -> 0
B32: 101098 | C32: CAIXA DE LIGAÇÃO OU INSPEÇÃO - TAMPA DE CONCRETO | H32: M2 | I32: 1 | K32: 173.18 | L32: =K32*I32 -> 173.18
B33: EDIF | C33: 1,00X1,00M=1,0M2 | L33: =K33*I33 -> 0
B34: 40131 | C34: BLOCOS VAZADOS DE CONCRETO ESTRUTURAL - 14CM - 8MPA | H34: M2 | I34: 4 | K34: 69.37 | L34: =K34*I34 -> 277.48
B35: EDIF | C35: 2X2=4M2 | L35: =K35*I35 -> 0
B36: COTAÇÃO | C36: Kit Concertina 10m -315mm Haster + Alicate Para Instalação | H36: UNID | I36: 1 | K36: - | L36: 145
B38: 30419 | C38: LAJE MISTA TRELIÇADA H-8CM COM CAPEAMENTO 4CM (12CM) | H38: M2 | I38: 42.75 | K38: 91.48 | L38: =K38*I38 -> 3910.77
B39: EDIF | C39: 39,25M2+ BEIRAL 1,0*3,5= 42,75
B40: 110201 | C40: CHAPISCO COMUM - ARGAMASSA DE CIMENTO E AREIA 1:3 | H40: M2 | I40: 42.75 | K40: 6.12 | L40: =K40*I40 -> 261.63
B41: EDIF
B42: 110208 | C42: EMBOÇO INTERNO - ARGAMASSA MISTA DE CIMENTO, CAL E AREIA 1:4/12 | H42: M2 | I42: 42.75 | K42: 31.56 | L42: =K42*I42 -> 1349.19
B43: EDIF
B44: 110213 | C44: REBOCO INTERNO - ARGAMASSA PRÉ-FABRICADA | H44: M2 | I44: 42.75 | K44: 23.46 | L44: =K44*I44 -> 1002.915
B45: EDIF
B46: 158005 | C46: TINTA ACRÍLICA - REPINTURA DE ALVENARIA E CONCRETO COM RETOQUE DE MASSA | H46: M2 | I46: 1735 | K46: 15.19 | L46: =K46*I46 -> 26354.65
B47: EDIF | C47: 1735M2
B48: 158030 | C48: ESMALTE SINTÉTICO - REPINTURA DE ESQUADRIAS DE MADEIRA | H48: M2 | I48: 58.8 | K48: 18.59 | L48: =K48*I48 -> 1093.092
B49: EDIF | C49: 25,20+33,60=58,80
B50: 158034 | C50: ESMALTE SINTÉTICO - REPINTURA DE ESQUADRIAS METÁLICAS | H50: M2 | I50: 82.1 | K50: 25.53 | L50: =K50*I50 -> 2096.013
B51: EDIF | C51: 82.1
B52: 170401 | C52: LIMPEZA GERAL DA OBRA | H52: M2 | I52: 432 | K52: 10.38 | L52: =K52*I52 -> 4484.16
B53: EDIF | C53: 431,17 = 432,00
M54: =B54 -> 0
B55: VICENTE NUNES DA EIRA ENG. CIVIL CREA : 5060580945SP | I55: SUB-TOTAL | L55: =SUM(L11:L54) -> 46664.386
I56: BDI 25% | L56: =(L55*0.25) -> 11666.097
B57: ITEM DE MAIOR RELEVÂNCIA | I57: TOTAL | L57: =SUM(L55:L56) -> 58330.483
B58: 158005 | C58: TINTA ACRÍLICA - REPINTURA DE ALVENARIA E CONCRETO COM RETOQUE DE MASSA | H58: M2 | I58: 1735 | K58: 15.19 | L58: =K58*I58 -> 26354.65
B59: EDIF | C59: 1735M2
B61: CRITÉRIO POR MEDIÇÃO ---- LATITUDE :23°32' 19.24"S , LONGITUDE :46° 21' 52.57" O

Sheet Planilha
B3: PREFEITURA MUNICIPAL DE FERRAZ DE VASCONCELOS
B4: SECRETARIA DE OBRAS
A5: PLANILHA ORÇAMENTÁRIA DA EXECUÇÃO DOS SERVIÇOS DE REFORMA CRAS - CENTRO DE REFERENCIA E ASSITENCIA SOCIAL-AV BRASIL N 1229
A7: Item | B7: Descrição | C7: Unid | D7: Qtde | E7: Preço Unit. | F7: Total
A8: 1 | B8: =ORÇ!C11 -> PM.12 - PORTA LISA COMUM/ ENCABEÇADA - 82X210CM
A9: =ORÇ!B11 -> 70112 | C9: UNID | D9: 8 | E9: 231.81 | F9: =E9*D9 -> 1854.48
A10: EDIF | E10: Subtotal: | F10: =SUM(F9:F9) -> 1854.48
A11: 2 | B11: =ORÇ!C13 -> PM.14 - PORTA LISA COMUM/ ENCABEÇADA - 102X210CM
A12: =ORÇ!B13 -> 70114 | C12: UNID | D12: 1 | E12: 256.48 | F12: =E12*D12 -> 256.48
A13: EDIF | E13: Subtotal: | F13: =SUM(F12:F12)+0.01 -> 256.49
A14: 3 | B14: =ORÇ!C15 -> VÁLVULA DE DESCARGA EXTERNA -
A15: =ORÇ!B15 -> 74842 | C15: UNID | D15: 2 | E15: 155.48 | F15: =E15*D15 -> 310.96
E16: Subtotal: | F16: =SUM(F15:F15) -> 310.96
A17: 4 | B17: =ORÇ!C17 -> LÂMPADA FLUORESCENTE - 40W
A18: =ORÇ!B17 -> 98256 | C18: UNID | D18: 10 | E18: 8.18 | F18: =E18*D18 -> 81.8
E19: Subtotal: | F19: =SUM(F18:F18) -> 81.8
A20: 5 | B20: =ORÇ!C19 -> EP.07 - GRADE DE PROTEÇÃO EM FERRO
A21: =ORÇ!B19 -> 80275 | C21: M2 | D21: 5.76 | E21: 93.84 | F21: =E21*D21 -> 540.5184
E22: Subtotal: | F22: =SUM(F21:F21) -> 540.5184
A23: 6 | B23: =ORÇ!C21 -> SERVIÇOS DE SERRALHERIA /COM MATERIAL
A24: =ORÇ!B21 -> COTAÇÃO | C24: UNID | D24: 1 | F24: 800
E25: Subtotal: | F25: =SUM(F24:F24) -> 800
A26: 7 | B26: =ORÇ!C24 -> TUBO DE PVC RÍGIDO, PONTA E BOLSA (LINHA ESGOTO) - 100MM (4")
A27: =ORÇ!B24 -> 100933 | C27: M | D27: 30 | E27: 52.28 | F27: =E27*D27 -> 1568.4
E28: Subtotal: | F28: =SUM(F27:F27) -> 1568.4
A29: 8 | B29: =ORÇ!C26 -> CAIXA DE LIGAÇÃO OU INSPEÇÃO - ESCAVAÇÃO E APILOAMENTO
A30: =ORÇ!B26 -> 101094 | C30: M3 | D30: 0.22 | E30: 46.71 | F30: =E30*D30 -> 10.2762
A31: EDIF | E31: Subtotal: | F31: =SUM(F30:F30) -> 10.2762
A32: 9 | B32: =ORÇ!C28 -> CAIXA DE LIGAÇÃO OU INSPEÇÃO - LASTRO DE CONCRETO (FUNDO)
A33: =ORÇ!B28 -> 101095 | C33: M2 | D33: 0.06 | E33: 333.78 | F33: =E33*D33 -> 20.0268
A34: EDIF | E34: Subtotal: | F34: =SUM(F33:F33) -> 20.0268
A35: 10 | B35: =ORÇ!C30 -> CAIXA DE LIGAÇÃO OU INSPEÇÃO - ALVENARIA DE 1/2 TIJOLO, REVESTIDA
A36: =ORÇ!B30 -> 101096 | C36: M2 | D36: 0.36 | E36: 203.68 | F36: =E36*D36 -> 73.3248
A37: EDIF | E37: Subtotal: | F37: =SUM(F36:F36) -> 73.3248
A38: 11 | B38: =ORÇ!C32 -> CAIXA DE LIGAÇÃO OU INSPEÇÃO - TAMPA DE CONCRETO
A39: =ORÇ!B32 -> 101098 | C39: M2 | D39: 1 | E39: 173.18 | F39: =E39*D39 -> 173.18
A40: EDIF | E40: Subtotal: | F40: =SUM(F39:F39) -> 173.18
A41: 12 | B41: =ORÇ!C34 -> BLOCOS VAZADOS DE CONCRETO ESTRUTURAL - 14CM - 8MPA
A42: =ORÇ!B34 -> 40131 | C42: M2 | D42: 4 | E42: 69.37 | F42: =E42*D42 -> 277.48
A43: EDIF | E43: Subtotal: | F43: =SUM(F42:F42) -> 277.48
A44: 13 | B44: =ORÇ!C36 -> Kit Concertina 10m -315mm Haster + Alicate Para Instalação
A45: =ORÇ!B36 -> COTAÇÃO | C45: UNID | D45: 1 | F45: 145
A46: EDIF | E46: Subtotal: | F46: =SUM(F45:F45) -> 145
A47: 14 | B47: =ORÇ!C38 -> LAJE MISTA TRELIÇADA H-8CM COM CAPEAMENTO 4CM (12CM)
A48: =ORÇ!B38 -> 30419 | C48: M2 | D48: 42.75 | E48: 91.48 | F48: =E48*D48 -> 3910.77
A49: EDIF | E49: Subtotal: | F49: =SUM(F48:F48) -> 3910.77
A50: 15 | B50: =ORÇ!C40 -> CHAPISCO COMUM - ARGAMASSA DE CIMENTO E AREIA 1:3
A51: =ORÇ!B40 -> 110201 | C51: M2 | D51: 42.75 | E51: 6.12 | F51: =E51*D51 -> 261.63
A52: EDIF | E52: Subtotal: | F52: =SUM(F51:F51) -> 261.63
A53: 16 | B53: =ORÇ!C42 -> EMBOÇO INTERNO - ARGAMASSA MISTA DE CIMENTO, CAL E AREIA 1:4/12
A54: =ORÇ!B42 -> 110208 | C54: M2 | D54: 42.75 | E54: 31.56 | F54: =E54*D54 -> 1349.19
A55: EDIF | E55: Subtotal: | F55: =SUM(F54:F54) -> 1349.19
A56: 17 | B56: =ORÇ!C44 -> REBOCO INTERNO - ARGAMASSA PRÉ-FABRICADA
A57: =ORÇ!B44 -> 110213 | C57: M2 | D57: 42.75 | E57: 23.46 | F57: =E57*D57 -> 1002.915
A58: EDIF | E58: Subtotal: | F58: =SUM(F57:F57) -> 1002.915
A59: 18 | B59: =ORÇ!C46 -> TINTA ACRÍLICA - REPINTURA DE ALVENARIA E CONCRETO COM RETOQUE DE MASSA
A60: =ORÇ!B46 -> 158005 | C60: M2 | D60: 1735 | E60: 15.19 | F60: =E60*D60 -> 26354.65
A61: EDIF | E61: Subtotal: | F61: =SUM(F60:F60) -> 26354.65
A62: 19 | B62: =ORÇ!C48 -> ESMALTE SINTÉTICO - REPINTURA DE ESQUADRIAS DE MADEIRA
A63: =ORÇ!B48 -> 158030 | C63: M2 | D63: 58.8 | E63: 18.59 | F63: =E63*D63 -> 1093.092
A64: EDIF | E64: Subtotal: | F64: =SUM(F63:F63) -> 1093.092
A65: 20 | B65: =ORÇ!C50 -> ESMALTE SINTÉTICO - REPINTURA DE ESQUADRIAS METÁLICAS
A66: =ORÇ!B50 -> 158034 | C66: M2 | D66: 82.1 | E66: 25.53 | F66: =E66*D66 -> 2096.013
A67: EDIF | E67: Subtotal: | F67: =SUM(F66:F66) -> 2096.013
A68: 21 | B68: =ORÇ!C52 -> LIMPEZA GERAL DA OBRA
A69: =ORÇ!B52 -> 170401 | C69: M2 | D69: 432 | E69: 10.38 | F69: =E69*D69 -> 4484.16
A70: EDIF | E70: Subtotal: | F70: =SUM(F69:F69) -> 4484.16
E72: Total: | F72: =ORÇ!L55 -> 46664.386
E73: BDI (25%): | F73: =F72*0.25 -> 11666.097
E74: Total Geral: | F74: =F72+F73 -> 58330.483
A75: VICENTE NUNES DA EIRA ENG. CIVIL CREA : 5060580945SP
A76: ITEM DE MAIOR RELEVÂNCIA
A77: 18 | B77: =ORÇ!C46 -> TINTA ACRÍLICA - REPINTURA DE ALVENARIA E CONCRETO COM RETOQUE DE MASSA
A78: =ORÇ!B46 -> 158005 | C78: M2 | D78: 1735 | E78: 15.19 | F78: =E78*D78 -> 26354.65
A79: EDIF | E79: Subtotal: | F79: =SUM(F78:F78) -> 26354.65
A80: Obs: planilhas elaboradas em conformidade com o projeto apresentado pelo planejamento
A81: ,não foram apresentados levantamentos topog., cotas e projetos complementares (eletr.,hidr.,A.Plv.,esgoto)
A82: CRITÉRIO POR MEDIÇÃO ---- LATITUDE :23°32' 19.24"S , LONGITUDE :46° 21' 52.57" O

Sheet Cronograma
B2: PREFEITURA MUNICIPAL DE FERRAZ DE VASCONCELOS
B3: SECRETARIA MUNICIPAL DE OBRAS
A4: CRONOGRAMA DA EXEC. DE REFROMA -CRAS - CENTRO DE REF. E ASSITENCIA SOCIAL- AV. BRASIL N 1229
G6: VALOR | H6: total %
A7: Item | B7: Descrição | C7: 1ºMÊS | D7: 2ºMÊS | E7: 3ºMÊS | F7: 4ºMÊS | G7: C/BDI | H7: p/serviço
A8: 1 | B8: ALVENARIA | C8: =(G8/2) -> 4424.2437 | D8: =(G8/2) -> 4424.2437 | G8: =SUM(7078.79*1.25) -> 8848.4875 | H8: =SUM(G8/G28)*100 -> 15.169578
A11: 2 | B11: PINTURAS | E11: =(G11/2) -> 18464.85 | F11: =(G11/2) -> 18464.85 | G11: =SUM((29543.76*1.25)) -> 36929.7 | H11: =SUM(G11/G28)*100 -> 63.311157
A14: 3 | B14: PORTAS | F14: =(G14/1) -> 2638.7 | G14: =SUM(2110.96*1.25) -> 2638.7 | H14: =SUM(G14/G28)*100 -> 4.5237072
A17: 4 | B17: SERRALHERIA/ELETR. | D17: =(G17/2) -> 979.575 | E17: =(G17/2) -> 979.575 | G17: =SUM(1567.32*1.25) -> 1959.15 | H17: =SUM(G17/G28)*100 -> 3.3587073
A20: 5 | B20: HIDRÁULICA | F20: =(G20/1) -> 2349.25 | G20: =SUM(1879.4*1.25) -> 2349.25 | H20: =SUM(G20/G28)*100 -> 4.0274829
A23: 6 | B23: LIMPEZA DE OBRA | F23: =(G23/1) -> 5605.2 | G23: =SUM(4484.16*1.25) -> 5605.2 | H23: =SUM(G23/G28)*100 -> 9.6093847
B26: TOTAL % por mês | C26: =SUM(C8:C25) -> 4424.2437 | D26: =SUM(D8:D25) -> 5403.8187 | E26: =SUM(E9:E25) -> 19444.425 | F26: =SUM(F11:F25) -> 29058
C27: =SUM(C8:C25)/G28 -> 0.075847892 | D27: =SUM(D8:D25)/G28 -> 0.092641428 | E27: =SUM(E10:E25)/G28 -> 0.33334932 | F27: =SUM(F10:F25)/G28 -> 0.49816153 | G27: =SUM(C27:F27) -> 1.0000002 | H27: =SUM(H8:H25) -> 100.00002
G28: =SUM(G8:G25)-0.01 -> 58330.477
A30: ITEM DE MAIOR RELEVÂNCIA
A31: 1 | B31: ALVENARIA | C31: =(G31/2) -> 4424.2437 | D31: =(G31/2) -> 4424.2437 | G31: =SUM(7078.79*1.25) -> 8848.4875 | H31: =SUM(G31/G28)*100 -> 15.169578
A35: VICENTE NUNES DA EIRA ENG. CIVIL CREA : 5060580945SP
A36: Obs: planilhas elaboradas em conformidade com o projeto apresentado pelo planejamento
A37: de 14/09/16 ,não foram apresentados levantamentos topog., cotas e projetos complementares (eletr.,hidr.,A.Plv.,esgoto)
A39: CRITÉRIO POR MEDIÇÃO ---- LATITUDE :23°32' 19.24"S , LONGITUDE :46° 21' 52.57" O
