Workbook
Name Excel_BuiltIn_Database: #REF!
Name Excel_BuiltIn_Database_2: #REF!

Sheet ORÇ
D2: MEMÓRIA DE CÁLCULO | G2: Processo:
G3: data-base:
G4: EDIF-01/20-FDE/04/20-SINAPI-07/20
E5: MEDIÇÃO:
B6: OBRA:CONCLUSÃO DA CONSTRUÇÃO DA EMEI - PREF.PEDRO PAULO PAULINO | G6: Ferraz de Vasconcelos
B7: R.: Davis de Rogatis s/ n° | G7: CONTRATO: | H7: -
B9: CÓDIGO | C9: DESCRIÇÃO DOS SERVIÇOS | H9: UNID | I9: QUANT | J9: PREÇO | K9: TOTAL
B11: 1.0 | C11: SERVIÇOS PRELIMINARES
B12: 173002 | C12: 1- PLACA DE OBRA EM CHAPA DE AÇO GALVANIZADO - 2X4=8M2 | H12: M2 | I12: 8 | K12: =J12*I12 -> 0
B13: edif | C13: 2X4=8,00m2
B14: 16.06.051 | C14: CANTEIRO DE OBRAS - LARG 3.30M | H14: M2 | I14: 33 | K14: =J14*I14 -> 0
C15: 10X3,30M=16,50M2
B16: 16.30.010 | C16: TAPUME H=225CM APOIADO NO TERRENO E PINTURA LATEX FACE EXTERNA COM LOGOTIPO | H16: M | I16: 102 | K16: =J16*I16 -> 0
C17: 54+2+2+22+22=102
H18: sub total | J18: =SUM(K12,K14,K16) -> 0
H19: sub total | J19: =SUM(J18) -> 0
B20: 2.0 | C20: SUPERESTRUTURA
C21: DEMOLIÇÃO PILARES- TÉRREO
B22: 175021 | C22: DEMOLIÇÃO MANUAL DE CONCRETO ARMADO | H22: M3 | I22: 5.88 | K22: =J22*I22 -> 0
B23: EDIF | C23: 28*3,5*0,15*0,40=5,88
B24: 10107 | C24: REMOÇÃO DE ENTULHO COM CAÇAMBA METÁLICA, INCLUSIVE CARGA MANUAL E DESCARGA EM BOTA-FORA | H24: M3 | I24: 7.65 | K24: =J24*I24 -> 0
B25: EDIF | C25: 5,88*1,30=7,65
C26: VIGAS (RESPALDO) TÉRREO
B27: 02.04.002 | C27: ACO CA 50 (A OU B) FYK= 500 M PA | H27: KG | I27: 8752 | K27: =J27*I27 -> 0
B28: FDE | C28: (V1 A V34) 4856,00+ 3896,00(PILARES) =8752,00KG
B29: 02.04.003 | C29: ACO CA 60 (A OU B) FYK= 600 M PA | H29: KG | I29: 409 | K29: =J29*I29 -> 0
B30: FDE | C30: (V1 A V34) 258 + 151,00(PILARES) =409,00KG
B31: 02.05.018 | C31: CONCRETO DOSADO E LANCADO FCK=25MP
B32: FDE | C32: VIGAS -15X60= 201,15M - V 15X40 =175,97M - V 20X70 = 103,80M | H32: M3 | I32: 61.68 | K32: =J32*I32 -> 0
C33: 0,15*0,60*201,15=18,10M3+ 0,15*0,40*175,97=10,56M3 + V20X70*103,80M=0,20*0,70*103,80=18,31M3
C34: Pilares-42x0,15*0,40*3,70=9,32m3+8x0,16*0,41*3,70=1,94m3+4x0,15*0,30*3,70=0,67m3+6x0,25*0,50*3,70=2,78m3
C35: 14,71m3 =61,68m3
B36: 30117 | C36: FORMA ESPECIAL DE CHAPAS PLASTIFICADAS (12MM) - PLANA | H36: M2 | I36: 706.55 | K36: =J36*I36 -> 0
B37: EDIF | C37: 706,55M2 (dados proj. estrut.) -Utilizada 2 vezes ( area de forma do pav. sup =640,39 portanto antende 2 vezes)
B38: 30421 | C38: LAJE MISTA TRELIÇADA H-12CM COM CAPEAMENTO 4CM (16CM) | H38: M2 | I38: 908.42 | K38: =J38*I38 -> 0
B39: EDF | C39: 908,42M2 - PAV TÉRREO -TETO
B40: 13.01.018 | C40: ARGAMASSA DE REGULARIZACAO CIM/AREIA 1:3 C/ IMPERM. ESP=2,50CM | H40: M2 | I40: 908.42 | K40: =J40*I40 -> 0
B41: FDE | C41: regualrização do piso pav. Superior
B42: 16.80.018 | C42: PISO DE CONCRETO FCK=25MPA E=5CM - laje piso (pátio +calçada-(L=1,25 em todo o perímetro) | H42: M2 | I42: 1068.33 | K42: =J42*I42 -> 0
B43: FDE | C43: 908,42+159,91(area externa -calçada )=1068,33
B44: 02.04.005 | C44: TELA ARMADURA (MALHA ACO CA 60 FYK= 600 M PA) | H44: kg | I44: 3322.5 | K44: =J44*I44 -> 0
C45: area de laje= 1068,33m2 * 3,11kg/m2= modelo q196 Ø5mm=3322,50kg
B46: 13.01.018 | C46: ARGAMASSA DE REGULARIZACAO CIM/AREIA 1:3 C/ IMPERM. ESP=2,50CM | H46: M2 | I46: 908.42 | K46: =J46*I46 -> 0
B47: FDE | C47: regualrização do piso piso -inferior
C48: VIGAS (RESPALDO) PAV.SUPERIOR -COBERTURA
B49: 02.04.002 | C49: ACO CA 50 (A OU B) FYK= 500 M PA | H49: KG | I49: 5025 | K49: =J49*I49 -> 0
B50: FDE | C50: (V1 A V22) 2807+2218(PILARES)=5025KG
B51: 02.04.003 | C51: ACO CA 60 (A OU B) FYK= 600 M PA | H51: KG | I51: 575 | K51: =J51*I51 -> 0
B52: FDE | C52: (V1 A V22) 429+146(PILARES)=575KG
B53: 02.05.018 | C53: CONCRETO DOSADO E LANCADO FCK=25MP
B54: FDE | C54: VIGAS -15X60= 276,80M - V 15X40 =222,30M | H54: M3 | I54: 50.77 | K54: =J54*I54 -> 0
C55: 0,15*0,60*276,80=24,91M3+ 0,15*0,40*222,30=13,34m3 = 38,25M3
C56: Pilares-36x0,15*0,40*3,70=7,99m3+12x0,20*0,20*3,70=1,78m3+4x0,15*0,30*3,70=0,67m3+4x0,16*0,25*3,70=0,59m3
C57: 12x0,16*0,21x3,70=1,49m3 = 12,52m3
C58: ESCADA
B59: 02.04.002 | C59: ACO CA 50 (A OU B) FYK= 500 M PA | H59: KG | I59: 608 | K59: =J59*I59 -> 0
B60: FDE | C60: 304KG*2 unid=608kg
B61: 02.05.018 | C61: CONCRETO DOSADO E LANCADO FCK=25MP | H61: M3 | I61: 5.04 | K61: =J61*I61 -> 0
B62: FDE | C62: área da escada -16,77X0,15= 2,52m3 *2unid=5,04m2
B63: 30421 | C63: LAJE MISTA TRELIÇADA H-12CM COM CAPEAMENTO 4CM (16CM) | H63: M2 | I63: 1060.33 | K63: =J63*I63 -> 0
B64: EDF | C64: 1060,33M2 - PAV. SUPERIOR -laje cobertura
H65: sub total | J65: =SUM(K22:K64) -> 0
H66: sub total | J66: =SUM(J65) -> 0
B67: 3.0 | C67: COBERTURA
C68: TELHADO
C69: A= 852,55+142,50=995,05M2
B70: 60118 | C70: ESTRUTURA COM TESOURAS DE MADEIRA PARA TELHAS ONDULADAS CA/AL/PL - VÃOS 13,01 À 18,00M | H70: M2 | I70: 62.3 | K70: =J70*I70 -> 0
B71: EDIF | C71: h=1,0m da tesoura L=17,80 a=8,90m2 unid x 7= 62,30m2
B72: 68016 | C72: MADEIRAMENTO DE TELHADO, PADRÃO PEROBA - VIGAS 6X12CM | H72: M | I72: 453.32 | K72: =J72*I72 -> 0
B73: EDIF | C73: 42,92+46,08+49,25+52,41=190,66M*2=381,32M +3,60+7,20+10,80+14,40=36,00*2=72,00M = 453,32M
B74: 07.80.005 | C74: VIGA DE MADEIRA 6 X 16 CM G1-C6 | H74: M | I74: 233.23 | K74: =J74*I74 -> 0
B75: FDE | C75: 11,77*4=47,08+39,75+55,40*2=110,80+17,80*2=35,60 =233,23M
B76: 60249 | C76: TELHA TRAPEZOIDAL DUP. AÇO GALVANIZADO E=0,5MM, REVESTIMENTO B, H=40MM PINTURA | H76: M2 | I76: 995.05 | K76: =J76*I76 -> 0
B77: EDIF | C77: MIOLO POLIURETANO E=30MM - area =995,05
B78: 60296 | C78: CUMEEIRA TRAPEZOIDAL EM AÇO GALVANIZADO E=0,5MM, REVESTIMENTO B, H=40MM, L=0,60M, COM PINTURA BRANCA 2 FACES | H78: M | I78: 85.83 | K78: =J78*I78 -> 0
B79: EDIF | C79: 39,75+46,08=85,83M
B80: 08.14.103 | C80: CAIXA DÁGUA CÔNICA POLIETILENO CAPACIDADE DE 1000L INCLUSIVE TAMPA | H80: UNID | I80: 5 | K80: =J80*I80 -> 0
B81: FDE | C81: 5 UNID
B82: 101102 | C82: CALHA EM CHAPA DE AÇO GALVANIZADO N.24 - DESENVOLVIMENTO 50CM | H82: M | I82: 150.4 | K82: =J82*I82 -> 0
B83: EDIF | C83: 150,40M
B84: 101131 | C84: RUFO EM CHAPA DE AÇO GALVANIZADO N.24 - DESENVOLVIMENTO 25CM | H84: M | I84: 150.4 | K84: =J84*I84 -> 0
B85: EDIF
B86: 101216 | C86: CONDUTOR EM TUBO DE PVC RÍGIDO, PONTA E BOLSA - 100MM (4") | H86: M | I86: 174.6 | K86: =J86*I86 -> 0
B87: EDIF | C87: 18X9,70=174,60
B88: 16.05.075 | C88: CA-10 CAIXA DE AREIA 50X50 CM PARA AGUAS PLUVIAIS | H88: UNID | I88: 18 | K88: =J88*I88 -> 0
B89: FDE | C89: 18UNID
B90: 101217 | C90: CONDUTOR EM TUBO DE PVC RÍGIDO, PONTA E BOLSA - 150MM (6") | H90: M | I90: 150 | K90: =J90*I90 -> 0
B91: EDIF | C91: 150m
B92: 16.08.028 | C92: CI-01 CAIXA DE INSPECAO 60X60CM PARA ESGOTO | H92: UNID | I92: 10 | K92: =J92*I92 -> 0
B93: FDE | C93: 10uunid
B94: 16.08.026 | C94: CI-02 CAIXA DE INSPEÇÃO 80X80CM PARA ESGOTO | H94: UNID | I94: 1 | K94: =J94*I94 -> 0
B95: FDE | C95: 1
H96: sub total | J96: =SUM(K69:K94) -> 0
H97: sub total | J97: =SUM(J96) -> 0
B98: 4.0 | C98: INSTALAÇÕES ELÉTRICAS
B99: 09.02.061 | C99: ='[1]page 1'!$B$64 -> AE-21 Abrigo entrada de energia 38 a 76 Kv AES/BANDEIRANTE/ELEKTRO | H99: UNID | I99: 1 | K99: =J99*I99 -> 0
B100: 09.02.081 | C100: ='[1]page 1'!$B$65 -> Conj. 4 cabos p/ entrada de eneria secção 185 mm2 c/ eletrodutos | H100: UNID | I100: 1 | K100: =J100*I100 -> 0
B101: 09.02.102 | C101: ='[1]page 1'!$B$66 -> Conj. Entrada p/ telefone em entrada de energia | H101: UNID | I101: 2 | K101: =J101*I101 -> 0
B102: 09.02.084 | C102: ='[1]page 1'!$B$67 -> Chave seccionadora NH c/ carga 3x250A TAM 01 c/ fusíveis | H102: UNID | I102: 1 | K102: =J102*I102 -> 0
B103: 09.02.089 | C103: ='[1]page 1'!$B$68 -> Disjuntor tripolar termomagnético 3x60A a 3x100A | H103: UNID | I103: 1 | K103: =J103*I103 -> 0
...

Sheet Planilha
C3: PREFEITURA MUNICIPAL DE FERRAZ DE VASCONCELOS
C4: SECRETARIA MUNICIPAL DE OBRAS
C5: PLANILHA ORÇAMENTÁRIA DA CONCLUSÃO DA CONSTRUÇÃO DA EMEI - PREF.PEDRO PAULO PAULINO - R.: Davis de Rogatis s/ n°
C7: RESUMO
B8: Item | C8: Descrição | D8: Preço Unit. | E8: Total
B9: 1 | C9: SERVIÇOS PRILIMINARES
E10: =ORÇ!J18 -> 0
D11: Subtotal: | E11: =SUM(E10:E10) -> 0
B12: 2 | C12: SUPERESTRUTURA
E13: =ORÇ!J65 -> 0
D14: Subtotal: | E14: =SUM(E13:E13) -> 0
B15: 3 | C15: COBERTURA
E16: =ORÇ!J96 -> 0
D17: Subtotal: | E17: =SUM(E16:E16) -> 0
B18: 4.0 | C18: INSTALAÇÕES ELÉTRICAS
E19: =ORÇ!J145 -> 0
D20: Subtotal: | E20: =SUM(E19:E19) -> 0
B21: 5.0 | C21: INSTALAÇÕES HIDRÁULICAS- ENTRADA
E22: =ORÇ!J166 -> 0
D23: Subtotal: | E23: =SUM(E22:E22) -> 0
B24: 6.0 | C24: INSTALAÇÕES HIDRÁULICAS
E25: =ORÇ!J214 -> 0
D26: Subtotal: | E26: =SUM(E25:E25) -> 0
B27: 7.0 | C27: FECHAMENTO/CHAPISCO/REBOCO
E28: =ORÇ!J223 -> 0
D29: Subtotal: | E29: =SUM(E28:E28) -> 0
B30: 8.0 | C30: REVESTIMENTOS INTERNOS/ACABAMENTOS//PAV. TÉRREO
E31: =ORÇ!J1028 -> 0
D32: Subtotal: | E32: =SUM(E31:E31) -> 0
B33: 9.0 | C33: REVESTIMENTOS INTERNOS/ACABAMENTOS/PAV. SUPERIOR
E34: =ORÇ!J1306 -> 0
D35: Subtotal: | E35: =SUM(E34:E34) -> 0
B36: 10.0 | C36: REVESTIMENTOS EXTERNOS/ACABAMENTOS
E37: =ORÇ!J1328 -> 0
D38: Subtotal: | E38: =SUM(E37:E37) -> 0
B39: 11 | C39: PARA RAIOS
E40: =ORÇ!J1338 -> 0
D41: Subtotal: | E41: =SUM(E40:E40) -> 0
B42: 12 | C42: SINALIZAÇÃO
E43: =ORÇ!J1349 -> 0
D44: Subtotal: | E44: =SUM(E43:E43) -> 0
B45: 13 | C45: SERVICOS COMPLEMENTARES
E46: =ORÇ!J1361 -> 0
D47: Subtotal: | E47: =SUM(E46:E46) -> 0
D49: Total: | E49: =SUM(E10:E48)/2 -> 0
D50: BDI (25%): | E50: =E49*0.25 -> 0
D51: Total Geral: | E51: =E49+E50 -> 0
C53: ITEM DE MAIOR RELEVÂNCIA
B54: 30421 | C54: LAJE MISTA TRELIÇADA H-12CM COM CAPEAMENTO 4CM (16CM) | E54: 122574.15
B55: EDF | C55: 1060,33M2 - PAV. SUPERIOR -laje cobertura
B56: Obs: planilhas elaboradas em conf.c/o proj. apresentado pelo planejamento anexo ao processo ,não foram apresentados proj. executivos de:
B57: elétricos ,hidráulicos (esgoto,água fria, águas pluviais ) bombeiro,de para-raio, de sinalização e paisagismo.
B58: Alguns dados foram obtidos pela elab.projeto básico,por estimativas e outros levantados em projeto arquitetônico em virtude da inexistência dos proj.executivos.
B59: CRITÉRIO POR MEDIÇÃO ---- LATITUDE :23°33' 16.76"S , LONGITUDE :46° 22' 45.20" O

Sheet cronograma
A1: PREFEITURA MUNICIPAL DE FERRAZ DE VASCONCELOS
A2: SECRETARIA MUNICIPAL DE OBRAS
A3: Cronograma Físico Financeiro da CONCLUSÃO DA CONSTRUÇÃO DA EMEI - PREF.PEDRO PAULO PAULINO- R.: Davis de Rogatis s/ n°
N5: VALOR | O5: total %
A6: Descrição | B6: 1º MÊS | C6: 2º MÊS | D6: 3º MÊS | E6: 4º MÊS | F6: 5ºMÊS | G6: 6º MÊS | H6: 7º MÊS | I6: 8º MÊS | J6: 9º MÊS | K6: 10º MÊS | L6: 11º MÊS | M6: 12º MÊS | N6: C/BDI | O6: p/serviço
A7: SERV. PRELIMINARES | B7: =(N7/1) -> 25165.788 | N7: =SUM(20132.63*1.25) -> 25165.788 | O7: =SUM(N7/N45)*100 -> 0.86397998
A10: SUPERESTRUTURA | B10: =(N10/4) -> 177209.84 | C10: =(N10/4) -> 177209.84 | D10: =(N10/4) -> 177209.84 | E10: =(N10/4) -> 177209.84 | N10: =SUM((567071.5*1.25)) -> 708839.38 | O10: =SUM(N10/N45)*100 -> 24.33554
A13: COBERTURA | E13: =(N13/6) -> 46105.481 | F13: =(N13/6) -> 46105.481 | G13: =(N13/6) -> 46105.481 | H13: =(N13/6) -> 46105.481 | I13: =(N13/6) -> 46105.481 | J13: =(N13/6) -> 46105.481 | N13: =SUM(221306.31*1.25) -> 276632.89 | O13: =SUM(N13/N45)*100 -> 9.4972302
A16: INSTAL. ELÉTRICAS. | E16: =(N16/6) -> 27219.712 | F16: =(N16/6) -> 27219.712 | G16: =(N16/6) -> 27219.712 | H16: =(N16/6) -> 27219.712 | I16: =(N16/6) -> 27219.712 | J16: =(N16/6) -> 27219.712 | N16: =SUM(130654.62*1.25) -> 163318.27 | O16: =SUM(N16/N45)*100 -> 5.6069662
A19: INSTAL.HIDRÁUL.-ENT. | B19: =(N19/2) -> 27915.788 | C19: =(N19/2) -> 27915.788 | N19: =SUM(44665.26*1.25) -> 55831.575 | O19: =SUM(N19/N45)*100 -> 1.9167834
A22: INSTAL. HIDRÁULICAS | I22: =(N22/2) -> 33290.206 | J22: =(N22/2) -> 33290.206 | N22: =SUM(53264.33*1.25) -> 66580.413 | O22: =SUM(N22/N45)*100 -> 2.2858074
A25: FECHAM./CHAP.REBO | G25: =(N25/3) -> 15286.233 | H25: =(N25/3) -> 15286.233 | I25: =(N25/3) -> 15286.233 | N25: =SUM(36686.96*1.25) -> 45858.7 | O25: =SUM(N25/N45)*100 -> 1.5743993
A28: PAV.TÉR.REV.INT./ACAB. | E28: =(N28/6) -> 103535.86 | F28: =(N28/6) -> 103535.86 | G28: =(N28/6) -> 103535.86 | H28: =(N28/6) -> 103535.86 | I28: =(N28/6) -> 103535.86 | J28: =(N28/6) -> 103535.86 | N28: =SUM(496972.14*1.25) -> 621215.18 | O28: =SUM(N28/N45)*100 -> 21.327267
A31: PAV.SUP.REVEST./ACAB | F31: =(N31/6) -> 126643.35 | G31: =(N31/6) -> 126643.35 | H31: =(N31/6) -> 126643.35 | I31: =(N31/6) -> 126643.35 | J31: =(N31/6) -> 126643.35 | K31: =(N31/6) -> 126643.35 | N31: =SUM(607888.06*1.25) -> 759860.08 | O31: =SUM(N31/N45)*100 -> 26.087159
A34: REVST. EXTERN.ACAB. | K34: =(N34/3) -> 35472.35 | L34: =(N34/3) -> 35472.35 | M34: =(N34/3) -> 35472.35 | N34: =SUM(85133.64*1.25) -> 106417.05 | O34: =SUM(N34/N45)*100 -> 3.6534601
A37: PARA RAIOS/SINALIZ. | K37: =(N37/3) -> 10090.367 | L37: =(N37/3) -> 10090.367 | M37: =(N37/3) -> 10090.367 | N37: =SUM(24216.88*1.25) -> 30271.1 | O37: =SUM(N37/N45)*100 -> 1.0392532
A40: SERVIÇOS COMPLEMENT. | M40: =(N40/1) -> 52783.975 | N40: =SUM(42227.18*1.25) -> 52783.975 | O40: =SUM(N40/N45)*100 -> 1.8121546
B43: =SUM(B7:B33) -> 230291.42 | C43: =SUM(C7:C33) -> 205125.63 | D43: =SUM(D8:D33) -> 177209.84 | E43: =SUM(E10:E33) -> 354070.9 | F43: =SUM(F9:F33) -> 303504.4 | G43: =SUM(G9:G33) -> 318790.64 | H43: =SUM(H9:H33) -> 318790.64 | I43: =SUM(I9:I33) -> 352080.84 | J43: =SUM(J10:J33) -> 336794.61 | K43: =SUM(K11:K39) -> 172206.06 | L43: =SUM(L11:L40) -> 45562.717 | M43: =SUM(M11:M41) -> 98346.692 | N43: =SUM(N7:N42)-0.01 -> 2912774.4
B44: =SUM(B7:B31)/N45 -> 0.079062567 | C44: =SUM(C7:C31)/N45 -> 0.070422767 | D44: =SUM(D9:D32)/N45 -> 0.06083885 | E44: =SUM(E9:E32)/N45 -> 0.12155796 | F44: =SUM(F9:F32)/N45 -> 0.1041977 | G44: =SUM(G9:G32)/N45 -> 0.1094457 | H44: =SUM(H9:H32)/N45 -> 0.1094457 | I44: =SUM(I9:I32)/N45 -> 0.12087474 | J44: =SUM(J9:J32)/N45 -> 0.11562674 | K44: =SUM(K9:K39)/N45 -> 0.059120975 | L44: =SUM(L9:L40)/N45 -> 0.015642378 | M44: =SUM(M9:M42)/N45 -> 0.033763924 | N44: =SUM(B44:M44) -> 1 | O44: =SUM(O7:O41) -> 100
N45: =SUM(N7:N42)-0.01 -> 2912774.4
A46: Obs: planilhas elaboradas em conformidade com o projeto apresentado pelo planejamento anexo ao processo ,não foram apresentados projetos executivos de:
A47: elétricos ,hidráulicos (esgoto,água fria, águas pluviais ) bombeiro,de para-raio, de sinalização e paisagismo.
A48: Alguns dados foram obtidos pela elab.projeto básico,por estimativas e outros levantados em projeto arquitetônico em virtude da inexistência dos proj.executivos.
A49: CRITÉRIO POR MEDIÇÃO ---- LATITUDE :23°33' 16.76"S , LONGITUDE :46° 22' 45.20" O
