Workbook
Name Excel_BuiltIn_Database: #REF!
Name Excel_BuiltIn_Database_2: #REF!

Sheet ORÇ
C2: MEMÓRIA DE CÁLCULO
F3: Processo:
F4: Dt.Base:Edif-JAN/20- FDE-ABR/20-SINAPI-JUL/20
D5: MEDIÇÃO:
A6: OBRA: :Construção da Creche modelo B-224 alunos -FNDE | F6: Ferraz de Vasconcelos
A7: R.:Dom João VI - nº | E7: Proc.5466/2020 | F7: CONTRATO: | G7: -
A9: CÓDIGO | B9: DESCRIÇÃO DOS SERVIÇOS | G9: UNID | H9: QUANT | I9: PREÇO | J9: TOTAL
A11: 1.0 | B11: SERVIÇOS PRELIMINARES
A12: 16.06.051 | B12: CANTEIRO DE OBRAS - LARG 3.30M | G12: M2 | H12: 25.41 | K12: 416.89
B13: 5X3,30M=16,50M2
A14: 16.30.010 | B14: TAPUME H=225CM APOIADO NO TERRENO E PINTURA LATEX FACE EXTERNA COM LOGOTIPO | G14: M2 | H14: 162 | K14: 88.02
B15: 72X2,25=162M2
A16: 01.10.001 | B16: LOCAÇÃO DE OBRA | G16: M | H16: 1118.48 | K16: 21.94
A17: 173002 | B17: FORNECIMENTO E INSTALAÇAO DE PLACA DE IDENTIFICAÇAO DE OBRA INCLUSO SUPORTE 4x6 | G17: M2 | H17: 24
G18: Subtotal item
A19: 2.0 | B19: FUNDAÇÃO/INFRAESTRUTURA/SUPERESTRUTURA
A20: 16.13.001 | B20: ESCAVACAO MANUAL - PROFUNDIDADE ATE 1.80 M | G20: M3 | H20: 170 | K20: 87.91
A21: 02.05.014 | B21: CONCRETO DOSADO E LANÇADO FCK=20MPA | G21: M3 | H21: 54 | K21: 411.9
A22: 02.04.002 | B22: ACO CA 50 (A OU B) FYK= 500 M PA | G22: KG | H22: 760 | K22: 10.73
B23: Fundação Castelo d'água - Estacas
A24: 16.13.001 | B24: ESCAVACAO MANUAL - PROFUNDIDADE ATE 1.80 M | G24: M3 | H24: 88 | K24: 87.91
A25: 02.05.014 | B25: CONCRETO DOSADO E LANÇADO FCK=20MPA | G25: M3 | H25: 6.16 | K25: 411.9
A26: 02.04.002 | B26: ACO CA 50 (A OU B) FYK= 500 M PA | G26: KG | H26: 296 | K26: 10.73
G27: Subtotal item
A28: 3.0 | B28: ESTRUTURAS DE CONCRETO
B29: Concreto Armado
B30: pilares
A31: 20301 | B31: FORMA COMUM DE TÁBUAS DE PINUS | G31: M2 | H31: 631.7
A32: 02.04.002 | B32: ACO CA 50 (A OU B) FYK= 500 M PA | G32: KG | H32: 3917.1 | K32: 10.73
A33: 02.05.018 | B33: CONCRETO DOSADO E LANCADO FCK=25MPA | G33: m3 | H33: 36 | K33: 433.05
B34: vigas
A35: 20301 | B35: FORMA COMUM DE TÁBUAS DE PINUS | G35: M2 | H35: 1803.2
A36: 02.04.002 | B36: ACO CA 50 (A OU B) FYK= 500 M PA | G36: KG | H36: 6098.63 | K36: 10.73
A37: 02.05.018 | B37: CONCRETO DOSADO E LANCADO FCK=25MPA | G37: m3 | H37: 112.67 | K37: 433.05
B38: Lajes
A39: 03.03.005 | B39: Lajes Pré Fabricadas: fornecimento, montagem e escoramento | G39: M2 | H39: 1036 | K39: 134.86
A40: 02.04.002 | B40: ACO CA 50 (A OU B) FYK= 500 M PA | G40: KG | H40: 3423 | K40: 10.73
A41: 02.05.018 | B41: CONCRETO DOSADO E LANCADO FCK=25MPA | G41: m3 | H41: 47.9 | K41: 433.05
B42: Caixas d'água
A43: 20301 | B43: FORMA COMUM DE TÁBUAS DE PINUS | G43: M2 | H43: 370.9
...

Sheet Planilha1
C1: PREFEITURA MUNICIPAL DE FERRAZ DE VASCONCELOS
C2: SECRETARIA MUNICIPAL DE OBRAS
C3: PLANILHA ORÇAMENTÁRIA DE EXECUÇÃO DA Construção da Creche modelo B-224 alunos -FNDE R.:Dom João VI - nº
C5: RESUMO
B6: Item | C6: Descrição | D6: Preço Unit. | E6: Total
B7: 1 | C7: SERVIÇOS PRILIMINARES
E8: =ORÇ!I18 -> 0
D9: Subtotal: | E9: =SUM(E8:E8) -> 0
B10: 2 | C10: FUNDAÇÃO ,INFRA. SUPERESTRUTURA
E11: =ORÇ!I27 -> 0
D12: Subtotal: | E12: =SUM(E11:E11) -> 0
B13: 3 | C13: ESTRUTURA DE CONCRETO
E14: =ORÇ!I46 -> 0
D15: Subtotal: | E15: =SUM(E14:E14) -> 0
B16: 4.0 | C16: ARQUIT. E ELEM. URBANIST.
E17: =ORÇ!I59 -> 0
D18: Subtotal: | E18: =SUM(E17:E17) -> 0
B19: 5.0 | C19: ESQUADRIAS MADEIRAS
E20: =ORÇ!I69 -> 0
D21: Subtotal: | E21: =SUM(E20:E20) -> 0
B22: 6.0 | C22: ESQUADRIA METÁLICA
E23: =ORÇ!I99 -> 0
D24: Subtotal: | E24: =SUM(E23:E23) -> 0
B25: 7.0 | C25: VIDROS/COBERTURA/IMPERM.
E26: =ORÇ!I116 -> 0
D27: Subtotal: | E27: =SUM(E26:E26) -> 0
B28: 8.0 | C28: REVESTIMENTOS INTERNOS/EXTERNOS
E29: =ORÇ!I131 -> 0
D30: Subtotal: | E30: =SUM(E29:E29) -> 0
B31: 9.0 | C31: PAVIMENTAÇÃO
E32: =ORÇ!I140 -> 0
D33: Subtotal: | E33: =SUM(E32:E32) -> 0
B34: 10.0 | C34: SOLEIRAS E PINTURAS
E35: =ORÇ!I157 -> 0
D36: Subtotal: | E36: =SUM(E35:E35) -> 0
B37: 11 | C37: SERVIÇOS COMPLEMENTARES
E38: =ORÇ!I179 -> 0
D39: Subtotal: | E39: =SUM(E38:E38) -> 0
B40: 12 | C40: INSTAL.HIDRAUL. /APARELHOS SANTÁRIOS
E41: =ORÇ!I290 -> 0
...

Sheet cronograma
A1: PREFEITURA MUNICIPAL DE FERRAZ DE VASCONCELOS
A2: SECRETARIA MUNICIPAL DE OBRAS
A3: Cronograma Físico Financeiro da Construção da Creche modelo B-224 alunos -FNDE
N5: VALOR | O5: total %
A6: Descrição | B6: 1º MES | C6: 2º MES | D6: 3º MES | E6: 4º MES | F6: 5º MES | G6: 6ºMES | H6: 7º MES | I6: 8º MES | J6: 9ºMES | K6: 10º MES | L6: 11º MES | M6: 12ºMES | N6: C/BDI | O6: p/serviço
A7: SERV. PRELIMINARES | B7: =(N7/2) -> 28188.544 | C7: =(N7/2) -> 28188.544 | N7: =SUM(45101.67*1.25) -> 56377.087 | O7: =SUM(N7/N57)*100 -> 1.6622265
A10: FUNDAÇÃO, EST.SUPER. | B10: =(N10/4) -> 14936.881 | C10: =(N10/4) -> 14936.881 | D10: =(N10/4) -> 14936.881 | E10: =(N10/4) -> 14936.881 | N10: =SUM((47798.02*1.25)) -> 59747.525 | O10: =SUM(N10/N57)*100 -> 1.7616008
A13: ESTRUTURA DE CONC. | C13: =(N13/6) -> 111140.81 | D13: =(N13/6) -> 111140.81 | E13: =(N13/6) -> 111140.81 | F13: =(N13/6) -> 111140.81 | G13: =(N13/6) -> 111140.81 | H13: =(N13/6) -> 111140.81 | N13: =SUM(533475.91*1.25) -> 666844.89 | O13: =SUM(N13/N57)*100 -> 19.661308
A16: ARQUIT. E ELEM.DE URB. | E16: =(N16/6) -> 65195.296 | F16: =(N16/6) -> 65195.296 | G16: =(N16/6) -> 65195.296 | H16: =(N16/6) -> 65195.296 | I16: =(N16/6) -> 65195.296 | J16: =(N16/6) -> 65195.296 | N16: =SUM(312937.42*1.25) -> 391171.77 | O16: =SUM(N16/N57)*100 -> 11.53334
A19: ESQUADRIAS MADEIRA | B19: =(N19/3) -> 17985.138 | C19: =(N19/3) -> 17985.138 | D19: =(N19/3) -> 17985.138 | N19: =SUM(43164.33*1.25) -> 53955.413 | O19: =SUM(N19/N57)*100 -> 1.5908257
A22: ESQUADRIA METÁLICA | B22: =(N22/2) -> 58301.294 | C22: =(N22/2) -> 58301.294 | N22: =SUM(93282.07*1.25) -> 116602.59 | O22: =SUM(N22/N57)*100 -> 3.43792
A25: VIDROS/COBERT/IMPERM. | K25: =(N25/3) -> 154691.9 | L25: =(N25/3) -> 154691.9 | M25: =(N25/3) -> 154691.9 | N25: =SUM(371260.55*1.25) -> 464075.69 | O25: =SUM(N25/N57)*100 -> 13.682845
A28: REVESTIMENTO-INT/EXT | E28: =(N28/6) -> 45792.831 | F28: =(N28/6) -> 45792.831 | G28: =(N28/6) -> 45792.831 | H28: =(N28/6) -> 45792.831 | I28: =(N28/6) -> 45792.831 | J28: =(N28/6) -> 45792.831 | N28: =SUM(219805.59*1.25) -> 274756.99 | O28: =SUM(N28/N57)*100 -> 8.1009569
A31: PAVIMENTAÇÃO | C31: =(N31/8) -> 33331.238 | D31: =(N31/8) -> 33331.238 | E31: =(N31/8) -> 33331.238 | F31: =(N31/8) -> 33331.238 | G31: =(N31/8) -> 33331.238 | H31: =(N31/8) -> 33331.238 | I31: =(N31/8) -> 33331.238 | J31: =(N31/8) -> 33331.238 | N31: =SUM(213319.92*1.25) -> 266649.9 | O31: =SUM(N31/N57)*100 -> 7.8619269
A34: SOLEIRAS/PINTURAS | K34: =(N34/3) -> 33418.025 | L34: =(N34/3) -> 33418.025 | M34: =(N34/3) -> 33418.025 | N34: =SUM(80203.26*1.25) -> 100254.07 | O34: =SUM(N34/N57)*100 -> 2.9558991
A37: SERVIÇOS COMPLEM. | K37: =(N37/3) -> 37931.475 | L37: =(N37/3) -> 37931.475 | M37: =(N37/3) -> 37931.475 | N37: =SUM(91035.54*1.25) -> 113794.42 | O37: =SUM(N37/N57)*100 -> 3.3551239
A40: INST.HIDR./APAR.SANIT. | K40: =(N40/3) -> 39264.938 | L40: =(N40/3) -> 39264.938 | M40: =(N40/3) -> 39264.938 | N40: =SUM(94235.85*1.25) -> 117794.81 | O40: =SUM(N40/N57)*100 -> 3.4730716
A43: EQUIP.TUBUL./DRENAG. | K43: =(N43/3) -> 16488.129 | L43: =(N43/3) -> 16488.129 | M43: =(N43/3) -> 16488.129 | N43: =SUM(39571.51*1.25) -> 49464.388 | O43: =SUM(N43/N57)*100 -> 1.4584119
A46: ACESSOR. /ESGOTO/ASS | K46: =(N46/3) -> 26461.658 | L46: =(N46/3) -> 26461.658 | M46: =(N46/3) -> 26461.658 | N46: =SUM(63507.98*1.25) -> 79384.975 | O46: =SUM(N46/N57)*100 -> 2.3405929
A49: INST. ELÉTR./ELETRON. | K49: =(N49/3) -> 23657.154 | L49: =(N49/3) -> 23657.154 | M49: =(N49/3) -> 23657.154 | N49: =SUM(56777.17*1.25) -> 70971.462 | O49: =SUM(N49/N57)*100 -> 2.0925282
A52: CABOS/SERV.COMP. | K52: =(N52/3) -> 169938.31 | L52: =(N52/3) -> 169938.31 | M52: =(N52/3) -> 169938.31 | N52: =SUM((407851.94)*1.25) -> 509814.92 | O52: =SUM(N52/N57)*100 -> 15.031424
B55: =SUM(B7:B33) -> 119411.86 | C55: =SUM(C7:C33) -> 263883.91 | D55: =SUM(D8:D33) -> 177394.07 | E55: =SUM(E10:E33) -> 270397.06 | F55: =SUM(F9:F33) -> 255460.18 | G55: =SUM(G9:G33) -> 255460.18 | H55: =SUM(H9:H33) -> 255460.18 | I55: =SUM(I9:I33) -> 144319.36 | J55: =SUM(J10:J33) -> 144319.36 | K55: =SUM(K11:K54) -> 501851.58 | L55: =SUM(L11:L52) -> 501851.58 | M55: =SUM(M11:M53) -> 501851.58 | N55: =SUM(N7:N54)-0.01 -> 3391660.9
O56: =SUM(O7:O53) -> 100
N57: =SUM(N7:N54)-0.01 -> 3391660.9
