Workbook
Name Excel_BuiltIn_Database: #REF!
Name Excel_BuiltIn_Database_2: #REF!

Sheet Table 1
B1: Obra: Construção de Unidade Básica de Saúde - Padrão 4 | G1: Jardim TV
B2: Local: Rua do Vereador, 99 Lote P/113 e P/4
B3: ÍTEM | C3: DESCRIÇÃO | D3: UN | E3: QUANT. | F3: PREÇO UNIT. (MAT.+MO) | G3: PREÇO TOTAL
B5: 1 | C5: SERVIÇOS PRELIMINARES
B6: 16.06.078 | C6: 1-FORNECIMENTO E INSTALAÇAO DE PLACA DE IDENTIFICAÇAO DE OBRA INCLUSO SUPORTE ESTRUTURA DE MADEIRA. 3x4=12m2 | D6: m² | E6: 12 | F6: =H6/1.23 -> 347.86992 | G6: =E6*F6 -> 4174.439 | H6: 427.88
B7: 16.30.010 | C7: 2-TAPUME H=225CM APOIADO NO TERRENO E PINTURA LATEX FACE EXTERNA COM LOGOTIPO | D7: m² | E7: 106.7 | F7: =H7/1.23 -> 71.560976 | G7: =E7*F7 -> 7635.5561 | H7: 88.02
B8: 98525 | C8: 3-Limpeza mecânica de terreno, inclusive retirada de árvores até 0,20 m | D8: m³ | E8: 1527.75 | F8: 0.3 | G8: =E8*F8 -> 458.325
B9: 90153 | C9: 4-ENTRADA AÉREA DE ENERGIA E TELEFONE - 13 À 16KVA | D9: un | E9: 1 | F9: 2401.05 | G9: =E9*F9 -> 2401.05
B10: 93350 | C10: 5-LIGACOES PREDIAIS DE ESGOTO | D10: unid | E10: 1 | F10: 880.51 | G10: =E10*F10 -> 880.51
B11: 100261 | C11: 6-TUBO DE PVC RÍGIDO, SOLDÁVEL (LINHA ÁGUA) - 25MM (3/4") 12x6 =72m | D11: un | E11: 72 | F11: 20.79 | G11: =E11*F11 -> 1496.88
B12: 97013 | C12: 7-FECHAMENTO DE CONSTRUÇÃO TEMPORÁRIA EM CHAPA DE MADEIRA COMPENSADA E=10MM - antigo 92235 -m2 | D12: m | E12: 10 | F12: 52.02 | G12: =E12*F12 -> 520.2
B13: 93207 | C13: 8-EXECUÇÃO DE ESCRITÓRIO EM CANTEIRO DE OBRA EM CHAPA DE MADEIRA COMPENSADA NÃO INCLUSO MOBILIÁRIO E EQUIPAMENTOS. AF_02/2016 - sinapi | D13: m² | E13: 40 | F13: 776.68 | G13: =E13*F13 -> 31067.2
B14: VALOR TOTAL DO ITEM 1 | G14: =SUM(G6:G13) -> 48634.16
B17: 2 | C17: COBERTURA
B18: 60113 | C18: 9-ESTRUTURA DE MADEIRA, PONTALETADA, PARA TELHAS ONDULADAS CA/AL/PL/AG | D18: m² | E18: 594.74 | F18: 146.57 | G18: =F18*E18 -> 87171.042
B19: 94195 | C19: 10-TELHAMENTO COM TELHA CERÂMICA DE ENCAIXE, TIPO PORTUGUESA, COM ATÉ 02 ÁGUAS INCLUSO TRANSPORTE VERTICAL. AF_06/2016 | D19: m² | E19: 594.74 | F19: 38.2 | G19: =F19*E19 -> 22719.068
B20: 60250 | C20: 11-Cobertura em policarbonato, incl. Estrutura metálica | D20: m² | E20: 50.5 | F20: 432.3 | G20: =F20*E20 -> 21831.15
B21: 60251 | C21: 12-CUMEEIRA OU ESPIGÃO PARA TELHAS PAULISTA, PLAN E FRANCESA - BARRO OU VIDRO | D21: m | E21: 54.4 | F21: 27.86 | G21: =F21*E21 -> 1515.584
B22: 92228 | C22: 13-CALHA EM CHAPA DE AÇO GALVANIZADO NÚMERO 24, DESENVOLVIMENTO DE 50 CM INCLUSO TRANSPORTE VERTICAL. AF_06/2016 | D22: m | E22: 103.13 | F22: 58.08 | G22: =F22*E22 -> 5989.7904
B23: 94231 | C23: 14-RUFO EM CHAPA DE AÇO GALVANIZADO NÚMERO 24, CORTE DE 25 CM, INCLUSO TRANSPORTE VERTICAL. AF_06/2016 | D23: m | E23: 405.79 | F23: 34.88 | G23: =F23*E23 -> 14153.955
B24: VALOR TOTAL DO ITEM 2 | G24: =SUM(G18:G23) -> 153380.59
B26: 3 | C26: REVESTIMENTOS - PISOS, PAREDES E TETOS
B27: 90902- SINAPI | C27: 15-Contrapiso em argamassa traço 1:4 (cimento e areia), espessura 7 cm, preparo manual | D27: m² | E27: 491.71 | F27: 65.78 | G27: =F27*E27 -> 32344.684
B28: 87620/ 73892/001 | C28: 16-Regularização de piso em argamassa traço 1:3 (cimento e areia grossa sem peneirar), espessura 2,0 cm, preparo mecânico | D28: m² | E28: 546.75 | F28: 24.41 | G28: =F28*E28 -> 13346.167
B29: 94993 -SINAPI | C29: 17-Piso (calçada em concreto) cimento/areia/seixo rolado preparo mecânico e espessura de 7 cm (contorno UBS) | D29: m² | E29: 381.2 | F29: 50.12 | G29: =F29*E29 -> 19105.744
B30: 17.02.66/ EDIF | C30: 18-Pavimentação em PAVER rejuntado com pó de pedra, incl. Base de pó de pedra (acesso ambulâncias e estacionamento) | D30: m² | E30: 86.29 | F30: 385.83 | G30: =F30*E30 -> 33293.271
B31: 20215 -EDIF | C31: 19-Lastro de cascalho (estacionamento h = 10 cm) | D31: m³ | E31: 24.47 | F31: 127.52 | G31: =F31*E31 -> 3120.4144
B32: 94276-SINAPI | C32: 20-Guia de concreto | D32: m | E32: 48.5 | F32: 45.76 | G32: =F32*E32 -> 2219.36
B33: 94284-SINAPI | C33: 21-Sarjeta em concreto, preparo manual, com seixo rolado, espessura 8 cm largura 40 cm | D33: m² | E33: 19.4 | F33: 61.02 | G33: =F33*E33 -> 1183.788
B34: 13.02.42 EDIF | C34: 22-Piso cerâmico 40 x 40 cm, assentada com argamassa colante, com rejuntamento de epoxi | D34: m² | E34: 491.71 | F34: 61.53 | G34: =F34*E34 -> 30254.916
B35: 130309 | C35: 23-Rodapé cerâmico H = 10 cm, assentada com argamassa colante, com rejuntamento em epoxi | D35: m | E35: 365.8 | F35: 16.35 | G35: =F35*E35 -> 5980.83
B36: 98695 -SINAPI | C36: 24-Soleira de granito - portas | D36: m | E36: 52.6 | F36: 82.89 | G36: =F36*E36 -> 4360.014
B37: 87903 | C37: 25-Chapisco em paredes externas traço 1:3 (cimento e areia), espessura 0,5 cm, preparo mecânico | D37: m² | E37: 1012.74 | F37: 8.82 | G37: =F37*E37 -> 8932.3668
B38: 87877 | C38: 26-Chapisco em paredes internas traço 1:3 (cimento e areia), espessura 0,5 cm, preparo mecânico | D38: m² | E38: 1574.53 | F38: 6.22 | G38: =F38*E38 -> 9793.5766
B39: 87527 | C39: 27-Emboço paulista (massa única) em parede, traço 1:2:8 (cimento, cal e areia) - preparo mecânico - espessura 2 cm | D39: m² | E39: 2587.27 | F39: 30.45 | G39: =F39*E39 -> 78782.371
B40: 110348 | C40: 28-Revestimento cerâmico 20 x 20 cm, assentada com argamassa colante, com rejuntamento em epoxi | D40: m² | E40: 371.02 | F40: 68.41 | G40: =F40*E40 -> 25381.478
B41: 110113 | C41: 29-Emassamento com massa acrílica para ambientes internos, duas demãos | D41: m² | E41: 1203.51 | F41: 26.62 | G41: =F41*E41 -> 32037.436
B42: 150110 | C42: 30-Pintura latex acrílica, ambientes internos, duas demãos | D42: m² | E42: 1203.51 | F42: 19.38 | G42: =F42*E42 -> 23324.024
B43: 84088 | C43: 31-Peitoril de granito (janelas) | D43: m | E43: 58.25 | F43: 107.66 | G43: =F43*E43 -> 6271.195
B44: 150119 | C44: 32-Pintura externa em textura acrílica | D44: m² | E44: 1024.1 | F44: 21.08 | G44: =F44*E44 -> 21588.028
B45: 110101 | C45: 33-Chapisco em paredes externas traço 1:3 (cimento e areia), espessura 0,5 cm, preparo mecânico | D45: m² | E45: 611.17 | F45: 12.81 | G45: =F45*E45 -> 7829.0877
B46: 87548 | C46: 34-Emboço paulista (massa única) em parede, traço 1:2:8 (cimento, cal e areia) - preparo mecânico - espessura 1,5 cm | D46: m² | E46: 611.17 | F46: 20.39 | G46: =F46*E46 -> 12461.756
B47: 110113 | C47: 35-Emassamento com massa latex PVA para ambientes internos - reboco massa fina | D47: m² | E47: 548.29 | F47: 26.62 | G47: =F47*E47 -> 14595.48
B48: 150110 | C48: 36-Pintura latex acrílica, ambientes internos, duas demãos | D48: m² | E48: 548.29 | F48: 19.38 | G48: =F48*E48 -> 10625.86
... B53: 150119 | C53: 41-Pintura externa em textura acrílica | D53: m² | E53: 36.72 | F53: 21.08 | G53: =F53*E53 -> 774.0576
B54: VALOR TOTAL DO ITEM 3 | G54: =SUM(G27:G53) -> 401335.61
B56: 4 | C56: ESQUADRIAS DE MADEIRA E ALUMÍNIO
B57: 70107 | C57: 42-PM.07 - PORTA LISA ESPECIAL/ SÓLIDA - 82X210CM | D57: un | E57: 9 | F57: 337.01 | G57: =F57*E57 -> 3033.09
B58: 70108 | C58: 43-PM.08 - PORTA LISA ESPECIAL/ SÓLIDA - 92X210CM | D58: un | E58: 19 | F58: 368.19 | G58: =F58*E58 -> 6995.61
B59: 05.01.051 | C59: 44-PM-75 PORTA SARRAFEADA MACICA SANIT. ACESSIVEL BAT. MET. | D59: un | E59: 1 | F59: =H59/1.23 -> 1265.6179 | G59: =F59*E59 -> 1265.6179 | H59: 1556.71
B60: 3080 | C60: 45-FECHADURA DE EMBUTIR PARA PORTA EXTERNA / ENTRADA, MAQUINA 40 MM, COM CILINDRO, MACANETA ALAVANCA E ESPELHO EM METAL CROMADO - NIVEL SEGURANCA MEDIO -COMPLETA - 93206 | D60: un | E60: 28 | F60: 58.5 | G60: =F60*E60 -> 1638
B61: 70139 | C61: 46-Porta de madeira lisa compensada para pintura, 0,80 x 2,10 m, correr incluso aduela 1 A, alizar 1A trilho e fechadura - completa - Calculo 1,68m2 x 2 portas = 3,36m2 | D61: m2 | E61: 3.36 | F61: 265.99 | G61: =F61*E61 -> 893.7264
B62: 70139 | C62: 47-Porta de madeira lisa compensada para pintura, 0,90 x 2,10 m, correr incluso aduela 1 A, alizar 1A trilho e fechadura - completa - Calculo 1,89m2 x 4 portas = 7,56m2 | D62: m2 | E62: 7.56 | F62: 265.99 | G62: =F62*E62 -> 2010.8844
B63: 70139 | C63: 48-Porta de madeira lisa compensada para pintura, 1,20 x 2,10 m, correr incluso aduela 1 A, alizar 1A trilho e fechadura - completa - Calculo 1,89m2 x 1portas = 2,52m2 | D63: m2 | E63: 2.52 | F63: 265.99 | G63: =F63*E63 -> 670.2948
B64: 74065/002 | C64: 49-Pintura esmalte para madeira, duas demãos, incluso aparelhamento com fundo nivelador branco fosco | D64: m² | E64: 199.71 | F64: 27.32 | G64: =F64*E64 -> 5456.0772
B65: 94569 | C65: 50-Janela de alumínio projetante | D65: m² | E65: 47.56 | F65: 380.9 | G65: =F65*E65 -> 18115.604
B66: 80243 | C66: 51-Janela veneziana alumínio - fixo- | D66: m² | E66: 2.4 | F66: 668.8 | G66: =F66*E66 -> 1605.12
B67: 06.03.032 | C67: 52- GR-01 GRADE DE PROTECAO FERRO CHATO 1" X 1/4" MALHA 15CM X15CM | D67: m² | E67: 55 | F67: =H67/1.23 -> 391.35772 | G67: =F67*E67 -> 21524.675 | H67: 481.37
B68: 80145 | C68: 53-PA.16 - PORTA EM ALUMÍNIO ANODIZADO, VENEZIANA - ABRIR, 1 FOLHA | D68: m² | E68: 15.57 | F68: 763.68 | G68: =F68*E68 -> 11890.498
B69: 16.07.012 | C69: 54-BL-02 BICICLETÁRIO SOBRE CIMENTADO OU BLOCO INTERTRAVADO | D69: un | E69: 1 | F69: =H69/1.23 -> 643.39024 | G69: =F69*E69 -> 643.39024 | H69: 791.37
B70: 72120 | C70: 55-Vidro temperado 10 mm com 1 porta | D70: m² | E70: 60.08 | F70: 281.03 | G70: =F70*E70 -> 16884.282
B71: 72116 | C71: 56-Vidro liso comum transparente, espessura 3 mm | D71: m² | E71: 48.44 | F71: 107.15 | G71: =F71*E71 -> 5190.346
B72: 74125/001 | C72: 57-Espelho cristal fixado com botões | D72: m² | E72: 4.44 | F72: 440.5 | G72: =F72*E72 -> 1955.82
B73: VALOR TOTAL DO ITEM 4 | G73: =SUM(G57:G72) -> 99773.036
B75: 5 | C75: INSTALAÇÕES ELÉTRICAS
B76: 90156 | C76: 58-ENTRADA AÉREA DE ENERGIA E TELEFONE - 24 À 30KVA | D76: cj | E76: 1 | F76: 4732.61 | G76: =F76*E76 -> 4732.61
B77: 90972 | C77: 59-LUMINÁRIA INDUSTRIAL - 2 LÂMPADAS FLUORESCENTES 16/20W | D77: un | E77: 71 | F77: 157.38 | G77: =F77*E77 -> 11173.98
B78: 90979 | C78: 60-LUMINÁRIA INDUSTRIAL CORPO EM CHAPA DE AÇO TRATADA, PINTADA E REFLETOR EM ALUMÍNIO ANODIZADO DE ALTO BRILHO - 2XT 28W | D78: un | E78: 14 | F78: 200.81 | G78: =F78*E78 -> 2811.34
B79: 90944 | C79: 61-LUMINÁRIA BLINDADA EM ALUMÍNIO FUNDIDO, DE SOBREPOR, TIPO "TARTARUGA" P/ 1 LÂMPADA DE ATÉ 200W | D79: un | E79: 38 | F79: 254.83 | G79: =F79*E79 -> 9683.54
B80: 91023 | C80: 62-LUMINÁRIA DE EMERGÊNCIA AUTÔNOMA COM LÂMPADA FLUORESCENTE 15W | D80: un | E80: 3 | F80: 221.44 | G80: =F80*E80 -> 664.32
B81: 91024 | C81: 63-LUMINÁRIA DE EMERGÊNCIA AUTÔNOMA COM 2 PROJETORES 55W/12VCC -COM BATERIA | D81: un | E81: 2 | F81: 578.83 | G81: =F81*E81 -> 1157.66
B82: 98351 | C82: 64-FOTOCELULA SOLAR-RELÊ FOTOELÉTRICO CAPACIDADE - 1000W | D82: un | E82: 2 | F82: 106.39 | G82: =F82*E82 -> 212.78
B83: 90735 | C83: 65-PONTO COM INTERRUPTOR SIMPLES - 1 TECLA, EM CONDULETE 3/4" | D83: pt | E83: 128 | F83: 123.69 | G83: =F83*E83 -> 15832.32
B84: 98207 | C84: 66-ESPELHO PLÁSTICO - 4"X2" | D84: un | E84: 3 | F84: 4.32 | G84: =F84*E84 -> 12.96
B85: 98294 | C85: 67-PLUG P/ TOMADA ATÉ 20A (2P+T, 20A - 250V) | D85: un | E85: 77 | F85: 20.98 | G85: =F85*E85 -> 1615.46
B86: 90770 | C86: 68-PONTO COM TOMADA SIMPLES DE EMBUTIR - PARA PISO -20A | D86: un | E86: 6 | F86: 169.84 | G86: =F86*E86 -> 1019.04
B87: 98213 | C87: 69-TOMADA 3P+T 30A - 440V | D87: un | E87: 15 | F87: 90.75 | G87: =F87*E87 -> 1361.25
... B93: 90710 | C93: 75-PONTO COM INTERRUPTOR PARALELO - 1 TECLA, EM CAIXA 4"X2" | D93: un | E93: 2 | F93: 160.73 | G93: =F93*E93 -> 321.46
B94: 74131/004 | C94: 76-Painel de distribuição em chapa de aço 16USG, para até 18 disjuntores monopolares, pintura em epoxi cor bege, com trinco, espelho interno com plaquetas de identificação em acrílico para cada circuito e porta para projeto, deverá atender o solicitado no diagrama unifilar em projeto | D94: un | E94: 2 | F94: 385.92 | G94: =F94*E94 -> 771.84
B95: 74130/6 | C95: 77-Disjuntor termomagnético tripolar 125A Capac. Interrup. 25 KVA-curva C | D95: un | E95: 1 | F95: 270.39 | G95: =F95*E95 -> 270.39
B96: 74130/5 | C96: 78-Disjuntor termomagnético tripolar 100A Capac. Interrup. 25 KVA-curva C | D96: un | E96: 1 | F96: 98.97 | G96: =F96*E96 -> 98.97
B97: 09.13.011 | C97: 79- PP-03 PARA RAIOS FRANKLIN COM MASTRO AÇO GALVANIZADO 02" X 6,00M | D97: un | E97: 8 | F97: =H97/1.23 -> 801 | G97: =F97*E97 -> 6408 | H97: 985.23
B98: 90475 | C98: 80-Interruptor diferencial $x63A Sens 30 MA (tetrapolar) | D98: un | E98: 2 | F98: 310.14 | G98: =F98*E98 -> 620.28
B99: 74130/005 | C99: 81-Disjuntor termomagnético tripolar 80A Capac, interrrup, 25 KA-Curva C | D99: un | E99: 2 | F99: 98.97 | G99: =F99*E99 -> 197.94
B100: 74130/001 | C100: 82-Disjuntor termomagnético monopolar padrão nema (americano) 10 a 30 A | D100: un | E100: 10 | F100: 11.78 | G100: =F100*E100 -> 117.8
B101: 74130/002 | C101: 83-Disjuntor termomagnético monopolar padrão nema (americano) 35 a 50 A | D101: un | E101: 10 | F101: 17.55 | G101: =F101*E101 -> 175.5
B102: 74130/003 | C102: 84-Disjuntor termomagnético bipolar padrão nema (americano) 10 a 30 A | D102: un | E102: 5 | F102: 49.76 | G102: =F102*E102 -> 248.8
B103: 09-90-33 | C103: 85-Placa 4'X4" com uma tomada de lógica tipo RJ45 CAT, 6 | D103: un | E103: 16 | F103: 11.17 | G103: =F103*E103 -> 178.72
B104: 09-90-03 | C104: 86-Ponto p/instal.lógica 16 pts-c/certificação | D104: pt | E104: 16 | F104: 22.49 | G104: =F104*E104 -> 359.84
B105: 98209 | C105: 87-TOMADA PARA TELEFONE DE 4 POLOS PADRAO TELEBRAS - FORNECIMENTO E INSTALACAO | D105: un | E105: 12 | F105: 19.25 | G105: =F105*E105 -> 231
B106: 09-90-11 | C106: 88-RACK 8U'S COM VENTILAÇÃO, BANDEJA FIXA E RÉGUA DE TOMADAS - INSTALADO | D106: un | E106: 1 | F106: 542.11 | G106: =F106*E106 -> 542.11
B107: 09-90-17 | C107: 89-Switch 24 portas 10/100/1000 gerenciavel | D107: un | E107: 1 | F107: 366.08 | G107: =F107*E107 -> 366.08
B108: 99015 | C108: 90-PATCH PAINEL - 24 PORTAS - INSTALADO | D108: un | E108: 1 | F108: 267.23 | G108: =F108*E108 -> 267.23
B109: 90775 | C109: 91-PONTO SECO PARA TELEFONE - CAIXA 4"X4" | D109: un | E109: 2 | F109: 191.62 | G109: =F109*E109 -> 383.24
B110: 90563 | C110: 92-CAIXA TELEFÔNICA INTERNA PADRÃO TELESP N.3 40X40X13,5CM | D110: un | E110: 1 | F110: 195.51 | G110: =F110*E110 -> 195.51
B111: 73749/001 | C111: 93-Caixa de passagem em alvenaria tipo R1 c/ tampa de ferro fundido e aro TP 1F - completa | D111: un | E111: 3 | F111: 188.3 | G111: =F111*E111 -> 564.9
B112: VALOR TOTAL DO ITEM 5 | G112: =SUM(G76:G111) -> 80300.8
B114: 6 | C114: INSTALAÇÕES HIDRÁULICAS
B115: 95469 | C115: 94-Vaso sanitário sifonado louça branca padrão popular, com conjunto para fixação para vaso sanitário com parafuso, arruela e bucha | D115: un | E115: 3 | F115: 166.73 | G115: =F115*E115 -> 500.19
B116: 79668 | C116: 95-Assento para vaso sanitário de plástico padrão popular | D116: un | E116: 3 | F116: 27.65 | G116: =F116*E116 -> 82.95
...

Sheet RESUMO
B3: PREFEITURA MUNICIPAL DE FERRAZ DE VASCONCELOS
B4: SECRETARIA MUNICIPAL DE OBRAS
B6: OBRA: Construção de Unidade Básica de Saúde - JD. TV. Rua do Vereador, 99 Lote P/113 e P/4
B7: PLANILHA ORÇAMENTÁRIA
B8: Referência | C8: Código | D8: Descrição | E8: Unid | F8: Qtde | G8: Preço | H8: Total
C9: 1 | D9: ='Table 1'!C5 -> SERVIÇOS PRELIMINARES
B10: SINAPI | C10: ='Table 1'!B6 -> 16.06.078 | D10: ='Table 1'!C6 -> 1-FORNECIMENTO E INSTALAÇAO DE PLACA DE IDENTIFICAÇAO DE OBRA INCLUSO SUPORTE ESTRUTURA DE MADEIRA. 3x4=12m2 | E10: ='Table 1'!D6 -> m² | F10: 12
B11: SINAPI | C11: ='Table 1'!B7 -> 16.30.010 | D11: ='Table 1'!C7 -> 2-TAPUME H=225CM APOIADO NO TERRENO E PINTURA LATEX FACE EXTERNA COM LOGOTIPO | E11: ='Table 1'!D7 -> m² | F11: ='Table 1'!E7 -> 106.7
B12: SINAPI | C12: ='Table 1'!B8 -> 98525 | D12: ='Table 1'!C8 -> 3-Limpeza mecânica de terreno, inclusive retirada de árvores até 0,20 m | E12: ='Table 1'!D8 -> m³ | F12: ='Table 1'!E8 -> 1527.75
B13: EDIF | C13: ='Table 1'!B9 -> 90153 | D13: ='Table 1'!C9 -> 4-ENTRADA AÉREA DE ENERGIA E TELEFONE - 13 À 16KVA | E13: ='Table 1'!D9 -> un | F13: ='Table 1'!E9 -> 1
B14: SINAPI | C14: ='Table 1'!B10 -> 93350 | D14: ='Table 1'!C10 -> 5-LIGACOES PREDIAIS DE ESGOTO | E14: un | F14: 1
B15: SINAPI | C15: ='Table 1'!B11 -> 100261 | D15: ='Table 1'!C11 -> 6-TUBO DE PVC RÍGIDO, SOLDÁVEL (LINHA ÁGUA) - 25MM (3/4") 12x6 =72m | E15: ='Table 1'!D11 -> un | F15: 72
B16: SINAPI | C16: ='Table 1'!B12 -> 97013 | D16: ='Table 1'!C12 -> 7-FECHAMENTO DE CONSTRUÇÃO TEMPORÁRIA EM CHAPA DE MADEIRA COMPENSADA E=10MM - antigo 92235 -m2 | E16: ='Table 1'!D12 -> m | F16: 10
B17: SINAPI | C17: ='Table 1'!B13 -> 93207 | D17: ='Table 1'!C13 -> 8-EXECUÇÃO DE ESCRITÓRIO EM CANTEIRO DE OBRA EM CHAPA DE MADEIRA COMPENSADA NÃO INCLUSO MOBILIÁRIO E EQUIPAMENTOS. AF_02/2016 - sinapi | E17: ='Table 1'!D13 -> m² | F17: 40
F18: sub total:
C19: 2 | D19: COBERTURA
B20: SINAPI | C20: ='Table 1'!B18 -> 60113 | D20: ='Table 1'!C18 -> 9-ESTRUTURA DE MADEIRA, PONTALETADA, PARA TELHAS ONDULADAS CA/AL/PL/AG | E20: ='Table 1'!D18 -> m² | F20: ='Table 1'!E18 -> 594.74
B21: SINAPI | C21: ='Table 1'!B19 -> 94195 | D21: ='Table 1'!C19 -> 10-TELHAMENTO COM TELHA CERÂMICA DE ENCAIXE, TIPO PORTUGUESA, COM ATÉ 02 ÁGUAS INCLUSO TRANSPORTE VERTICAL. AF_06/2016 | E21: ='Table 1'!D19 -> m² | F21: ='Table 1'!E19 -> 594.74
B22: EDIF | C22: ='Table 1'!B20 -> 60250 | D22: ='Table 1'!C20 -> 11-Cobertura em policarbonato, incl. Estrutura metálica | E22: ='Table 1'!D20 -> m² | F22: ='Table 1'!E20 -> 50.5
B23: SINAPI | C23: ='Table 1'!B21 -> 60251 | D23: ='Table 1'!C21 -> 12-CUMEEIRA OU ESPIGÃO PARA TELHAS PAULISTA, PLAN E FRANCESA - BARRO OU VIDRO | E23: ='Table 1'!D21 -> m | F23: ='Table 1'!E21 -> 54.4
B24: SINAPI | C24: ='Table 1'!B22 -> 92228 | D24: ='Table 1'!C22 -> 13-CALHA EM CHAPA DE AÇO GALVANIZADO NÚMERO 24, DESENVOLVIMENTO DE 50 CM INCLUSO TRANSPORTE VERTICAL. AF_06/2016 | E24: ='Table 1'!D22 -> m | F24: ='Table 1'!E22 -> 103.13
B25: SINAPI | C25: ='Table 1'!B23 -> 94231 | D25: ='Table 1'!C23 -> 14-RUFO EM CHAPA DE AÇO GALVANIZADO NÚMERO 24, CORTE DE 25 CM, INCLUSO TRANSPORTE VERTICAL. AF_06/2016 | E25: ='Table 1'!D23 -> m | F25: ='Table 1'!E23 -> 405.79
F26: sub total:
C27: 3 | D27: REVESTIMENTOS - PISOS, PAREDES E TETOS
B28: SINAPI | C28: ='Table 1'!B27 -> 90902- SINAPI | D28: ='Table 1'!C27 -> 15-Contrapiso em argamassa traço 1:4 (cimento e areia), espessura 7 cm, preparo manual | E28: ='Table 1'!D27 -> m² | F28: ='Table 1'!E27 -> 491.71
B29: EDIF | C29: ='Table 1'!B28 -> 87620/ 73892/001 | D29: ='Table 1'!C28 -> 16-Regularização de piso em argamassa traço 1:3 (cimento e areia grossa sem peneirar), espessura 2,0 cm, preparo mecânico | E29: ='Table 1'!D28 -> m² | F29: ='Table 1'!E28 -> 546.75
B30: SINAPI | C30: ='Table 1'!B29 -> 94993 -SINAPI | D30: ='Table 1'!C29 -> 17-Piso (calçada em concreto) cimento/areia/seixo rolado preparo mecânico e espessura de 7 cm (contorno UBS) | E30: ='Table 1'!D29 -> m² | F30: ='Table 1'!E29 -> 381.2
B31: EDIF | C31: ='Table 1'!B30 -> 17.02.66/ EDIF | D31: ='Table 1'!C30 -> 18-Pavimentação em PAVER rejuntado com pó de pedra, incl. Base de pó de pedra (acesso ambulâncias e estacionamento) | E31: ='Table 1'!D30 -> m² | F31: ='Table 1'!E30 -> 86.29
B32: EDIF | C32: ='Table 1'!B31 -> 20215 -EDIF | D32: ='Table 1'!C31 -> 19-Lastro de cascalho (estacionamento h = 10 cm) | E32: ='Table 1'!D31 -> m³ | F32: ='Table 1'!E31 -> 24.47
B33: SINAPI | C33: ='Table 1'!B32 -> 94276-SINAPI | D33: ='Table 1'!C32 -> 20-Guia de concreto | E33: ='Table 1'!D32 -> m | F33: ='Table 1'!E32 -> 48.5
B34: SINAPI | C34: ='Table 1'!B33 -> 94284-SINAPI | D34: ='Table 1'!C33 -> 21-Sarjeta em concreto, preparo manual, com seixo rolado, espessura 8 cm largura 40 cm | E34: ='Table 1'!D33 -> m² | F34: ='Table 1'!E33 -> 19.4
B35: EDIF | C35: ='Table 1'!B34 -> 13.02.42 EDIF | D35: ='Table 1'!C34 -> 22-Piso cerâmico 40 x 40 cm, assentada com argamassa colante, com rejuntamento de epoxi | E35: ='Table 1'!D34 -> m² | F35: ='Table 1'!E34 -> 491.71
B36: EDIF | C36: ='Table 1'!B35 -> 130309 | D36: ='Table 1'!C35 -> 23-Rodapé cerâmico H = 10 cm, assentada com argamassa colante, com rejuntamento em epoxi | E36: ='Table 1'!D35 -> m | F36: ='Table 1'!E35 -> 365.8
B37: EDIF | C37: ='Table 1'!B36 -> 98695 -SINAPI | D37: ='Table 1'!C36 -> 24-Soleira de granito - portas | E37: ='Table 1'!D36 -> m | F37: ='Table 1'!E36 -> 52.6
B38: EDIF | C38: ='Table 1'!B37 -> 87903 | D38: ='Table 1'!C37 -> 25-Chapisco em paredes externas traço 1:3 (cimento e areia), espessura 0,5 cm, preparo mecânico | E38: ='Table 1'!D37 -> m² | F38: ='Table 1'!E37 -> 1012.74
B39: EDIF | C39: ='Table 1'!B38 -> 87877 | D39: ='Table 1'!C38 -> 26-Chapisco em paredes internas traço 1:3 (cimento e areia), espessura 0,5 cm, preparo mecânico | E39: ='Table 1'!D38 -> m² | F39: ='Table 1'!E38 -> 1574.53
... B54: EDIF | C54: ='Table 1'!B53 -> 150119 | D54: ='Table 1'!C53 -> 41-Pintura externa em textura acrílica | E54: ='Table 1'!D53 -> m² | F54: ='Table 1'!E53 -> 36.72
F55: sub total:
C56: 4 | D56: ESQUADRIAS DE MADEIRA E ALUMÍNIO
B57: SINAPI | C57: ='Table 1'!B57 -> 70107 | D57: ='Table 1'!C57 -> 42-PM.07 - PORTA LISA ESPECIAL/ SÓLIDA - 82X210CM | E57: ='Table 1'!D57 -> un | F57: ='Table 1'!E57 -> 9
B58: SINAPI | C58: ='Table 1'!B58 -> 70108 | D58: ='Table 1'!C58 -> 43-PM.08 - PORTA LISA ESPECIAL/ SÓLIDA - 92X210CM | E58: ='Table 1'!D58 -> un | F58: ='Table 1'!E58 -> 19
B59: FDE | C59: ='Table 1'!B59 -> 05.01.051 | D59: ='Table 1'!C59 -> 44-PM-75 PORTA SARRAFEADA MACICA SANIT. ACESSIVEL BAT. MET. | E59: ='Table 1'!D59 -> un | F59: ='Table 1'!E59 -> 1
B60: SINAPI | C60: ='Table 1'!B60 -> 3080 | D60: ='Table 1'!C60 -> 45-FECHADURA DE EMBUTIR PARA PORTA EXTERNA / ENTRADA, MAQUINA 40 MM, COM CILINDRO, MACANETA ALAVANCA E ESPELHO EM METAL CROMADO - NIVEL SEGURANCA MEDIO -COMPLETA - 93206 | E60: ='Table 1'!D60 -> un | F60: ='Table 1'!E60 -> 28
B61: EDIF | C61: ='Table 1'!B61 -> 70139 | D61: ='Table 1'!C61 -> 46-Porta de madeira lisa compensada para pintura, 0,80 x 2,10 m, correr incluso aduela 1 A, alizar 1A trilho e fechadura - completa - Calculo 1,68m2 x 2 portas = 3,36m2 | E61: ='Table 1'!D61 -> m2 | F61: ='Table 1'!E61 -> 3.36
B62: EDIF | C62: ='Table 1'!B62 -> 70139 | D62: ='Table 1'!C62 -> 47-Porta de madeira lisa compensada para pintura, 0,90 x 2,10 m, correr incluso aduela 1 A, alizar 1A trilho e fechadura - completa - Calculo 1,89m2 x 4 portas = 7,56m2 | E62: ='Table 1'!D62 -> m2 | F62: ='Table 1'!E62 -> 7.56
B63: EDIF | C63: ='Table 1'!B63 -> 70139 | D63: ='Table 1'!C63 -> 48-Porta de madeira lisa compensada para pintura, 1,20 x 2,10 m, correr incluso aduela 1 A, alizar 1A trilho e fechadura - completa - Calculo 1,89m2 x 1portas = 2,52m2 | E63: ='Table 1'!D63 -> m2 | F63: ='Table 1'!E63 -> 2.52
B64: SINAPI | C64: ='Table 1'!B64 -> 74065/002 | D64: ='Table 1'!C64 -> 49-Pintura esmalte para madeira, duas demãos, incluso aparelhamento com fundo nivelador branco fosco | E64: ='Table 1'!D64 -> m² | F64: ='Table 1'!E64 -> 199.71
B65: SINAPI | C65: ='Table 1'!B65 -> 94569 | D65: ='Table 1'!C65 -> 50-Janela de alumínio projetante | E65: ='Table 1'!D65 -> m² | F65: ='Table 1'!E65 -> 47.56
B66: EDIF | C66: ='Table 1'!B66 -> 80243 | D66: ='Table 1'!C66 -> 51-Janela veneziana alumínio - fixo- | E66: ='Table 1'!D66 -> m² | F66: ='Table 1'!E66 -> 2.4
B67: FDE | C67: ='Table 1'!B67 -> 06.03.032 | D67: ='Table 1'!C67 -> 52- GR-01 GRADE DE PROTECAO FERRO CHATO 1" X 1/4" MALHA 15CM X15CM | E67: ='Table 1'!D67 -> m² | F67: 55 | I67: 481.37
B68: SINAPI | C68: ='Table 1'!B68 -> 80145 | D68: ='Table 1'!C68 -> 53-PA.16 - PORTA EM ALUMÍNIO ANODIZADO, VENEZIANA - ABRIR, 1 FOLHA | E68: ='Table 1'!D68 -> m² | F68: 15.57
B69: FDE | C69: ='Table 1'!B69 -> 16.07.012 | D69: ='Table 1'!C69 -> 54-BL-02 BICICLETÁRIO SOBRE CIMENTADO OU BLOCO INTERTRAVADO | E69: ='Table 1'!D69 -> un | F69: 1
B70: SINAPI | C70: ='Table 1'!B70 -> 72120 | D70: ='Table 1'!C70 -> 55-Vidro temperado 10 mm com 1 porta | E70: ='Table 1'!D70 -> m² | F70: ='Table 1'!E70 -> 60.08
B71: SINAPI | C71: ='Table 1'!B71 -> 72116 | D71: ='Table 1'!C71 -> 56-Vidro liso comum transparente, espessura 3 mm | E71: ='Table 1'!D71 -> m² | F71: ='Table 1'!E71 -> 48.44
B72: SINAPI | C72: ='Table 1'!B72 -> 74125/001 | D72: ='Table 1'!C72 -> 57-Espelho cristal fixado com botões | E72: ='Table 1'!D72 -> m² | F72: ='Table 1'!E72 -> 4.44
F73: sub total:
C74: 5 | D74: INSTALAÇÕES ELÉTRICAS
B75: EDIF | C75: ='Table 1'!B76 -> 90156 | D75: ='Table 1'!C76 -> 58-ENTRADA AÉREA DE ENERGIA E TELEFONE - 24 À 30KVA | E75: ='Table 1'!D76 -> cj | F75: ='Table 1'!E76 -> 1
B76: EDIF | C76: ='Table 1'!B77 -> 90972 | D76: ='Table 1'!C77 -> 59-LUMINÁRIA INDUSTRIAL - 2 LÂMPADAS FLUORESCENTES 16/20W | E76: ='Table 1'!D77 -> un | F76: ='Table 1'!E77 -> 71
B77: EDIF | C77: ='Table 1'!B78 -> 90979 | D77: ='Table 1'!C78 -> 60-LUMINÁRIA INDUSTRIAL CORPO EM CHAPA DE AÇO TRATADA, PINTADA E REFLETOR EM ALUMÍNIO ANODIZADO DE ALTO BRILHO - 2XT 28W | E77: ='Table 1'!D78 -> un | F77: ='Table 1'!E78 -> 14
B78: EDIF | C78: ='Table 1'!B79 -> 90944 | D78: ='Table 1'!C79 -> 61-LUMINÁRIA BLINDADA EM ALUMÍNIO FUNDIDO, DE SOBREPOR, TIPO "TARTARUGA" P/ 1 LÂMPADA DE ATÉ 200W | E78: ='Table 1'!D79 -> un | F78: ='Table 1'!E79 -> 38
B79: EDIF | C79: ='Table 1'!B80 -> 91023 | D79: ='Table 1'!C80 -> 62-LUMINÁRIA DE EMERGÊNCIA AUTÔNOMA COM LÂMPADA FLUORESCENTE 15W | E79: ='Table 1'!D80 -> un | F79: ='Table 1'!E80 -> 3
B80: EDIF | C80: ='Table 1'!B81 -> 91024 | D80: ='Table 1'!C81 -> 63-LUMINÁRIA DE EMERGÊNCIA AUTÔNOMA COM 2 PROJETORES 55W/12VCC -COM BATERIA | E80: ='Table 1'!D81 -> un | F80: ='Table 1'!E81 -> 2
B81: EDIF | C81: ='Table 1'!B82 -> 98351 | D81: ='Table 1'!C82 -> 64-FOTOCELULA SOLAR-RELÊ FOTOELÉTRICO CAPACIDADE - 1000W | E81: ='Table 1'!D82 -> un | F81: ='Table 1'!E82 -> 2
B82: EDIF | C82: ='Table 1'!B83 -> 90735 | D82: ='Table 1'!C83 -> 65-PONTO COM INTERRUPTOR SIMPLES - 1 TECLA, EM CONDULETE 3/4" | E82: ='Table 1'!D83 -> pt | F82: ='Table 1'!E83 -> 128
B83: EDIF | C83: ='Table 1'!B84 -> 98207 | D83: ='Table 1'!C84 -> 66-ESPELHO PLÁSTICO - 4"X2" | E83: ='Table 1'!D84 -> un | F83: ='Table 1'!E84 -> 3
B84: EDIF | C84: ='Table 1'!B85 -> 98294 | D84: ='Table 1'!C85 -> 67-PLUG P/ TOMADA ATÉ 20A (2P+T, 20A - 250V) | E84: ='Table 1'!D85 -> un | F84: ='Table 1'!E85 -> 77
B85: EDIF | C85: ='Table 1'!B86 -> 90770 | D85: ='Table 1'!C86 -> 68-PONTO COM TOMADA SIMPLES DE EMBUTIR - PARA PISO -20A | E85: ='Table 1'!D86 -> un | F85: ='Table 1'!E86 -> 6
B86: EDIF | C86: ='Table 1'!B87 -> 98213 | D86: ='Table 1'!C87 -> 69-TOMADA 3P+T 30A - 440V | E86: ='Table 1'!D87 -> un | F86: ='Table 1'!E87 -> 15
... B103: EDIF | C103: ='Table 1'!B104 -> 09-90-03 | D103: ='Table 1'!C104 -> 86-Ponto p/instal.lógica 16 pts-c/certificação | E103: ='Table 1'!D104 -> pt | F103: ='Table 1'!E104 -> 16
B104: EDIF | C104: 72337 | D104: ='Table 1'!C105 -> 87-TOMADA PARA TELEFONE DE 4 POLOS PADRAO TELEBRAS - FORNECIMENTO E INSTALACAO | E104: un | F104: 12
B105: EDIF | C105: 99011 | D105: ='Table 1'!C106 -> 88-RACK 8U'S COM VENTILAÇÃO, BANDEJA FIXA E RÉGUA DE TOMADAS - INSTALADO | E105: ='Table 1'!D105 -> un | F105: 1
B106: EDIF | C106: 99017 | D106: ='Table 1'!C107 -> 89-Switch 24 portas 10/100/1000 gerenciavel | E106: ='Table 1'!D106 -> un | F106: ='Table 1'!E106 -> 1
B107: EDIF | C107: 99015 | D107: ='Table 1'!C108 -> 90-PATCH PAINEL - 24 PORTAS - INSTALADO | E107: ='Table 1'!D107 -> un | F107: ='Table 1'!E107 -> 1
B108: EDIF | C108: 90775 | D108: ='Table 1'!C109 -> 91-PONTO SECO PARA TELEFONE - CAIXA 4"X4" | E108: ='Table 1'!D108 -> un | F108: 2
B109: EDIF | C109: ='Table 1'!B110 -> 90563 | D109: ='Table 1'!C110 -> 92-CAIXA TELEFÔNICA INTERNA PADRÃO TELESP N.3 40X40X13,5CM | E109: un | F109: 1
B110: SINAPI | C110: 73749/001 | D110: ='Table 1'!C111 -> 93-Caixa de passagem em alvenaria tipo R1 c/ tampa de ferro fundido e aro TP 1F - completa | E110: ='Table 1'!D109 -> un | F110: 3
F111: sub total:
C112: 6 | D112: INSTALAÇÕES HIDRÁULICAS
B113: SINAPI | C113: ='Table 1'!B115 -> 95469 | D113: ='Table 1'!C115 -> 94-Vaso sanitário sifonado louça branca padrão popular, com conjunto para fixação para vaso sanitário com parafuso, arruela e bucha | E113: ='Table 1'!D115 -> un | F113: ='Table 1'!E115 -> 3
B114: EDIF | C114: ='Table 1'!B116 -> 79668 | D114: ='Table 1'!C116 -> 95-Assento para vaso sanitário de plástico padrão popular | E114: ='Table 1'!D116 -> un | F114: ='Table 1'!E116 -> 3
B115: SINAPI | C115: ='Table 1'!B117 -> 95469 | D115: ='Table 1'!C117 -> 96-Vaso sanitário sifonado louça branca padrão popular, com conjunto para fixação para vaso sanitário com parafuso, arruela e bucha incl assento | E115: ='Table 1'!D117 -> un | F115: ='Table 1'!E117 -> 6
B116: SINAPI | C116: ='Table 1'!B118 -> 60554 | D116: ='Table 1'!C118 -> 97-Porta papel higiênico rolão em plástico ABS | E116: ='Table 1'!D118 -> un | F116: ='Table 1'!E118 -> 9
B117: EDIF | C117: ='Table 1'!B119 -> 86943 | D117: ='Table 1'!C119 -> 98-Lavatório louça branca suspenso 29,5 X 39,0 cm, padrão popular, com sifão plástico tipo copo 1", válvula em plástico branco 1" e conjunto para fixação | E117: ='Table 1'!D119 -> un | F117: ='Table 1'!E119 -> 24
B118: SINAPI | C118: ='Table 1'!B120 -> 101358 | D118: ='Table 1'!C120 -> 99-TANQUE DE PANELA EM AÇO INOXIDÁVEL CHAPA 18 - 600X500X400MM | E118: ='Table 1'!D120 -> un | F118: ='Table 1'!E120 -> 1
B119: SINAPI | C119: ='Table 1'!B121 -> 101491 | D119: ='Table 1'!C121 -> 100-SABONETEIRA PARA SABÃO LÍQUIDO | E119: ='Table 1'!D121 -> un | F119: ='Table 1'!E121 -> 25
B120: SINAPI | C120: ='Table 1'!B122 -> 101497 | D120: ='Table 1'!C122 -> 101-PORTA TOALHA DE PAPEL INTER FOLHAS | E120: ='Table 1'!D122 -> un | F120: ='Table 1'!E122 -> 25
B121: SINAPI | C121: ='Table 1'!B123 -> 101340 | D121: ='Table 1'!C123 -> 102-TANQUE DE LOUÇA BRANCA, SEM COLUNA, CAPACIDADE MÍNIMA 30L, EXCLUSIVE TORNEIRA | E121: ='Table 1'!D123 -> un | F121: ='Table 1'!E123 -> 3
B122: EDIF | C122: 101403 | D122: ='Table 1'!C124 -> 103-TORNEIRA DE PRESSÃO PARA USO GERAL, METAL CROMADO - 1/2" | E122: un | F122: 3
B123: EDIF | C123: ='Table 1'!B125 -> 101370 | D123: ='Table 1'!C125 -> 104-BEBEDOURO ELÉTRICO COM SISTEMA DE REFRIGERAÇÃO E DUAS SAÍDAS - 40L | E123: ='Table 1'!D125 -> un | F123: 1
B124: EDIF | C124: ='Table 1'!B126 -> 101486 | D124: ='Table 1'!C126 -> 105-TAMPO PARA BANCADA ÚMIDA - AÇO INOX N.18 (18:8) | E124: ='Table 1'!D126 -> m | F124: 22.95
B125: EDIF | C125: ='Table 1'!B127 -> 101486 | D125: ='Table 1'!C127 -> 106- Bancada em inox | E125: ='Table 1'!D127 -> m | F125: 2.35
B126: EDIF | C126: ='Table 1'!B128 -> 170522 | D126: ='Table 1'!C128 -> 107-BARRA DE APOIO PARA DEFICIENTES L=90 CM (BARRAS COM DIÂMETRO ENTRE 3,0 E 4,5CM) | E126: ='Table 1'!D128 -> m | F126: 24
B127: EDIF | C127: ='Table 1'!B129 -> 43751 | D127: ='Table 1'!C129 -> 108-Expurgo em inox | E127: ='Table 1'!D129 -> un | F127: 1
B128: EDIF | C128: ='Table 1'!B130 -> 101410 | D128: ='Table 1'!C130 -> 109-Torneira automática cromada 1/2" ou 3/4" para lavatório, com engate flexível metálico 1/2" X30 cm | E128: ='Table 1'!D130 -> un | F128: 24
B129: EDIF | C129: ='Table 1'!B131 -> 101403 | D129: ='Table 1'!C131 -> 110-Torneira cromada 1/2" para limpeza | E129: ='Table 1'!D131 -> un | F129: 5
B130: EDIF | C130: ='Table 1'!B132 -> 101410 | D130: ='Table 1'!C132 -> 111-Torneira automática cromada tubo móvel para bancada 1/2" ou 2/3" para pias | E130: ='Table 1'!D132 -> un | F130: 3
B131: EDIF | C131: ='Table 1'!B133 -> 101440 | D131: ='Table 1'!C133 -> 112-CHUVEIRO ELÉTRICO AUTOMÁTICO, CORPO EM PVC CROMADO - 220V-2800/4400W | E131: ='Table 1'!D133 -> un | F131: ='Table 1'!E133 -> 3
C132: ='Table 1'!B134 -> cotação | D132: ='Table 1'!C134 -> 113-Cadeira escamoteável para banho - padrão PNE | E132: ='Table 1'!D134 -> un | F132: 1
B133: EDIF | C133: ='Table 1'!B135 -> 100210 | D133: ='Table 1'!C135 -> 114-CAIXA D'ÁGUA DE FIBRA DE VIDRO - 1500 LITROS | E133: ='Table 1'!D135 -> un | F133: 2
...

Sheet CRONOGRAMA
C3: PREFEITURA MUNICIPAL DE FERRAZ DE VASCONCELOS
C4: SECRETARIA MUNICIPAL DE OBRAS
C6: CRONOGRAMA FÍSICO - FINANCEIRO
C7: OBRA: Construção de Unidade Básica de Saúde - JD. TV. Rua do Vereador, 99 Lote P/113 e P/4 Data-Base: SINAPI- 06/2020- EDIF-01/2020 - FDE- 04/2020 -BDI 25%
A8: ITEM | B8: DESCRIÇÃO | F8: 1º Mês | G8: 2º Mês | H8: 3º Mês | I8: 4º Mês | J8: 5º Mês | K8: 6º Mês | L8: 7º Mês | M8: 8º Mês | N8: 9º Mês | O8: 10º Mês | P8: 11º Mês | Q8: 12º Mês | R8: VALOR p/ serviço | T8: TOTAL
R9: C/BDI | T9: %
A10: 1 | B10: =RESUMO!D9 -> SERVIÇOS PRELIMINARES | F10: =R10 -> 60792.7 | R10: =SUM(48634.16*1.25) -> 60792.7 | T10: =R10/S39 -> #DIV/0!
A13: 2 | B13: COBERTURA | F13: =R13/2 -> 95862.869 | G13: =R13/2 -> 95862.869 | R13: =SUM(153380.59*1.25) -> 191725.74 | T13: =R13/S39 -> #DIV/0!
A16: 3 | B16: REVESTIMENTOS-PISOS ,PAREDES E TETOS | K16: =R16/6 -> 83611.585 | L16: =R16/6 -> 83611.585 | M16: =R16/6 -> 83611.585 | N16: =R16/6 -> 83611.585 | O16: =R16/6 -> 83611.585 | P16: =R16/6 -> 83611.585 | R16: =SUM(401335.61*1.25) -> 501669.51 | T16: =R16/S39 -> #DIV/0!
A19: 4 | B19: ESQUADRIAS DE MADEIRA E ALUMÍNIO | G19: =R19/5 -> 24943.26 | H19: =R19/5 -> 24943.26 | I19: =R19/5 -> 24943.26 | J19: =R19/5 -> 24943.26 | K19: =R19/5 -> 24943.26 | R19: =SUM(99773.04*1.25) -> 124716.3 | T19: =R19/S39 -> #DIV/0!
A22: 5 | B22: INSTALAÇÕES ELÉTRICAS | J22: =R22/3 -> 33458.667 | K22: =R22/3 -> 33458.667 | L22: =R22/3 -> 33458.667 | R22: =SUM(80300.8*1.25) -> 100376 | T22: =R22/S39 -> #DIV/0!
A25: 6 | B25: INSTALAÇÕES HIDRÁULICAS | J25: =R25/4 -> 33372.184 | K25: =R25/4 -> 33372.184 | L25: =R25/4 -> 33372.184 | M25: =R25/4 -> 33372.184 | R25: =SUM(106790.99*1.25) -> 133488.74 | T25: =R25/S39 -> #DIV/0!
A28: 7 | B28: REDE AR COMPRIMIDO | N28: =R28/3 -> 2098.125 | O28: =R28/3 -> 2098.125 | P28: =R28/3 -> 2098.125 | R28: =SUM(5035.5*1.25) -> 6294.375 | T28: =R28/S39 -> #DIV/0!
A31: 8 | B31: COMUNICAÇÃO VISUAL | L31: =R31/4 -> 5923.4438 | M31: =R31/4 -> 5923.4438 | N31: =R31/4 -> 5923.4438 | O31: =R31/4 -> 5923.4438 | R31: =SUM(18955.02*1.25) -> 23693.775 | T31: =R31/S39 -> #DIV/0!
A34: 9 | B34: DIVERSOS E LIMPEZA DE OBRA | N34: =R34/4 -> 43889.303 | O34: =R34/4 -> 43889.303 | P34: =R34/4 -> 43889.303 | Q34: =R34/4 -> 43889.303 | R34: =SUM(140445.77*1.25) -> 175557.21 | T34: =R34/S39 -> #DIV/0!
D37: VALOR - p/ Mês | F37: =SUM(F10:F36) -> 156655.57 | G37: =SUM(G10:G36) -> 120806.13 | H37: =SUM(H10:H36) -> 24943.26 | I37: =SUM(I10:I36) -> 24943.26 | J37: =SUM(J10:J36) -> 91774.111 | K37: =SUM(K10:K36) -> 175385.7 | L37: =SUM(L10:L36) -> 156365.88 | M37: =SUM(M10:M36) -> 122907.21 | ... Q37: =SUM(Q10:Q36) -> 43889.303 | T37: =SUM(T10:T36)*100 -> #DIV/0!
R38: Total s/BDI: | S38: =RESUMO!G193 -> 0
D39: TOTAL % | F39: =F37/S39 -> #DIV/0! | G39: =G37/S39 -> #DIV/0! | H39: =H37/S39 -> #DIV/0! | I39: =I37/S39 -> #DIV/0! | J39: =J37/S39 -> #DIV/0! | K39: =K37/S39 -> #DIV/0! | L39: =L37/S39 -> #DIV/0! | M39: =M37/S39 -> #DIV/0! | N39: =N37/S39 -> #DIV/0! | O39: =O37/S39 -> #DIV/0! | P39: =P37/S39 -> #DIV/0! | Q39: =Q37/S39 -> #DIV/0! | R39: Total c/BDI: | S39: =RESUMO!G195 -> 0
R40: Total %: | S40: =SUM(F39:Q40) -> #DIV/0!
A41: Data-Base: SINAPI- 06/2020- EDIF-01/2020 - FDE- 04/2020
A42: Eng. civil : Vicente Nunes da Eira creasp -5060580945
A43: Latitude :23º32'22.23" S Longitude :46º22'37.68" O
A44: ADOTADO CRITÉRIO POR MEDIÇÃO - PLANILHA ATUALIZADA CONFORME ORIGINAL LICITADA ANTERIORMENTE
