Workbook
Name Excel_BuiltIn_Database: #REF!
Name Excel_BuiltIn_Database_2: #REF!

Sheet Table 1
B1: Obra: Construção de Unidade Básica de Saúde - Padrão 4 | G1: Jardim TV
B2: Local: Rua do Vereador, 99 Lote P/113 e P/4
B3: ÍTEM | C3: DESCRIÇÃO | D3: UN | E3: QUANT. | F3: PREÇO UNIT. (MAT.+MO) | G3: PREÇO TOTAL
B5: 1 | C5: SERVIÇOS PRELIMINARES
B6: 16.06.078 | C6: 1-FORNECIMENTO E INSTALAÇAO DE PLACA DE IDENTIFICAÇAO DE OBRA INCLUSO SUPORTE ESTRUTURA DE MADEIRA. 3x4=12m2 | D6: m² | E6: 12 | F6: =H6/1.23 -> 347.86992 | G6: =E6*F6 -> 4174.439 | H6: 427.88
B7: 16.30.010 | C7: 2-TAPUME H=225CM APOIADO NO TERRENO E PINTURA LATEX FACE EXTERNA COM LOGOTIPO | D7: m² | E7: 106.7 | F7: =H7/1.23 -> 71.560976 | G7: =E7*F7 -> 7635.5561 | H7: 88.02
B8: 98525 | C8: 3-Limpeza mecânica de terreno, inclusive retirada de árvores até 0,20 m | D8: m³ | E8: 1527.75 | F8: 0.3 | G8: =E8*F8 -> 458.325
B9: 90153 | C9: 4-ENTRADA AÉREA DE ENERGIA E TELEFONE - 13 À 16KVA | D9: un | E9: 1 | F9: 2401.05 | G9: =E9*F9 -> 2401.05
B10: 93350 | C10: 5-LIGACOES PREDIAIS DE ESGOTO | D10: unid | E10: 1 | F10: 880.51 | G10: =E10*F10 -> 880.51
B11: 100261 | C11: 6-TUBO DE PVC RÍGIDO, SOLDÁVEL (LINHA ÁGUA) - 25MM (3/4") 12x6 =72m | D11: un | E11: 72 | F11: 20.79 | G11: =E11*F11 -> 1496.88
B12: 97013 | C12: 7-FECHAMENTO DE CONSTRUÇÃO TEMPORÁRIA EM CHAPA DE MADEIRA COMPENSADA E=10MM - antigo 92235 -m2 | D12: m | E12: 10 | F12: 52.02 | G12: =E12*F12 -> 520.2
B13: 93207 | C13: 8-EXECUÇÃO DE ESCRITÓRIO EM CANTEIRO DE OBRA EM CHAPA DE MADEIRA COMPENSADA NÃO INCLUSO MOBILIÁRIO E EQUIPAMENTOS. AF_02/2016 - sinapi | D13: m² | E13: 40 | F13: 776.68 | G13: =E13*F13 -> 31067.2
B14: VALOR TOTAL DO ITEM 1 | G14: =SUM(G6:G13) -> 48634.16
B17: 2 | C17: COBERTURA
B18: 60113 | C18: 9-ESTRUTURA DE MADEIRA, PONTALETADA, PARA TELHAS ONDULADAS CA/AL/PL/AG | D18: m² | E18: 594.74 | F18: 146.57 | G18: =F18*E18 -> 87171.042
B19: 94195 | C19: 10-TELHAMENTO COM TELHA CERÂMICA DE ENCAIXE, TIPO PORTUGUESA, COM ATÉ 02 ÁGUAS INCLUSO TRANSPORTE VERTICAL. AF_06/2016 | D19: m² | E19: 594.74 | F19: 38.2 | G19: =F19*E19 -> 22719.068
B20: 60250 | C20: 11-Cobertura em policarbonato, incl. Estrutura metálica | D20: m² | E20: 50.5 | F20: 432.3 | G20: =F20*E20 -> 21831.15
B21: 60251 | C21: 12-CUMEEIRA OU ESPIGÃO PARA TELHAS PAULISTA, PLAN E FRANCESA - BARRO OU VIDRO | D21: m | E21: 54.4 | F21: 27.86 | G21: =F21*E21 -> 1515.584
B22: 92228 | C22: 13-CALHA EM CHAPA DE AÇO GALVANIZADO NÚMERO 24, DESENVOLVIMENTO DE 50 CM INCLUSO TRANSPORTE VERTICAL. AF_06/2016 | D22: m | E22: 103.13 | F22: 58.08 | G22: =F22*E22 -> 5989.7904
B23: 94231 | C23: 14-RUFO EM CHAPA DE AÇO GALVANIZADO NÚMERO 24, CORTE DE 25 CM, INCLUSO TRANSPORTE VERTICAL. AF_06/2016 | D23: m | E23: 405.79 | F23: 34.88 | G23: =F23*E23 -> 14153.955
B24: VALOR TOTAL DO ITEM 2 | G24: =SUM(G18:G23) -> 153380.59
B26: 3 | C26: REVESTIMENTOS - PISOS, PAREDES E TETOS
B27: 90902- SINAPI | C27: 15-Contrapiso em argamassa traço 1:4 (cimento e areia), espessura 7 cm, preparo manual | D27: m² | E27: 491.71 | F27: 65.78 | G27: =F27*E27 -> 32344.684
B28: 87620/ 73892/001 | C28: 16-Regularização de piso em argamassa traço 1:3 (cimento e areia grossa sem peneirar), espessura 2,0 cm, preparo mecânico | D28: m² | E28: 546.75 | F28: 24.41 | G28: =F28*E28 -> 13346.167
B29: 94993 -SINAPI | C29: 17-Piso (calçada em concreto) cimento/areia/seixo rolado preparo mecânico e espessura de 7 cm (contorno UBS) | D29: m² | E29: 381.2 | F29: 50.12 | G29: =F29*E29 -> 19105.744
B30: 17.02.66/ EDIF | C30: 18-Pavimentação em PAVER rejuntado com pó de pedra, incl. Base de pó de pedra (acesso ambulâncias e estacionamento) | D30: m² | E30: 86.29 | F30: 385.83 | G30: =F30*E30 -> 33293.271
B31: 20215 -EDIF | C31: 19-Lastro de cascalho (estacionamento h = 10 cm) | D31: m³ | E31: 24.47 | F31: 127.52 | G31: =F31*E31 -> 3120.4144
B32: 94276-SINAPI | C32: 20-Guia de concreto | D32: m | E32: 48.5 | F32: 45.76 | G32: =F32*E32 -> 2219.36
B33: 94284-SINAPI | C33: 21-Sarjeta em concreto, preparo manual, com seixo rolado, espessura 8 cm largura 40 cm | D33: m² | E33: 19.4 | F33: 61.02 | G33: =F33*E33 -> 1183.788
B34: 13.02.42 EDIF | C34: 22-Piso cerâmico 40 x 40 cm, assentada com argamassa colante, com rejuntamento de epoxi | D34: m² | E34: 491.71 | F34: 61.53 | G34: =F34*E34 -> 30254.916
B35: 130309 | C35: 23-Rodapé cerâmico H = 10 cm, assentada com argamassa colante, com rejuntamento em epoxi | D35: m | E35: 365.8 | F35: 16.35 | G35: =F35*E35 -> 5980.83
B36: 98695 -SINAPI | C36: 24-Soleira de granito - portas | D36: m | E36: 52.6 | F36: 82.89 | G36: =F36*E36 -> 4360.014
B37: 87903 | C37: 25-Chapisco em paredes externas traço 1:3 (cimento e areia), espessura 0,5 cm, preparo mecânico | D37: m² | E37: 1012.74 | F37: 8.82 | G37: =F37*E37 -> 8932.3668
B38: 87877 | C38: 26-Chapisco em paredes internas traço 1:3 (cimento e areia), espessura 0,5 cm, preparo mecânico | D38: m² | E38: 1574.53 | F38: 6.22 | G38: =F38*E38 -> 9793.5766
B39: 87527 | C39: 27-Emboço paulista (massa única) em parede, traço 1:2:8 (cimento, cal e areia) - preparo mecânico - espessura 2 cm | D39: m² | E39: 2587.27 | F39: 30.45 | G39: =F39*E39 -> 78782.371
B40: 110348 | C40: 28-Revestimento cerâmico 20 x 20 cm, assentada com argamassa colante, com rejuntamento em epoxi | D40: m² | E40: 371.02 | F40: 68.41 | G40: =F40*E40 -> 25381.478
B41: 110113 | C41: 29-Emassamento com massa acrílica para ambientes internos, duas demãos | D41: m² | E41: 1203.51 | F41: 26.62 | G41: =F41*E41 -> 32037.436
B42: 150110 | C42: 30-Pintura latex acrílica, ambientes internos, duas demãos | D42: m² | E42: 1203.51 | F42: 19.38 | G42: =F42*E42 -> 23324.024
B43: 84088 | C43: 31-Peitoril de granito (janelas) | D43: m | E43: 58.25 | F43: 107.66 | G43: =F43*E43 -> 6271.195
B44: 150119 | C44: 32-Pintura externa em textura acrílica | D44: m² | E44: 1024.1 | F44: 21.08 | G44: =F44*E44 -> 21588.028
...

Sheet RESUMO
B3: PREFEITURA MUNICIPAL DE FERRAZ DE VASCONCELOS
B4: SECRETARIA MUNICIPAL DE OBRAS
B6: OBRA: Construção de Unidade Básica de Saúde - JD. TV. Rua do Vereador, 99 Lote P/113 e P/4
B7: PLANILHA ORÇAMENTÁRIA
B8: Referência | C8: Código | D8: Descrição | E8: Unid | F8: Qtde | G8: Preço | H8: Total
C9: 1 | D9: ='Table 1'!C5 -> SERVIÇOS PRELIMINARES
B10: SINAPI | C10: ='Table 1'!B6 -> 16.06.078 | D10: ='Table 1'!C6 -> 1-FORNECIMENTO E INSTALAÇAO DE PLACA DE IDENTIFICAÇAO DE OBRA INCLUSO SUPORTE ESTRUTURA DE MADEIRA. 3x4=12m2 | E10: ='Table 1'!D6 -> m² | F10: 12
B11: SINAPI | C11: ='Table 1'!B7 -> 16.30.010 | D11: ='Table 1'!C7 -> 2-TAPUME H=225CM APOIADO NO TERRENO E PINTURA LATEX FACE EXTERNA COM LOGOTIPO | E11: ='Table 1'!D7 -> m² | F11: ='Table 1'!E7 -> 106.7
B12: SINAPI | C12: ='Table 1'!B8 -> 98525 | D12: ='Table 1'!C8 -> 3-Limpeza mecânica de terreno, inclusive retirada de árvores até 0,20 m | E12: ='Table 1'!D8 -> m³ | F12: ='Table 1'!E8 -> 1527.75
B13: EDIF | C13: ='Table 1'!B9 -> 90153 | D13: ='Table 1'!C9 -> 4-ENTRADA AÉREA DE ENERGIA E TELEFONE - 13 À 16KVA | E13: ='Table 1'!D9 -> un | F13: ='Table 1'!E9 -> 1
B14: SINAPI | C14: ='Table 1'!B10 -> 93350 | D14: ='Table 1'!C10 -> 5-LIGACOES PREDIAIS DE ESGOTO | E14: un | F14: 1
B15: SINAPI | C15: ='Table 1'!B11 -> 100261 | D15: ='Table 1'!C11 -> 6-TUBO DE PVC RÍGIDO, SOLDÁVEL (LINHA ÁGUA) - 25MM (3/4") 12x6 =72m | E15: ='Table 1'!D11 -> un | F15: 72
B16: SINAPI | C16: ='Table 1'!B12 -> 97013 | D16: ='Table 1'!C12 -> 7-FECHAMENTO DE CONSTRUÇÃO TEMPORÁRIA EM CHAPA DE MADEIRA COMPENSADA E=10MM - antigo 92235 -m2 | E16: ='Table 1'!D12 -> m | F16: 10
B17: SINAPI | C17: ='Table 1'!B13 -> 93207 | D17: ='Table 1'!C13 -> 8-EXECUÇÃO DE ESCRITÓRIO EM CANTEIRO DE OBRA EM CHAPA DE MADEIRA COMPENSADA NÃO INCLUSO MOBILIÁRIO E EQUIPAMENTOS. AF_02/2016 - sinapi | E17: ='Table 1'!D13 -> m² | F17: 40
F18: sub total:
C19: 2 | D19: COBERTURA
B20: SINAPI | C20: ='Table 1'!B18 -> 60113 | D20: ='Table 1'!C18 -> 9-ESTRUTURA DE MADEIRA, PONTALETADA, PARA TELHAS ONDULADAS CA/AL/PL/AG | E20: ='Table 1'!D18 -> m² | F20: ='Table 1'!E18 -> 594.74
B21: SINAPI | C21: ='Table 1'!B19 -> 94195 | D21: ='Table 1'!C19 -> 10-TELHAMENTO COM TELHA CERÂMICA DE ENCAIXE, TIPO PORTUGUESA, COM ATÉ 02 ÁGUAS INCLUSO TRANSPORTE VERTICAL. AF_06/2016 | E21: ='Table 1'!D19 -> m² | F21: ='Table 1'!E19 -> 594.74
B22: EDIF | C22: ='Table 1'!B20 -> 60250 | D22: ='Table 1'!C20 -> 11-Cobertura em policarbonato, incl. Estrutura metálica | E22: ='Table 1'!D20 -> m² | F22: ='Table 1'!E20 -> 50.5
B23: SINAPI | C23: ='Table 1'!B21 -> 60251 | D23: ='Table 1'!C21 -> 12-CUMEEIRA OU ESPIGÃO PARA TELHAS PAULISTA, PLAN E FRANCESA - BARRO OU VIDRO | E23: ='Table 1'!D21 -> m | F23: ='Table 1'!E21 -> 54.4
B24: SINAPI | C24: ='Table 1'!B22 -> 92228 | D24: ='Table 1'!C22 -> 13-CALHA EM CHAPA DE AÇO GALVANIZADO NÚMERO 24, DESENVOLVIMENTO DE 50 CM INCLUSO TRANSPORTE VERTICAL. AF_06/2016 | E24: ='Table 1'!D22 -> m | F24: ='Table 1'!E22 -> 103.13
B25: SINAPI | C25: ='Table 1'!B23 -> 94231 | D25: ='Table 1'!C23 -> 14-RUFO EM CHAPA DE AÇO GALVANIZADO NÚMERO 24, CORTE DE 25 CM, INCLUSO TRANSPORTE VERTICAL. AF_06/2016 | E25: ='Table 1'!D23 -> m | F25: ='Table 1'!E23 -> 405.79
F26: sub total:
C27: 3 | D27: REVESTIMENTOS - PISOS, PAREDES E TETOS
B28: SINAPI | C28: ='Table 1'!B27 -> 90902- SINAPI | D28: ='Table 1'!C27 -> 15-Contrapiso em argamassa traço 1:4 (cimento e areia), espessura 7 cm, preparo manual | E28: ='Table 1'!D27 -> m² | F28: ='Table 1'!E27 -> 491.71
B29: EDIF | C29: ='Table 1'!B28 -> 87620/ 73892/001 | D29: ='Table 1'!C28 -> 16-Regularização de piso em argamassa traço 1:3 (cimento e areia grossa sem peneirar), espessura 2,0 cm, preparo mecânico | E29: ='Table 1'!D28 -> m² | F29: ='Table 1'!E28 -> 546.75
B30: SINAPI | C30: ='Table 1'!B29 -> 94993 -SINAPI | D30: ='Table 1'!C29 -> 17-Piso (calçada em concreto) cimento/areia/seixo rolado preparo mecânico e espessura de 7 cm (contorno UBS) | E30: ='Table 1'!D29 -> m² | F30: ='Table 1'!E29 -> 381.2
B31: EDIF | C31: ='Table 1'!B30 -> 17.02.66/ EDIF | D31: ='Table 1'!C30 -> 18-Pavimentação em PAVER rejuntado com pó de pedra, incl. Base de pó de pedra (acesso ambulâncias e estacionamento) | E31: ='Table 1'!D30 -> m² | F31: ='Table 1'!E30 -> 86.29
B32: EDIF | C32: ='Table 1'!B31 -> 20215 -EDIF | D32: ='Table 1'!C31 -> 19-Lastro de cascalho (estacionamento h = 10 cm) | E32: ='Table 1'!D31 -> m³ | F32: ='Table 1'!E31 -> 24.47
B33: SINAPI | C33: ='Table 1'!B32 -> 94276-SINAPI | D33: ='Table 1'!C32 -> 20-Guia de concreto | E33: ='Table 1'!D32 -> m | F33: ='Table 1'!E32 -> 48.5
B34: SINAPI | C34: ='Table 1'!B33 -> 94284-SINAPI | D34: ='Table 1'!C33 -> 21-Sarjeta em concreto, preparo manual, com seixo rolado, espessura 8 cm largura 40 cm | E34: ='Table 1'!D33 -> m² | F34: ='Table 1'!E33 -> 19.4
B35: EDIF | C35: ='Table 1'!B34 -> 13.02.42 EDIF | D35: ='Table 1'!C34 -> 22-Piso cerâmico 40 x 40 cm, assentada com argamassa colante, com rejuntamento de epoxi | E35: ='Table 1'!D34 -> m² | F35: ='Table 1'!E34 -> 491.71
B36: EDIF | C36: ='Table 1'!B35 -> 130309 | D36: ='Table 1'!C35 -> 23-Rodapé cerâmico H = 10 cm, assentada com argamassa colante, com rejuntamento em epoxi | E36: ='Table 1'!D35 -> m | F36: ='Table 1'!E35 -> 365.8
B37: EDIF | C37: ='Table 1'!B36 -> 98695 -SINAPI | D37: ='Table 1'!C36 -> 24-Soleira de granito - portas | E37: ='Table 1'!D36 -> m | F37: ='Table 1'!E36 -> 52.6
B38: EDIF | C38: ='Table 1'!B37 -> 87903 | D38: ='Table 1'!C37 -> 25-Chapisco em paredes externas traço 1:3 (cimento e areia), espessura 0,5 cm, preparo mecânico | E38: ='Table 1'!D37 -> m² | F38: ='Table 1'!E37 -> 1012.74
B39: EDIF | C39: ='Table 1'!B38 -> 87877 | D39: ='Table 1'!C38 -> 26-Chapisco em paredes internas traço 1:3 (cimento e areia), espessura 0,5 cm, preparo mecânico | E39: ='Table 1'!D38 -> m² | F39: ='Table 1'!E38 -> 1574.53
... B54: EDIF | C54: ='Table 1'!B53 -> 150119 | D54: ='Table 1'!C53 -> 41-Pintura externa em textura acrílica | E54: ='Table 1'!D53 -> m² | F54: ='Table 1'!E53 -> 36.72
F55: sub total:
C56: 4 | D56: ESQUADRIAS DE MADEIRA E ALUMÍNIO
B57: SINAPI | C57: ='Table 1'!B57 -> 70107 | D57: ='Table 1'!C57 -> 42-PM.07 - PORTA LISA ESPECIAL/ SÓLIDA - 82X210CM | E57: ='Table 1'!D57 -> un | F57: ='Table 1'!E57 -> 9
...

Sheet CRONOGRAMA
C3: PREFEITURA MUNICIPAL DE FERRAZ DE VASCONCELOS
C4: SECRETARIA MUNICIPAL DE OBRAS
C6: CRONOGRAMA FÍSICO - FINANCEIRO
C7: OBRA: Construção de Unidade Básica de Saúde - JD. TV. Rua do Vereador, 99 Lote P/113 e P/4 Data-Base: SINAPI- 06/2020- EDIF-01/2020 - FDE- 04/2020 -BDI 25%
A8: ITEM | B8: DESCRIÇÃO | F8: 1º Mês | G8: 2º Mês | H8: 3º Mês | I8: 4º Mês | J8: 5º Mês | K8: 6º Mês | L8: 7º Mês | M8: 8º Mês | N8: 9º Mês | O8: 10º Mês | P8: 11º Mês | Q8: 12º Mês | R8: VALOR p/ serviço | T8: TOTAL
R9: C/BDI | T9: %
A10: 1 | B10: =RESUMO!D9 -> SERVIÇOS PRELIMINARES | F10: =R10 -> 60792.7 | R10: =SUM(48634.16*1.25) -> 60792.7 | T10: =R10/S39 -> #DIV/0!
A13: 2 | B13: COBERTURA | F13: =R13/2 -> 95862.869 | G13: =R13/2 -> 95862.869 | R13: =SUM(153380.59*1.25) -> 191725.74 | T13: =R13/S39 -> #DIV/0!
A16: 3 | B16: REVESTIMENTOS-PISOS ,PAREDES E TETOS | K16: =R16/6 -> 83611.585 | L16: =R16/6 -> 83611.585 | M16: =R16/6 -> 83611.585 | N16: =R16/6 -> 83611.585 | O16: =R16/6 -> 83611.585 | P16: =R16/6 -> 83611.585 | R16: =SUM(401335.61*1.25) -> 501669.51 | T16: =R16/S39 -> #DIV/0!
A19: 4 | B19: ESQUADRIAS DE MADEIRA E ALUMÍNIO | G19: =R19/5 -> 24943.26 | H19: =R19/5 -> 24943.26 | I19: =R19/5 -> 24943.26 | J19: =R19/5 -> 24943.26 | K19: =R19/5 -> 24943.26 | R19: =SUM(99773.04*1.25) -> 124716.3 | T19: =R19/S39 -> #DIV/0!
A22: 5 | B22: INSTALAÇÕES ELÉTRICAS | J22: =R22/3 -> 33458.667 | K22: =R22/3 -> 33458.667 | L22: =R22/3 -> 33458.667 | R22: =SUM(80300.8*1.25) -> 100376 | T22: =R22/S39 -> #DIV/0!
A25: 6 | B25: INSTALAÇÕES HIDRÁULICAS | J25: =R25/4 -> 33372.184 | K25: =R25/4 -> 33372.184 | L25: =R25/4 -> 33372.184 | M25: =R25/4 -> 33372.184 | R25: =SUM(106790.99*1.25) -> 133488.74 | T25: =R25/S39 -> #DIV/0!
A28: 7 | B28: REDE AR COMPRIMIDO | N28: =R28/3 -> 2098.125 | O28: =R28/3 -> 2098.125 | P28: =R28/3 -> 2098.125 | R28: =SUM(5035.5*1.25) -> 6294.375 | T28: =R28/S39 -> #DIV/0!
A31: 8 | B31: COMUNICAÇÃO VISUAL | L31: =R31/4 -> 5923.4438 | M31: =R31/4 -> 5923.4438 | N31: =R31/4 -> 5923.4438 | O31: =R31/4 -> 5923.4438 | R31: =SUM(18955.02*1.25) -> 23693.775 | T31: =R31/S39 -> #DIV/0!
A34: 9 | B34: DIVERSOS E LIMPEZA DE OBRA | N34: =R34/4 -> 43889.303 | O34: =R34/4 -> 43889.303 | P34: =R34/4 -> 43889.303 | Q34: =R34/4 -> 43889.303 | R34: =SUM(140445.77*1.25) -> 175557.21 | T34: =R34/S39 -> #DIV/0!
D37: VALOR - p/ Mês | F37: =SUM(F10:F36) -> 156655.57 | G37: =SUM(G10:G36) -> 120806.13 | H37: =SUM(H10:H36) -> 24943.26 | I37: =SUM(I10:I36) -> 24943.26 | J37: =SUM(J10:J36) -> 91774.111 | K37: =SUM(K10:K36) -> 175385.7 | L37: =SUM(L10:L36) -> 156365.88 | M37: =SUM(M10:M36) -> 122907.21 | ... Q37: =SUM(Q10:Q36) -> 43889.303 | T37: =SUM(T10:T36)*100 -> #DIV/0!
R38: Total s/BDI: | S38: =RESUMO!G193 -> 0
D39: TOTAL % | F39: =F37/S39 -> #DIV/0! | G39: =G37/S39 -> #DIV/0! | H39: =H37/S39 -> #DIV/0! | I39: =I37/S39 -> #DIV/0! | J39: =J37/S39 -> #DIV/0! | K39: =K37/S39 -> #DIV/0! | L39: =L37/S39 -> #DIV/0! | M39: =M37/S39 -> #DIV/0! | N39: =N37/S39 -> #DIV/0! | O39: =O37/S39 -> #DIV/0! | P39: =P37/S39 -> #DIV/0! | Q39: =Q37/S39 -> #DIV/0! | R39: Total c/BDI: | S39: =RESUMO!G195 -> 0
R40: Total %: | S40: =SUM(F39:Q40) -> #DIV/0!
A41: Data-Base: SINAPI- 06/2020- EDIF-01/2020 - FDE- 04/2020
A42: Eng. civil : Vicente Nunes da Eira creasp -5060580945
A43: Latitude :23º32'22.23" S Longitude :46º22'37.68" O
A44: ADOTADO CRITÉRIO POR MEDIÇÃO - PLANILHA ATUALIZADA CONFORME ORIGINAL LICITADA ANTERIORMENTE
