Workbook
Name Excel_BuiltIn_Database: #REF!
Name Excel_BuiltIn_Database_2: #REF!

Sheet ORÇ
D2: MEMÓRIA DE CÁLCULO
G3: Processo:
G4: Data-Base: Janeiro/2018 - SIURB- FDE
E5: MEDIÇÃO:
B6: OBRA:CONSTRUÇÃO E.E. JD. SANTIAGO | G6: Ferraz de Vasconcelos
B7: R.:ITAQUAQUECETUBA N°1333 - JD. DAYSE | G7: CONTRATO: | H7: -
B9: CÓDIGO | C9: DESCRIÇÃO DOS SERVIÇOS | H9: UNID | I9: QUANT
B11: 1.0 | C11: SERVIÇOS PRELIMINARES
B12: 16.06.051 | C12: CANTEIRO DE OBRAS - LARG 3.30M | H12: M2 | I12: 16.5 | J12: =SUM(L12/1.2971) -> 312.35834 | K12: =J12*I12 -> 5153.9126 | L12: 405.16
C13: 5X3,30M=16,50M2
B14: 16.30.010 | C14: TAPUME H=225CM APOIADO NO TERRENO E PINTURA LATEX FACE EXTERNA COM LOGOTIPO | H14: M2 | I14: 67.5 | J14: =SUM(L14/1.2971) -> 61.891913 | K14: =J14*I14 -> 4177.7041 | L14: 80.28
C15: 30X2,25=67,50M2
B17: 1.4 | C17: INSTALAÇÕES HIDRÁULICAS
B18: ='[1]page 1'!$A$39 -> 08.12.065 | C18: ='[2]page 1'!$B$39 -> Grelha hemisferico para saida da calha Ø 75 mm | H18: UNID | I18: 8 | J18: =SUM(L18/1.2971) -> 6.4451469 | K18: =J18*I18 -> 51.561175 | L18: 8.36
B19: ='[1]page 1'!$A$40 -> 08.12.067 | C19: ='[2]page 1'!$B$40 -> Grelha hemisferico para saida da calha Ø 150 mm | H19: UNID | I19: 4 | J19: =SUM(L19/1.2971) -> 17.31555 | K19: =J19*I19 -> 69.2622 | L19: 22.46
B20: 15.03.021 | C20: ='[2]page 1'!$B$41 -> ESMALTE EM ESQUADRIAS DE FERRO | H20: M2 | I20: 150.2 | J20: =SUM(L20/1.2971) -> 23.783825 | K20: =J20*I20 -> 3572.3306 | L20: 30.85
B21: ='[1]page 1'!$A$42 -> 08.03.016 | C21: ='[2]page 1'!$B$42 -> Ramal de alimentação predial de PVC Ø 25 mm | H21: M | I21: 59 | J21: =SUM(L21/1.2971) -> 17.839796 | K21: =J21*I21 -> 1052.548 | L21: 23.14
B22: ='[1]page 1'!$A$43 -> 08.03.003 | C22: ='[2]page 1'!$B$43 -> Ramal de alimentação predial de AG Ø 25 mm | H22: M | I22: 12 | J22: =SUM(L22/1.2971) -> 76.694164 | K22: =J22*I22 -> 920.32997 | L22: 99.48
B23: ='[1]page 1'!$A$44 -> 08.03.004 | C23: ='[2]page 1'!$B$44 -> Tubo aço galvanizado rosca BSP Ø 1 1/4 (entrada de água) | H23: M | I23: 11.5 | J23: =SUM(L23/1.2971) -> 90.871945 | K23: =J23*I23 -> 1045.0274 | L23: 117.87
B24: ='[1]page 1'!$A$45 -> 08.03.009 | C24: ='[2]page 1'!$B$45 -> Tubo aço galvanizado rosca BSP Ø 4" (saida p/ consumo prédio e saída de incêndio) | H24: M | I24: 44 | J24: =SUM(L24/1.2971) -> 232.57266 | K24: =J24*I24 -> 10233.197 | L24: 301.67
B25: ='[1]page 1'!$A$46 -> 08.03.005 | C25: ='[2]page 1'!$B$46 -> Tubo de aço galvanizado rosca BSP Ø 1 1/2" (estravasor/dreno limpeza/bomba/respiro) | H25: M | I25: 32.6 | J25: =SUM(L25/1.2971) -> 102.1895 | K25: =J25*I25 -> 3331.3777 | L25: 132.55
B26: ='[1]page 1'!$A$48 -> 08.14.009 | C26: ='[2]page 1'!$B$48 -> Registro de gaveta Ø 4" | H26: UNID | I26: 4 | J26: =SUM(L26/1.2971) -> 578.87595 | K26: =J26*I26 -> 2315.5038 | L26: 750.86
B27: ='[1]page 1'!$A$49 -> 08.14.005 | C27: ='[2]page 1'!$B$49 -> Registro de gaveta Ø 1 1/2" | H27: UNID | I27: 4 | J27: =SUM(L27/1.2971) -> 93.038316 | K27: =J27*I27 -> 372.15326 | L27: 120.68
B28: ='[1]page 1'!$A$50 -> 08.14.004 | C28: ='[2]page 1'!$B$50 -> Registro de gaveta Ø 1 1/4" | H28: UNID | I28: 4 | J28: =SUM(L28/1.2971) -> 77.85059 | K28: =J28*I28 -> 311.40236 | L28: 100.98
B29: ='[1]page 1'!$A$51 -> 08.14.018 | C29: ='[2]page 1'!$B$51 -> Valvula de retenção Ø 1 1/2" | H29: UNID | I29: 1 | J29: =SUM(L29/1.2971) -> 143.57413 | K29: =J29*I29 -> 143.57413 | L29: 186.23
B30: ='[1]page 1'!$A$52 -> 08.14.071 | C30: ='[2]page 1'!$B$52 -> Bomba recalque Schneider BC 91T - sucção 1/1/4" recalque 1 1/2" 220v trifasica | H30: UNID | I30: 2 | J30: =SUM(L30/1.2971) -> 896.97787 | K30: =J30*I30 -> 1793.9557 | L30: 1163.47
B31: 08.01.002 | C31: AC-05 ABRIGO E CAVALETE DE 1" COMPLETO 85X65X30CM | H31: UNID | I31: 1 | J31: =SUM(L31/1.2971) -> 1069.6168 | K31: =J31*I31 -> 1069.6168 | L31: 1387.4
B32: ='[1]page 1'!$A$54 -> 08.14.046 | C32: ='[2]page 1'!$B$54 -> Torneira de boia Ø 1" | H32: UNID | I32: 1 | J32: =SUM(L32/1.2971) -> 85.853057 | K32: =J32*I32 -> 85.853057 | L32: 111.36
C33: ='[2]page 1'!$B$57 -> Serviços em rede de água fria
B34: ='[1]page 1'!$A$58 -> 08.09.018 | C34: ='[2]page 1'!$B$58 -> Tubo de pvc rígido junta elástica DN 100 mm (4") - incluindo conexões | H34: M | I34: 60 | J34: =SUM(L34/1.2971) -> 49.286871 | K34: =J34*I34 -> 2957.2122 | L34: 63.93
B35: ='[1]page 1'!$A$59 -> 08.03.017 | C35: ='[2]page 1'!$B$59 -> Tubo de pvc rígido junta soldável DN 32 mm (1") - incluindo conexões | H35: M | I35: 380 | J35: =SUM(L35/1.2971) -> 23.822373 | K35: =J35*I35 -> 9052.5017 | L35: 30.9
B36: ='[1]page 1'!$A$60 -> 08.03.020 | C36: ='[2]page 1'!$B$60 -> Tubo de pvc rígido junta soldável DN 60 mm (2") - incluindo conexões | H36: M | I36: 60 | J36: =SUM(L36/1.2971) -> 46.627091 | K36: =J36*I36 -> 2797.6255 | L36: 60.48
J37: =SUM(L37/1.2971) -> 0
B38: 1.5 | C38: INSTALAÇÕES ELÉTRICAS | J38: =SUM(L38/1.2971) -> 0
B39: ='[1]page 1'!$A$64 -> 09.02.061 | C39: ='[2]page 1'!$B$64 -> AE-21 Abrigo entrada de energia 38 a 76 Kv AES/BANDEIRANTE/ELEKTRO | H39: UNID | I39: 1 | J39: =SUM(L39/1.2971) -> 3941.6236 | K39: =J39*I39 -> 3941.6236 | L39: 5112.68
B40: ='[1]page 1'!$A$65 -> 09.02.081 | C40: ='[2]page 1'!$B$65 -> Conj. 4 cabos p/ entrada de eneria secção 185 mm2 c/ eletrodutos | H40: UNID | I40: 1 | J40: =SUM(L40/1.2971) -> 4075.4452 | K40: =J40*I40 -> 4075.4452 | L40: 5286.26
B41: 09.02.102 | C41: ='[2]page 1'!$B$66 -> Conj. Entrada p/ telefone em entrada de energia | H41: UNID | I41: 2 | J41: =SUM(L41/1.2971) -> 371.59047 | K41: =J41*I41 -> 743.18094 | L41: 481.99
B42: ='[1]page 1'!$A$67 -> 09.02.084 | C42: ='[2]page 1'!$B$67 -> Chave seccionadora NH c/ carga 3x250A TAM 01 c/ fusíveis | H42: UNID | I42: 1 | J42: =SUM(L42/1.2971) -> 448.53905 | K42: =J42*I42 -> 448.53905 | L42: 581.8
B43: ='[1]page 1'!$A$68 -> 09.02.089 | C43: ='[2]page 1'!$B$68 -> Disjuntor tripolar termomagnético 3x60A a 3x100A | H43: UNID | I43: 1 | J43: =SUM(L43/1.2971) -> 139.51122 | K43: =J43*I43 -> 139.51122 | L43: 180.96
J44: =SUM(L44/1.2971) -> 0
...

Sheet Planilha
C3: PREFEITURA MUNICIPAL DE FERRAZ DE VASCONCELOS
C4: SECRETARIA MUNICIPAL DE OBRAS
B5: PLANILHA ORÇAMENTÁRIA DE EXECUÇÃO DA CONSTRUÇÃO E.E. JD. SANTIAGO R.:ITAQUAQUECETUBA N°1333 - JD. DAYSE
B7: Item | C7: Descrição | D7: Unid | E7: Qtde | F7: Preço Unit. | G7: Total
B8: 1 | C8: =ORÇ!C12 -> CANTEIRO DE OBRAS - LARG 3.30M
B9: =ORÇ!B12 -> 16.06.051 | D9: M2 | E9: 16.5 | G9: =F9*E9 -> 0
B10: FDE | F10: Subtotal: | G10: =SUM(G9:G9) -> 0
B11: 2 | C11: =ORÇ!C14 -> TAPUME H=225CM APOIADO NO TERRENO E PINTURA LATEX FACE EXTERNA COM LOGOTIPO
B12: =ORÇ!B14 -> 16.30.010 | D12: M2 | E12: 67.5 | G12: =F12*E12 -> 0
B13: FDE | F13: Subtotal: | G13: =SUM(G12:G12) -> 0
B14: 3 | C14: =ORÇ!C18 -> Grelha hemisferico para saida da calha Ø 75 mm
B15: =ORÇ!B18 -> 08.12.065 | D15: UNID | E15: 8 | G15: =F15*E15 -> 0
B16: FDE | F16: Subtotal: | G16: =SUM(G15:G15) -> 0
B17: 4 | C17: =ORÇ!C19 -> Grelha hemisferico para saida da calha Ø 150 mm
B18: =ORÇ!B19 -> 08.12.067 | D18: UNID | E18: 4 | G18: =F18*E18 -> 0
B19: FDE | F19: Subtotal: | G19: =SUM(G18:G18) -> 0
B20: 5 | C20: =ORÇ!C20 -> ESMALTE EM ESQUADRIAS DE FERRO
B21: =ORÇ!B20 -> 15.03.021 | D21: M2 | E21: 150.2 | G21: =F21*E21 -> 0
B22: FDE | F22: Subtotal: | G22: =SUM(G21:G21) -> 0
B23: 6 | C23: =ORÇ!C21 -> Ramal de alimentação predial de PVC Ø 25 mm
B24: =ORÇ!B21 -> 08.03.016 | D24: M | E24: 59 | G24: =F24*E24 -> 0
B25: FDE | F25: Subtotal: | G25: =SUM(G24:G24) -> 0
B26: 7 | C26: =ORÇ!C22 -> Ramal de alimentação predial de AG Ø 25 mm
B27: =ORÇ!B22 -> 08.03.003 | D27: M | E27: 12 | G27: =F27*E27 -> 0
B28: FDE | F28: Subtotal: | G28: =SUM(G27:G27) -> 0
B29: 8 | C29: =ORÇ!C23 -> Tubo aço galvanizado rosca BSP Ø 1 1/4 (entrada de água)
B30: =ORÇ!B23 -> 08.03.004 | D30: M | E30: 11.5 | G30: =F30*E30 -> 0
B31: FDE | F31: Subtotal: | G31: =SUM(G30:G30) -> 0
B32: 9 | C32: =ORÇ!C24 -> Tubo aço galvanizado rosca BSP Ø 4" (saida p/ consumo prédio e saída de incêndio)
B33: =ORÇ!B26 -> 08.14.009 | D33: M | E33: 44 | G33: =E33*F33 -> 0
B34: FDE | F34: Subtotal: | G34: =SUM(G33:G33) -> 0
B35: 10 | C35: =ORÇ!C25 -> Tubo de aço galvanizado rosca BSP Ø 1 1/2" (estravasor/dreno limpeza/bomba/respiro)
B36: =ORÇ!B25 -> 08.03.005 | D36: M | E36: 32.6 | G36: =E36*F36 -> 0
B37: FDE | F37: Subtotal: | G37: =SUM(G36:G36) -> 0
B38: 11 | C38: =ORÇ!C26 -> Registro de gaveta Ø 4"
B39: =ORÇ!B26 -> 08.14.009 | D39: UNID | E39: 4 | G39: =E39*F39 -> 0
B40: FDE | F40: Subtotal: | G40: =SUM(G39:G39) -> 0
B41: 12 | C41: =ORÇ!C27 -> Registro de gaveta Ø 1 1/2"
B42: =ORÇ!B27 -> 08.14.005 | D42: UNID | E42: 4 | G42: =E42*F42 -> 0
B43: FDE | F43: Subtotal: | G43: =SUM(G42:G42) -> 0
...

Sheet cronograma
B3: PREFEITURA MUNICIPAL DE FERRAZ DE VASCONCELOS
B4: SECRETARIA MUNICIPAL DE OBRAS
A5: CRONOGRAMA DA EXEC. DA CONSTRUÇÃO E.E. JD. SANTIAGO R.:ITAQUAQUECETUBA N°1333 - JD. DAYSE
O7: VALOR | P7: total %
A8: Item | B8: Descrição | C8: 1ºMÊS | D8: 2ºMÊS | E8: 3ºMÊS | F8: 4ºMÊS | G8: 5ºMÊS | H8: 6ºMÊS | I8: 7ºMÊS | J8: 8ºMÊS | K8: 9ºMÊS | L8: 10ºMÊS | M8: 11ºMÊS | N8: 12ºMÊS | O8: C/BDI | P8: p/serviço
A9: 1 | B9: SERVIÇOS PRELIMINARES | C9: =(O9/2) -> 5832.2604 | D9: =(O9/2) -> 5832.2604 | O9: =SUM(9331.61668*1.25) -> 11664.521 | P9: =SUM(O9/O32)*100 -> 0.51393082
A12: 2 | B12: INSTALAÇÕES HIDRÁULICAS | E12: =(O12/7) -> 30773.632 | F12: =(O12/7) -> 30773.632 | G12: =(O12/7) -> 30773.632 | H12: =(O12/7) -> 30773.632 | I12: =(O12/7) -> 30773.632 | J12: =(O12/7) -> 30773.632 | K12: =(O12/7) -> 30773.632 | O12: =SUM((172332.3391*1.25)) -> 215415.42 | P12: =SUM(O12/O32)*100 -> 9.4910564
A15: 3 | B15: INSTALAÇÕES ELETRICA | I15: =(O15/6) -> 78276.241 | J15: =(O15/6) -> 78276.241 | K15: =(O15/6) -> 78276.241 | L15: =(O15/6) -> 78276.241 | M15: =(O15/6) -> 78276.241 | N15: =(O15/6) -> 78276.241 | O15: =SUM(375725.9579*1.25) -> 469657.45 | P15: =SUM(O15/O32)*100 -> 20.692786
A18: 4 | B18: ALVENARIA E OUTROS SERV. | D18: =(O18/6) -> 111940.66 | E18: =(O18/6) -> 111940.66 | F18: =(O18/6) -> 111940.66 | G18: =(O18/6) -> 111940.66 | H18: =(O18/6) -> 111940.66 | I18: =(O18/6) -> 111940.66 | O18: =SUM(537315.1537*1.25) -> 671643.94 | P18: =SUM(O18/O32)*100 -> 29.592173
A21: 5 | B21: ESTRUTURA METÁLICA/COBERTURA | I21: =(O21/6) -> 83085.274 | J21: =(O21/6) -> 83085.274 | K21: =(O21/6) -> 83085.274 | L21: =(O21/6) -> 83085.274 | M21: =(O21/6) -> 83085.274 | N21: =(O21/6) -> 83085.274 | O21: =SUM(398809.3158*1.25) -> 498511.64 | P21: =SUM(O21/O32)*100 -> 21.964082
A24: 6 | B24: PINTURA | J24: =(O24/5) -> 60473.389 | K24: =(O24/5) -> 60473.389 | L24: =(O24/5) -> 60473.389 | M24: =(O24/5) -> 60473.389 | N24: =(O24/5) -> 60473.389 | O24: =SUM(241893.5551*1.25) -> 302366.94 | P24: =SUM(O24/O32)*100 -> 13.322081
A27: 7 | B27: SERVIÇOS COMPLEMENTARES | J27: =(O27/5) -> 20081.518 | K27: =(O27/5) -> 20081.518 | L27: =(O27/5) -> 20081.518 | M27: =(O27/5) -> 20081.518 | N27: =(O27/5) -> 20081.518 | O27: =SUM(80326.07131*1.25) -> 100407.59 | P27: =SUM(O27/O32)*100 -> 4.4238898
B30: TOTAL % por mês | C30: =SUM(C9:C29) -> 5832.2604 | D30: =SUM(D9:D29) -> 117772.92 | E30: =SUM(E10:E29) -> 142714.29 | F30: =SUM(F12:F29) -> 142714.29 | G30: =SUM(G11:G29) -> 142714.29 | H30: =SUM(H11:H29) -> 142714.29 | I30: =SUM(I11:I29) -> 304075.8 | J30: =SUM(J11:J29) -> 272690.05 | K30: =SUM(K12:K29) -> 272690.05 | L30: =SUM(L13:L29) -> 241916.42 | M30: =SUM(M13:M29) -> 241916.42 | N30: =SUM(N13:N29) -> 241916.42
C31: =SUM(C9:C27)/O32 -> 0.0025696541 | D31: =SUM(D9:D27)/O32 -> 0.051889943 | E31: =SUM(E11:E28)/O32 -> 0.062878941 | F31: =SUM(F11:F28)/O32 -> 0.062878941 | G31: =SUM(G11:G28)/O32 -> 0.062878941 | H31: =SUM(H11:H28)/O32 -> 0.062878941 | I31: =SUM(I11:I28)/O32 -> 0.13397372 | J31: =SUM(J11:J28)/O32 -> 0.12014537 | K31: =SUM(K11:K28)/O32 -> 0.12014537 | L31: =SUM(L11:L28)/O32 -> 0.10658672 | M31: =SUM(M11:M28)/O32 -> 0.10658672 | N31: =SUM(N11:N28)/O32 -> 0.10658672 | O31: =SUM(C31:N31) -> 1 | P31: =SUM(P9:P27) -> 100
O32: =SUM(O9:O29) -> 2269667.5
A35: 4 | B35: ALVENARIA E OUTROS SERV. | D35: =(O35/6) -> 111940.66 | E35: =(O35/6) -> 111940.66 | F35: =(O35/6) -> 111940.66 | G35: =(O35/6) -> 111940.66 | H35: =(O35/6) -> 111940.66 | I35: =(O35/6) -> 111940.66 | O35: =SUM(537315.1537*1.25) -> 671643.94 | P35: =SUM(O35/O32)*100 -> 29.592173
A39: VICENTE NUNES DA EIRA ENG. CIVIL CREA : 5060580945SP
A40: Obs: planilhas elaboradas em conformidade com o projeto apresentado pelo planejamento anexo ao processo nº13821/16
A41: de 14/09/16 ,não foram apresentados levantamentos topog., cotas e projetos complementares (eletr.,hidr.,A.Plv.,esgoto)
A43: CRITÉRIO POR MEDIÇÃO ---- LATITUDE :23°33' 22.62"S , LONGITUDE :46° 22' 40.67" O

Sheet Plan1
A1: PREFEITURA DE FERRAZ DE VASCONCELOS SECRETARIA MUNICIPAL DE EDUCAÇÃO PLANILHA ORÇAMENTÁRIA
A2: ITEM / CÓD. FDE | B2: DESCRIÇÃO DOS SERVIÇOS | C2: UN | D2: QUANT | E2: PREÇOS | G2: %
A3: ITEM / CÓD. FDE | B3: DESCRIÇÃO DOS SERVIÇOS | C3: UN | D3: QUANT | E3: UNIT | F3: TOTAL | G3: realizadas
A4: 1 | B4: INSTALAÇÕES E OUTROS
A5: 1.1 | B5: SERVIÇOS PRELIMINARES | F5: 227.247,65
A6: 01.01.001 | B6: Retirando a vegetação existente, troncos até 5vm de diâmetro e raspagem | C6: m2 | D6: 7.140,62 | E6: 2,31 | F6: 16.476,98 | G6: 100
A7: 01.02.001 | B7: Corte e aterro dentro da obra com transporte interno | C7: m3 | D7: 18,00 | E7: 23,08 | F7: 415,35 | G7: 100
A8: 01.02.002 | B8: Corte com retirada por caminhão nos primeiros 100 m | C8: m3 | D8: 1.589,66 | E8: 15,68 | F8: 24.929,25 | G8: 100
A9: 01.03.001 | B9: Corte e aterro dentro da obra com transporte interno | C9: m3 | D9: 5.480,00 | E9: 5,70 | F9: 31.223,68 | G9: 100
A10: 01.03.004 | B10: Aterro com transporte por caminhão nos primeiros 100m | C10: m3 | D10: 8.434,43 | E10: 9,94 | F10: 83.838,19 | G10: 100
A11: 01.03.005 | B11: Transporte por caminhão m3x | C11: km | D11: 84.344,26 | E11: 0,83 | F11: 70.364,20 | G11: 100
A13: 1.2 | B13: INFRAESTRUTURA | F13: 46.050,62
A14: 02.01.001 | B14: Escavação de terra até 1,80 m | C14: m3 | D14: 54,53 | E14: 21,23 | F14: 1.157,62 | G14: 100
A15: 02.01.010 | B15: Apiloamento para simples regularização | C15: m3 | D15: 8,10 | E15: 3,69 | F15: 29,91 | G15: 100
A16: 02.01.012 | B16: Lastro de brita e = 0,05 m | C16: m3 | D16: 0,41 | E16: 5,05 | F16: 2,05 | G16: 100
A17: 02.01.025 | B17: Reaterro apiloado | C17: m3 | D17: 18,00 | E17: 32,31 | F17: 581,65 | G17: 100
A18: 02.02.045 | B18: Estacas 25 para 20T - 42 estacas com ...... M.l. | C18: m.l. | D18: 336,00 | E18: 29,55 | F18: 9.930,06 | G18: 100
A19: 02.02.046 | B19: Estacas 30 para 30T - 43 estacas com ...... M.l. | C19: m.l. | D19: 344,00 | E19: 43,22 | F19: 14.868,11 | G19: 100
A20: 02.05.014 | B20: Concreto dosado e lançado fck = 20,00 Mpa - Blocos | C20: m3 | D20: 20,00 | E20: 393,70 | F20: 7.874,08 | G20: 100
A21: 02.04.002 | B21: Aço CA 50 - blocos | C21: kg | D21: 1.440,00 | E21: 5,56 | F21: 8.013,06 | G21: 100
A22: 02.04.003 | B22: Aço CA 60 - blocos | C22: kg | D22: 31,00 | E22: 5,50 | F22: 170,58 | G22: 100
A23: 02.03.001 | B23: Forma de madeira maciça para blocos | C23: m2 | D23: 91,00 | E23: 37,62 | F23: 3.423,52 | G23: 100
A25: 1.3 | B25: SUPERESTRUTURA | F25: 36.873,29
A26: 03.01.002 | B26: Forma de madeirite aparente | C26: m2 | D26: 16,00 | E26: 63,69 | F26: 1.018,99 | G26: 100
A27: 03.02.002 | B27: Aço CA 50 | C27: kg | D27: 3.640,80 | E27: 5,56 | F27: 20.259,69 | G27: 100
A28: 03.03.020 | B28: Concreto dosado e lançado fck = 30,00 MPa | C28: m3 | D28: 26,72 | E28: 418,83 | F28: 11.191,11 | G28: 100
A29: 03.03.024 | B29: Concreto dosado e lançado fck = 20,00 MPa | C29: m3 | D29: 7,23 | E29: 373,06 | F29: 2.697,23 | G29: 100
A30: 03.03.032 | B30: Laje H=0,15 treliçada sobre carga de 50,00 km/m2 | C30: m2 | D30: 16,00 | E30: 106,64 | F30: 1.706,27 | G30: 100
A32: 1.4 | B32: INSTALAÇÕES HIDRÁULICAS | F32: 92.096,64
A33: 08.09.019 | B33: Tubo de PVC esgoto Ø 150 mm | C33: m | D33: 96,00 | E33: 59,32 | F33: 5.694,77 | G33: 100
A34: 08.10.036 | B34: Caixa de gordura de alvenaria padrão FDE CG01 | C34: un | D34: 1,00 | E34: 741,34 | F34: 741,34 | G34: 100
A35: 08.10.038 | B35: Caixa de inspeção de areia padrão FDE C101 | C35: un | D35: 10,00 | E35: 302,31 | F35: 3.023,09 | G35: 100
A36: 08.11.032 | B36: Tubulação de PVC Ø 75 mm | C36: m | D36: 65,60 | E36: 27,02 | F36: 1.772,80 | G36: 100
A37: 08.11.034 | B37: Tubulação de PVC Ø 150 mm | C37: m | D37: 72,00 | E37: 47,59 | F37: 3.426,32 | G37: 100
A38: 08.11.035 | B38: Tubulação de concreto Ø 200 mm | C38: m | D38: 22,00 | E38: 79,88 | F38: 1.757,45 | G38: 100
A39: 08.12.065 | B39: Grelha hemisferico para saida da calha Ø 75 mm | C39: pç | D39: 8,00 | E39: 4,85 | F39: 38,77 | G39: 100
A40: 08.12.067 | B40: Grelha hemisferico para saida da calha Ø 150 mm | C40: pç | D40: 4,00 | E40: 14,92 | F40: 59,68 | G40: 100
A41: 1503021 | B41: ESMALTE EM ESQUADRIAS DE FERRO | C41: M2 | D41: 150.2 | E41: 25.19 | F41: 3.426,32 | G41: 0
A42: 08.03.016 | B42: Ramal de alimentação predial de PVC Ø 25 mm | C42: m | D42: 59,00 | E42: 11,83 | F42: 697,99 | G42: 0
A43: 08.03.003 | B43: Ramal de alimentação predial de AG Ø 25 mm | C43: m | D43: 12,00 | E43: 50,40 | F43: 604,81 | G43: 0
...
