Workbook
Name Excel_BuiltIn_Database: #REF!
Name Excel_BuiltIn_Database_2: #REF!

Sheet ORÇ
D2: MEMÓRIA DE CÁLCULO
G3: Processo:
G4: Data-Base: Janeiro/2018 - SIURB- FDE
E5: MEDIÇÃO:
B6: OBRA:CONSTRUÇÃO E.E. JD. SANTIAGO | G6: Ferraz de Vasconcelos
B7: R.:ITAQUAQUECETUBA N°1333 - JD. DAYSE | G7: CONTRATO: | H7: -
B9: CÓDIGO | C9: DESCRIÇÃO DOS SERVIÇOS | H9: UNID | I9: QUANT
B11: 1.0 | C11: SERVIÇOS PRELIMINARES
B12: 16.06.051 | C12: CANTEIRO DE OBRAS - LARG 3.30M | H12: M2 | I12: 16.5 | J12: =SUM(L12/1.2971) -> 312.35834 | K12: =J12*I12 -> 5153.9126 | L12: 405.16
C13: 5X3,30M=16,50M2
B14: 16.30.010 | C14: TAPUME H=225CM APOIADO NO TERRENO E PINTURA LATEX FACE EXTERNA COM LOGOTIPO | H14: M2 | I14: 67.5 | J14: =SUM(L14/1.2971) -> 61.891913 | K14: =J14*I14 -> 4177.7041 | L14: 80.28
C15: 30X2,25=67,50M2
B17: 1.4 | C17: INSTALAÇÕES HIDRÁULICAS
B18: ='[1]page 1'!$A$39 -> 08.12.065 | C18: ='[2]page 1'!$B$39 -> Grelha hemisferico para saida da calha Ø 75 mm | H18: UNID | I18: 8 | J18: =SUM(L18/1.2971) -> 6.4451469 | K18: =J18*I18 -> 51.561175 | L18: 8.36
B19: ='[1]page 1'!$A$40 -> 08.12.067 | C19: ='[2]page 1'!$B$40 -> Grelha hemisferico para saida da calha Ø 150 mm | H19: UNID | I19: 4 | J19: =SUM(L19/1.2971) -> 17.31555 | K19: =J19*I19 -> 69.2622 | L19: 22.46
B20: 15.03.021 | C20: ='[2]page 1'!$B$41 -> ESMALTE EM ESQUADRIAS DE FERRO | H20: M2 | I20: 150.2 | J20: =SUM(L20/1.2971) -> 23.783825 | K20: =J20*I20 -> 3572.3306 | L20: 30.85
B21: ='[1]page 1'!$A$42 -> 08.03.016 | C21: ='[2]page 1'!$B$42 -> Ramal de alimentação predial de PVC Ø 25 mm | H21: M | I21: 59 | J21: =SUM(L21/1.2971) -> 17.839796 | K21: =J21*I21 -> 1052.548 | L21: 23.14
B22: ='[1]page 1'!$A$43 -> 08.03.003 | C22: ='[2]page 1'!$B$43 -> Ramal de alimentação predial de AG Ø 25 mm | H22: M | I22: 12 | J22: =SUM(L22/1.2971) -> 76.694164 | K22: =J22*I22 -> 920.32997 | L22: 99.48
B23: ='[1]page 1'!$A$44 -> 08.03.004 | C23: ='[2]page 1'!$B$44 -> Tubo aço galvanizado rosca BSP Ø 1 1/4 (entrada de água) | H23: M | I23: 11.5 | J23: =SUM(L23/1.2971) -> 90.871945 | K23: =J23*I23 -> 1045.0274 | L23: 117.87
B24: ='[1]page 1'!$A$45 -> 08.03.009 | C24: ='[2]page 1'!$B$45 -> Tubo aço galvanizado rosca BSP Ø 4" (saida p/ consumo prédio e saída de incêndio) | H24: M | I24: 44 | J24: =SUM(L24/1.2971) -> 232.57266 | K24: =J24*I24 -> 10233.197 | L24: 301.67
B25: ='[1]page 1'!$A$46 -> 08.03.005 | C25: ='[2]page 1'!$B$46 -> Tubo de aço galvanizado rosca BSP Ø 1 1/2" (estravasor/dreno limpeza/bomba/respiro) | H25: M | I25: 32.6 | J25: =SUM(L25/1.2971) -> 102.1895 | K25: =J25*I25 -> 3331.3777 | L25: 132.55
B26: ='[1]page 1'!$A$48 -> 08.14.009 | C26: ='[2]page 1'!$B$48 -> Registro de gaveta Ø 4" | H26: UNID | I26: 4 | J26: =SUM(L26/1.2971) -> 578.87595 | K26: =J26*I26 -> 2315.5038 | L26: 750.86
B27: ='[1]page 1'!$A$49 -> 08.14.005 | C27: ='[2]page 1'!$B$49 -> Registro de gaveta Ø 1 1/2" | H27: UNID | I27: 4 | J27: =SUM(L27/1.2971) -> 93.038316 | K27: =J27*I27 -> 372.15326 | L27: 120.68
B28: ='[1]page 1'!$A$50 -> 08.14.004 | C28: ='[2]page 1'!$B$50 -> Registro de gaveta Ø 1 1/4" | H28: UNID | I28: 4 | J28: =SUM(L28/1.2971) -> 77.85059 | K28: =J28*I28 -> 311.40236 | L28: 100.98
B29: ='[1]page 1'!$A$51 -> 08.14.018 | C29: ='[2]page 1'!$B$51 -> Valvula de retenção Ø 1 1/2" | H29: UNID | I29: 1 | J29: =SUM(L29/1.2971) -> 143.57413 | K29: =J29*I29 -> 143.57413 | L29: 186.23
B30: ='[1]page 1'!$A$52 -> 08.14.071 | C30: ='[2]page 1'!$B$52 -> Bomba recalque Schneider BC 91T - sucção 1/1/4" recalque 1 1/2" 220v trifasica | H30: UNID | I30: 2 | J30: =SUM(L30/1.2971) -> 896.97787 | K30: =J30*I30 -> 1793.9557 | L30: 1163.47
B31: 08.01.002 | C31: AC-05 ABRIGO E CAVALETE DE 1" COMPLETO 85X65X30CM | H31: UNID | I31: 1 | J31: =SUM(L31/1.2971) -> 1069.6168 | K31: =J31*I31 -> 1069.6168 | L31: 1387.4
B32: ='[1]page 1'!$A$54 -> 08.14.046 | C32: ='[2]page 1'!$B$54 -> Torneira de boia Ø 1" | H32: UNID | I32: 1 | J32: =SUM(L32/1.2971) -> 85.853057 | K32: =J32*I32 -> 85.853057 | L32: 111.36
C33: ='[2]page 1'!$B$57 -> Serviços em rede de água fria
B34: ='[1]page 1'!$A$58 -> 08.09.018 | C34: ='[2]page 1'!$B$58 -> Tubo de pvc rígido junta elástica DN 100 mm (4") - incluindo conexões | H34: M | I34: 60 | J34: =SUM(L34/1.2971) -> 49.286871 | K34: =J34*I34 -> 2957.2122 | L34: 63.93
B35: ='[1]page 1'!$A$59 -> 08.03.017 | C35: ='[2]page 1'!$B$59 -> Tubo de pvc rígido junta soldável DN 32 mm (1") - incluindo conexões | H35: M | I35: 380 | J35: =SUM(L35/1.2971) -> 23.822373 | K35: =J35*I35 -> 9052.5017 | L35: 30.9
B36: ='[1]page 1'!$A$60 -> 08.03.020 | C36: ='[2]page 1'!$B$60 -> Tubo de pvc rígido junta soldável DN 60 mm (2") - incluindo conexões | H36: M | I36: 60 | J36: =SUM(L36/1.2971) -> 46.627091 | K36: =J36*I36 -> 2797.6255 | L36: 60.48
J37: =SUM(L37/1.2971) -> 0
B38: 1.5 | C38: INSTALAÇÕES ELÉTRICAS | J38: =SUM(L38/1.2971) -> 0
B39: ='[1]page 1'!$A$64 -> 09.02.061 | C39: ='[2]page 1'!$B$64 -> AE-21 Abrigo entrada de energia 38 a 76 Kv AES/BANDEIRANTE/ELEKTRO | H39: UNID | I39: 1 | J39: =SUM(L39/1.2971) -> 3941.6236 | K39: =J39*I39 -> 3941.6236 | L39: 5112.68
B40: ='[1]page 1'!$A$65 -> 09.02.081 | C40: ='[2]page 1'!$B$65 -> Conj. 4 cabos p/ entrada de eneria secção 185 mm2 c/ eletrodutos | H40: UNID | I40: 1 | J40: =SUM(L40/1.2971) -> 4075.4452 | K40: =J40*I40 -> 4075.4452 | L40: 5286.26
B41: 09.02.102 | C41: ='[2]page 1'!$B$66 -> Conj. Entrada p/ telefone em entrada de energia | H41: UNID | I41: 2 | J41: =SUM(L41/1.2971) -> 371.59047 | K41: =J41*I41 -> 743.18094 | L41: 481.99
B42: ='[1]page 1'!$A$67 -> 09.02.084 | C42: ='[2]page 1'!$B$67 -> Chave seccionadora NH c/ carga 3x250A TAM 01 c/ fusíveis | H42: UNID | I42: 1 | J42: =SUM(L42/1.2971) -> 448.53905 | K42: =J42*I42 -> 448.53905 | L42: 581.8
B43: ='[1]page 1'!$A$68 -> 09.02.089 | C43: ='[2]page 1'!$B$68 -> Disjuntor tripolar termomagnético 3x60A a 3x100A | H43: UNID | I43: 1 | J43: =SUM(L43/1.2971) -> 139.51122 | K43: =J43*I43 -> 139.51122 | L43: 180.96
J44: =SUM(L44/1.2971) -> 0
C45: DESCRIÇÃO DOS SERVIÇOS
B46: ='[1]page 1'!$A$71 -> 09.02.097 | C46: ='[2]page 1'!$B$71 -> Chave seccionador NH 3x250A seca | H46: UNID | I46: 1 | J46: =SUM(L46/1.2971) -> 1298.3116 | K46: =J46*I46 -> 1298.3116 | L46: 1684.04
B47: ='[1]page 1'!$A$72 -> 09.03.019 | C47: ='[2]page 1'!$B$72 -> Cabo de 10 m2 - 1000 V de isolação | H47: M | I47: 240 | J47: =SUM(L47/1.2971) -> 13.083031 | K47: =J47*I47 -> 3139.9275 | L47: 16.97
B48: ='[1]page 1'!$A$73 -> 09.03.028 | C48: ='[2]page 1'!$B$73 -> Cabo de 185 mm2 - 1000V de isolação | H48: M | I48: 240 | J48: =SUM(L48/1.2971) -> 184.28032 | K48: =J48*I48 -> 44227.276 | L48: 239.03
B49: ='[1]page 1'!$A$74 -> 09.05.014 | C49: ='[2]page 1'!$B$74 -> Eletoduto de pvc rígido roscável de 32 mm - incluindo conexões | H49: M | I49: 12 | J49: =SUM(L49/1.2971) -> 29.072546 | K49: =J49*I49 -> 348.87056 | L49: 37.71
B50: ='[1]page 1'!$A$75 -> 09.03.090 | C50: ='[2]page 1'!$B$75 -> Envelope de concreto para dutos | H50: M | I50: 140 | J50: =SUM(L50/1.2971) -> 503.50012 | K50: =J50*I50 -> 70490.016 | L50: 653.09
B51: ='[1]page 1'!$A$76 -> 09.05.008 | C51: ='[2]page 1'!$B$76 -> Eletroduto de aço galvanizado a quente (NBR 5624) 80mm (3") - incluindo conexões | H51: M | I51: 6 | J51: =SUM(L51/1.2971) -> 108.2723 | K51: =J51*I51 -> 649.6338 | L51: 140.44
B52: ='[1]page 1'!$A$77 -> 09.05.004 | C52: ='[2]page 1'!$B$77 -> Eletroduto de aço galvanizado a quente (NBR 5624) 32mm (1 1/4") - incluindo conexões | H52: M | I52: 12 | J52: =SUM(L52/1.2971) -> 55.940174 | K52: =J52*I52 -> 671.28209 | L52: 72.56
B53: ='[1]page 1'!$A$78 -> 09.05.080 | C53: ='[2]page 1'!$B$78 -> Quadro de comando para conjunto de motor bomba trifásico de 4 a 5 HP | H53: UNID | I53: 1 | J53: =SUM(L53/1.2971) -> 1021.949 | K53: =J53*I53 -> 1021.949 | L53: 1325.57
B54: ='[1]page 1'!$A$79 -> 09.06.025 | C54: ='[3]page 1'!$B$79 -> Caixa de passagem em alvenara de 0,40 x 0,40 x 0,40 m | H54: UNID | I54: 4 | J54: =SUM(L54/1.2971) -> 159.19359 | K54: =J54*I54 -> 636.77434 | L54: 206.49
B55: ='[1]page 1'!$A$80 -> 09.06.026 | C55: ='[3]page 1'!$B$80 -> Caixa de passagem em alvenara de 0,60 x 0,60 x 0,60 m | H55: UNID | I55: 8 | J55: =SUM(L55/1.2971) -> 335.38663 | K55: =J55*I55 -> 2683.0931 | L55: 435.03
B56: 09.02.043 | C56: ='[2]page 1'!$B$83 -> DPS - Dispositivo proteção contra surtos (energia) | H56: UNID | I56: 1 | J56: =SUM(L56/1.2971) -> 186.46211 | K56: =J56*I56 -> 186.46211 | L56: 241.86
B57: 09.11.028 | C57: ='[2]page 1'!$B$84 -> IL-52 Luminária p/ vapor de sódio 1x150W em poste tubular 7m | H57: UNID | I57: 15 | J57: =SUM(L57/1.2971) -> 951.04464 | K57: =J57*I57 -> 14265.67 | L57: 1233.6
B58: 09.03.017 | C58: ='[2]page 1'!$B$85 -> Cabo de 4 mm2 - 1000V de isolação | H58: M | I58: 600 | J58: =SUM(L58/1.2971) -> 5.7667104 | K58: =J58*I58 -> 3460.0262 | L58: 7.48
B60: 1.6 | C60: SERVIÇOS COMPLEMENTARES
B61: 16.03.006 | C61: ='[2]page 1'!$B$88 -> Grama São Carlos em placas | H61: M2 | I61: 1624.37 | J61: =SUM(L61/1.2971) -> 11.047722 | K61: =J61*I61 -> 17945.588 | L61: 14.33
B62: ='[1]page 1'!$A$93 -> 16.05.031 | C62: ='[2]page 1'!$B$93 -> Canaleta CA 21 | H62: M | I62: 68 | J62: =SUM(L62/1.2971) -> 114.28571 | K62: =J62*I62 -> 7771.4286 | L62: 148.24
B63: ='[1]page 1'!$A$94 -> 16.05.032 | C63: ='[2]page 1'!$B$94 -> Canaleta CA 22 e tampa em concreto TC11 | H63: M | I63: 67 | J63: =SUM(L63/1.2971) -> 119.03477 | K63: =J63*I63 -> 7975.3296 | L63: 154.4
B64: ='[1]page 1'!$A$95 -> 16.05.030 | C64: ='[2]page 1'!$B$95 -> Canaleta CA 20 | H64: M | I64: 22 | J64: =SUM(L64/1.2971) -> 111.95744 | K64: =J64*I64 -> 2463.0638 | L64: 145.22
B65: ='[1]page 1'!$A$96 -> 16.05.048 | C65: ='[2]page 1'!$B$96 -> Tampa em concreto TC 11 | H65: M | I65: 20 | J65: =SUM(L65/1.2971) -> 76.370365 | K65: =J65*I65 -> 1527.4073 | L65: 99.06
B66: ='[1]page 1'!$A$97 -> 16.05.045 | C66: ='[2]page 1'!$B$97 -> Tampa em ferro TC 08 | H66: M | I66: 68 | J66: =SUM(L66/1.2971) -> 343.32742 | K66: =J66*I66 -> 23346.265 | L66: 445.33
B67: ='[1]page 1'!$A$98 -> 16.01.016 | C67: ='[2]page 1'!$B$98 -> FD-16 Fechamento de divisa com bloco de concreto | H67: M | I67: 37.5 | J67: =SUM(L67/1.2971) -> 514.58639 | K67: =J67*I67 -> 19296.989 | L67: 667.47
B69: 2.2 | C69: ALVENARIA E OUTROS ELEMENTOS DIVISORIOS
B70: ='[1]page 1'!$A$121 -> 04.01.030 | C70: ='[2]page 1'!$B$121 -> ALVENARIA DE BLOCOS DE CONCRETO E=9CM | H70: M2 | I70: 179.36 | J70: =SUM(L70/1.2971) -> 45.987202 | K70: =J70*I70 -> 8248.2646 | L70: 59.65
C71: considerado 20% para a conclusão | J71: =SUM(L71/1.2971) -> 0 | K71: =J71*I71 -> 0
B72: 04.08.000 | C72: ='[2]page 1'!$B$123 -> ELEMENTOS VAZADOS | J72: =SUM(L72/1.2971) -> 0 | K72: =J72*I72 -> 0
B73: 04.80.002 | C73: ='[2]page 1'!$B$124 -> ELEMENTO VAZADO REF NEO REX 22C / REF UNICA 4A | H73: M2 | I73: 0.72 | J73: =SUM(L73/1.2971) -> 192.93809 | K73: =J73*I73 -> 138.91543 | L73: 250.26
B75: 04.03.000 | C75: ='[2]page 1'!$B$126 -> PLACAS DIVISORIAS
B76: ='[1]page 1'!$A$127 -> 04.03.001 | C76: ='[2]page 1'!$B$127 -> DV-01 DIVISORIA DE GRANILITE - LATERAL ABERTA | H76: M | I76: 19.5 | J76: =SUM(L76/1.2971) -> 373.71059 | K76: =J76*I76 -> 7287.3564 | L76: 484.74
B77: ='[1]page 1'!$A$128 -> 04.03.002 | C77: ='[2]page 1'!$B$128 -> DV-02 DIVISORIA DE GRANILITE - LATERAL FECHADA | H77: M | I77: 1.3 | J77: =SUM(L77/1.2971) -> 373.71059 | K77: =J77*I77 -> 485.82376 | L77: 484.74
B78: ='[1]page 1'!$A$129 -> 04.03.003 | C78: ='[2]page 1'!$B$129 -> DV-03 DIVISORIA DE GRANILITE - FRONTAL | H78: M | I78: 6 | J78: =SUM(L78/1.2971) -> 1190.2629 | K78: =J78*I78 -> 7141.5774 | L78: 1543.89
B79: 04.03.008 | C79: ='[2]page 1'!$B$130 -> DV-04 DIVISORIA DE GRANILITE - ANTEPARO | H79: M | I79: 2.3 | J79: =SUM(L79/1.2971) -> 390.4325 | K79: =J79*I79 -> 897.99476 | L79: 506.43
B80: ='[1]page 1'!$A$131 -> 04.03.023 | C80: ='[2]page 1'!$B$131 -> DIVISORIA CHAPA FIBRA MAD PRENS BP/PAINEL CEGO 1,20X2,11M | H80: M2 | I80: 18.68 | J80: =SUM(L80/1.2971) -> 110.66225 | K80: =J80*I80 -> 2067.1708 | L80: 143.54
B82: 2.3 | C82: ='[2]page 1'!$B$133 -> ELEMENTOS DE MADEIRA/COMPONENTES ESPECIAIS
B83: 05.01.000 | C83: ='[2]page 1'!$B$134 -> PORTAS/BATENTES/FERRAGENS
B84: ='[1]page 1'!$A$135 -> 05.01.010 | C84: ='[2]page 1'!$B$135 -> PM-20 PORTA DE MADEIRA MACHO/FEMEA P/ PINT. BAT. MADEIRA | H84: UNID | I84: 4 | J84: =SUM(L84/1.2971) -> 904.96492 | K84: =J84*I84 -> 3619.8597 | L84: 1173.83
B85: ='[1]page 1'!$A$136 -> 05.01.029 | C85: ='[2]page 1'!$B$136 -> PM-74 PORTA DE SARRAFEADO MACIÇO P/BOXES | H85: UNID | I85: 20 | J85: =SUM(L85/1.2971) -> 427.77735 | K85: =J85*I85 -> 8555.547 | L85: 554.87
B86: ='[1]page 1'!$A$137 -> 05.01.046 | C86: ='[2]page 1'!$B$137 -> PM-70 PORTA DE MADEIRA SARRAFEADA P/ PINT. BAT. MET. | H86: UNID | I86: 5 | J86: =SUM(L86/1.2971) -> 861.25202 | K86: =J86*I86 -> 4306.2601 | L86: 1117.13
B87: ='[1]page 1'!$A$138 -> 05.01.047 | C87: ='[2]page 1'!$B$138 -> PM-71 PORTA DE MADEIRA SARRAFEADA P/ PINT. BAT. MET. | H87: UNID | I87: 26 | J87: =SUM(L87/1.2971) -> 870.07941 | K87: =J87*I87 -> 22622.065 | L87: 1128.58
B88: ='[1]page 1'!$A$139 -> 05.01.051 | C88: ='[2]page 1'!$B$139 -> PM-75 PORTA SARRAFEADO MACICO SANIT. ACESSIVEL BAT. MET. | H88: UNID | I88: 1 | J88: =SUM(L88/1.2971) -> 1133.1046 | K88: =J88*I88 -> 1133.1046 | L88: 1469.75
B89: 05.01.110 | C89: ='[2]page 1'!$B$140 -> PM-80 PORTA PARA HALL DO ELEVADOR BAT. MAD. | H89: UNID | I89: 3 | J89: =SUM(L89/1.2971) -> 884.56557 | K89: =J89*I89 -> 2653.6967 | L89: 1147.37
B91: 05.05.000 | C91: ='[2]page 1'!$B$142 -> OUTROS COMPONENTES PADRONIZADOS
B92: ='[1]page 1'!$A$143 -> 05.05.034 | C92: ='[2]page 1'!$B$143 -> BS-05 BANCADA PARA COZINHA - GRANITO | H92: M | I92: 4.9 | J92: =SUM(L92/1.2971) -> 294.61876 | K92: =J92*I92 -> 1443.6319 | L92: 382.15
C94: DESCRIÇÃO DOS SERVIÇOS
B95: ='[1]page 1'!$A$146 -> 05.05.064 | C95: ='[2]page 1'!$B$146 -> PR-08 PRATELEIRA DE GRANITO | H95: M | I95: 6.4 | J95: =SUM(L95/1.2971) -> 141.93971 | K95: =J95*I95 -> 908.41415 | L95: 184.11
B96: ='[1]page 1'!$A$147 -> 05.05.067 | C96: ='[2]page 1'!$B$147 -> PR-03 PRATELEIRA DE GRANILITE - L=30CM | H96: M | I96: 4.4 | J96: =SUM(L96/1.2971) -> 625.56472 | K96: =J96*I96 -> 2752.4848 | L96: 811.42
B97: ='[1]page 1'!$A$148 -> 05.05.075 | C97: ='[2]page 1'!$B$148 -> PR-09 PRATELEIRA EM GRANILITE - L=55CM | H97: M | I97: 5.4 | J97: =SUM(L97/1.2971) -> 702.47475 | K97: =J97*I97 -> 3793.3637 | L97: 911.18
B98: ='[1]page 1'!$A$149 -> 05.05.078 | C98: ='[2]page 1'!$B$149 -> GS-03 GUICHE DE SECRETARIA/JANELA DE 2 FOLHAS | H98: UNID | I98: 1 | J98: =SUM(L98/1.2971) -> 2175.8847 | K98: =J98*I98 -> 2175.8847 | L98: 2822.34
B99: ='[1]page 1'!$A$150 -> 05.05.080 | C99: ='[2]page 1'!$B$150 -> ET-05 ESTRADO DE POLIPROPILENO | H99: M | I99: 3 | J99: =SUM(L99/1.2971) -> 45.701951 | K99: =J99*I99 -> 137.10585 | L99: 59.28
B100: 05.05.086 | C100: BA-13 BALCAO ATENDIMENTO - GRANITO | H100: UNID | I100: 1 | J100: =SUM(L100/1.2971) -> 2215.8739 | K100: =J100*I100 -> 2215.8739 | L100: 2874.21
B101: 05.05.101 | C101: ='[2]page 1'!$B$152 -> CC-01 CUBA INOX (60X50X30 CM) INCL VALV. AMERICANA - | H101: UNID | I101: 1 | J101: =SUM(L101/1.2971) -> 2093.1 | K101: =J101*I101 -> 2093.1 | L101: 2714.96
B102: 05.05.103 | C102: ='[2]page 1'!$B$153 -> CC-O3 CUBA INOX 50X40X25CM - TORNEIRA PAREDE | H102: UNID | I102: 1 | J102: =SUM(L102/1.2971) -> 2045.8947 | K102: =J102*I102 -> 2045.8947 | L102: 2653.73
B103: 05.05.104 | C103: ='[2]page 1'!$B$154 -> CC-04 CUBA DUPLA INOX (102X40X25 CM) INCL VALV. AMERICANA - | H103: UNID | I103: 1 | J103: =SUM(L103/1.2971) -> 3302.9682 | K103: =J103*I103 -> 3302.9682 | L103: 4284.28
B105: 2.4 | C105: ='[2]page 1'!$B$156 -> ELEMENTOS METALICOS/COMPONENTES ESPECIAIS
B106: 06.01.000 | C106: ='[2]page 1'!$B$157 -> ESQUADRIAS METALICAS
B107: ='[1]page 1'!$A$158 -> 06.01.002 | C107: ='[2]page 1'!$B$158 -> EF-02 ESQUADRIA DE FERRO 90X120CM | H107: UNID | I107: 2 | J107: =SUM(L107/1.2971) -> 634.31501 | K107: =J107*I107 -> 1268.63 | L107: 822.77
B108: ='[1]page 1'!$A$159 -> 06.01.004 | C108: ='[2]page 1'!$B$159 -> EF-04 ESQUADRIA DE FERRO 180X60CM | H108: UNID | I108: 10 | J108: =SUM(L108/1.2971) -> 665.02968 | K108: =J108*I108 -> 6650.2968 | L108: 862.61
B109: ='[1]page 1'!$A$160 -> 06.01.005 | C109: ='[2]page 1'!$B$160 -> EF-05 ESQUADRIA DE FERRO 180X120CM | H109: UNID | I109: 11 | J109: =SUM(L109/1.2971) -> 1274.6357 | K109: =J109*I109 -> 14020.993 | L109: 1653.33
B110: ='[1]page 1'!$A$161 -> 06.01.006 | C110: ='[2]page 1'!$B$161 -> EF-06 ESQUADRIA DE FERRO 180X150CM | H110: UNID | I110: 98 | J110: =SUM(L110/1.2971) -> 1552.309 | K110: =J110*I110 -> 152126.28 | L110: 2013.5
B111: ='[1]page 1'!$A$162 -> 06.01.015 | C111: ='[2]page 1'!$B$162 -> EF-15 ESQUADRIA DE FERRO / VENTILACAO CRUZADA H=30 A | H111: M2 | I111: 51.16 | J111: =SUM(L111/1.2971) -> 651.08319 | K111: =J111*I111 -> 33309.416 | L111: 844.52
...

Sheet Planilha
C3: PREFEITURA MUNICIPAL DE FERRAZ DE VASCONCELOS
C4: SECRETARIA MUNICIPAL DE OBRAS
B5: PLANILHA ORÇAMENTÁRIA DE EXECUÇÃO DA CONSTRUÇÃO E.E. JD. SANTIAGO R.:ITAQUAQUECETUBA N°1333 - JD. DAYSE
B7: Item | C7: Descrição | D7: Unid | E7: Qtde | F7: Preço Unit. | G7: Total
B8: 1 | C8: =ORÇ!C12 -> CANTEIRO DE OBRAS - LARG 3.30M
B9: =ORÇ!B12 -> 16.06.051 | D9: M2 | E9: 16.5 | G9: =F9*E9 -> 0
B10: FDE | F10: Subtotal: | G10: =SUM(G9:G9) -> 0
B11: 2 | C11: =ORÇ!C14 -> TAPUME H=225CM APOIADO NO TERRENO E PINTURA LATEX FACE EXTERNA COM LOGOTIPO
B12: =ORÇ!B14 -> 16.30.010 | D12: M2 | E12: 67.5 | G12: =F12*E12 -> 0
B13: FDE | F13: Subtotal: | G13: =SUM(G12:G12) -> 0
B14: 3 | C14: =ORÇ!C18 -> Grelha hemisferico para saida da calha Ø 75 mm
B15: =ORÇ!B18 -> 08.12.065 | D15: UNID | E15: 8 | G15: =F15*E15 -> 0
B16: FDE | F16: Subtotal: | G16: =SUM(G15:G15) -> 0
B17: 4 | C17: =ORÇ!C19 -> Grelha hemisferico para saida da calha Ø 150 mm
B18: =ORÇ!B19 -> 08.12.067 | D18: UNID | E18: 4 | G18: =F18*E18 -> 0
B19: FDE | F19: Subtotal: | G19: =SUM(G18:G18) -> 0
B20: 5 | C20: =ORÇ!C20 -> ESMALTE EM ESQUADRIAS DE FERRO
B21: =ORÇ!B20 -> 15.03.021 | D21: M2 | E21: 150.2 | G21: =F21*E21 -> 0
B22: FDE | F22: Subtotal: | G22: =SUM(G21:G21) -> 0
B23: 6 | C23: =ORÇ!C21 -> Ramal de alimentação predial de PVC Ø 25 mm
B24: =ORÇ!B21 -> 08.03.016 | D24: M | E24: 59 | G24: =F24*E24 -> 0
B25: FDE | F25: Subtotal: | G25: =SUM(G24:G24) -> 0
B26: 7 | C26: =ORÇ!C22 -> Ramal de alimentação predial de AG Ø 25 mm
B27: =ORÇ!B22 -> 08.03.003 | D27: M | E27: 12 | G27: =F27*E27 -> 0
B28: FDE | F28: Subtotal: | G28: =SUM(G27:G27) -> 0
B29: 8 | C29: =ORÇ!C23 -> Tubo aço galvanizado rosca BSP Ø 1 1/4 (entrada de água)
B30: =ORÇ!B23 -> 08.03.004 | D30: M | E30: 11.5 | G30: =F30*E30 -> 0
B31: FDE | F31: Subtotal: | G31: =SUM(G30:G30) -> 0
B32: 9 | C32: =ORÇ!C24 -> Tubo aço galvanizado rosca BSP Ø 4" (saida p/ consumo prédio e saída de incêndio)
B33: =ORÇ!B26 -> 08.14.009 | D33: M | E33: 44 | G33: =E33*F33 -> 0
B34: FDE | F34: Subtotal: | G34: =SUM(G33:G33) -> 0
B35: 10 | C35: =ORÇ!C25 -> Tubo de aço galvanizado rosca BSP Ø 1 1/2" (estravasor/dreno limpeza/bomba/respiro)
B36: =ORÇ!B25 -> 08.03.005 | D36: M | E36: 32.6 | G36: =E36*F36 -> 0
B37: FDE | F37: Subtotal: | G37: =SUM(G36:G36) -> 0
B38: 11 | C38: =ORÇ!C26 -> Registro de gaveta Ø 4"
B39: =ORÇ!B26 -> 08.14.009 | D39: UNID | E39: 4 | G39: =E39*F39 -> 0
B40: FDE | F40: Subtotal: | G40: =SUM(G39:G39) -> 0
B41: 12 | C41: =ORÇ!C27 -> Registro de gaveta Ø 1 1/2"
B42: =ORÇ!B27 -> 08.14.005 | D42: UNID | E42: 4 | G42: =E42*F42 -> 0
B43: FDE | F43: Subtotal: | G43: =SUM(G42:G42) -> 0
B44: 13 | C44: =ORÇ!C28 -> Registro de gaveta Ø 1 1/4"
B45: =ORÇ!B28 -> 08.14.004 | D45: UNID | E45: 4 | G45: =E45*F45 -> 0
B46: FDE | F46: Subtotal: | G46: =SUM(G45:G45) -> 0
B47: 14 | C47: =ORÇ!C29 -> Valvula de retenção Ø 1 1/2"
B48: =ORÇ!B29 -> 08.14.018 | D48: UNID | E48: 1 | G48: =E48*F48 -> 0
B49: FDE | F49: Subtotal: | G49: =SUM(G48:G48) -> 0
B50: 15 | C50: =ORÇ!C30 -> Bomba recalque Schneider BC 91T - sucção 1/1/4" recalque 1 1/2" 220v trifasica
B51: =ORÇ!B30 -> 08.14.071 | D51: UNID | E51: 2 | G51: =E51*F51 -> 0
B52: FDE | F52: Subtotal: | G52: =SUM(G51:G51) -> 0
B53: 16 | C53: =ORÇ!C31 -> AC-05 ABRIGO E CAVALETE DE 1" COMPLETO 85X65X30CM
B54: =ORÇ!B31 -> 08.01.002 | D54: UNID | E54: 1 | G54: =E54*F54 -> 0
B55: FDE | F55: Subtotal: | G55: =SUM(G54:G54) -> 0
B56: 17 | C56: =ORÇ!C32 -> Torneira de boia Ø 1"
B57: =ORÇ!B32 -> 08.14.046 | D57: UNID | E57: 1 | G57: =E57*F57 -> 0
B58: FDE | F58: Subtotal: | G58: =SUM(G57:G57) -> 0
B59: 18 | C59: =ORÇ!C34 -> Tubo de pvc rígido junta elástica DN 100 mm (4") - incluindo conexões
B60: =ORÇ!B34 -> 08.09.018 | D60: M | E60: 60 | G60: =E60*F60 -> 0
B61: FDE | F61: Subtotal: | G61: =SUM(G60:G60) -> 0
B62: 19 | C62: =ORÇ!C35 -> Tubo de pvc rígido junta soldável DN 32 mm (1") - incluindo conexões
B63: =ORÇ!B35 -> 08.03.017 | D63: M | E63: 380 | G63: =E63*F63 -> 0
B64: FDE | F64: Subtotal: | G64: =SUM(G63:G63) -> 0
B65: 20 | C65: =ORÇ!C36 -> Tubo de pvc rígido junta soldável DN 60 mm (2") - incluindo conexões
B66: =ORÇ!B36 -> 08.03.020 | D66: M | E66: 60 | G66: =E66*F66 -> 0
B67: FDE | F67: Subtotal: | G67: =SUM(G66:G66) -> 0
B68: 21 | C68: =ORÇ!C39 -> AE-21 Abrigo entrada de energia 38 a 76 Kv AES/BANDEIRANTE/ELEKTRO
B69: =ORÇ!B39 -> 09.02.061 | D69: UNID | E69: 1 | G69: =E69*F69 -> 0
B70: FDE | F70: Subtotal: | G70: =SUM(G69:G69) -> 0
B71: 22 | C71: =ORÇ!C40 -> Conj. 4 cabos p/ entrada de eneria secção 185 mm2 c/ eletrodutos
B72: =ORÇ!B40 -> 09.02.081 | D72: UNID | E72: 1 | G72: =E72*F72 -> 0
B73: FDE | F73: Subtotal: | G73: =SUM(G72:G72) -> 0
B74: 23 | C74: =ORÇ!C41 -> Conj. Entrada p/ telefone em entrada de energia
B75: =ORÇ!B41 -> 09.02.102 | D75: UNID | E75: 2 | G75: =E75*F75 -> 0
B76: FDE | F76: Subtotal: | G76: =SUM(G75:G75) -> 0
B77: 24 | C77: =ORÇ!C42 -> Chave seccionadora NH c/ carga 3x250A TAM 01 c/ fusíveis
B78: =ORÇ!B42 -> 09.02.084 | D78: UNID | E78: 1 | G78: =E78*F78 -> 0
B79: FDE | F79: Subtotal: | G79: =SUM(G78:G78) -> 0
B80: 25 | C80: =ORÇ!C43 -> Disjuntor tripolar termomagnético 3x60A a 3x100A
B81: =ORÇ!B43 -> 09.02.089 | D81: UNID | E81: 1 | G81: =E81*F81 -> 0
B82: FDE | F82: Subtotal: | G82: =SUM(G81:G81) -> 0
B83: 26 | C83: =ORÇ!C46 -> Chave seccionador NH 3x250A seca
B84: =ORÇ!B46 -> 09.02.097 | D84: UNID | E84: 1 | G84: =E84*F84 -> 0
B85: FDE | F85: Subtotal: | G85: =SUM(G84:G84) -> 0
B86: 27 | C86: =ORÇ!C47 -> Cabo de 10 m2 - 1000 V de isolação
B87: =ORÇ!B47 -> 09.03.019 | D87: M | E87: 240 | G87: =E87*F87 -> 0
B88: FDE | F88: Subtotal: | G88: =SUM(G87:G87) -> 0
B89: 28 | C89: =ORÇ!C48 -> Cabo de 185 mm2 - 1000V de isolação
B90: =ORÇ!B48 -> 09.03.028 | D90: M | E90: 240 | G90: =E90*F90 -> 0
B91: FDE | F91: Subtotal: | G91: =SUM(G90:G90) -> 0
B92: 29 | C92: =ORÇ!C49 -> Eletoduto de pvc rígido roscável de 32 mm - incluindo conexões
B93: =ORÇ!B49 -> 09.05.014 | D93: M | E93: 12 | G93: =E93*F93 -> 0
B94: FDE | F94: Subtotal: | G94: =SUM(G93:G93) -> 0
B95: 30 | C95: =ORÇ!C50 -> Envelope de concreto para dutos
B96: =ORÇ!B50 -> 09.03.090 | D96: M | E96: 140 | G96: =E96*F96 -> 0
B97: FDE | F97: Subtotal: | G97: =SUM(G96:G96) -> 0
B98: 31 | C98: =ORÇ!C51 -> Eletroduto de aço galvanizado a quente (NBR 5624) 80mm (3") - incluindo conexões
B99: =ORÇ!B51 -> 09.05.008 | D99: M | E99: 6 | G99: =E99*F99 -> 0
B100: FDE | F100: Subtotal: | G100: =SUM(G99:G99) -> 0
B101: 32 | C101: =ORÇ!C52 -> Eletroduto de aço galvanizado a quente (NBR 5624) 32mm (1 1/4") - incluindo conexões
B102: =ORÇ!B52 -> 09.05.004 | D102: M | E102: 12 | G102: =E102*F102 -> 0
B103: FDE | F103: Subtotal: | G103: =SUM(G102:G102) -> 0
...

Sheet cronograma
B3: PREFEITURA MUNICIPAL DE FERRAZ DE VASCONCELOS
B4: SECRETARIA MUNICIPAL DE OBRAS
A5: CRONOGRAMA DA EXEC. DA CONSTRUÇÃO E.E. JD. SANTIAGO R.:ITAQUAQUECETUBA N°1333 - JD. DAYSE
O7: VALOR | P7: total %
A8: Item | B8: Descrição | C8: 1ºMÊS | D8: 2ºMÊS | E8: 3ºMÊS | F8: 4ºMÊS | G8: 5ºMÊS | H8: 6ºMÊS | I8: 7ºMÊS | J8: 8ºMÊS | K8: 9ºMÊS | L8: 10ºMÊS | M8: 11ºMÊS | N8: 12ºMÊS | O8: C/BDI | P8: p/serviço
A9: 1 | B9: SERVIÇOS PRELIMINARES | C9: =(O9/2) -> 5832.2604 | D9: =(O9/2) -> 5832.2604 | O9: =SUM(9331.61668*1.25) -> 11664.521 | P9: =SUM(O9/O32)*100 -> 0.51393082
A12: 2 | B12: INSTALAÇÕES HIDRÁULICAS | E12: =(O12/7) -> 30773.632 | F12: =(O12/7) -> 30773.632 | G12: =(O12/7) -> 30773.632 | H12: =(O12/7) -> 30773.632 | I12: =(O12/7) -> 30773.632 | J12: =(O12/7) -> 30773.632 | K12: =(O12/7) -> 30773.632 | O12: =SUM((172332.3391*1.25)) -> 215415.42 | P12: =SUM(O12/O32)*100 -> 9.4910564
A15: 3 | B15: INSTALAÇÕES ELETRICA | I15: =(O15/6) -> 78276.241 | J15: =(O15/6) -> 78276.241 | K15: =(O15/6) -> 78276.241 | L15: =(O15/6) -> 78276.241 | M15: =(O15/6) -> 78276.241 | N15: =(O15/6) -> 78276.241 | O15: =SUM(375725.9579*1.25) -> 469657.45 | P15: =SUM(O15/O32)*100 -> 20.692786
A18: 4 | B18: ALVENARIA E OUTROS SERV. | D18: =(O18/6) -> 111940.66 | E18: =(O18/6) -> 111940.66 | F18: =(O18/6) -> 111940.66 | G18: =(O18/6) -> 111940.66 | H18: =(O18/6) -> 111940.66 | I18: =(O18/6) -> 111940.66 | O18: =SUM(537315.1537*1.25) -> 671643.94 | P18: =SUM(O18/O32)*100 -> 29.592173
A21: 5 | B21: ESTRUTURA METÁLICA/COBERTURA | I21: =(O21/6) -> 83085.274 | J21: =(O21/6) -> 83085.274 | K21: =(O21/6) -> 83085.274 | L21: =(O21/6) -> 83085.274 | M21: =(O21/6) -> 83085.274 | N21: =(O21/6) -> 83085.274 | O21: =SUM(398809.3158*1.25) -> 498511.64 | P21: =SUM(O21/O32)*100 -> 21.964082
A24: 6 | B24: PINTURA | J24: =(O24/5) -> 60473.389 | K24: =(O24/5) -> 60473.389 | L24: =(O24/5) -> 60473.389 | M24: =(O24/5) -> 60473.389 | N24: =(O24/5) -> 60473.389 | O24: =SUM(241893.5551*1.25) -> 302366.94 | P24: =SUM(O24/O32)*100 -> 13.322081
A27: 7 | B27: SERVIÇOS COMPLEMENTARES | J27: =(O27/5) -> 20081.518 | K27: =(O27/5) -> 20081.518 | L27: =(O27/5) -> 20081.518 | M27: =(O27/5) -> 20081.518 | N27: =(O27/5) -> 20081.518 | O27: =SUM(80326.07131*1.25) -> 100407.59 | P27: =SUM(O27/O32)*100 -> 4.4238898
B30: TOTAL % por mês | C30: =SUM(C9:C29) -> 5832.2604 | D30: =SUM(D9:D29) -> 117772.92 | E30: =SUM(E10:E29) -> 142714.29 | F30: =SUM(F12:F29) -> 142714.29 | G30: =SUM(G11:G29) -> 142714.29 | H30: =SUM(H11:H29) -> 142714.29 | I30: =SUM(I11:I29) -> 304075.8 | J30: =SUM(J11:J29) -> 272690.05 | K30: =SUM(K12:K29) -> 272690.05 | L30: =SUM(L13:L29) -> 241916.42 | M30: =SUM(M13:M29) -> 241916.42 | N30: =SUM(N13:N29) -> 241916.42
C31: =SUM(C9:C27)/O32 -> 0.0025696541 | D31: =SUM(D9:D27)/O32 -> 0.051889943 | E31: =SUM(E11:E28)/O32 -> 0.062878941 | F31: =SUM(F11:F28)/O32 -> 0.062878941 | G31: =SUM(G11:G28)/O32 -> 0.062878941 | H31: =SUM(H11:H28)/O32 -> 0.062878941 | I31: =SUM(I11:I28)/O32 -> 0.13397372 | J31: =SUM(J11:J28)/O32 -> 0.12014537 | K31: =SUM(K11:K28)/O32 -> 0.12014537 | L31: =SUM(L11:L28)/O32 -> 0.10658672 | M31: =SUM(M11:M28)/O32 -> 0.10658672 | N31: =SUM(N11:N28)/O32 -> 0.10658672 | O31: =SUM(C31:N31) -> 1 | P31: =SUM(P9:P27) -> 100
O32: =SUM(O9:O29) -> 2269667.5
A35: 4 | B35: ALVENARIA E OUTROS SERV. | D35: =(O35/6) -> 111940.66 | E35: =(O35/6) -> 111940.66 | F35: =(O35/6) -> 111940.66 | G35: =(O35/6) -> 111940.66 | H35: =(O35/6) -> 111940.66 | I35: =(O35/6) -> 111940.66 | O35: =SUM(537315.1537*1.25) -> 671643.94 | P35: =SUM(O35/O32)*100 -> 29.592173
A39: VICENTE NUNES DA EIRA ENG. CIVIL CREA : 5060580945SP
A40: Obs: planilhas elaboradas em conformidade com o projeto apresentado pelo planejamento anexo ao processo nº13821/16
A41: de 14/09/16 ,não foram apresentados levantamentos topog., cotas e projetos complementares (eletr.,hidr.,A.Plv.,esgoto)
A43: CRITÉRIO POR MEDIÇÃO ---- LATITUDE :23°33' 22.62"S , LONGITUDE :46° 22' 40.67" O

Sheet Plan1
A1: PREFEITURA DE FERRAZ DE VASCONCELOS SECRETARIA MUNICIPAL DE EDUCAÇÃO PLANILHA ORÇAMENTÁRIA
A2: ITEM / CÓD. FDE | B2: DESCRIÇÃO DOS SERVIÇOS | C2: UN | D2: QUANT | E2: PREÇOS | G2: %
A3: ITEM / CÓD. FDE | B3: DESCRIÇÃO DOS SERVIÇOS | C3: UN | D3: QUANT | E3: UNIT | F3: TOTAL | G3: realizadas
A4: 1 | B4: INSTALAÇÕES E OUTROS
A5: 1.1 | B5: SERVIÇOS PRELIMINARES | F5: 227.247,65
A6: 01.01.001 | B6: Retirando a vegetação existente, troncos até 5vm de diâmetro e raspagem | C6: m2 | D6: 7.140,62 | E6: 2,31 | F6: 16.476,98 | G6: 100
A7: 01.02.001 | B7: Corte e aterro dentro da obra com transporte interno | C7: m3 | D7: 18,00 | E7: 23,08 | F7: 415,35 | G7: 100
A8: 01.02.002 | B8: Corte com retirada por caminhão nos primeiros 100 m | C8: m3 | D8: 1.589,66 | E8: 15,68 | F8: 24.929,25 | G8: 100
A9: 01.03.001 | B9: Corte e aterro dentro da obra com transporte interno | C9: m3 | D9: 5.480,00 | E9: 5,70 | F9: 31.223,68 | G9: 100
A10: 01.03.004 | B10: Aterro com transporte por caminhão nos primeiros 100m | C10: m3 | D10: 8.434,43 | E10: 9,94 | F10: 83.838,19 | G10: 100
A11: 01.03.005 | B11: Transporte por caminhão m3x | C11: km | D11: 84.344,26 | E11: 0,83 | F11: 70.364,20 | G11: 100
A13: 1.2 | B13: INFRAESTRUTURA | F13: 46.050,62
A14: 02.01.001 | B14: Escavação de terra até 1,80 m | C14: m3 | D14: 54,53 | E14: 21,23 | F14: 1.157,62 | G14: 100
A15: 02.01.010 | B15: Apiloamento para simples regularização | C15: m3 | D15: 8,10 | E15: 3,69 | F15: 29,91 | G15: 100
A16: 02.01.012 | B16: Lastro de brita e = 0,05 m | C16: m3 | D16: 0,41 | E16: 5,05 | F16: 2,05 | G16: 100
A17: 02.01.025 | B17: Reaterro apiloado | C17: m3 | D17: 18,00 | E17: 32,31 | F17: 581,65 | G17: 100
A18: 02.02.045 | B18: Estacas 25 para 20T - 42 estacas com ...... M.l. | C18: m.l. | D18: 336,00 | E18: 29,55 | F18: 9.930,06 | G18: 100
A19: 02.02.046 | B19: Estacas 30 para 30T - 43 estacas com ...... M.l. | C19: m.l. | D19: 344,00 | E19: 43,22 | F19: 14.868,11 | G19: 100
A20: 02.05.014 | B20: Concreto dosado e lançado fck = 20,00 Mpa - Blocos | C20: m3 | D20: 20,00 | E20: 393,70 | F20: 7.874,08 | G20: 100
A21: 02.04.002 | B21: Aço CA 50 - blocos | C21: kg | D21: 1.440,00 | E21: 5,56 | F21: 8.013,06 | G21: 100
A22: 02.04.003 | B22: Aço CA 60 - blocos | C22: kg | D22: 31,00 | E22: 5,50 | F22: 170,58 | G22: 100
A23: 02.03.001 | B23: Forma de madeira maciça para blocos | C23: m2 | D23: 91,00 | E23: 37,62 | F23: 3.423,52 | G23: 100
A25: 1.3 | B25: SUPERESTRUTURA | F25: 36.873,29
A26: 03.01.002 | B26: Forma de madeirite aparente | C26: m2 | D26: 16,00 | E26: 63,69 | F26: 1.018,99 | G26: 100
A27: 03.02.002 | B27: Aço CA 50 | C27: kg | D27: 3.640,80 | E27: 5,56 | F27: 20.259,69 | G27: 100
A28: 03.03.020 | B28: Concreto dosado e lançado fck = 30,00 MPa | C28: m3 | D28: 26,72 | E28: 418,83 | F28: 11.191,11 | G28: 100
A29: 03.03.024 | B29: Concreto dosado e lançado fck = 20,00 MPa | C29: m3 | D29: 7,23 | E29: 373,06 | F29: 2.697,23 | G29: 100
A30: 03.03.032 | B30: Laje H=0,15 treliçada sobre carga de 50,00 km/m2 | C30: m2 | D30: 16,00 | E30: 106,64 | F30: 1.706,27 | G30: 100
A32: 1.4 | B32: INSTALAÇÕES HIDRÁULICAS | F32: 92.096,64
A33: 08.09.019 | B33: Tubo de PVC esgoto Ø 150 mm | C33: m | D33: 96,00 | E33: 59,32 | F33: 5.694,77 | G33: 100
A34: 08.10.036 | B34: Caixa de gordura de alvenaria padrão FDE CG01 | C34: un | D34: 1,00 | E34: 741,34 | F34: 741,34 | G34: 100
A35: 08.10.038 | B35: Caixa de inspeção de areia padrão FDE C101 | C35: un | D35: 10,00 | E35: 302,31 | F35: 3.023,09 | G35: 100
A36: 08.11.032 | B36: Tubulação de PVC Ø 75 mm | C36: m | D36: 65,60 | E36: 27,02 | F36: 1.772,80 | G36: 100
A37: 08.11.034 | B37: Tubulação de PVC Ø 150 mm | C37: m | D37: 72,00 | E37: 47,59 | F37: 3.426,32 | G37: 100
A38: 08.11.035 | B38: Tubulação de concreto Ø 200 mm | C38: m | D38: 22,00 | E38: 79,88 | F38: 1.757,45 | G38: 100
A39: 08.12.065 | B39: Grelha hemisferico para saida da calha Ø 75 mm | C39: pç | D39: 8,00 | E39: 4,85 | F39: 38,77 | G39: 100
A40: 08.12.067 | B40: Grelha hemisferico para saida da calha Ø 150 mm | C40: pç | D40: 4,00 | E40: 14,92 | F40: 59,68 | G40: 100
A41: 1503021 | B41: ESMALTE EM ESQUADRIAS DE FERRO | C41: M2 | D41: 150.2 | E41: 25.19 | F41: 3.426,32 | G41: 0
A42: 08.03.016 | B42: Ramal de alimentação predial de PVC Ø 25 mm | C42: m | D42: 59,00 | E42: 11,83 | F42: 697,99 | G42: 0
A43: 08.03.003 | B43: Ramal de alimentação predial de AG Ø 25 mm | C43: m | D43: 12,00 | E43: 50,40 | F43: 604,81 | G43: 0
A44: 08.03.004 | B44: Tubo aço galvanizado rosca BSP Ø 1 1/4 (entrada de água) | C44: m | D44: 11,50 | E44: 60,13 | F44: 691,47 | G44: 0
A45: 08.03.009 | B45: Tubo aço galvanizado rosca BSP Ø 4" (saida p/ consumo prédio e saída de incêndio) | C45: m | D45: 44,00 | E45: 158,44 | F45: 6.971,21 | G45: 0
A46: 08.03.005 | B46: Tubo de aço galvanizado rosca BSP Ø 1 1/2" (estravasor/dreno limpeza/bomba/respiro) | C46: m | D46: 32,60 | E46: 66,99 | F46: 2.183,83 | G46: 0
A47: 08.04.060 | B47: Envelopamento de concreto para tubulação | C47: m.l. | D47: 159,10 | E47: 17,30 | F47: 2.752,01 | G47: 100
A48: 08.14.009 | B48: Registro de gaveta Ø 4" | C48: pç | D48: 4,00 | E48: 525,13 | F48: 2.100,54 | G48: 0
A49: 08.14.005 | B49: Registro de gaveta Ø 1 1/2" | C49: pç | D49: 4,00 | E49: 70,07 | F49: 280,27 | G49: 0
A50: 08.14.004 | B50: Registro de gaveta Ø 1 1/4" | C50: pç | D50: 4,00 | E50: 58,76 | F50: 235,05 | G50: 0
A51: 08.14.018 | B51: Valvula de retenção Ø 1 1/2" | C51: pç | D51: 1,00 | E51: 103,73 | F51: 103,73 | G51: 0
A52: 08.14.071 | B52: Bomba recalque Schneider BC 91T - sucção 1/1/4" recalque 1 1/2" 220v trifasica | C52: pç | D52: 2,00 | E52: 654,87 | F52: 1.309,74 | G52: 0
A53: 08.01.003 | B53: Abrigo AC-06 e Cavalete de entrada de agua Ø 25 mm" | C53: pç | D53: 1,00 | E53: 1.449,10 | F53: 1.449,10 | G53: 0
... A56: 08.14.099 | B56: Serviços em reservatórios | C56: MV | D56: 6,00 | E56: 264,55 | F56: 1.587,33 | G56: 100
A57: 08.03.09 | B57: Serviços em rede de água fria | C57: MV | D57: 8,00 | E57: 264,55 | F57: 2.116,44 | G57: ?
A58: 08.09.018 | B58: Tubo de pvc rígido junta elástica DN 100 mm (4") - incluindo conexões | C58: m | D58: 60,00 | E58: 19,69 | F58: 1.181,62 | G58: ?
A59: 08.03.017 | B59: Tubo de pvc rígido junta soldável DN 32 mm (1") - incluindo conexões | C59: m | D59: 380,00 | E59: 15,96 | F59: 6.063,76 | G59: ?
A60: 08.03.020 | B60: Tubo de pvc rígido junta soldável DN 60 mm (2") - incluindo conexões | C60: m | D60: 60,00 | E60: 31,04 | F60: 1.862,69 | G60: ?
A63: 1.5 | B63: INSTALAÇÕES ELÉTRICAS | F63: 64.986,41
A64: 09.02.061 | B64: AE-21 Abrigo entrada de energia 38 a 76 Kv AES/BANDEIRANTE/ELEKTRO | C64: Un. | D64: 1,00 | E64: 2.911,32 | F64: 2.911,32 | G64: 0
A65: 09.02.081 | B65: Conj. 4 cabos p/ entrada de eneria secção 185 mm2 c/ eletrodutos | C65: Un. | D65: 1,00 | E65: 3.479,67 | F65: 3.479,67 | G65: 0
A66: 09.02.082 | B66: Conj. Entrada p/ telefone em entrada de energia | C66: Un. | D66: 2,00 | E66: 271,57 | F66: 543,13 | G66: 0
A67: 09.02.084 | B67: Chave seccionadora NH c/ carga 3x250A TAM 01 c/ fusíveis | C67: Un. | D67: 1,00 | E67: 346,28 | F67: 346,28 | G67: 0
A68: 09.02.089 | B68: Disjuntor tripolar termomagnético 3x60A a 3x100A | C68: Un. | D68: 1,00 | E68: 64,09 | F68: 64,09 | G68: 0
A69: ITEM / CÓD. FDE | B69: DESCRIÇÃO DOS SERVIÇOS | C69: UN | D69: QUANT | E69: PREÇOS
A70: ITEM / CÓD. FDE | B70: DESCRIÇÃO DOS SERVIÇOS | C70: UN | D70: QUANT | E70: UNIT | F70: TOTAL
A71: 09.02.097 | B71: Chave seccionador NH 3x250A seca | C71: Un. | D71: 1,00 | E71: 742,74 | F71: 742,74 | G71: 0
A72: 09.03.019 | B72: Cabo de 10 m2 - 1000 V de isolação | C72: m | D72: 240,00 | E72: 9,33 | F72: 2.238,63 | G72: 0
A73: 09.03.028 | B73: Cabo de 185 mm2 - 1000V de isolação | C73: m | D73: 240,00 | E73: 141,59 | F73: 33.982,02 | G73: 0
A74: 09.05.014 | B74: Eletoduto de pvc rígido roscável de 32 mm - incluindo conexões | C74: m | D74: 12,00 | E74: 19,01 | F74: 228,12 | G74: 0
A75: 09.03.090 | B75: Envelope de concreto para dutos | C75: m | D75: 140,00 | E75: 9,04 | F75: 1.266,11 | G75: 0
A76: 09.05.008 | B76: Eletroduto de aço galvanizado a quente (NBR 5624) 80mm (3") - incluindo conexões | C76: m | D76: 6,00 | E76: 74,70 | F76: 448,21 | G76: 0
A77: 09.05.004 | B77: Eletroduto de aço galvanizado a quente (NBR 5624) 32mm (1 1/4") - incluindo conexões | C77: m | D77: 12,00 | E77: 36,01 | F77: 432,07 | G77: 0
A78: 09.05.080 | B78: Quadro de comando para conjunto de motor bomba trifásico de 4 a 5 HP | C78: Un. | D78: 1,00 | E78: 664,91 | F78: 664,91 | G78: 0
A79: 09.06.025 | B79: Caixa de passagem em alvenara de 0,40 x 0,40 x 0,40 m | C79: Un. | D79: 4,00 | E79: 103,06 | F79: 412,23 | G79: 100
A80: 09.06.026 | B80: Caixa de passagem em alvenara de 0,60 x 0,60 x 0,60 m | C80: Un. | D80: 8,00 | E80: 216,19 | F80: 1.729,49 | G80: 100
A81: 09.83.033 | B81: Barra de cobre para Neutro - 200A | C81: Un. | D81: 1,00 | E81: 20,55 | F81: 20,55 | G81: 100
A82: 09.82.002 | B82: Poste de concreto perfil de 6,00 x 300 kg | C82: Un. | D82: 1,00 | E82: 560,93 | F82: 560,93 | G82: 100
... A85: 09.03.017 | B85: Cabo de 4 mm2 - 1000V de isolação | C85: m | D85: 600,00 | E85: 4,34 | F85: 2.603,93 | G85: 0
A87: 1.6 | B87: SERVIÇOS COMPLEMENTARES | F87: 201.613,06
A88: 16.03.005 | B88: Grama São Carlos em placas | C88: m2 | D88: 1.624,37 | E88: 10,60 | F88: 17.213,04
A89: 16.18.051 | B89: Projeto executivo de estrutura - prancha técnica | C89: Un. | D89: 3,00 | E89: 1.006,02 | F89: 3.018,05
A90: 16.18.061 | B90: Levantamento planialtimétrico | C90: m2 | D90: 2,00 | E90: 0,11 | F90: 0,21
A91: 16.19.050 | B91: Projeto executivo de hidráulica - prancha técnica | C91: Un. | D91: 3,00 | E91: 578,45 | F91: 1.735,36 | G91: 0
A92: 16.20.050 | B92: Projeto executivo de elétrica - prancha técnica | C92: Un. | D92: 3,00 | E92: 835,00 | F92: 2.505,01 | G92: 0
A93: 16.05.031 | B93: Canaleta CA 21 | C93: m | D93: 68,00 | E93: 79,37 | F93: 5.397,10 | G93: 0
A94: 16.05.032 | B94: Canaleta CA 22 e tampa em concreto TC11 | C94: m | D94: 67,00 | E94: 82,84 | F94: 5.550,23 | G94: 0
A95: 16.05.030 | B95: Canaleta CA 20 | C95: m | D95: 22,00 | E95: 77,66 | F95: 1.708,44 | G95: 0
A96: 16.05.048 | B96: Tampa em concreto TC 11 | C96: m | D96: 20,00 | E96: 77,97 | F96: 1.559,34 | G96: 0
A97: 16.05.045 | B97: Tampa em ferro TC 08 | C97: m | D97: 68,00 | E97: 344,96 | F97: 23.457,44 | G97: 0
A98: 16.01.016 | B98: FD-16 Fechamento de divisa com bloco de concreto | C98: m | D98: 333,11 | E98: 418,69 | F98: 139.468,83 | G98: ?
B100: TOTAL DO ITEM INSTALAÇÕES E OUTROS | F100: 668.867,67
A102: 2 | B102: EDIFICAÇÕES
A103: 2.1 | B103: SUPER ESTRUTURA | F103: 507.747,86
A105: 03.01.000 | B105: FORMA | F105: 175.403,55
A106: 03.01.002 | B106: FORMAS PLANAS PLASTIFICADA PARA CONCRETO APARENTE | C106: M2 | D106: 2.754,15 | E106: 63,69 | F106: 175.403,55 | G106: 100
G107: 100
A108: 03.02.000 | B108: ARMADURA | F108: 101.081,82 | G108: 100
A109: 03.02.002 | B109: ACO CA 50 (A OU B) FYK= 500 M PA | C109: KG | D109: 15.603,00 | E109: 5,56 | F109: 86.824,84 | G109: 100
A110: 03.02.003 | B110: ACO CA 60 (A OU B) FYK= 600 M PA | C110: KG | D110: 2.591,00 | E110: 5,50 | F110: 14.256,98 | G110: 100
G111: 100
A112: 03.03.000 | B112: CONCRETO | F112: 231.262,49 | G112: 100
A113: 03.03.016 | B113: CONCRETO DOSADO E LANCADO FCK=25 MPA | C113: M3 | D113: 221,08 | E113: 405,26 | F113: 89.594,69 | G113: 100
...
