Workbook
Name AreaTeste: #REF!
Name AreaTeste2: #REF!
Name CélulaInicioPlanilha: #REF!
Name CélulaResumo: #REF!
Name Excel_BuiltIn_Database: #REF!
Name Excel_BuiltIn_Database_2: #REF!
Name Print_Area: Cronograma!$B$2:$AI$61
Name Print_Area: ORÇ!$B$2:$I$834
Name Print_Area: Planilha!$B$3:$H$299
Name Print_Titles: ORÇ!$2:$10
Name Print_Titles: Planilha!$2:$10

Sheet ORÇ
D2: MEMÓRIA DE CÁLCULO | G2: Processo:
G3: Data-Base: SIURB 01/22, SINAPI - 07/22
G4: CDHU - 05/22 - FDE -07/22
E5: MEDIÇÃO:
B6: OBRA: REFORMA E AMPLICAÇÃOCAMARA MUNICIPAL DE FERRAZ DE VASCONCELOS | G6: LOCAL: | H6: Ferraz de Vasconcelos
B7: CÓDIGO: R. DEP. QUEIROS TELES N 240-VILA ROMANOPOLIS | G7: CONTRATO: | H7: -
B9: CÓDIGO | C9: DESCRIÇÃO DOS SERVIÇOS | H9: UNID | I9: QUANT
A10: -
A11: - | C11: 1 - SERVICOS PRELIMINARES | L11: =I11*K11 -> 0
A12: EDIF | B12: 173002 | C12: =VLOOKUP(B12,'[1]Comp EDIF SEM Des Jan22'!$A$1:$J$12515,2,0) -> PLACA DE OBRA EM CHAPA DE AÇO GALVANIZADO | H12: =VLOOKUP(B12,'[1]Comp EDIF SEM Des Jan22'!$A$1:$J$12515,8,0) -> M2 | I12: 6 | K12: =VLOOKUP(B12,'[1]Comp EDIF SEM Des Jan22'!$A$1:$J$12515,10,0) -> 364.86 | L12: =I12*K12 -> 2189.16 | M12: =B12 -> 173002
A13: -
A14: -
A15: EDIF | B15: 10108 | C15: =VLOOKUP(B15,'[1]Comp EDIF SEM Des Jan22'!$A$1:$J$12515,2,0) -> LIMPEZA MANUAL GERAL INCLUSIVE REMOÇÃO DE COBERTURA VEGETAL - TRONCO ATÉ 10CM - SEM TRANSPORTE | H15: =VLOOKUP(B15,'[1]Comp EDIF SEM Des Jan22'!$A$1:$J$12515,8,0) -> M2 | I15: 3506.82 | K15: =VLOOKUP(B15,'[1]Comp EDIF SEM Des Jan22'!$A$1:$J$12515,10,0) -> 4.9 | L15: =I15*K15 -> 17183.418 | M15: =B15 -> 10108
A16: -
A17: -
A18: EDIF | B18: 10106 | C18: =VLOOKUP(B18,'[1]Comp EDIF SEM Des Jan22'!$A$1:$J$12515,2,0) -> CARGA MANUAL E REMOÇÃO DE ENTULHO, INCLUSIVE TRANSPORTE ATÉ 1 KM | H18: =VLOOKUP(B18,'[1]Comp EDIF SEM Des Jan22'!$A$1:$J$12515,8,0) -> M3 | I18: 514.852 | K18: =VLOOKUP(B18,'[1]Comp EDIF SEM Des Jan22'!$A$1:$J$12515,10,0) -> 31.41 | L18: =I18*K18 -> 16171.501 | M18: =B18 -> 10106
A19: -
A20: -
A21: EDIF | B21: 10110 | C21: =VLOOKUP(B21,'[1]Comp EDIF SEM Des Jan22'!$A$1:$J$12515,2,0) -> TRANSPORTE DE ENTULHO POR CAMINHÃO BASCULANTE, A PARTIR DE 1KM | H21: =VLOOKUP(B21,'[1]Comp EDIF SEM Des Jan22'!$A$1:$J$12515,8,0) -> M3XKM | I21: =I18*20 -> 10297.04 | K21: =VLOOKUP(B21,'[1]Comp EDIF SEM Des Jan22'!$A$1:$J$12515,10,0) -> 1.96 | L21: =I21*K21 -> 20182.198 | M21: =B21 -> 10110
A22: -
A23: -
A24: EDIF | B24: 10305 | C24: =VLOOKUP(B24,'[1]Comp EDIF SEM Des Jan22'!$A$1:$J$12515,2,0) -> FORNECIMENTO DE TERRA, INCLUSIVE CORTE, CARGA, DESCARGA E TRANSPORTE ATÉ 1KM | H24: =VLOOKUP(B24,'[1]Comp EDIF SEM Des Jan22'!$A$1:$J$12515,8,0) -> M3 | I24: =(9*13)+25 -> 142 | K24: =VLOOKUP(B24,'[1]Comp EDIF SEM Des Jan22'!$A$1:$J$12515,10,0) -> 26.69 | L24: =I24*K24 -> 3789.98 | M24: =B24 -> 10305
A25: -
A26: -
A27: EDIF | B27: 10310 | C27: =VLOOKUP(B27,'[1]Comp EDIF SEM Des Jan22'!$A$1:$J$12515,2,0) -> TRANSPORTE DE TERRA POR CAMINHÃO BASCULANTE, A PARTIR DE 1KM | H27: =VLOOKUP(B27,'[1]Comp EDIF SEM Des Jan22'!$A$1:$J$12515,8,0) -> M3XKM | I27: =I24*27 -> 3834 | K27: =VLOOKUP(B27,'[1]Comp EDIF SEM Des Jan22'!$A$1:$J$12515,10,0) -> 2.52 | L27: =I27*K27 -> 9661.68 | M27: =B27 -> 10310
A28: -
A29: -
A30: EDIF | B30: 34005 | C30: =VLOOKUP(B30,'[1]Comp EDIF SEM Des Jan22'!$A$1:$J$12515,2,0) -> LIMPEZA DE SUPERFÍCIES COM HIDROJATEAMENTO | H30: =VLOOKUP(B30,'[1]Comp EDIF SEM Des Jan22'!$A$1:$J$12515,8,0) -> M2 | I30: 754 | K30: =VLOOKUP(B30,'[1]Comp EDIF SEM Des Jan22'!$A$1:$J$12515,10,0) -> 6.2 | L30: =I30*K30 -> 4674.8 | M30: =B30 -> 34005
A31: - | N31: =SUM(L12:L30) -> 73852.738
A32: -
A33: - | C33: 2 - ESTRUTURA
A34: EDIF | B34: 40136 | C34: BLOCOS VAZADOS DE CONCRETO ESTRURURAL - 19CM - 10MPA | H34: M2 | I34: 671.85 | K34: =VLOOKUP(B34,'[1]Comp EDIF SEM Des Jan22'!$A$1:$J$12515,10,0) -> 112.37 | L34: =I34*K34 -> 75495.785 | M34: =B34 -> 40136
A35: - | C35: Escada - 150,20m² | J35: 150.2045
A36: - | C36: Elevador - 44,46m² | J36: 44.462
A37: - | C37: Rampa Interna - 11,93m² | J37: 11.93
A38: - | C38: Rampa externa - 71,20m² | J38: 71.2
A39: - | C39: Paredes Internas - 331,72m² | J39: 331.72
A40: - | C40: Caixa D'agua refeitorio - 17,8 x 2m = 35,6m² | J40: 35.6
A41: -
A42: EDIF | B42: 30321 | C42: CONCRETO FCK = 30,0MPA - USINADO E BOMBEÁVEL | H42: M3 | I42: =SUM(J43:J53) -> 23.26895 | K42: =VLOOKUP(B42,'[1]Comp EDIF SEM Des Jan22'!$A$1:$J$12515,10,0) -> 434.98 | L42: =I42*K42 -> 10121.528 | M42: =B42 -> 30321
A43: - | C43: Pilar Elevador - 0,602 x 4 x 10% = 2,65m³ | J43: 2.65
A44: - | C44: Viga Elevador - 0,38 x 8 x 10% = 3,34m³ | J44: 3.34
A45: - | C45: Viga Externa - 0,62 x 9 x 10% = 5,58m³ | J45: 5.58
A46: - | C46: Viga Externa - 0,98 x 1 x 10% = 1,08m³ | J46: 1.0769
A47: - | C47: pilares da paredes 0,25 x 0,25 x 4,0 x 18unid = 5,02m³ | J47: 5.02425
A48: - | C48: Pilar Caixa D'agua refeitorio - 0,22 x 10% = 0,22m³ | J48: 0.2178
A49: - | C49: Viga Rampa - 2,69 x 2 Vigas = 5,38m ³ | J49: 5.38
A50: -
A51: -
A52: -
A53: -
A54: EDIF | B54: 30101 | C54: FORMA COMUM DE TÁBUAS DE PINUS - PLANA | H54: M2 | I54: =SUM(J55:J63) -> 319.15 | K54: =VLOOKUP(B54,'[1]Comp EDIF SEM Des Jan22'!$A$1:$J$12515,10,0) -> 81.09 | L54: =I54*K54 -> 25879.873 | M54: =B54 -> 30101
A55: - | C55: Elevador - 10,03m² x 4 formas = 40,24m² | J55: 40.24
A56: - | C56: Elevador - 4,75m² x 8 formas = 38,00m² | J56: 38
A57: - | C57: Viga Externa - 5,58 x 9 = 50,22m² | J57: 50.22
A58: - | C58: Viga Externa - 88,11m² | J58: 88.11
A59: - | C59: Pilar das paredes 4,40 x 18unid = 79,2m² | J59: 79.2
A60: - | C60: Pilar Caixa D'agua refeitorio - 5,28m² | J60: 5.28
A61: - | C61: Viga Rampa - Forma 18,1m² | J61: 18.1
A62: -
A63: -
A64: EDIF | B64: 20407 | C64: ARMADURA EM AÇO CA-60 | H64: KG | I64: =SUM(J65:J72) -> 2243.116 | K64: =VLOOKUP(B64,'[1]Comp EDIF SEM Des Jan22'!$A$1:$J$12515,10,0) -> 13.33 | L64: =I64*K64 -> 29900.736 | M64: =B64 -> 20407
A65: - | C65: Pilar Elevador - 56,74kg x 4 x 10%= 249,66kg | J65: 249.656
A66: - | C66: Viga Elevador - 35,76kg x 8 x 10%= 314,69,08kg | J66: 314.688
A67: - | C67: Viga Externa - = 26,62kg x 9 x 10%= 263,54kg | J67: 263.538
A68: - | C68: Viga Externa - = 26,62kg x 10% = 458,30kg | J68: 458.304
A69: - | C69: Pilar das paredes 36,15 x 18 unid = 650,7kg | J69: 650.7
A70: - | C70: Pilar Caixa D'agua refeitorio - 16,56 x 4 x 10% = 66,25kg | J70: 66.25
A71: - | C71: Viga Rampa - 109,08kg x 2 Vigas x 10% = 239,98kg | J71: 239.98
A72: -
A73: SINAPI | B73: 102078 | C73: ESCADA EM CONCRETO ARMADO MOLDADO IN LOCO, FCK 20 MPA, COM 2 LANCES EM "U" E LAJE PLAJE CASCATA, FÔRMA EM CHAPA DE MADEIRA COMPENSADA RESINADA. AF_11/2020 | H73: M3 | I73: =SUM(J74:J75) -> 4.16 | K73: 5448.03 | L73: =I73*K73 -> 22663.805 | M73: =B73 -> 102078
A74: - | C74: Escada Proxima ao Elevador - 4,16m² | J74: 4.16
A75: -
A76: EDIF | B76: 30421 | C76: LAJE MISTA TRELIÇADA H-12CM COM CAPEAMENTO 4CM (16CM) | H76: M2 | I76: =SUM(J77:J85) -> 558.24 | K76: =VLOOKUP(B76,'[1]Comp EDIF SEM Des Jan22'!$A$1:$J$12515,10,0) -> 172.82 | L76: =I76*K76 -> 96475.037 | M76: =B76 -> 30421
A77: - | C77: Laje bloco Tribuna - 331,79 | J77: 331.79
A78: - | C78: Laje Bloco Refeitorio - 205,45 | J78: 205.45
A79: - | C79: Caixa D'agua - 19,45m² | J79: 19,45m²
A80: - | C80: Laje Rampa - 7,0 x 3,0 = 21,0m² | J80: =7*3 -> 21
N81: =SUM(L34:L81) -> 260536.76
A82: - | C82: 3 - ESTRUTURA SALA DE IMPRENSA
A83: EDIF | B83: 40198 | C83: VERGAS, CINTAS E PILARETES DE CONCRETO | H83: M3 | I83: 5.45 | K83: =VLOOKUP(B83,'[1]Comp EDIF SEM Des Jan22'!$A$1:$J$12515,10,0) -> 1773.82 | L83: =I83*K83 -> 9667.319 | M83: =B83 -> 40198
A84: -
A85: EDIF | B85: 40136 | C85: ='[2]PLANILHA ORCAMENTARIA'!$D$31 -> BLOCOS VAZADOS DE CONCRETO ESTRURURAL - 19CM - 10MPA | H85: M2 | I85: 67.2 | K85: =VLOOKUP(B85,'[1]Comp EDIF SEM Des Jan22'!$A$1:$J$12515,10,0) -> 112.37 | L85: =I85*K85 -> 7551.264
A87: SINAPI | B87: 38405 | C87: ='[2]PLANILHA ORCAMENTARIA'!$D$32 -> Concreto dosado,bombeado e lancado fck 25 mpa | H87: M3 | I87: 13 | K87: 524.85 | L87: =I87*K87 -> 6823.05
B88: SINAPI
B89: 110101 | C89: ='[2]PLANILHA ORCAMENTARIA'!$D$33 -> CHAPISCO COMUM - ARGAMASSA DE CIMENTO E AREIA 1:3 | H89: M2 | I89: 62 | K89: =VLOOKUP(B89,'[1]Comp EDIF SEM Des Jan22'!$A$1:$J$12515,10,0) -> 14.76 | L89: =I89*K89 -> 915.12
B91: 110108 | C91: ='[2]PLANILHA ORCAMENTARIA'!$D$34 -> EMBOÇO - ARGAMASSA MISTA DE CIMENTO, CAL E AREIA 1:4/12 | H91: M2 | I91: 62 | K91: 41.07 | L91: =I91*K91 -> 2546.34
B93: 110113 | C93: ='[2]PLANILHA ORCAMENTARIA'!$D$35 -> REBOCO INTERNO - ARGAMASSA PRÉ-FABRICADA | H93: M2 | I93: 62 | K93: =VLOOKUP(B93,'[1]Comp EDIF SEM Des Jan22'!$A$1:$J$12515,10,0) -> 31.05 | L93: =I93*K93 -> 1925.1
B95: 130240 | C95: ='[2]PLANILHA ORCAMENTARIA'!$D$36 -> PISO CERÂMICO ESMALTADO (PEI-5) - ASSENTADO COM ARGAMASSA COMUM | H95: M2 | I95: 70.17 | K95: =VLOOKUP(B95,'[1]Comp EDIF SEM Des Jan22'!$A$1:$J$12515,10,0) -> 147.45 | L95: =I95*K95 -> 10346.566
B97: 03.04.21 | C97: ='[2]PLANILHA ORCAMENTARIA'!$D$37 -> LAJE MISTA TRELIÇADA H-12CM COM CAPEAMENTO 4CM (16CM) | H97: M2 | I97: 68.74 | K97: 172.82 | L97: =I97*K97 -> 11879.647
N98: =SUM(L83:L98) -> 51654.406
C99: 4 - PROJETOS EXECUTIVO
B100: 200361 | C100: ='[2]PLANILHA ORCAMENTARIA'!$D$45 -> PROJETO RECUPERAÇÃO ESTRUTURAL | H100: UNID | I100: 4 | K100: 3069.22 | L100: =I100*K100 -> 12276.88
B101: 200361 | C101: ='[2]PLANILHA ORCAMENTARIA'!$D$46 -> Projeto executivo de instalações elétricas em formato A1 | H101: UND | I101: 6 | K101: 3069.22 | L101: =I101*K101 -> 18415.32
B102: 200361 | C102: ='[2]PLANILHA ORCAMENTARIA'!$D$47 -> Projeto executivo de instalações hidráulicas em formato A1 | H102: UNID | I102: 6 | K102: 3069.22 | L102: =I102*K102 -> 18415.32
N103: =SUM(L100:L102) -> 49107.52
C104: 5 - EXECUÇÃO DE RECUPERAÇÃO EM FERRAGENS
B105: 34002 | C105: ='[2]PLANILHA ORCAMENTARIA'!$D$51 -> APICOAMENTO DE SUPERFÍCIE DE CONCRETO | H105: M2 | I105: 18 | K105: =VLOOKUP(B105,'[1]Comp EDIF SEM Des Jan22'!$A$1:$J$12515,10,0) -> 97.96 | L105: =I105*K105 -> 1763.28
B106: 100400 | C106: ='[2]PLANILHA ORCAMENTARIA'!$D$52 -> CORTE SUPERFICIAL DE CONCRETO ATÉ 3 CM DE PROFUNDIDADE | H106: M2 | I106: 12 | K106: 98.58 | L106: =I106*K106 -> 1182.96
B107: 20404 | C107: ='[2]PLANILHA ORCAMENTARIA'!$D$53 -> ARMADURA EM AÇO CA-50 | H107: KG | I107: 52 | K107: =VLOOKUP(B107,'[1]Comp EDIF SEM Des Jan22'!$A$1:$J$12515,10,0) -> 12.5 | L107: =I107*K107 -> 650
...

Sheet Planilha
B3: PREFEITURA MUNICIPAL DE FERRAZ DE VASCONCELOS
B4: SECRETARIA MUNICIPAL DE OBRAS
B5: PLANILHA ORÇAMENTÁRIA
B7: =ORÇ!B6 -> OBRA: REFORMA E AMPLICAÇÃOCAMARA MUNICIPAL DE FERRAZ DE VASCONCELOS | L7: CRONOGRAMA FISICO DA
D8: R. DEP. QUEIROS TELES N 240-VILA ROMANOPOLIS | F8: Data base: | G8: Data-Base: SIURB 01/22, SINAPI - 07/22 CDHU - 05/22 - FDE -07/22
B10: Referência | C10: Item | D10: Descrição | E10: Unid | F10: Quantidade | G10: Preço Unit | H10: Total
B11: - | D11: =ORÇ!C11 -> 1 - SERVICOS PRELIMINARES
B12: =ORÇ!A12 -> EDIF | C12: =ORÇ!B12 -> 173002 | D12: PLACA DE OBRA EM CHAPA DE AÇO GALVANIZADO | E12: M2 | F12: 6 | G12: =VLOOKUP(C12,'[4]EDIF Jan22'!$A$1:$D$2661,4,0) -> 364.86 | H12: =F12*G12 -> 2189.16
B13: =ORÇ!A15 -> EDIF | C13: =ORÇ!B15 -> 10108 | D13: LIMPEZA MANUAL GERAL INCLUSIVE REMOÇÃO DE COBERTURA VEGETAL - TRONCO ATÉ 10CM - SEM TRANSPORTE | E13: M2 | F13: 3506.82 | G13: =VLOOKUP(C13,'[4]EDIF Jan22'!$A$1:$D$2661,4,0) -> 4.9 | H13: =F13*G13 -> 17183.418
B14: =ORÇ!A18 -> EDIF | C14: =ORÇ!B18 -> 10106 | D14: CARGA MANUAL E REMOÇÃO DE ENTULHO, INCLUSIVE TRANSPORTE ATÉ 1 KM | E14: M3 | F14: 514.852 | G14: =VLOOKUP(C14,'[4]EDIF Jan22'!$A$1:$D$2661,4,0) -> 31.41 | H14: =F14*G14 -> 16171.501
B15: =ORÇ!A21 -> EDIF | C15: =ORÇ!B21 -> 10110 | D15: TRANSPORTE DE ENTULHO POR CAMINHÃO BASCULANTE, A PARTIR DE 1KM | E15: M3XKM | F15: 10297.04 | G15: =VLOOKUP(C15,'[4]EDIF Jan22'!$A$1:$D$2661,4,0) -> 1.96 | H15: =F15*G15 -> 20182.198
B16: =ORÇ!A24 -> EDIF | C16: =ORÇ!B24 -> 10305 | D16: FORNECIMENTO DE TERRA, INCLUSIVE CORTE, CARGA, DESCARGA E TRANSPORTE ATÉ 1KM | E16: M3 | F16: 142 | G16: =VLOOKUP(C16,'[4]EDIF Jan22'!$A$1:$D$2661,4,0) -> 26.69 | H16: =F16*G16 -> 3789.98
B17: =ORÇ!A27 -> EDIF | C17: =ORÇ!B27 -> 10310 | D17: TRANSPORTE DE TERRA POR CAMINHÃO BASCULANTE, A PARTIR DE 1KM | E17: M3XKM | F17: 3834 | G17: =VLOOKUP(C17,'[4]EDIF Jan22'!$A$1:$D$2661,4,0) -> 2.52 | H17: =F17*G17 -> 9661.68
B18: =ORÇ!A30 -> EDIF | C18: =ORÇ!B30 -> 34005 | D18: LIMPEZA DE SUPERFÍCIES COM HIDROJATEAMENTO | E18: M2 | F18: 754 | G18: =VLOOKUP(C18,'[4]EDIF Jan22'!$A$1:$D$2661,4,0) -> 6.2 | H18: =F18*G18 -> 4674.8
B19: - | G19: Subtotal: | H19: =SUM(H12:H18) -> 73852.738
B20: - | D20: =ORÇ!C33 -> 2 - ESTRUTURA
B21: =ORÇ!A34 -> EDIF | C21: =ORÇ!B34 -> 40136 | D21: BLOCOS VAZADOS DE CONCRETO ESTRURURAL - 19CM - 10MPA | E21: M2 | F21: 671.85 | G21: =VLOOKUP(C21,'[4]EDIF Jan22'!$A$1:$D$2661,4,0) -> 112.37 | H21: =F21*G21 -> 75495.785
B22: =ORÇ!A42 -> EDIF | C22: =ORÇ!B42 -> 30321 | D22: CONCRETO FCK = 30,0MPA - USINADO E BOMBEÁVEL | E22: M3 | F22: 23.26895 | G22: =VLOOKUP(C22,'[4]EDIF Jan22'!$A$1:$D$2661,4,0) -> 434.98 | H22: =F22*G22 -> 10121.528
B23: =ORÇ!A54 -> EDIF | C23: =ORÇ!B54 -> 30101 | D23: FORMA COMUM DE TÁBUAS DE PINUS - PLANA | E23: M2 | F23: 319.15 | G23: =VLOOKUP(C23,'[4]EDIF Jan22'!$A$1:$D$2661,4,0) -> 81.09 | H23: =F23*G23 -> 25879.873
B24: =ORÇ!A64 -> EDIF | C24: =ORÇ!B64 -> 20407 | D24: ARMADURA EM AÇO CA-60 | E24: KG | F24: 2243.116 | G24: =VLOOKUP(C24,'[4]EDIF Jan22'!$A$1:$D$2661,4,0) -> 13.33 | H24: =F24*G24 -> 29900.736
B25: =ORÇ!A73 -> SINAPI | C25: =ORÇ!B73 -> 102078 | D25: ESCADA EM CONCRETO ARMADO MOLDADO IN LOCO, FCK 20 MPA, COM 2 LANCES EM "U" E LAJE PLANA, FÔRMA EM CHAPA DE MADEIRA COMPENSADA RESINADA. AF_11/2020 | E25: M3 | F25: 4.16 | G25: 5448.03 | H25: =F25*G25 -> 22663.805
B26: =ORÇ!A76 -> EDIF | C26: =ORÇ!B76 -> 30421 | D26: LAJE MISTA TRELIÇADA H-12CM COM CAPEAMENTO 4CM (16CM) | E26: M2 | F26: 558.24 | G26: =VLOOKUP(C26,'[4]EDIF Jan22'!$A$1:$D$2661,4,0) -> 172.82 | H26: =F26*G26 -> 96475.037
B27: - | G27: Subtotal: | H27: =SUM(H21:H26) -> 260536.76
D28: =ORÇ!C82 -> 3 - ESTRUTURA SALA DE IMPRENSA
B29: EDIF | C29: =ORÇ!B83 -> 40198 | D29: =VLOOKUP(C29,ORÇ!B83:L97,2,0) -> VERGAS, CINTAS E PILARETES DE CONCRETO | E29: =VLOOKUP(C29,ORÇ!B80:L95,7,0) -> M3 | F29: =VLOOKUP(C29,ORÇ!B80:L95,8,0) -> 5.45 | G29: =VLOOKUP(C29,ORÇ!B80:L95,10,0) -> 1773.82 | H29: =F29*G29 -> 9667.319
B30: EDIF | C30: =ORÇ!B85 -> 40136 | D30: =VLOOKUP(C30,ORÇ!B84:L98,2,0) -> BLOCOS VAZADOS DE CONCRETO ESTRURURAL - 19CM - 10MPA | E30: =VLOOKUP(C30,ORÇ!B81:L96,7,0) -> M2 | F30: =VLOOKUP(C30,ORÇ!B81:L96,8,0) -> 67.2 | G30: =VLOOKUP(C30,ORÇ!B81:L96,10,0) -> 112.37 | H30: =F30*G30 -> 7551.264
B31: SINAPI | C31: =ORÇ!B87 -> 38405 | D31: =VLOOKUP(C31,ORÇ!B85:L99,2,0) -> Concreto dosado,bombeado e lancado fck 25 mpa | E31: =VLOOKUP(C31,ORÇ!B82:L97,7,0) -> M3 | F31: =VLOOKUP(C31,ORÇ!B82:L97,8,0) -> 13 | G31: =VLOOKUP(C31,ORÇ!B82:L97,10,0) -> 524.85 | H31: =F31*G31 -> 6823.05
B32: EDIF | C32: =ORÇ!B89 -> 110101 | D32: =VLOOKUP(C32,ORÇ!B86:L100,2,0) -> CHAPISCO COMUM - ARGAMASSA DE CIMENTO E AREIA 1:3 | E32: =VLOOKUP(C32,ORÇ!B83:L98,7,0) -> M2 | F32: =VLOOKUP(C32,ORÇ!B83:L98,8,0) -> 62 | G32: =VLOOKUP(C32,ORÇ!B83:L98,10,0) -> 14.76 | H32: =F32*G32 -> 915.12
B33: EDIF | C33: =ORÇ!B91 -> 110108 | D33: =VLOOKUP(C33,ORÇ!B87:L101,2,0) -> EMBOÇO - ARGAMASSA MISTA DE CIMENTO, CAL E AREIA 1:4/12 | E33: =VLOOKUP(C33,ORÇ!B84:L99,7,0) -> M2 | F33: =VLOOKUP(C33,ORÇ!B84:L99,8,0) -> 62 | G33: =VLOOKUP(C33,ORÇ!B84:L99,10,0) -> 41.07 | H33: =F33*G33 -> 2546.34
B34: EDIF | C34: =ORÇ!B93 -> 110113 | D34: =VLOOKUP(C34,ORÇ!B88:L102,2,0) -> REBOCO INTERNO - ARGAMASSA PRÉ-FABRICADA | E34: =VLOOKUP(C34,ORÇ!B85:L100,7,0) -> M2 | F34: =VLOOKUP(C34,ORÇ!B85:L100,8,0) -> 62 | G34: =VLOOKUP(C34,ORÇ!B85:L100,10,0) -> 31.05 | H34: =F34*G34 -> 1925.1
B35: EDIF | C35: =ORÇ!B95 -> 130240 | D35: =VLOOKUP(C35,ORÇ!B89:L103,2,0) -> PISO CERÂMICO ESMALTADO (PEI-5) - ASSENTADO COM ARGAMASSA COMUM | E35: =VLOOKUP(C35,ORÇ!B86:L101,7,0) -> M2 | F35: =VLOOKUP(C35,ORÇ!B86:L101,8,0) -> 70.17 | G35: =VLOOKUP(C35,ORÇ!B86:L101,10,0) -> 147.45 | H35: =F35*G35 -> 10346.566
B36: EDIF | C36: =ORÇ!B97 -> 03.04.21 | D36: =VLOOKUP(C36,ORÇ!B90:L104,2,0) -> LAJE MISTA TRELIÇADA H-12CM COM CAPEAMENTO 4CM (16CM) | E36: =VLOOKUP(C36,ORÇ!B87:L102,7,0) -> M2 | F36: =VLOOKUP(C36,ORÇ!B87:L102,8,0) -> 68.74 | G36: =VLOOKUP(C36,ORÇ!B87:L102,10,0) -> 172.82 | H36: =F36*G36 -> 11879.647
B37: - | G37: Subtotal: | H37: =SUM(H29:H36) -> 51654.406
D38: =ORÇ!C99 -> 4 - PROJETOS EXECUTIVO
B39: EDIF | C39: =ORÇ!B100 -> 200361 | D39: =VLOOKUP(C39,ORÇ!B91:L105,2,0) -> PROJETO RECUPERAÇÃO ESTRUTURAL | E39: UNID | F39: 4 | G39: =ORÇ!K100 -> 3069.22 | H39: =F39*G39 -> 12276.88
B40: EDIF | C40: =ORÇ!B101 -> 200361 | D40: =ORÇ!C101 -> Projeto executivo de instalações elétricas em formato A1 | E40: UNID | F40: 6 | G40: =ORÇ!K101 -> 3069.22 | H40: =F40*G40 -> 18415.32
B41: EDIF | C41: =ORÇ!B102 -> 200361 | D41: =ORÇ!C102 -> Projeto executivo de instalações hidráulicas em formato A1 | E41: UNID | F41: 6 | G41: =ORÇ!K102 -> 3069.22 | H41: =F41*G41 -> 18415.32
B42: - | G42: Subtotal: | H42: =SUM(H39:H41) -> 49107.52
D43: =ORÇ!C104 -> 5 - EXECUÇÃO DE RECUPERAÇÃO EM FERRAGENS
B44: EDIF | C44: =ORÇ!B105 -> 34002 | D44: =VLOOKUP(C44,ORÇ!B105:L110,2,0) -> APICOAMENTO DE SUPERFÍCIE DE CONCRETO | E44: =VLOOKUP(C44,ORÇ!B105:L110,7,0) -> M2 | F44: =VLOOKUP(C44,ORÇ!B105:L110,8,0) -> 18 | G44: =VLOOKUP(C44,ORÇ!B105:L110,10,0) -> 97.96 | H44: =F44*G44 -> 1763.28
C45: =ORÇ!B106 -> 100400 | D45: =VLOOKUP(C45,ORÇ!B106:L111,2,0) -> CORTE SUPERFICIAL DE CONCRETO ATÉ 3 CM DE PROFUNDIDADE | E45: =VLOOKUP(C45,ORÇ!B106:L111,7,0) -> M2 | F45: =VLOOKUP(C45,ORÇ!B106:L111,8,0) -> 12 | G45: =VLOOKUP(C45,ORÇ!B106:L111,10,0) -> 98.58 | H45: =F45*G45 -> 1182.96
C46: =ORÇ!B107 -> 20404 | D46: =VLOOKUP(C46,ORÇ!B107:L112,2,0) -> ARMADURA EM AÇO CA-50 | E46: =VLOOKUP(C46,ORÇ!B107:L112,7,0) -> KG | F46: =VLOOKUP(C46,ORÇ!B107:L112,8,0) -> 52 | G46: =VLOOKUP(C46,ORÇ!B107:L112,10,0) -> 12.5 | H46: =F46*G46 -> 650
C47: =ORÇ!B108 -> 102000 | D47: =VLOOKUP(C47,ORÇ!B108:L113,2,0) -> FORNECIMENTO E APLICAÇÃO DE RESINA EPOXÍDICA PARA CHUMBAMENTO DE ARMADURAS EM FUROS DE CONCRETO | E47: =VLOOKUP(C47,ORÇ!B108:L113,7,0) -> KG | F47: =VLOOKUP(C47,ORÇ!B108:L113,8,0) -> 8 | G47: =VLOOKUP(C47,ORÇ!B108:L113,10,0) -> 98.58 | H47: =F47*G47 -> 788.64
C48: =ORÇ!B109 -> 34022 | D48: =VLOOKUP(C48,ORÇ!B109:L114,2,0) -> TRATAMENTO DE ARMADURA COM APLICAÇÃO DE PRODUTO INIBIDOR OXIDANTE | E48: =VLOOKUP(C48,ORÇ!B109:L114,7,0) -> M2 | F48: =VLOOKUP(C48,ORÇ!B109:L114,8,0) -> 34 | G48: =VLOOKUP(C48,ORÇ!B109:L114,10,0) -> 5.61 | H48: =F48*G48 -> 190.74
C49: =ORÇ!B110 -> 34060 | D49: =VLOOKUP(C49,ORÇ!B110:L115,2,0) -> PREPARAÇÃO DE PONTE DE ADERÊNCIA COM ADESIVO A BASE DE EPÓXI | E49: =VLOOKUP(C49,ORÇ!B110:L115,7,0) -> M2 | F49: =VLOOKUP(C49,ORÇ!B110:L115,8,0) -> 12 | G49: =VLOOKUP(C49,ORÇ!B110:L115,10,0) -> 157.73 | H49: =F49*G49 -> 1892.76
B50: - | G50: Subtotal: | H50: =SUM(H44:H49) -> 6468.38
D51: =ORÇ!C112 -> 6 - ÀGUA DE REUSO
C52: =ORÇ!B113 -> 48.02.310 | D52: =VLOOKUP(C52,ORÇ!B113:L118,2,0) -> Reservatório em polietileno de alta densidade (cisterna) com antioxidante e proteção contra raios ultravioleta (UV) - capacidade de 10.000 litros | E52: =VLOOKUP(C52,ORÇ!B113:L118,7,0) -> UNID | F52: =VLOOKUP(C52,ORÇ!B113:L118,8,0) -> 7 | G52: =VLOOKUP(C52,ORÇ!B113:L118,10,0) -> 14957.69 | H52: =F52*G52 -> 104703.83
C53: =ORÇ!B114 -> COT | D53: =VLOOKUP(C53,ORÇ!B114:L119,2,0) -> FILTRO VOLUMÉTRICO PARA ÁGUA DE CHUVA CONFORME DIN 1989-2 TIPO C | E53: =VLOOKUP(C53,ORÇ!B114:L119,7,0) -> UNID | F53: =VLOOKUP(C53,ORÇ!B114:L119,8,0) -> 5 | G53: =VLOOKUP(C53,ORÇ!B114:L119,10,0) -> 17829.9 | H53: =F53*G53 -> 89149.5
C54: =ORÇ!B115 -> COT | D54: =VLOOKUP(C54,ORÇ!B115:L120,2,0) -> FREIO D'ÁGUA 100 mm | E54: =VLOOKUP(C54,ORÇ!B115:L120,7,0) -> UNID | F54: =VLOOKUP(C54,ORÇ!B115:L120,8,0) -> 5 | G54: =VLOOKUP(C54,ORÇ!B115:L120,10,0) -> 1384.8 | H54: =F54*G54 -> 6924
C55: =ORÇ!B116 -> COT | D55: =VLOOKUP(C55,ORÇ!B116:L121,2,0) -> DOSADOR DE CLORO Q MINI 2,59 m³/h 0,72 l/s | E55: =VLOOKUP(C55,ORÇ!B116:L121,7,0) -> UNID | F55: =VLOOKUP(C55,ORÇ!B116:L121,8,0) -> 5 | G55: =VLOOKUP(C55,ORÇ!B116:L121,10,0) -> 2240.63 | H55: =F55*G55 -> 11203.15
C56: =ORÇ!B117 -> 43.10.620 | D56: =VLOOKUP(C56,ORÇ!B117:L122,2,0) -> Conjunto motor-bomba (centrífuga), 0,5 cv, monoestágio, Hman= 10 a 20 mca, Q= 7,5 a 1,5 m³/h | E56: =VLOOKUP(C56,ORÇ!B117:L122,7,0) -> UNID | F56: =VLOOKUP(C56,ORÇ!B117:L122,8,0) -> 5 | G56: =VLOOKUP(C56,ORÇ!B117:L122,10,0) -> 1718.04 | H56: =F56*G56 -> 8590.2
C57: =ORÇ!B118 -> 89402- SINAPI | D57: =VLOOKUP(C57,ORÇ!B118:L123,2,0) -> TUBO, PVC, SOLDÁVEL, DN 25MM, INSTALADO EM RAMAL DE DISTRIBUIÇÃO DE ÁGUA - FORNECIMENTO E INSTALAÇÃO. AF_06/2022 | E57: =VLOOKUP(C57,ORÇ!B118:L123,7,0) -> M | F57: =VLOOKUP(C57,ORÇ!B118:L123,8,0) -> 189 | G57: =VLOOKUP(C57,ORÇ!B118:L123,10,0) -> 14.97 | H57: =F57*G57 -> 2829.33
C58: =ORÇ!B119 -> 89403- SINAPI | D58: =VLOOKUP(C58,ORÇ!B119:L124,2,0) -> TUBO, PVC, SOLDÁVEL, DN 32MM, INSTALADO EM RAMAL DE DISTRIBUIÇÃO DE ÁGUA - FORNECIMENTO E INSTALAÇÃO. AF_06/2022 | E58: =VLOOKUP(C58,ORÇ!B119:L124,7,0) -> M | F58: =VLOOKUP(C58,ORÇ!B119:L124,8,0) -> 20 | G58: =VLOOKUP(C58,ORÇ!B119:L124,10,0) -> 23.39 | H58: =F58*G58 -> 467.8
C59: =ORÇ!B120 -> COT | D59: =VLOOKUP(C59,ORÇ!B120:L125,2,0) -> REALIMENTADOR 3/4" | E59: =VLOOKUP(C59,ORÇ!B120:L125,7,0) -> UNID | F59: =VLOOKUP(C59,ORÇ!B120:L125,8,0) -> 1 | G59: =VLOOKUP(C59,ORÇ!B120:L125,10,0) -> 399.6 | H59: =F59*G59 -> 399.6
B60: - | G60: Subtotal: | H60: =SUM(H52:H59) -> 224267.41
B61: - | D61: =ORÇ!C122 -> 7 - COBERTURAS
B62: =ORÇ!A123 -> EDIF | C62: =ORÇ!B123 -> 60249 | D62: TELHA TRAPEZOIDAL DUP. AÇO GALVANIZADO E=0,5MM, REVESTIMENTO B, H=40MM PINTURA MIOLO POLIURETANO E=30MM | E62: M2 | F62: =VLOOKUP(C62,ORÇ!B123:L138,8,0) -> 876 | G62: =VLOOKUP(C62,ORÇ!B123:L138,10,0) -> 257.81 | H62: =F62*G62 -> 225841.56
B63: =ORÇ!A129 -> SINAPI | C63: 92616 | D63: FABRICAÇÃO E INSTALAÇÃO DE TESOURA INTEIRA EM AÇO, VÃO DE 10 M, PARA TELHA ONDULADA DE FIBROCIMENTO, METÁLICA, PLÁSTICA OU TERMOACÚSTICA, INCLUSO IÇAMENTO. AF_12/2015 | E63: UN | F63: =VLOOKUP(C63,ORÇ!B124:L139,8,0) -> 7 | G63: =VLOOKUP(C63,ORÇ!B124:L139,10,0) -> 2172.97 | H63: =F63*G63 -> 15210.79
B64: =ORÇ!A131 -> SINAPI | C64: =ORÇ!B131 -> 100378 | D64: FABRICAÇÃO E INSTALAÇÃO DE TESOURA (INTEIRA OU MEIA) EM AÇO, VÃOS MAIORES QUE 6,0 M E MENORES QUE 12,0 M, INCLUSO IÇAMENTO. AF_07/2019 | E64: KG | F64: =VLOOKUP(C64,ORÇ!B125:L140,8,0) -> 2264.4 | G64: =VLOOKUP(C64,ORÇ!B125:L140,10,0) -> 13.59 | H64: =F64*G64 -> 30773.196
B65: =ORÇ!A135 -> EDIF | C65: =ORÇ!B135 -> 60130 | D65: FORNECIMENTO DE ESTRUTURA METÁLICA PARA COBERTURA | E65: KG | F65: =VLOOKUP(C65,ORÇ!B126:L141,8,0) -> 10512 | G65: =VLOOKUP(C65,ORÇ!B126:L141,10,0) -> 17.06 | H65: =F65*G65 -> 179334.72
B66: =ORÇ!A138 -> EDIF | C66: =ORÇ!B138 -> 60131 | D66: MONTAGEM DE ESTRUTURA METÁLICA PARA COBERTURA | E66: KG | F66: =VLOOKUP(C66,ORÇ!B127:L142,8,0) -> 10512 | G66: =VLOOKUP(C66,ORÇ!B127:L142,10,0) -> 2.92 | H66: =F66*G66 -> 30695.04
C67: =ORÇ!B140 -> 33.07.140 | D67: =VLOOKUP(C67,ORÇ!B128:L143,2,0) -> PINTURA COM ESMALTE ALQUÍDICO EM ESTRUTURA METÁLICA | E67: =VLOOKUP(C67,ORÇ!B128:L143,7,0) -> KG | F67: =VLOOKUP(C67,ORÇ!B128:L143,8,0) -> 10512 | G67: =VLOOKUP(C67,ORÇ!B128:L143,10,0) -> 2.96 | H67: =F67*G67 -> 31115.52
B68: - | G68: Subtotal: | H68: =SUM(H62:H67) -> 512970.83
B69: - | D69: =ORÇ!C142 -> 8 - ESQUADRIAS DE MADEIRA E ESQUADRIAS METALICAS
B70: =ORÇ!A143 -> EDIF | C70: =ORÇ!B143 -> 170195 | D70: PORTÃO EM FERRO GALVANIZADO ELETROFUNDIDO MALHA 65X132MM, DE ABRIR, 2 FOLHAS, COM PINTURA ELETROLÍTICA | E70: M2 | F70: =VLOOKUP(C70,ORÇ!B131:L146,8,0) -> 12 | G70: =VLOOKUP(C70,ORÇ!B131:L146,10,0) -> 1125.94 | H70: =F70*G70 -> 13511.28
B71: =ORÇ!A147 -> EDIF | C71: =ORÇ!B147 -> 80140 | D71: PA.11 - PORTA EM ALUMÍNIO ANODIZADO, MEIO VIDRO, DE ABRIR, 2 FOLHAS | E71: M2 | F71: =VLOOKUP(C71,ORÇ!B132:L147,8,0) -> 33.6 | G71: =VLOOKUP(C71,ORÇ!B132:L147,10,0) -> 1057.23 | H71: =F71*G71 -> 35522.928
B72: =ORÇ!A150 -> EDIF | C72: =ORÇ!B150 -> 70107 | D72: PM.07 - PORTA LISA ESPECIAL/ SÓLIDA - 82X210CM | E72: UN | F72: =VLOOKUP(C72,ORÇ!B133:L160,8,0) -> 59 | G72: =VLOOKUP(C72,ORÇ!B133:L200,10,0) -> 561.99 | H72: =F72*G72 -> 33157.41
B73: =ORÇ!A154 -> SINAPI | C73: =ORÇ!B154 -> 91313 | D73: KIT DE PORTA DE MADEIRA PARA PINTURA, SEMI-OCA (LEVE OU MÉDIA), PADRÃO POPULAR, 70X210CM, ESPESSURA DE 3,5CM, ITENS INCLUSOS: DOBRADIÇAS, MONTAGEM E INSTALAÇÃO DO BATENTE, FECHADURA COM EXECUÇÃO DO FURO - FORNECIMENTO E INSTALAÇÃO. AF_12/2019 | E73: UN | F73: =VLOOKUP(C73,ORÇ!B134:L161,8,0) -> 2 | G73: =VLOOKUP(C73,ORÇ!B134:L201,10,0) -> 90.93 | H73: =F73*G73 -> 181.86
B74: =ORÇ!A157 -> EDIF | C74: =ORÇ!B157 -> 70104 | D74: PM.04 - PORTA LISA ESPECIAL/ SÓLIDA PARA PORTADORES DE DEFICIÊNCIA FÍSICA - 82X210CM | E74: UN | F74: =VLOOKUP(C74,ORÇ!B135:L162,8,0) -> 4 | G74: =VLOOKUP(C74,ORÇ!B135:L202,10,0) -> 852.68 | H74: =F74*G74 -> 3410.72
B75: =ORÇ!A160 -> FDE | C75: =ORÇ!B160 -> 05.01.029 | D75: PM-74 PORTA SARRAFEADO MACIÇO P/BOXES L=62CM-COMPLETA | E75: UN | F75: =VLOOKUP(C75,ORÇ!B136:L163,8,0) -> 20 | G75: =VLOOKUP(C75,ORÇ!B136:L203,10,0) -> 598.58 | H75: =F75*G75 -> 11971.6
B76: =ORÇ!A164 -> EDIF | C76: =ORÇ!B164 -> 70149 | D76: PM.49 - PORTA DE MADEIRA LISA COMUM/ ENCABEÇADA, 2 FOLHAS - 204X210CM | E76: UN | F76: =VLOOKUP(C76,ORÇ!B137:L164,8,0) -> 1 | G76: =VLOOKUP(C76,ORÇ!B137:L204,10,0) -> 983.41 | H76: =F76*G76 -> 983.41
B77: =ORÇ!A167 -> FDE | C77: =ORÇ!B167 -> 05.01.070 | D77: PM-83 PORTA DE CORRER ACESSIVEL SARRAFEADA MACIÇA G1-C1 P/PINTURA L=101CM | E77: UN | F77: =VLOOKUP(C77,ORÇ!B138:L185,8,0) -> 1 | G77: =VLOOKUP(C77,ORÇ!B138:L205,10,0) -> 2907.36 | H77: =F77*G77 -> 2907.36
B78: =ORÇ!A170 -> EDIF | C78: =ORÇ!B170 -> 80139 | D78: PA.10 - PORTA EM ALUMÍNIO ANODIZADO, MEIO VIDRO - ABRIR, 1 FOLHA | E78: M2 | F78: =VLOOKUP(C78,ORÇ!B139:L186,8,0) -> 0.6 | G78: =VLOOKUP(C78,ORÇ!B139:L206,10,0) -> 976.47 | H78: =F78*G78 -> 585.882
B79: =ORÇ!A173 -> SIEC | C79: =ORÇ!B173 -> 25.02.010 | D79: Porta de vidro temperado transparente, e = 10mm | E79: M2 | F79: =VLOOKUP(C79,ORÇ!B140:L187,8,0) -> 12 | G79: =VLOOKUP(C79,ORÇ!B140:L207,10,0) -> 580.32 | H79: =F79*G79 -> 6963.84
B80: =ORÇ!A176 -> EDIF | C80: =ORÇ!B176 -> 70154 | D80: EM.02 - BATENTE DE MADEIRA (25CM) - PARA PORTA DE 1 FOLHA, SEM BANDEIRA | E80: JG | F80: =VLOOKUP(C80,ORÇ!B141:L188,8,0) -> 63 | G80: =VLOOKUP(C80,ORÇ!B141:L208,10,0) -> 733.36 | H80: =F80*G80 -> 46201.68
B81: =ORÇ!A182 -> EDIF | C81: =ORÇ!B182 -> 70153 | D81: EM.01 - BATENTE DE MADEIRA (14CM) - PARA INSTALAÇÕES SANITÁRIAS | E81: JG | F81: =VLOOKUP(C81,ORÇ!B142:L189,8,0) -> 20 | G81: =VLOOKUP(C81,ORÇ!B142:L209,10,0) -> 649.57 | H81: =F81*G81 -> 12991.4
B82: =ORÇ!A185 -> EDIF | C82: =ORÇ!B185 -> 70155 | D82: EM.02 - BATENTE DE MADEIRA (25CM) - PARA PORTA DE 2 FOLHAS, SEM BANDEIRA | E82: JG | F82: =VLOOKUP(C82,ORÇ!B143:L190,8,0) -> 4 | G82: =VLOOKUP(C82,ORÇ!B143:L210,10,0) -> 1198.46 | H82: =F82*G82 -> 4793.84
B83: =ORÇ!A188 -> EDIF | C83: =ORÇ!B188 -> 80171 | D83: EF.02 - BATENTE ESPECIAL EM PERFIL DE CHAPA DOBRADA N. 14 | E83: M | F83: =VLOOKUP(C83,ORÇ!B144:L191,8,0) -> 52 | G83: =VLOOKUP(C83,ORÇ!B144:L211,10,0) -> 212.47 | H83: =F83*G83 -> 11048.44
B84: =ORÇ!A193 -> EDIF | C84: =ORÇ!B193 -> 80266 | D84: CA.17 - CAIXILHO EM ALUMÍNIO ANODIZADO - DE CORRER | E84: M2 | F84: =VLOOKUP(C84,ORÇ!B145:L222,8,0) -> 188 | G84: =VLOOKUP(C84,ORÇ!B145:L212,10,0) -> 1073.77 | H84: =F84*G84 -> 201868.76
B85: =ORÇ!A204 -> EDIF | C85: =ORÇ!B204 -> 80262 | D85: CA.13 - CAIXILHO EM ALUMÍNIO ANODIZADO - BASCULANTE | E85: M2 | F85: =VLOOKUP(C85,ORÇ!B146:L223,8,0) -> 35 | G85: =VLOOKUP(C85,ORÇ!B146:L213,10,0) -> 1277.81 | H85: =F85*G85 -> 44723.35
B86: =ORÇ!A214 -> EDIF | C86: =ORÇ!B214 -> 80258 | D86: CA.09 - CAIXILHO EM ALUMÍNIO ANODIZADO - MAXIMAR | E86: M2 | F86: =VLOOKUP(C86,ORÇ!B147:L224,8,0) -> 35 | G86: =VLOOKUP(C86,ORÇ!B147:L214,10,0) -> 1036.11 | H86: =F86*G86 -> 36263.85
C87: =ORÇ!B220 -> 34.05.320 | D87: =VLOOKUP(C87,ORÇ!B148:L250,2,0) -> Portão de ferro perfilado, tipo parque | E87: =VLOOKUP(C87,ORÇ!B148:L263,7,0) -> M2 | F87: =VLOOKUP(C87,ORÇ!B148:L263,8,0) -> 3 | G87: =VLOOKUP(C87,ORÇ!B148:L263,10,0) -> 842.32 | H87: =F87*G87 -> 2526.96
B88: - | G88: Subtotal: | H88: =SUM(H70:H87) -> 469614.57
B89: - | D89: =ORÇ!C223 -> 9 - INSTALACOES ELETRICAS/CABEAMENTO ESTRUTURADO
C90: =ORÇ!B224 -> COT | D90: =VLOOKUP(C90,ORÇ!B151:L253,2,0) -> SISTEMA DE GERAÇÃO DE ENERGIA FOTOVOLTAICA - 120 m² | E90: =VLOOKUP(C90,ORÇ!B151:L266,7,0) -> M2 | F90: =VLOOKUP(C90,ORÇ!B151:L266,8,0) -> 120 | G90: =VLOOKUP(C90,ORÇ!B151:L266,10,0) -> 1017.05 | H90: =F90*G90 -> 122046
B91: CDHU 184 | C91: =ORÇ!B226 -> 43.07.330 | D91: Ar condicionado a frio, tipo split parede com capacidade de 12.000 BTU/h | E91: CJ | F91: =VLOOKUP(C91,ORÇ!B152:L267,8,0) -> 14 | G91: =VLOOKUP(C91,ORÇ!B152:L267,10,0) -> 3464.01 | H91: =F91*G91 -> 48496.14
B92: CDHU 184 | C92: =ORÇ!B229 -> 43.07.340 | D92: Ar condicionado a frio, tipo split parede com capacidade de 18.000 BTU/h | E92: CJ | F92: =VLOOKUP(C92,ORÇ!B153:L268,8,0) -> 22 | G92: =VLOOKUP(C92,ORÇ!B153:L268,10,0) -> 4733.32 | H92: =F92*G92 -> 104133.04
B93: CDHU 184 | C93: =ORÇ!B232 -> 43.07.320 | D93: Ar condicionado a frio, tipo split cassete com capacidade de 36.000 BTU/h | E93: CJ | F93: =VLOOKUP(C93,ORÇ!B154:L269,8,0) -> 4 | G93: =VLOOKUP(C93,ORÇ!B154:L269,10,0) -> 13089.31 | H93: =F93*G93 -> 52357.24
B94: =ORÇ!A236 -> EDIF | C94: =ORÇ!B236 -> 90162 | D94: ENTRADA AÉREA DE ENERGIA E TELEFONE - 71 À 75KVA | E94: UN | F94: =VLOOKUP(C94,ORÇ!B155:L270,8,0) -> 1 | G94: =VLOOKUP(C94,ORÇ!B155:L270,10,0) -> 15742.9 | H94: =F94*G94 -> 15742.9
B95: =ORÇ!A238 -> SINAPI | C95: =ORÇ!B238 -> 101879 | D95: QUADRO DE DISTRIBUIÇÃO DE ENERGIA EM CHAPA DE AÇO GALVANIZADO, DE EMBUTIR, COM BARRAMENTO TRIFÁSICO, PARA 24 DISJUNTORES DIN 100A - FORNECIMENTO E INSTALAÇÃO. AF_10/2020 | E95: UN | F95: =VLOOKUP(C95,ORÇ!B156:L271,8,0) -> 5 | G95: =VLOOKUP(C95,ORÇ!B156:L271,10,0) -> 658.88 | H95: =F95*G95 -> 3294.4
B96: =ORÇ!A245 -> SINAPI | C96: =ORÇ!B245 -> 101883 | D96: QUADRO DE DISTRIBUIÇÃO DE ENERGIA EM CHAPA DE AÇO GALVANIZADO, DE EMBUTIR, COM BARRAMENTO TRIFÁSICO, PARA 18 DISJUNTORES DIN 100A - FORNECIMENTO E INSTALAÇÃO. AF_10/2020 | E96: UN | F96: =VLOOKUP(C96,ORÇ!B157:L272,8,0) -> 2 | G96: =VLOOKUP(C96,ORÇ!B157:L272,10,0) -> 628.26 | H96: =F96*G96 -> 1256.52
B97: =ORÇ!A249 -> FDE | C97: =ORÇ!B249 -> 09.05.045 | D97: QUADRO DISTRIBUICAO, DISJ. GERAL 50A P/ 10 A 12 DISJS. | E97: UN | F97: =VLOOKUP(C97,ORÇ!B158:L273,8,0) -> 5 | G97: =VLOOKUP(C97,ORÇ!B158:L273,10,0) -> 411.78 | H97: =F97*G97 -> 2058.9
B98: =ORÇ!A256 -> SINAPI | C98: =ORÇ!B256 -> 101896 | D98: DISJUNTOR TERMOMAGNÉTICO TRIPOLAR , CORRENTE NOMINAL DE 200A - FORNECIMENTO E INSTALAÇÃO. AF_10/2020 | E98: UN | F98: =VLOOKUP(C98,ORÇ!B159:L274,8,0) -> 1 | G98: =VLOOKUP(C98,ORÇ!B159:L274,10,0) -> 663.53 | H98: =F98*G98 -> 663.53
B99: =ORÇ!A259 -> EDIF | C99: =ORÇ!B259 -> 90460 | D99: DISPOSITIVO DE PROTEÇÃO CONTRA SURTOS 275V - 15KA | E99: UN | F99: =VLOOKUP(C99,ORÇ!B160:L275,8,0) -> 6 | G99: =VLOOKUP(C99,ORÇ!B160:L275,10,0) -> 69.78 | H99: =F99*G99 -> 418.68
B100: =ORÇ!A262 -> EDIF | C100: =ORÇ!B262 -> 90814 | D100: MINI DISJUNTOR - TIPO EUROPEU (IEC) - TRIPOLAR 6/25A | E100: UN | F100: =VLOOKUP(C100,ORÇ!B161:L276,8,0) -> 5 | G100: =VLOOKUP(C100,ORÇ!B161:L276,10,0) -> 109.62 | H100: =F100*G100 -> 548.1
B101: =ORÇ!A269 -> EDIF | C101: =ORÇ!B269 -> 90815 | D101: MINI DISJUNTOR - TIPO EUROPEU (IEC) - TRIPOLAR 32/50A | E101: UN | F101: =VLOOKUP(C101,ORÇ!B162:L277,8,0) -> 13 | G101: =VLOOKUP(C101,ORÇ!B162:L277,10,0) -> 103.9 | H101: =F101*G101 -> 1350.7
B102: =ORÇ!A282 -> EDIF | C102: =ORÇ!B282 -> 90819 | D102: MINI DISJUNTOR - TIPO EUROPEU (IEC) - TRIPOLAR 63A | E102: UN | F102: =VLOOKUP(C102,ORÇ!B163:L378,8,0) -> 2 | G102: =VLOOKUP(C102,ORÇ!B163:L378,10,0) -> 75.14 | H102: =F102*G102 -> 150.28
B103: =ORÇ!A286 -> EDIF | C103: =ORÇ!B286 -> 90818 | D103: MINI DISJUNTOR - TIPO EUROPEU (IEC) - TRIPOLAR 100A | E103: UN | F103: =VLOOKUP(C103,ORÇ!B164:L379,8,0) -> 1 | G103: =VLOOKUP(C103,ORÇ!B164:L379,10,0) -> 221.33 | H103: =F103*G103 -> 221.33
B104: =ORÇ!A289 -> EDIF | C104: =ORÇ!B289 -> 90813 | D104: MINI DISJUNTOR - TIPO EUROPEU (IEC) - BIPOLAR 32/50A | E104: UN | F104: =VLOOKUP(C104,ORÇ!B165:L380,8,0) -> 5 | G104: =VLOOKUP(C104,ORÇ!B165:L380,10,0) -> 77.78 | H104: =F104*G104 -> 388.9
...

Sheet Cronograma
B3: PREFEITURA MUNICIPAL DE FERRAZ DE VASCONCELOS
B4: SECRETARIA MUNICIPAL DE OBRAS
B5: =Planilha!L7&Planilha!B7 -> CRONOGRAMA FISICO DA OBRA: REFORMA E AMPLICAÇÃOCAMARA MUNICIPAL DE FERRAZ DE VASCONCELOS
B7: Descrição | C7: MESES | AH7: Valor | AI7: %
C8: 1 | D8: 2 | E8: 3 | F8: 4 | G8: 5 | H8: 6 | I8: 7 | J8: 8 | K8: 9 | L8: 10 | M8: 11 | N8: 12 | O8: 13 | P8: 14 | Q8: 15 | R8: 16 | S8: 17 | T8: 18 | U8: 19 | V8: 20 | W8: 21 | X8: 22 | Y8: 23 | Z8: 24 | AA8: 13 | AB8: 14 | AC8: 15 | AD8: 16 | AE8: 17 | AF8: 18 | AG8: 19
B9: =ORÇ!C11 -> 1 - SERVICOS PRELIMINARES | AH9: =Planilha!H19*1.25 -> 92315.922 | AI9: =AH9/$AH$61 -> 0.016624586
C10: X
B12: =ORÇ!C33 -> 2 - ESTRUTURA | AH12: =Planilha!H27*1.25 -> 325670.95 | AI12: =AH12/$AH$61 -> 0.058648006
D13: X | E13: X | F13: X | G13: X
B15: =ORÇ!C82 -> 3 - ESTRUTURA SALA DE IMPRENSA | AH15: =Planilha!H37*1.25 -> 64568.008 | AI15: =AH15/$AH$61 -> 0.011627641
H16: X | I16: X
B18: =ORÇ!C99 -> 4 - PROJETOS EXECUTIVO | AH18: =Planilha!H42*1.25 -> 61384.4 | AI18: =AH18/$AH$61 -> 0.011054325
D19: X | E19: X
B21: =ORÇ!C104 -> 5 - EXECUÇÃO DE RECUPERAÇÃO EM FERRAGENS | AH21: =Planilha!H50*1.25 -> 8085.475 | AI21: =AH21/$AH$61 -> 0.0014560617
F22: X | G22: X
B24: =ORÇ!C112 -> 6 - ÀGUA DE REUSO | AH24: =Planilha!H60*1.25 -> 280334.26 | AI24: =AH24/$AH$61 -> 0.05048361
V25: X | W25: X
B27: =ORÇ!C122 -> 7 - COBERTURAS | AH27: =Planilha!H68*1.25 -> 641213.53 | AI27: =AH27/$AH$61 -> 0.11547206
I28: X | J28: X | K28: X | L28: X
B30: =ORÇ!C142 -> 8 - ESQUADRIAS DE MADEIRA E ESQUADRIAS METALICAS | AH30: =Planilha!H88*1.25 -> 587018.21 | AI30: =AH30/$AH$61 -> 0.10571237
M31: X | N31: X | O31: X
B33: =ORÇ!C223 -> 9 - INSTALACOES ELETRICAS/CABEAMENTO ESTRUTURADO | AH33: =Planilha!H165*1.25 -> 1190071.4 | AI33: =AH33/$AH$61 -> 0.21431238
V34: X | W34: X | X34: X | Y34: X
B36: =ORÇ!C559 -> 10 - SPDA | AH36: =Planilha!H175*1.25 -> 43262.238 | AI36: =AH36/$AH$61 -> 0.0077908206
X37: X | Y37: X
B40: =ORÇ!C576 -> 11 - INSTALAÇÕES HIDRO-SANITARIAS | AH40: =Planilha!H207*1.25 -> 399724.58 | AI40: =AH40/$AH$61 -> 0.071983852
P41: X | Q41: X
B43: =ORÇ!C670 -> 12 - REVESTIMENTOS E FORROS | AH43: =Planilha!H217*1.25 -> 865888.76 | AI43: =AH43/$AH$61 -> 0.15593239
R44: X | S44: X
B46: =ORÇ!C692 -> 13 - PINTURA | AH46: =SUM(Planilha!H221*1.25) -> 169155.29 | AI46: =AH46/$AH$61 -> 0.030462097
T47: X | U47: X
B49: =ORÇ!C698 -> 14 - SERVIÇOS COMPLEMENTARES | AH49: =SUM(Planilha!H238*1.25) -> 571611.18 | AI49: =AH49/$AH$61 -> 0.10293781
X50: X | Y50: X
B52: =ORÇ!C734 -> 15 - PAVIMENTAÇÃO INTERTRAVADA | AH52: =SUM(Planilha!H245*1.25) -> 141249.61 | AI52: =AH52/$AH$61 -> 0.025436742
W53: X | X53: X | Y53: X
B55: =ORÇ!C745 -> 16 - SISTEMA DE EXAUSTÃO MECÂNICA | AH55: =SUM(Planilha!H251*1.25) -> 26260.132 | AI55: =AH55/$AH$61 -> 0.0047290199
Q56: X | R56: X
B58: =ORÇ!C754 -> 17 - SISTEMA DE PROTEÇÃO CONTRA INCÊNDIOS | AH58: =SUM(Planilha!H292*1.25) -> 85161.7 | AI58: =AH58/$AH$61 -> 0.015336228
R59: X | S59: X
AH61: =SUM(AH9:AH60) -> 5552975.7 | AI61: =SUM(AI9:AI60) -> 1
B63: LAT.: 23º 32" 48.51" S LONG.: 46º 22" 16.44" O

Sheet Planilha1
A1: Chapisco, emboço e Reboco
A2: Area | B2: L | C2: l | D2: Ltot | E2: h | F2: Area parede
A3: 23.7 | B3: 4.99 | C3: 4.75 | D3: =C3+B3*2 -> 14.73 | E3: 3 | F3: =E3*D3 -> 44.19
A4: 23.09 | B4: 4.6 | C4: 5.02 | D4: =C4+B4*2 -> 14.22 | E4: 3 | F4: =E4*D4 -> 42.66
A5: 23.15 | B5: 4.63 | C5: 5 | D5: =C5+B5*2 -> 14.26 | E5: 3 | F5: =E5*D5 -> 42.78
A6: 23.15 | B6: 4.63 | C6: 5 | D6: =C6+B6*2 -> 14.26 | E6: 3 | F6: =E6*D6 -> 42.78
A7: 23.79 | B7: 4.55 | C7: 5.03 | D7: =C7+B7*2 -> 14.13 | E7: 3 | F7: =E7*D7 -> 42.39
A8: 22.88 | B8: 5.03 | C8: 4.62 | D8: =C8+B8*2 -> 14.68 | E8: 3 | F8: =E8*D8 -> 44.04
A9: 23.23 | B9: 4.64 | C9: 5.03 | D9: =C9+B9*2 -> 14.31 | E9: 3 | F9: =E9*D9 -> 42.93
A10: 23.38 | B10: 5.25 | C10: 4.77 | D10: =C10+B10*2 -> 15.27 | E10: 3 | F10: =E10*D10 -> 45.81
A11: 24.24 | B11: 5.27 | C11: 4.6 | D11: =C11+B11*2 -> 15.14 | E11: 3 | F11: =E11*D11 -> 45.42
A12: 24.44 | B12: 5.28 | C12: 4.63 | D12: =C12+B12*2 -> 15.19 | E12: 3 | F12: =E12*D12 -> 45.57
A13: 24.54 | B13: 5.29 | C13: 4.64 | D13: =C13+B13*2 -> 15.22 | E13: 3 | F13: =E13*D13 -> 45.66
A14: 23.35 | B14: 5 | C14: 4.67 | D14: =C14+B14*2 -> 14.67 | E14: 3 | F14: =E14*D14 -> 44.01
... A52: 11.6 | B52: 4.7 | C52: 2.64 | D52: =C52+B52*2 -> 12.04 | E52: 3 | F52: =E52*D52 -> 36.12
A53: 11.6 | B53: 4.7 | C53: 2.64 | D53: =C53+B53*2 -> 12.04 | E53: 3 | F53: =E53*D53 -> 36.12 | J53: =SOMA(F3:F66) -> #NAME?
A54: 11.6 | B54: 4.7 | C54: 2.64 | D54: =C54+B54*2 -> 12.04 | E54: 3 | F54: =E54*D54 -> 36.12
A55: 11.6 | B55: 4.7 | C55: 2.64 | D55: =C55+B55*2 -> 12.04 | E55: 3 | F55: =E55*D55 -> 36.12
A56: 8.13 | B56: 5.43 | C56: 1.5 | D56: =C56+B56*2 -> 12.36 | E56: 3 | F56: =E56*D56 -> 37.08
A57: 8.13 | B57: 5.43 | C57: 1.5 | D57: =C57+B57*2 -> 12.36 | E57: 3 | F57: =E57*D57 -> 37.08
A58: 27.25 | B58: 8.21 | C58: 3.35 | D58: =C58+B58*2 -> 19.77 | E58: 3 | F58: =E58*D58 -> 59.31 | J58: =SOMA(A3:A69) -> #NAME?
A59: 4.22 | B59: 2.64 | C59: 1.6 | D59: =C59+B59*2 -> 6.88 | E59: 3 | F59: =E59*D59 -> 20.64
A60: 4.2 | B60: 2.61 | C60: 1.6 | D60: =C60+B60*2 -> 6.82 | E60: 3 | F60: =E60*D60 -> 20.46
A61: 145.44 | B61: 10.96 | C61: 4.68 | D61: =C61+B61*2 -> 26.6 | E61: 3 | F61: =E61*D61 -> 79.8
A62: 184.15
A63: 55.77
A64: 23.76 | B64: 5.94 | C64: 4 | D64: =C64+B64*2 -> 15.88 | E64: 3 | F64: =E64*D64 -> 47.64
A65: 23.88 | B65: 5.94 | C65: 4 | D65: =C65+B65*2 -> 15.88 | E65: 3 | F65: =E65*D65 -> 47.64
A66: 8.68 | B66: 2.17 | C66: 4 | D66: =C66+B66*2 -> 8.34 | E66: 3 | F66: =E66*D66 -> 25.02
A67: 17.69 | F67: 14.14
A68: 45.69
A69: 61.29 | J69: =F67+F65+F64+F60+F51+F50+F40+F39+F38+F37+F36+F33+F32+F31+F30+F29+F23 -> 463.63
