Workbook
Name AreaTeste: #REF!
Name AreaTeste2: #REF!
Name CélulaInicioPlanilha: #REF!
Name CélulaResumo: #REF!
Name Excel_BuiltIn_Database: #REF!
Name Excel_BuiltIn_Database_2: #REF!
Name Print_Area: Cronograma!$B$2:$AI$61
Name Print_Area: ORÇ!$B$2:$I$834
Name Print_Area: Planilha!$B$3:$H$299
Name Print_Titles: ORÇ!$2:$10
Name Print_Titles: Planilha!$2:$10

Sheet ORÇ
D2: MEMÓRIA DE CÁLCULO | G2: Processo:
G3: Data-Base: SIURB 01/22, SINAPI - 07/22
G4: CDHU - 05/22 - FDE -07/22
E5: MEDIÇÃO:
B6: OBRA: REFORMA E AMPLICAÇÃOCAMARA MUNICIPAL DE FERRAZ DE VASCONCELOS | G6: LOCAL: | H6: Ferraz de Vasconcelos
B7: CÓDIGO: R. DEP. QUEIROS TELES N 240-VILA ROMANOPOLIS | G7: CONTRATO: | H7: -
B9: CÓDIGO | C9: DESCRIÇÃO DOS SERVIÇOS | H9: UNID | I9: QUANT
A10: -
A11: - | C11: 1 - SERVICOS PRELIMINARES | L11: =I11*K11 -> 0
A12: EDIF | B12: 173002 | C12: =VLOOKUP(B12,'[1]Comp EDIF SEM Des Jan22'!$A$1:$J$12515,2,0) -> PLACA DE OBRA EM CHAPA DE AÇO GALVANIZADO | H12: =VLOOKUP(B12,'[1]Comp EDIF SEM Des Jan22'!$A$1:$J$12515,8,0) -> M2 | I12: 6 | K12: =VLOOKUP(B12,'[1]Comp EDIF SEM Des Jan22'!$A$1:$J$12515,10,0) -> 364.86 | L12: =I12*K12 -> 2189.16 | M12: =B12 -> 173002
A13: -
A14: -
A15: EDIF | B15: 10108 | C15: =VLOOKUP(B15,'[1]Comp EDIF SEM Des Jan22'!$A$1:$J$12515,2,0) -> LIMPEZA MANUAL GERAL INCLUSIVE REMOÇÃO DE COBERTURA VEGETAL - TRONCO ATÉ 10CM - SEM TRANSPORTE | H15: =VLOOKUP(B15,'[1]Comp EDIF SEM Des Jan22'!$A$1:$J$12515,8,0) -> M2 | I15: 3506.82 | K15: =VLOOKUP(B15,'[1]Comp EDIF SEM Des Jan22'!$A$1:$J$12515,10,0) -> 4.9 | L15: =I15*K15 -> 17183.418 | M15: =B15 -> 10108
A16: -
A17: -
A18: EDIF | B18: 10106 | C18: =VLOOKUP(B18,'[1]Comp EDIF SEM Des Jan22'!$A$1:$J$12515,2,0) -> CARGA MANUAL E REMOÇÃO DE ENTULHO, INCLUSIVE TRANSPORTE ATÉ 1 KM | H18: =VLOOKUP(B18,'[1]Comp EDIF SEM Des Jan22'!$A$1:$J$12515,8,0) -> M3 | I18: 514.852 | K18: =VLOOKUP(B18,'[1]Comp EDIF SEM Des Jan22'!$A$1:$J$12515,10,0) -> 31.41 | L18: =I18*K18 -> 16171.501 | M18: =B18 -> 10106
A19: -
A20: -
A21: EDIF | B21: 10110 | C21: =VLOOKUP(B21,'[1]Comp EDIF SEM Des Jan22'!$A$1:$J$12515,2,0) -> TRANSPORTE DE ENTULHO POR CAMINHÃO BASCULANTE, A PARTIR DE 1KM | H21: =VLOOKUP(B21,'[1]Comp EDIF SEM Des Jan22'!$A$1:$J$12515,8,0) -> M3XKM | I21: =I18*20 -> 10297.04 | K21: =VLOOKUP(B21,'[1]Comp EDIF SEM Des Jan22'!$A$1:$J$12515,10,0) -> 1.96 | L21: =I21*K21 -> 20182.198 | M21: =B21 -> 10110
A22: -
A23: -
A24: EDIF | B24: 10305 | C24: =VLOOKUP(B24,'[1]Comp EDIF SEM Des Jan22'!$A$1:$J$12515,2,0) -> FORNECIMENTO DE TERRA, INCLUSIVE CORTE, CARGA, DESCARGA E TRANSPORTE ATÉ 1KM | H24: =VLOOKUP(B24,'[1]Comp EDIF SEM Des Jan22'!$A$1:$J$12515,8,0) -> M3 | I24: =(9*13)+25 -> 142 | K24: =VLOOKUP(B24,'[1]Comp EDIF SEM Des Jan22'!$A$1:$J$12515,10,0) -> 26.69 | L24: =I24*K24 -> 3789.98 | M24: =B24 -> 10305
A25: -
A26: -
A27: EDIF | B27: 10310 | C27: =VLOOKUP(B27,'[1]Comp EDIF SEM Des Jan22'!$A$1:$J$12515,2,0) -> TRANSPORTE DE TERRA POR CAMINHÃO BASCULANTE, A PARTIR DE 1KM | H27: =VLOOKUP(B27,'[1]Comp EDIF SEM Des Jan22'!$A$1:$J$12515,8,0) -> M3XKM | I27: =I24*27 -> 3834 | K27: =VLOOKUP(B27,'[1]Comp EDIF SEM Des Jan22'!$A$1:$J$12515,10,0) -> 2.52 | L27: =I27*K27 -> 9661.68 | M27: =B27 -> 10310
A28: -
A29: -
A30: EDIF | B30: 34005 | C30: =VLOOKUP(B30,'[1]Comp EDIF SEM Des Jan22'!$A$1:$J$12515,2,0) -> LIMPEZA DE SUPERFÍCIES COM HIDROJATEAMENTO | H30: =VLOOKUP(B30,'[1]Comp EDIF SEM Des Jan22'!$A$1:$J$12515,8,0) -> M2 | I30: 754 | K30: =VLOOKUP(B30,'[1]Comp EDIF SEM Des Jan22'!$A$1:$J$12515,10,0) -> 6.2 | L30: =I30*K30 -> 4674.8 | M30: =B30 -> 34005
A31: - | N31: =SUM(L12:L30) -> 73852.738
A32: -
A33: - | C33: 2 - ESTRUTURA
A34: EDIF | B34: 40136 | C34: BLOCOS VAZADOS DE CONCRETO ESTRURURAL - 19CM - 10MPA | H34: M2 | I34: 671.85 | K34: =VLOOKUP(B34,'[1]Comp EDIF SEM Des Jan22'!$A$1:$J$12515,10,0) -> 112.37 | L34: =I34*K34 -> 75495.785 | M34: =B34 -> 40136
A35: - | C35: Escada - 150,20m² | J35: 150.2045
A36: - | C36: Elevador - 44,46m² | J36: 44.462
A37: - | C37: Rampa Interna - 11,93m² | J37: 11.93
A38: - | C38: Rampa externa - 71,20m² | J38: 71.2
A39: - | C39: Paredes Internas - 331,72m² | J39: 331.72
A40: - | C40: Caixa D'agua refeitorio - 17,8 x 2m = 35,6m² | J40: 35.6
A41: -
A42: EDIF | B42: 30321 | C42: CONCRETO FCK = 30,0MPA - USINADO E BOMBEÁVEL | H42: M3 | I42: =SUM(J43:J53) -> 23.26895 | K42: =VLOOKUP(B42,'[1]Comp EDIF SEM Des Jan22'!$A$1:$J$12515,10,0) -> 434.98 | L42: =I42*K42 -> 10121.528 | M42: =B42 -> 30321
...

Sheet Planilha
B3: PREFEITURA MUNICIPAL DE FERRAZ DE VASCONCELOS
B4: SECRETARIA MUNICIPAL DE OBRAS
B5: PLANILHA ORÇAMENTÁRIA
B7: =ORÇ!B6 -> OBRA: REFORMA E AMPLICAÇÃOCAMARA MUNICIPAL DE FERRAZ DE VASCONCELOS | L7: CRONOGRAMA FISICO DA
D8: R. DEP. QUEIROS TELES N 240-VILA ROMANOPOLIS | F8: Data base: | G8: Data-Base: SIURB 01/22, SINAPI - 07/22 CDHU - 05/22 - FDE -07/22
B10: Referência | C10: Item | D10: Descrição | E10: Unid | F10: Quantidade | G10: Preço Unit | H10: Total
B11: - | D11: =ORÇ!C11 -> 1 - SERVICOS PRELIMINARES
B12: =ORÇ!A12 -> EDIF | C12: =ORÇ!B12 -> 173002 | D12: PLACA DE OBRA EM CHAPA DE AÇO GALVANIZADO | E12: M2 | F12: 6 | G12: =VLOOKUP(C12,'[4]EDIF Jan22'!$A$1:$D$2661,4,0) -> 364.86 | H12: =F12*G12 -> 2189.16
B13: =ORÇ!A15 -> EDIF | C13: =ORÇ!B15 -> 10108 | D13: LIMPEZA MANUAL GERAL INCLUSIVE REMOÇÃO DE COBERTURA VEGETAL - TRONCO ATÉ 10CM - SEM TRANSPORTE | E13: M2 | F13: 3506.82 | G13: =VLOOKUP(C13,'[4]EDIF Jan22'!$A$1:$D$2661,4,0) -> 4.9 | H13: =F13*G13 -> 17183.418
B14: =ORÇ!A18 -> EDIF | C14: =ORÇ!B18 -> 10106 | D14: CARGA MANUAL E REMOÇÃO DE ENTULHO, INCLUSIVE TRANSPORTE ATÉ 1 KM | E14: M3 | F14: 514.852 | G14: =VLOOKUP(C14,'[4]EDIF Jan22'!$A$1:$D$2661,4,0) -> 31.41 | H14: =F14*G14 -> 16171.501
B15: =ORÇ!A21 -> EDIF | C15: =ORÇ!B21 -> 10110 | D15: TRANSPORTE DE ENTULHO POR CAMINHÃO BASCULANTE, A PARTIR DE 1KM | E15: M3XKM | F15: 10297.04 | G15: =VLOOKUP(C15,'[4]EDIF Jan22'!$A$1:$D$2661,4,0) -> 1.96 | H15: =F15*G15 -> 20182.198
B16: =ORÇ!A24 -> EDIF | C16: =ORÇ!B24 -> 10305 | D16: FORNECIMENTO DE TERRA, INCLUSIVE CORTE, CARGA, DESCARGA E TRANSPORTE ATÉ 1KM | E16: M3 | F16: 142 | G16: =VLOOKUP(C16,'[4]EDIF Jan22'!$A$1:$D$2661,4,0) -> 26.69 | H16: =F16*G16 -> 3789.98
B17: =ORÇ!A27 -> EDIF | C17: =ORÇ!B27 -> 10310 | D17: TRANSPORTE DE TERRA POR CAMINHÃO BASCULANTE, A PARTIR DE 1KM | E17: M3XKM | F17: 3834 | G17: =VLOOKUP(C17,'[4]EDIF Jan22'!$A$1:$D$2661,4,0) -> 2.52 | H17: =F17*G17 -> 9661.68
B18: =ORÇ!A30 -> EDIF | C18: =ORÇ!B30 -> 34005 | D18: LIMPEZA DE SUPERFÍCIES COM HIDROJATEAMENTO | E18: M2 | F18: 754 | G18: =VLOOKUP(C18,'[4]EDIF Jan22'!$A$1:$D$2661,4,0) -> 6.2 | H18: =F18*G18 -> 4674.8
B19: - | G19: Subtotal: | H19: =SUM(H12:H18) -> 73852.738
B20: - | D20: =ORÇ!C33 -> 2 - ESTRUTURA
B21: =ORÇ!A34 -> EDIF | C21: =ORÇ!B34 -> 40136 | D21: BLOCOS VAZADOS DE CONCRETO ESTRURURAL - 19CM - 10MPA | E21: M2 | F21: 671.85 | G21: =VLOOKUP(C21,'[4]EDIF Jan22'!$A$1:$D$2661,4,0) -> 112.37 | H21: =F21*G21 -> 75495.785
B22: =ORÇ!A42 -> EDIF | C22: =ORÇ!B42 -> 30321 | D22: CONCRETO FCK = 30,0MPA - USINADO E BOMBEÁVEL | E22: M3 | F22: 23.26895 | G22: =VLOOKUP(C22,'[4]EDIF Jan22'!$A$1:$D$2661,4,0) -> 434.98 | H22: =F22*G22 -> 10121.528
B23: =ORÇ!A54 -> EDIF | C23: =ORÇ!B54 -> 30101 | D23: FORMA COMUM DE TÁBUAS DE PINUS - PLANA | E23: M2 | F23: 319.15 | G23: =VLOOKUP(C23,'[4]EDIF Jan22'!$A$1:$D$2661,4,0) -> 81.09 | H23: =F23*G23 -> 25879.873
B24: =ORÇ!A64 -> EDIF | C24: =ORÇ!B64 -> 20407 | D24: ARMADURA EM AÇO CA-60 | E24: KG | F24: 2243.116 | G24: =VLOOKUP(C24,'[4]EDIF Jan22'!$A$1:$D$2661,4,0) -> 13.33 | H24: =F24*G24 -> 29900.736
B25: =ORÇ!A73 -> SINAPI | C25: =ORÇ!B73 -> 102078 | D25: ESCADA EM CONCRETO ARMADO MOLDADO IN LOCO, FCK 20 MPA, COM 2 LANCES EM "U" E LAJE PLANA, FÔRMA EM CHAPA DE MADEIRA COMPENSADA RESINADA. AF_11/2020 | E25: M3 | F25: 4.16 | G25: 5448.03 | H25: =F25*G25 -> 22663.805
B26: =ORÇ!A76 -> EDIF | C26: =ORÇ!B76 -> 30421 | D26: LAJE MISTA TRELIÇADA H-12CM COM CAPEAMENTO 4CM (16CM) | E26: M2 | F26: 558.24 | G26: =VLOOKUP(C26,'[4]EDIF Jan22'!$A$1:$D$2661,4,0) -> 172.82 | H26: =F26*G26 -> 96475.037
B27: - | G27: Subtotal: | H27: =SUM(H21:H26) -> 260536.76
D28: =ORÇ!C82 -> 3 - ESTRUTURA SALA DE IMPRENSA
B29: EDIF | C29: =ORÇ!B83 -> 40198 | D29: =VLOOKUP(C29,ORÇ!B83:L97,2,0) -> VERGAS, CINTAS E PILARETES DE CONCRETO | E29: =VLOOKUP(C29,ORÇ!B80:L95,7,0) -> M3 | F29: =VLOOKUP(C29,ORÇ!B80:L95,8,0) -> 5.45 | G29: =VLOOKUP(C29,ORÇ!B80:L95,10,0) -> 1773.82 | H29: =F29*G29 -> 9667.319
B30: EDIF | C30: =ORÇ!B85 -> 40136 | D30: =VLOOKUP(C30,ORÇ!B84:L98,2,0) -> BLOCOS VAZADOS DE CONCRETO ESTRURURAL - 19CM - 10MPA | E30: =VLOOKUP(C30,ORÇ!B81:L96,7,0) -> M2 | F30: =VLOOKUP(C30,ORÇ!B81:L96,8,0) -> 67.2 | G30: =VLOOKUP(C30,ORÇ!B81:L96,10,0) -> 112.37 | H30: =F30*G30 -> 7551.264
B31: SINAPI | C31: =ORÇ!B87 -> 38405 | D31: =VLOOKUP(C31,ORÇ!B85:L99,2,0) -> Concreto dosado,bombeado e lancado fck 25 mpa | E31: =VLOOKUP(C31,ORÇ!B82:L97,7,0) -> M3 | F31: =VLOOKUP(C31,ORÇ!B82:L97,8,0) -> 13 | G31: =VLOOKUP(C31,ORÇ!B82:L97,10,0) -> 524.85 | H31: =F31*G31 -> 6823.05
B32: EDIF | C32: =ORÇ!B89 -> 110101 | D32: =VLOOKUP(C32,ORÇ!B86:L100,2,0) -> CHAPISCO COMUM - ARGAMASSA DE CIMENTO E AREIA 1:3 | E32: =VLOOKUP(C32,ORÇ!B83:L98,7,0) -> M2 | F32: =VLOOKUP(C32,ORÇ!B83:L98,8,0) -> 62 | G32: =VLOOKUP(C32,ORÇ!B83:L98,10,0) -> 14.76 | H32: =F32*G32 -> 915.12
B33: EDIF | C33: =ORÇ!B91 -> 110108 | D33: =VLOOKUP(C33,ORÇ!B87:L101,2,0) -> EMBOÇO - ARGAMASSA MISTA DE CIMENTO, CAL E AREIA 1:4/12 | E33: =VLOOKUP(C33,ORÇ!B84:L99,7,0) -> M2 | F33: =VLOOKUP(C33,ORÇ!B84:L99,8,0) -> 62 | G33: =VLOOKUP(C33,ORÇ!B84:L99,10,0) -> 41.07 | H33: =F33*G33 -> 2546.34
B34: EDIF | C34: =ORÇ!B93 -> 110113 | D34: =VLOOKUP(C34,ORÇ!B88:L102,2,0) -> REBOCO INTERNO - ARGAMASSA PRÉ-FABRICADA | E34: =VLOOKUP(C34,ORÇ!B85:L100,7,0) -> M2 | F34: =VLOOKUP(C34,ORÇ!B85:L100,8,0) -> 62 | G34: =VLOOKUP(C34,ORÇ!B85:L100,10,0) -> 31.05 | H34: =F34*G34 -> 1925.1
B35: EDIF | C35: =ORÇ!B95 -> 130240 | D35: =VLOOKUP(C35,ORÇ!B89:L103,2,0) -> PISO CERÂMICO ESMALTADO (PEI-5) - ASSENTADO COM ARGAMASSA COMUM | E35: =VLOOKUP(C35,ORÇ!B86:L101,7,0) -> M2 | F35: =VLOOKUP(C35,ORÇ!B86:L101,8,0) -> 70.17 | G35: =VLOOKUP(C35,ORÇ!B86:L101,10,0) -> 147.45 | H35: =F35*G35 -> 10346.566
B36: EDIF | C36: =ORÇ!B97 -> 03.04.21 | D36: =VLOOKUP(C36,ORÇ!B90:L104,2,0) -> LAJE MISTA TRELIÇADA H-12CM COM CAPEAMENTO 4CM (16CM) | E36: =VLOOKUP(C36,ORÇ!B87:L102,7,0) -> M2 | F36: =VLOOKUP(C36,ORÇ!B87:L102,8,0) -> 68.74 | G36: =VLOOKUP(C36,ORÇ!B87:L102,10,0) -> 172.82 | H36: =F36*G36 -> 11879.647
B37: - | G37: Subtotal: | H37: =SUM(H29:H36) -> 51654.406
D38: =ORÇ!C99 -> 4 - PROJETOS EXECUTIVO
B39: EDIF | C39: =ORÇ!B100 -> 200361 | D39: =VLOOKUP(C39,ORÇ!B91:L105,2,0) -> PROJETO RECUPERAÇÃO ESTRUTURAL | E39: UNID | F39: 4 | G39: =ORÇ!K100 -> 3069.22 | H39: =F39*G39 -> 12276.88
B40: EDIF | C40: =ORÇ!B101 -> 200361 | D40: =ORÇ!C101 -> Projeto executivo de instalações elétricas em formato A1 | E40: UNID | F40: 6 | G40: =ORÇ!K101 -> 3069.22 | H40: =F40*G40 -> 18415.32
B41: EDIF | C41: =ORÇ!B102 -> 200361 | D41: =ORÇ!C102 -> Projeto executivo de instalações hidráulicas em formato A1 | E41: UNID | F41: 6 | G41: =ORÇ!K102 -> 3069.22 | H41: =F41*G41 -> 18415.32
B42: - | G42: Subtotal: | H42: =SUM(H39:H41) -> 49107.52
D43: =ORÇ!C104 -> 5 - EXECUÇÃO DE RECUPERAÇÃO EM FERRAGENS
B44: EDIF | C44: =ORÇ!B105 -> 34002 | D44: =VLOOKUP(C44,ORÇ!B105:L110,2,0) -> APICOAMENTO DE SUPERFÍCIE DE CONCRETO | E44: =VLOOKUP(C44,ORÇ!B105:L110,7,0) -> M2 | F44: =VLOOKUP(C44,ORÇ!B105:L110,8,0) -> 18 | G44: =VLOOKUP(C44,ORÇ!B105:L110,10,0) -> 97.96 | H44: =F44*G44 -> 1763.28
...

Sheet Cronograma
B3: PREFEITURA MUNICIPAL DE FERRAZ DE VASCONCELOS
B4: SECRETARIA MUNICIPAL DE OBRAS
B5: =Planilha!L7&Planilha!B7 -> CRONOGRAMA FISICO DA OBRA: REFORMA E AMPLICAÇÃOCAMARA MUNICIPAL DE FERRAZ DE VASCONCELOS
B7: Descrição | C7: MESES | AH7: Valor | AI7: %
C8: 1 | D8: 2 | E8: 3 | F8: 4 | G8: 5 | H8: 6 | I8: 7 | J8: 8 | K8: 9 | L8: 10 | M8: 11 | N8: 12 | O8: 13 | P8: 14 | Q8: 15 | R8: 16 | S8: 17 | T8: 18 | U8: 19 | V8: 20 | W8: 21 | X8: 22 | Y8: 23 | Z8: 24 | AA8: 13 | AB8: 14 | AC8: 15 | AD8: 16 | AE8: 17 | AF8: 18 | AG8: 19
B9: =ORÇ!C11 -> 1 - SERVICOS PRELIMINARES | AH9: =Planilha!H19*1.25 -> 92315.922 | AI9: =AH9/$AH$61 -> 0.016624586
C10: X
B12: =ORÇ!C33 -> 2 - ESTRUTURA | AH12: =Planilha!H27*1.25 -> 325670.95 | AI12: =AH12/$AH$61 -> 0.058648006
D13: X | E13: X | F13: X | G13: X
B15: =ORÇ!C82 -> 3 - ESTRUTURA SALA DE IMPRENSA | AH15: =Planilha!H37*1.25 -> 64568.008 | AI15: =AH15/$AH$61 -> 0.011627641
H16: X | I16: X
B18: =ORÇ!C99 -> 4 - PROJETOS EXECUTIVO | AH18: =Planilha!H42*1.25 -> 61384.4 | AI18: =AH18/$AH$61 -> 0.011054325
D19: X | E19: X
B21: =ORÇ!C104 -> 5 - EXECUÇÃO DE RECUPERAÇÃO EM FERRAGENS | AH21: =Planilha!H50*1.25 -> 8085.475 | AI21: =AH21/$AH$61 -> 0.0014560617
F22: X | G22: X
B24: =ORÇ!C112 -> 6 - ÀGUA DE REUSO | AH24: =Planilha!H60*1.25 -> 280334.26 | AI24: =AH24/$AH$61 -> 0.05048361
V25: X | W25: X
B27: =ORÇ!C122 -> 7 - COBERTURAS | AH27: =Planilha!H68*1.25 -> 641213.53 | AI27: =AH27/$AH$61 -> 0.11547206
I28: X | J28: X | K28: X | L28: X
B30: =ORÇ!C142 -> 8 - ESQUADRIAS DE MADEIRA E ESQUADRIAS METALICAS | AH30: =Planilha!H88*1.25 -> 587018.21 | AI30: =AH30/$AH$61 -> 0.10571237
M31: X | N31: X | O31: X
B33: =ORÇ!C223 -> 9 - INSTALACOES ELETRICAS/CABEAMENTO ESTRUTURADO | AH33: =Planilha!H165*1.25 -> 1190071.4 | AI33: =AH33/$AH$61 -> 0.21431238
V34: X | W34: X | X34: X | Y34: X
B36: =ORÇ!C559 -> 10 - SPDA | AH36: =Planilha!H175*1.25 -> 43262.238 | AI36: =AH36/$AH$61 -> 0.0077908206
X37: X | Y37: X
B40: =ORÇ!C576 -> 11 - INSTALAÇÕES HIDRO-SANITARIAS | AH40: =Planilha!H207*1.25 -> 399724.58 | AI40: =AH40/$AH$61 -> 0.071983852
P41: X | Q41: X
B43: =ORÇ!C670 -> 12 - REVESTIMENTOS E FORROS | AH43: =Planilha!H217*1.25 -> 865888.76 | AI43: =AH43/$AH$61 -> 0.15593239
R44: X | S44: X
B46: =ORÇ!C692 -> 13 - PINTURA | AH46: =SUM(Planilha!H221*1.25) -> 169155.29 | AI46: =AH46/$AH$61 -> 0.030462097
T47: X | U47: X
B49: =ORÇ!C698 -> 14 - SERVIÇOS COMPLEMENTARES | AH49: =SUM(Planilha!H238*1.25) -> 571611.18 | AI49: =AH49/$AH$61 -> 0.10293781
X50: X | Y50: X
B52: =ORÇ!C734 -> 15 - PAVIMENTAÇÃO INTERTRAVADA | AH52: =SUM(Planilha!H245*1.25) -> 141249.61 | AI52: =AH52/$AH$61 -> 0.025436742
W53: X | X53: X | Y53: X
B55: =ORÇ!C745 -> 16 - SISTEMA DE EXAUSTÃO MECÂNICA | AH55: =SUM(Planilha!H251*1.25) -> 26260.132 | AI55: =AH55/$AH$61 -> 0.0047290199
Q56: X | R56: X
B58: =ORÇ!C754 -> 17 - SISTEMA DE PROTEÇÃO CONTRA INCÊNDIOS | AH58: =SUM(Planilha!H292*1.25) -> 85161.7 | AI58: =AH58/$AH$61 -> 0.015336228
R59: X | S59: X
AH61: =SUM(AH9:AH60) -> 5552975.7 | AI61: =SUM(AI9:AI60) -> 1
...

Sheet Planilha1
A1: Chapisco, emboço e Reboco
A2: Area | B2: L | C2: l | D2: Ltot | E2: h | F2: Area parede
A3: 23.7 | B3: 4.99 | C3: 4.75 | D3: =C3+B3*2 -> 14.73 | E3: 3 | F3: =E3*D3 -> 44.19
A4: 23.09 | B4: 4.6 | C4: 5.02 | D4: =C4+B4*2 -> 14.22 | E4: 3 | F4: =E4*D4 -> 42.66
A5: 23.15 | B5: 4.63 | C5: 5 | D5: =C5+B5*2 -> 14.26 | E5: 3 | F5: =E5*D5 -> 42.78
A6: 23.15 | B6: 4.63 | C6: 5 | D6: =C6+B6*2 -> 14.26 | E6: 3 | F6: =E6*D6 -> 42.78
A7: 23.79 | B7: 4.55 | C7: 5.03 | D7: =C7+B7*2 -> 14.13 | E7: 3 | F7: =E7*D7 -> 42.39
A8: 22.88 | B8: 5.03 | C8: 4.62 | D8: =C8+B8*2 -> 14.68 | E8: 3 | F8: =E8*D8 -> 44.04
A9: 23.23 | B9: 4.64 | C9: 5.03 | D9: =C9+B9*2 -> 14.31 | E9: 3 | F9: =E9*D9 -> 42.93
A10: 23.38 | B10: 5.25 | C10: 4.77 | D10: =C10+B10*2 -> 15.27 | E10: 3 | F10: =E10*D10 -> 45.81
A11: 24.24 | B11: 5.27 | C11: 4.6 | D11: =C11+B11*2 -> 15.14 | E11: 3 | F11: =E11*D11 -> 45.42
A12: 24.44 | B12: 5.28 | C12: 4.63 | D12: =C12+B12*2 -> 15.19 | E12: 3 | F12: =E12*D12 -> 45.57
A13: 24.54 | B13: 5.29 | C13: 4.64 | D13: =C13+B13*2 -> 15.22 | E13: 3 | F13: =E13*D13 -> 45.66
A14: 23.35 | B14: 5 | C14: 4.67 | D14: =C14+B14*2 -> 14.67 | E14: 3 | F14: =E14*D14 -> 44.01
... A52: 11.6 | B52: 4.7 | C52: 2.64 | D52: =C52+B52*2 -> 12.04 | E52: 3 | F52: =E52*D52 -> 36.12
A53: 11.6 | B53: 4.7 | C53: 2.64 | D53: =C53+B53*2 -> 12.04 | E53: 3 | F53: =E53*D53 -> 36.12 | J53: =SOMA(F3:F66) -> #NAME?
A54: 11.6 | B54: 4.7 | C54: 2.64 | D54: =C54+B54*2 -> 12.04 | E54: 3 | F54: =E54*D54 -> 36.12
A55: 11.6 | B55: 4.7 | C55: 2.64 | D55: =C55+B55*2 -> 12.04 | E55: 3 | F55: =E55*D55 -> 36.12
A56: 8.13 | B56: 5.43 | C56: 1.5 | D56: =C56+B56*2 -> 12.36 | E56: 3 | F56: =E56*D56 -> 37.08
A57: 8.13 | B57: 5.43 | C57: 1.5 | D57: =C57+B57*2 -> 12.36 | E57: 3 | F57: =E57*D57 -> 37.08
A58: 27.25 | B58: 8.21 | C58: 3.35 | D58: =C58+B58*2 -> 19.77 | E58: 3 | F58: =E58*D58 -> 59.31 | J58: =SOMA(A3:A69) -> #NAME?
A59: 4.22 | B59: 2.64 | C59: 1.6 | D59: =C59+B59*2 -> 6.88 | E59: 3 | F59: =E59*D59 -> 20.64
A60: 4.2 | B60: 2.61 | C60: 1.6 | D60: =C60+B60*2 -> 6.82 | E60: 3 | F60: =E60*D60 -> 20.46
A61: 145.44 | B61: 10.96 | C61: 4.68 | D61: =C61+B61*2 -> 26.6 | E61: 3 | F61: =E61*D61 -> 79.8
A62: 184.15
A63: 55.77
A64: 23.76 | B64: 5.94 | C64: 4 | D64: =C64+B64*2 -> 15.88 | E64: 3 | F64: =E64*D64 -> 47.64
A65: 23.88 | B65: 5.94 | C65: 4 | D65: =C65+B65*2 -> 15.88 | E65: 3 | F65: =E65*D65 -> 47.64
A66: 8.68 | B66: 2.17 | C66: 4 | D66: =C66+B66*2 -> 8.34 | E66: 3 | F66: =E66*D66 -> 25.02
A67: 17.69 | F67: 14.14
A68: 45.69
A69: 61.29 | J69: =F67+F65+F64+F60+F51+F50+F40+F39+F38+F37+F36+F33+F32+F31+F30+F29+F23 -> 463.63
