Workbook

Sheet Memória
A1: Prefeitura Municipal de Ferraz de Vasconcelos
A3: RECUPERAÇÃO ASFÁLTICA EM DIVERSAS VIAS DO MUNICÍPIO
A5: SIURB JAN/21 - SINAPI JUL/21 - CDHU 182 JUL/21 - DER/SO - JUL/21
A6: ITEM | B6: CODIGO | C6: REF | D6: DESCRICAO DA COMPOSICAO | E6: UNIDADE | F6: QUANT | G6: PREÇO UNITÁRIO | H6: TOTAL
A7: 1. | D7: CANTEIRO DE OBRAS | H7: =SUM(H8:H17) -> 53841.12
A8: 1.1 | B8: 10775 | C8: SINAPI | D8: LOCACAO DE CONTAINER 2,30 X 6,00 M, ALT. 2,50 M, COM 1 SANITARIO, PARA ESCRITORIO, COMPLETO, SEM DIVISORIAS INTERNAS | E8: MÊS | F8: =F9 -> 8 | G8: 585 | H8: =ROUND(G8*F8,2) -> 4680
D9: 8 meses x 1 = | F9: 8
A10: 1.2 | B10: 02.01.180 | C10: CDHU | D10: BANHEIRO QUÍMICO MODELO STANDARD, COM MANUTENÇÃO CONFORME EXIGÊNCIAS DA CETESB | E10: UNMES | F10: =F11 -> 8 | G10: 563.21 | H10: =ROUND(G10*F10,2) -> 4505.68
D11: =D9 -> 8 meses x 1 = | F11: =F9 -> 8
A12: 1.3 | B12: 02.08.020 | C12: CDHU | D12: PLACA DE IDENTIFICAÇÃO PARA OBRA | E12: M2 | F12: =F13 -> 48 | G12: 622.8 | H12: =ROUND(G12*F12,2) -> 29894.4
D13: 8unids x 2,00m x 3,00m = | F13: =F8*2*3 -> 48
A14: 1.4 | B14: 02.02.150 | C14: CDHU | D14: LOCAÇÃO DE CONTAINER TIPO DEPÓSITO - ÁREA MÍNIMA DE 13,80 M² | E14: UNMES | F14: =F15 -> 8 | G14: 538.93 | H14: =ROUND(G14*F14,2) -> 4311.44
D15: =D11 -> 8 meses x 1 = | F15: =F8 -> 8
A16: 1.5 | B16: 98458 | C16: SINAPI | D16: TAPUME COM COMPENSADO DE MADEIRA. AF_05/2018 | E16: M2 | F16: =F17 -> 80 | G16: 130.62 | H16: =ROUND(G16*F16,2) -> 10449.6
D17: Cercamento de canteiro de obras: (20,00m + 20,00m ) x 2,00m = | F17: =(20+20)*2 -> 80
A18: 2. | D18: ADMINISTRAÇÃO LOCAL | H18: =SUM(H19:H30) -> 399906.32
A19: 2.1 | B19: 101460 | C19: SINAPI | D19: VIGIA DIURNO COM ENCARGOS COMPLEMENTARES | E19: MES | F19: =F20 -> 8 | G19: 4223.29 | H19: =ROUND(G19*F19,2) -> 33786.32
D20: 8 meses x 1 = | F20: 8
A21: 2.2 | B21: 88326 | C21: SINAPI | D21: VIGIA NOTURNO COM ENCARGOS COMPLEMENTARES | E21: H | F21: =F22 -> 2880 | G21: 28.65 | H21: =ROUND(G21*F21,2) -> 82512
D22: 8meses x 30 dias/mês x 12horas/dia = | F22: =F19*30*12 -> 2880
A23: 2.3 | B23: 90779 | C23: SINAPI | D23: ENGENHEIRO CIVIL DE OBRA SENIOR COM ENCARGOS COMPLEMENTARES | E23: H | F23: =F24 -> 960 | G23: 145.35 | H23: =ROUND(G23*F23,2) -> 139536
D24: 8meses x 20 dias/mês x 6horas/dia = | F24: =F19*20*6 -> 960
A25: 2.4 | B25: 90780 | C25: SINAPI | D25: MESTRE DE OBRAS COM ENCARGOS COMPLEMENTARES | E25: H | F25: =F26 -> 1440 | G25: 52.83 | H25: =ROUND(G25*F25,2) -> 76075.2
D26: 8meses x 20 dias/mês x 9horas/dia = | F26: =F19*20*9 -> 1440
A27: 2.5 | B27: 90767 | C27: SINAPI | D27: APONTADOR OU APROPRIADOR COM ENCARGOS COMPLEMENTARES | E27: H | F27: =F28 -> 1440 | G27: 23.7 | H27: =ROUND(G27*F27,2) -> 34128
D28: 8meses x 20 dias/mês x 9horas/dia = | F28: =F19*20*9 -> 1440
A29: 2.6 | B29: 90766 | C29: SINAPI | D29: ALMOXARIFE COM ENCARGOS COMPLEMENTARES | E29: H | F29: =F30 -> 1440 | G29: 23.52 | H29: =ROUND(G29*F29,2) -> 33868.8
D30: 8meses x 20 dias/mês x 9horas/dia = | F30: =F19*20*9 -> 1440
A31: 3 | D31: RECAPEAMENTO ASFÁLTICO | H31: =SUM(H32:H53) -> 1197865
A32: 3.1 | B32: 96001 | C32: SINAPI | D32: FRESAGEM DE PAVIMENTO ASFÁLTICO (PROFUNDIDADE ATÉ 5,0 CM) - EXCLUSIVE TRANSPORTE. AF_11/2019 | E32: M2 | F32: =SUM(F33:F42) -> 16774.01 | G32: 6.58 | H32: =ROUND(G32*F32,2) -> 110372.99
D33: Rua Aprígio = | F33: 562.43 | I33: 368.58 | J33: =M33-I33 -> 562.43 | M33: 931.01 | N33: =I33/M33 -> 0.39589263 | O33: =M33-I33 -> 562.43
D34: Rua Armênia = | F34: 4220.16 | I34: 2824.16 | J34: =M34-I34 -> 4220.16 | M34: 7044.32 | N34: =I34/M34 -> 0.40091308 | O34: =M34-I34 -> 4220.16
D35: Rua Saturno Aspasio = | F35: 1137 | I35: 701.02 | J35: =M35-I35 -> 1137 | M35: 1838.02 | N35: =I35/M35 -> 0.38139955 | O35: =M35-I35 -> 1137
D36: Rua Maria Isabel de Souza Temporim = | F36: 1828.77 | I36: 1060.38 | J36: =M36-I36 -> 1828.77 | M36: 2889.15 | N36: =I36/M36 -> 0.36702144 | O36: =M36-I36 -> 1828.77
D37: Rua Prefeito Takume Koike = | F37: 2097.91 | I37: 1485.22 | J37: =M37-I37 -> 2097.91 | M37: 3583.13 | N37: =I37/M37 -> 0.41450352 | O37: =M37-I37 -> 2097.91
D38: Rua Rafael Anunciato = | F38: 2600.84 | I38: 1823.44 | J38: =M38-I38 -> 2600.84 | M38: 4424.28 | N38: =I38/M38 -> 0.4121439 | O38: =M38-I38 -> 2600.84 | P38: =610*7.1 -> 4331
D39: Rua Leonardo da Vinci = | F39: 1144.44 | I39: 1032.18 | J39: =M39-I39 -> 1144.44 | M39: 2176.62 | O39: =M39-I39 -> 1144.44
D40: Rua Mario Junqueira = | F40: 820.1 | J40: =M40-L40 -> 820.1 | L40: 1346.5 | M40: 2166.6
D41: Rua Josephina Fregonese cauvilla = | F41: 315.9
D42: Rua Vinícius de Moraes = | F42: 2046.46
...

Sheet CRONOGRAMA
A1: =Memória!A1 -> Prefeitura Municipal de Ferraz de Vasconcelos
A3: =Memória!A3 -> RECUPERAÇÃO ASFÁLTICA EM DIVERSAS VIAS DO MUNICÍPIO
A5: CRONOGRAMA FÍSICO FINANCEIRO
A7: Item | B7: Descrição | C7: Valor (R$) | D7: 1 | E7: 2 | F7: 3 | G7: 4 | H7: 5 | I7: 6 | J7: 7 | K7: 8
A9: 1. | B9: =Memória!D7 -> CANTEIRO DE OBRAS | C9: =Memória!H7 -> 53841.12 | D9: =ROUND($C$9/8,2) -> 6730.14 | E9: =ROUND($C$9/8,2) -> 6730.14 | F9: =ROUND($C$9/8,2) -> 6730.14 | G9: =ROUND($C$9/8,2) -> 6730.14 | H9: =ROUND($C$9/8,2) -> 6730.14 | I9: =ROUND($C$9/8,2) -> 6730.14 | J9: =ROUND($C$9/8,2) -> 6730.14 | K9: =C9-SUM(D9:J9) -> 6730.14 | M9: =SUM(D9:K9) -> 53841.12 | N9: =M9-C9 -> 0
D10: =ROUND(D9/$C$9,4) -> 0.125 | E10: =ROUND(E9/$C$9,4) -> 0.125 | F10: =ROUND(F9/$C$9,4) -> 0.125 | G10: =ROUND(G9/$C$9,4) -> 0.125 | H10: =ROUND(H9/$C$9,4) -> 0.125 | I10: =ROUND(I9/$C$9,4) -> 0.125 | J10: =ROUND(J9/$C$9,4) -> 0.125 | K10: =ROUND(K9/$C$9,4) -> 0.125 | M10: =SUM(D10:K10) -> 1 | N10: =M10-C10 -> 1
A11: 2. | B11: =Memória!D18 -> ADMINISTRAÇÃO LOCAL | C11: =Memória!H18 -> 399906.32 | D11: =ROUND($C$11/8,2) -> 49988.29 | E11: =ROUND($C$11/8,2) -> 49988.29 | F11: =ROUND($C$11/8,2) -> 49988.29 | G11: =ROUND($C$11/8,2) -> 49988.29 | H11: =ROUND($C$11/8,2) -> 49988.29 | I11: =ROUND($C$11/8,2) -> 49988.29 | J11: =ROUND($C$11/8,2) -> 49988.29 | K11: =C11-SUM(D11:J11) -> 49988.29 | M11: =SUM(D11:K11) -> 399906.32 | N11: =M11-C11 -> 0 | P11: =SUM(D11:K11) -> 399906.32 | Q11: =P11+#REF! -> #REF! | R11: =C11-P11 -> 0
D12: =ROUND(D11/$C11,4) -> 0.125 | E12: =ROUND(E11/$C11,4) -> 0.125 | F12: =ROUND(F11/$C11,4) -> 0.125 | G12: =ROUND(G11/$C11,4) -> 0.125 | H12: =ROUND(H11/$C11,4) -> 0.125 | I12: =ROUND(I11/$C11,4) -> 0.125 | J12: =ROUND(J11/$C11,4) -> 0.125 | K12: =ROUND(K11/$C11,4) -> 0.125 | M12: =SUM(D12:K12) -> 1 | N12: =M12-C12 -> 1
A13: 3. | B13: =Memória!D31 -> RECAPEAMENTO ASFÁLTICO | C13: =Memória!H31 -> 1197865 | D13: =ROUND($C$13/8,2) -> 149733.13 | E13: =ROUND($C$13/8,2) -> 149733.13 | F13: =ROUND($C$13/8,2) -> 149733.13 | G13: =ROUND($C$13/8,2) -> 149733.13 | H13: =ROUND($C$13/8,2) -> 149733.13 | I13: =ROUND($C$13/8,2) -> 149733.13 | J13: =ROUND($C$13/8,2) -> 149733.13 | K13: =C13-SUM(D13:J13) -> 149733.11 | M13: =SUM(D13:K13) -> 1197865 | N13: =M13-C13 -> 0
D14: =ROUND(D13/$C$13,4) -> 0.125 | E14: =ROUND(E13/$C$13,4) -> 0.125 | F14: =ROUND(F13/$C$13,4) -> 0.125 | G14: =ROUND(G13/$C$13,4) -> 0.125 | H14: =ROUND(H13/$C$13,4) -> 0.125 | I14: =ROUND(I13/$C$13,4) -> 0.125 | J14: =ROUND(J13/$C$13,4) -> 0.125 | K14: =ROUND(K13/$C$13,4) -> 0.125 | M14: =SUM(D14:K14) -> 1 | N14: =M14-C14 -> 1
A15: 4. | B15: =Memória!D55 -> REFORÇO DE PAVIMENTO | C15: =Memória!H55 -> 3508018.1 | D15: =ROUND($C$15/8,2) -> 438502.27 | E15: =ROUND($C$15/8,2) -> 438502.27 | F15: =ROUND($C$15/8,2) -> 438502.27 | G15: =ROUND($C$15/8,2) -> 438502.27 | H15: =ROUND($C$15/8,2) -> 438502.27 | I15: =ROUND($C$15/8,2) -> 438502.27 | J15: =ROUND($C$15/8,2) -> 438502.27 | K15: =C15-SUM(D15:J15) -> 438502.25 | M15: =SUM(D15:K15) -> 3508018.1 | N15: =M15-C15 -> 0
D16: =ROUND(D15/$C$15,4) -> 0.125 | E16: =ROUND(E15/$C$15,4) -> 0.125 | F16: =ROUND(F15/$C$15,4) -> 0.125 | G16: =ROUND(G15/$C$15,4) -> 0.125 | H16: =ROUND(H15/$C$15,4) -> 0.125 | I16: =ROUND(I15/$C$15,4) -> 0.125 | J16: =ROUND(J15/$C$15,4) -> 0.125 | K16: =ROUND(K15/$C$15,4) -> 0.125 | M16: =SUM(D16:K16) -> 1 | N16: =M16-C16 -> 1
A17: 5. | B17: =Memória!D89 -> PAVIMENTAÇÃO NOVA | C17: =Memória!H89 -> 1214691.9 | D17: =ROUND($C$17/8,2) -> 151836.48 | E17: =ROUND($C$17/8,2) -> 151836.48 | F17: =ROUND($C$17/8,2) -> 151836.48 | G17: =ROUND($C$17/8,2) -> 151836.48 | H17: =ROUND($C$17/8,2) -> 151836.48 | I17: =ROUND($C$17/8,2) -> 151836.48 | J17: =ROUND($C$17/8,2) -> 151836.48 | K17: =C17-SUM(D17:J17) -> 151836.49 | M17: =SUM(D17:K17) -> 1214691.9 | N17: =M17-C17 -> 0
D18: =ROUND(D17/$C$17,4) -> 0.125 | E18: =ROUND(E17/$C$17,4) -> 0.125 | F18: =ROUND(F17/$C$17,4) -> 0.125 | G18: =ROUND(G17/$C$17,4) -> 0.125 | H18: =ROUND(H17/$C$17,4) -> 0.125 | I18: =ROUND(I17/$C$17,4) -> 0.125 | J18: =ROUND(J17/$C$17,4) -> 0.125 | K18: =ROUND(K17/$C$17,4) -> 0.125 | M18: =SUM(D18:K18) -> 1 | N18: =M18-C18 -> 1
A19: 6. | B19: =Memória!D132 -> GUIA, SARJETA E SARJETÃO | C19: =Memória!H132 -> 233930.33 | G19: =ROUND($C$19*0.25,2) -> 58482.58 | H19: =ROUND($C$19*0.25,2) -> 58482.58 | I19: =ROUND($C$19*0.2,2) -> 46786.07 | J19: =ROUND($C$19*0.2,2) -> 46786.07 | K19: =C19-SUM(D19:J19) -> 23393.03 | M19: =SUM(D19:K19) -> 233930.33 | N19: =M19-C19 -> 0
D20: =ROUND(D19/$C$19,4) -> 0 | E20: =ROUND(E19/$C$19,4) -> 0 | F20: =ROUND(F19/$C$19,4) -> 0 | G20: =ROUND(G19/$C$19,4) -> 0.25 | H20: =ROUND(H19/$C$19,4) -> 0.25 | I20: =ROUND(I19/$C$19,4) -> 0.2 | J20: =ROUND(J19/$C$19,4) -> 0.2 | K20: =ROUND(K19/$C$19,4) -> 0.1 | M20: =SUM(D20:K20) -> 1 | N20: =M20-C20 -> 1
A21: 7. | B21: =Memória!D171 -> CAPEAMENTO SOBRE PARALELEPÍPEDO | C21: =Memória!H171 -> 480830.66 | H21: =ROUND($C$21/2,2) -> 240415.33 | I21: =C21-H21 -> 240415.33 | M21: =SUM(D21:K21) -> 480830.66 | N21: =M21-C21 -> 0
D22: =ROUND(D21/$C$21,4) -> 0 | E22: =ROUND(E21/$C$21,4) -> 0 | F22: =ROUND(F21/$C$21,4) -> 0 | G22: =ROUND(G21/$C$21,4) -> 0 | H22: =ROUND(H21/$C$21,4) -> 0.5 | I22: =ROUND(I21/$C$21,4) -> 0.5 | J22: =ROUND(J21/$C$21,4) -> 0 | K22: =ROUND(K21/$C$21,4) -> 0 | M22: =SUM(D22:K22) -> 1 | N22: =M22-C22 -> 1
A23: 8. | B23: =Memória!D206 -> PASSEIO DE CONCRETO | C23: =Memória!H206 -> 73584.12 | I23: =ROUND($C$23*0.4,2) -> 29433.65 | J23: =ROUND($C$23*0.4,2) -> 29433.65 | K23: =C23-SUM(D23:J23) -> 14716.82 | M23: =SUM(D23:K23) -> 73584.12 | N23: =M23-C23 -> 0
D24: =ROUND(D23/$C$23,4) -> 0 | E24: =ROUND(E23/$C$23,4) -> 0 | F24: =ROUND(F23/$C$23,4) -> 0 | G24: =ROUND(G23/$C$23,4) -> 0 | H24: =ROUND(H23/$C$23,4) -> 0 | I24: =ROUND(I23/$C$23,4) -> 0.4 | J24: =ROUND(J23/$C$23,4) -> 0.4 | K24: =ROUND(K23/$C$23,4) -> 0.2 | M24: =SUM(D24:K24) -> 1 | N24: =M24-C24 -> 1
A25: 9. | B25: =Memória!D219 -> ESCADA HIDRÁULICA | C25: =Memória!H219 -> 37192.48 | I25: =C25 -> 37192.48 | M25: =SUM(D25:K25) -> 37192.48 | N25: =M25-C25 -> 0
D26: =ROUND(D25/$C$23,4) -> 0 | E26: =ROUND(E25/$C$23,4) -> 0 | F26: =ROUND(F25/$C$23,4) -> 0 | G26: =ROUND(G25/$C$23,4) -> 0 | H26: =ROUND(H25/$C$23,4) -> 0 | I26: =ROUND(I25/$C$25,4) -> 1 | J26: =ROUND(J25/$C$23,4) -> 0 | K26: =ROUND(K25/$C$23,4) -> 0 | M26: =SUM(D26:K26) -> 1 | N26: =M26-C26 -> 1
C27: =SUM(C9:C25) -> 7199860 | D27: =D9+D11+D13+D15+D17+D19+D21+D23+D25 -> 796790.31 | E27: =E9+E11+E13+E15+E17+E19+E21+E23+E25 -> 796790.31 | F27: =F9+F11+F13+F15+F17+F19+F21+F23+F25 -> 796790.31 | G27: =G9+G11+G13+G15+G17+G19+G21+G23+G25 -> 855272.89 | H27: =H9+H11+H13+H15+H17+H19+H21+H23+H25 -> 1095688.2 | I27: =I9+I11+I13+I15+I17+I19+I21+I23+I25 -> 1150617.8 | J27: =J9+J11+J13+J15+J17+J19+J21+J23+J25 -> 873010.03 | K27: =K9+K11+K13+K15+K17+K19+K21+K23+K25 -> 834900.13 | M27: =SUM(D27:K27) -> 7199860 | N27: =M27-C27 -> 0
B28: 0.25 | C28: =C27*B28 -> 1799965 | D28: =D27*$B$28 -> 199197.58 | E28: =E27*$B$28 -> 199197.58 | F28: =F27*$B$28 -> 199197.58 | G28: =G27*$B$28 -> 213818.22 | H28: =H27*$B$28 -> 273922.05 | I28: =I27*$B$28 -> 287654.46 | J28: =J27*$B$28 -> 218252.51 | K28: =K27*$B$28 -> 208725.03 | M28: =SUM(D28:K28) -> 1799965 | N28: =M28-C28 -> 0
B29: Total geral | C29: =C28+C27 -> 8999825.1 | D29: =D28+D27 -> 995987.89 | E29: =E28+E27 -> 995987.89 | F29: =F28+F27 -> 995987.89 | G29: =G28+G27 -> 1069091.1 | H29: =H28+H27 -> 1369610.3 | I29: =I28+I27 -> 1438272.3 | J29: =J28+J27 -> 1091262.5 | K29: =K28+K27 -> 1043625.2 | M29: =SUM(D29:K29) -> 8999825.1 | N29: =M29-C29 -> 0
B30: % | D30: =ROUND(D29/$C$29,4) -> 0.1107 | E30: =ROUND(E29/$C$29,4) -> 0.1107 | F30: =ROUND(F29/$C$29,4) -> 0.1107 | G30: =ROUND(G29/$C$29,4) -> 0.1188 | H30: =ROUND(H29/$C$29,4) -> 0.1522 | I30: =ROUND(I29/$C$29,4) -> 0.1598 | J30: =ROUND(J29/$C$29,4) -> 0.1213 | K30: =ROUND(K29/$C$29,4) -> 0.116 | M30: =SUM(D30:K30) -> 1.0002 | N30: =M30-C30 -> 1.0002
B31: Acumulado | D31: =D29 -> 995987.89 | E31: =E29+D31 -> 1991975.8 | F31: =F29+E31 -> 2987963.7 | G31: =G29+F31 -> 4057054.8 | H31: =H29+G31 -> 5426665.1 | I31: =I29+H31 -> 6864937.4 | J31: =J29+I31 -> 7956199.9 | K31: =K29+J31 -> 8999825.1 | M31: =SUM(D31:K31) -> 39280609 | N31: =M31-C31 -> 39280609
B32: % | D32: =ROUND(D31/$C$29,4) -> 0.1107 | E32: =ROUND(E31/$C$29,4) -> 0.2213 | F32: =ROUND(F31/$C$29,4) -> 0.332 | G32: =ROUND(G31/$C$29,4) -> 0.4508 | H32: =ROUND(H31/$C$29,4) -> 0.603 | I32: =ROUND(I31/$C$29,4) -> 0.7628 | J32: =ROUND(J31/$C$29,4) -> 0.884 | K32: =ROUND(K31/$C$29,4) -> 1 | M32: =SUM(D32:K32) -> 4.3646 | N32: =M32-C32 -> 4.3646
