Workbook
Name AreaTeste: #REF!
Name AreaTeste2: #REF!
Name CélulaInicioPlanilha: #REF!
Name CélulaResumo: #REF!
Name Excel_BuiltIn_Database: #REF!
Name Excel_BuiltIn_Database_2: #REF!

Sheet ORÇ
E2: MEMÓRIA DE CÁLCULO
B5: OBRA: RECONSTRUÇÃO,BUEIROS,PAVIMENTOS ASF.PASSEIO-PISO VIELA | H5: LOCAL: Ferraz de Vasconcelos
B6: R. Viela Espatodéa -- R. DOS LÍRIOS PROX.N299-R.TOMIO KATAGUIRI-Prox.100- | H6: DT B. SIURB/JUL/24 CDHU 195
B7: R: RYOSHIN HASEGAWA -PROX AO Nº122R.:Papa João Paulo II -próx.R.José Pereira -trav.Av. Albino F.Figueiredo
B9: REF | C9: CÓDIGO | D9: DESCRIÇÃO DOS SERVIÇOS | I9: UNID | J9: QUANT
D11: VIELA ESPATODÉA -PROX. R. DOS PINHEIROS --- 18140/2023
B12: INFRA | C12: 101603 | D12: =UPPER(IF($B12="EDIF",VLOOKUP($C12,[1]EDIF!$A$1:$E$2656,2,0),(IF($B12="INFRA",VLOOKUP($C12,[1]INFRA!$A$1:$E$843,2,0),(IF($B12="SINAPI",VLOOKUP($C12,[1]SINAPI!$A$1:$G$7498,2,0),(IF($B12="FDE",VLOOKUP($C12,[1]FDE!$A$1:$E$3179,2,0),(IF($B12="CDHU",VLOOKUP($C12,[1]CDHU!$A$1:$F$4132,2,0),(IF($B12="SIEC",VLOOKUP($C12,[1]SIEC!$A$1:$E$4166,2,0),(IF($B12="DER",VLOOKUP($C12,[1]DER!$A$1:$D$2157,2,0),(IF($B12="SICRO",VLOOKUP($C12,[1]SICRO!$A$1:$E$6354,2,0))))))))))))))))) -> PLACA DE OBRA EM CHAPA DE AÇO GALVANIZADO | I12: =UPPER(IF($B12="EDIF",VLOOKUP($C12,[1]EDIF!$A$1:$E$2656,3,0),(IF($B12="INFRA",VLOOKUP($C12,[1]INFRA!$A$1:$E$843,3,0),(IF($B12="SINAPI",VLOOKUP($C12,[1]SINAPI!$A$1:$G$7498,3,0),(IF($B12="FDE",VLOOKUP($C12,[1]FDE!$A$1:$E$3179,3,0),(IF($B12="CDHU",VLOOKUP($C12,[1]CDHU!$A$1:$F$4132,3,0),(IF($B12="SIEC",VLOOKUP($C12,[1]SIEC!$A$1:$E$4166,3,0),(IF($B12="DER",VLOOKUP($C12,[1]DER!$A$1:$D$2157,3,0),(IF($B12="SICRO",VLOOKUP($C12,[1]SICRO!$A$1:$E$6354,3,0))))))))))))))))) -> M2 | J12: 3 | K12: 391.58 | L12: =ROUND(J12*K12,2) -> 1174.74
B14: EDIF | C14: 175020 | D14: =UPPER(IF($B14="EDIF",VLOOKUP($C14,[1]EDIF!$A$1:$E$2656,2,0),(IF($B14="INFRA",VLOOKUP($C14,[1]INFRA!$A$1:$E$843,2,0),(IF($B14="SINAPI",VLOOKUP($C14,[1]SINAPI!$A$1:$G$7498,2,0),(IF($B14="FDE",VLOOKUP($C14,[1]FDE!$A$1:$E$3179,2,0),(IF($B14="CDHU",VLOOKUP($C14,[1]CDHU!$A$1:$F$4132,2,0),(IF($B14="SIEC",VLOOKUP($C14,[1]SIEC!$A$1:$E$4166,2,0),(IF($B14="DER",VLOOKUP($C14,[1]DER!$A$1:$D$2157,2,0),(IF($B14="SICRO",VLOOKUP($C14,[1]SICRO!$A$1:$E$6354,2,0))))))))))))))))) -> DEMOLIÇÃO MANUAL DE CONCRETO SIMPLES | I14: =UPPER(IF($B14="EDIF",VLOOKUP($C14,[1]EDIF!$A$1:$E$2656,3,0),(IF($B14="INFRA",VLOOKUP($C14,[1]INFRA!$A$1:$E$843,3,0),(IF($B14="SINAPI",VLOOKUP($C14,[1]SINAPI!$A$1:$G$7498,3,0),(IF($B14="FDE",VLOOKUP($C14,[1]FDE!$A$1:$E$3179,3,0),(IF($B14="CDHU",VLOOKUP($C14,[1]CDHU!$A$1:$F$4132,3,0),(IF($B14="SIEC",VLOOKUP($C14,[1]SIEC!$A$1:$E$4166,3,0),(IF($B14="DER",VLOOKUP($C14,[1]DER!$A$1:$D$2157,3,0),(IF($B14="SICRO",VLOOKUP($C14,[1]SICRO!$A$1:$E$6354,3,0))))))))))))))))) -> M3 | J14: 2.5 | K14: 265.15 | L14: =ROUND(J14*K14,2) -> 662.88 | M14: =C14 -> 175020 | N14: =UPPER(IF($B14="EDIF",VLOOKUP($C14,[1]EDIF!$A$1:$E$2656,5,0),(IF($B14="INFRA",VLOOKUP($C14,[1]INFRA!$A$1:$E$843,5,0),(IF($B14="SINAPI",VLOOKUP($C14,[1]SINAPI!$A$1:$G$7498,7,0),(IF($B14="FDE",VLOOKUP($C14,[1]FDE!$A$1:$E$3179,5,0),(IF($B14="CDHU",VLOOKUP($C14,[1]CDHU!$A$1:$G$4132,7,0),(IF($B14="SIEC",VLOOKUP($C14,[1]SIEC!$A$1:$E$4166,5,0),(IF($B14="DER",VLOOKUP($C14,[1]DER!$A$1:$D$2157,5,0),(IF($B14="SICRO",VLOOKUP($C14,[1]SICRO!$A$1:$E$6354,5,0))))))))))))))))) -> EDIF JUL/23
C15: - | D15: 25,00M2*0,10 | L15: =ROUND(J15*K15,2) -> 0
B16: EDIF | C16: 10107 | D16: =UPPER(IF($B16="EDIF",VLOOKUP($C16,[1]EDIF!$A$1:$E$2656,2,0),(IF($B16="INFRA",VLOOKUP($C16,[1]INFRA!$A$1:$E$843,2,0),(IF($B16="SINAPI",VLOOKUP($C16,[1]SINAPI!$A$1:$G$7498,2,0),(IF($B16="FDE",VLOOKUP($C16,[1]FDE!$A$1:$E$3179,2,0),(IF($B16="CDHU",VLOOKUP($C16,[1]CDHU!$A$1:$F$4132,2,0),(IF($B16="SIEC",VLOOKUP($C16,[1]SIEC!$A$1:$E$4166,2,0),(IF($B16="DER",VLOOKUP($C16,[1]DER!$A$1:$D$2157,2,0),(IF($B16="SICRO",VLOOKUP($C16,[1]SICRO!$A$1:$E$6354,2,0))))))))))))))))) -> REMOÇÃO DE ENTULHO COM CAÇAMBA METÁLICA, INCLUSIVE CARGA MANUAL E DESCARGA EM BOTA-FORA | I16: =UPPER(IF($B16="EDIF",VLOOKUP($C16,[1]EDIF!$A$1:$E$2656,3,0),(IF($B16="INFRA",VLOOKUP($C16,[1]INFRA!$A$1:$E$843,3,0),(IF($B16="SINAPI",VLOOKUP($C16,[1]SINAPI!$A$1:$G$7498,3,0),(IF($B16="FDE",VLOOKUP($C16,[1]FDE!$A$1:$E$3179,3,0),(IF($B16="CDHU",VLOOKUP($C16,[1]CDHU!$A$1:$F$4132,3,0),(IF($B16="SIEC",VLOOKUP($C16,[1]SIEC!$A$1:$E$4166,3,0),(IF($B16="DER",VLOOKUP($C16,[1]DER!$A$1:$D$2157,3,0),(IF($B16="SICRO",VLOOKUP($C16,[1]SICRO!$A$1:$E$6354,3,0))))))))))))))))) -> M3 | J16: 3.25 | K16: 129.38 | L16: =ROUND(J16*K16,2) -> 420.49
D17: 2,50*1,30=3,25
B18: EDIF | C18: 30317 | D18: =UPPER(IF($B18="EDIF",VLOOKUP($C18,[1]EDIF!$A$1:$E$2656,2,0),(IF($B18="INFRA",VLOOKUP($C18,[1]INFRA!$A$1:$E$843,2,0),(IF($B18="SINAPI",VLOOKUP($C18,[1]SINAPI!$A$1:$G$7498,2,0),(IF($B18="FDE",VLOOKUP($C18,[1]FDE!$A$1:$E$3179,2,0),(IF($B18="CDHU",VLOOKUP($C18,[1]CDHU!$A$1:$F$4132,2,0),(IF($B18="SIEC",VLOOKUP($C18,[1]SIEC!$A$1:$E$4166,2,0),(IF($B18="DER",VLOOKUP($C18,[1]DER!$A$1:$D$2157,2,0),(IF($B18="SICRO",VLOOKUP($C18,[1]SICRO!$A$1:$E$6354,2,0))))))))))))))))) -> CONCRETO FCK = 25,0MPA - USINADO | I18: =UPPER(IF($B18="EDIF",VLOOKUP($C18,[1]EDIF!$A$1:$E$2656,3,0),(IF($B18="INFRA",VLOOKUP($C18,[1]INFRA!$A$1:$E$843,3,0),(IF($B18="SINAPI",VLOOKUP($C18,[1]SINAPI!$A$1:$G$7498,3,0),(IF($B18="FDE",VLOOKUP($C18,[1]FDE!$A$1:$E$3179,3,0),(IF($B18="CDHU",VLOOKUP($C18,[1]CDHU!$A$1:$F$4132,3,0),(IF($B18="SIEC",VLOOKUP($C18,[1]SIEC!$A$1:$E$4166,3,0),(IF($B18="DER",VLOOKUP($C18,[1]DER!$A$1:$D$2157,3,0),(IF($B18="SICRO",VLOOKUP($C18,[1]SICRO!$A$1:$E$6354,3,0))))))))))))))))) -> M3 | J18: 1.75 | K18: 536.34 | L18: =ROUND(J18*K18,2) -> 938.6
D19: 25,00M2 *0,07= | L19: =ROUND(J19*K19,2) -> 0
D20: RUA: DOS LÍRIOS PROX. Nº299- proc.5896/2024
B21: INFRA | C21: 101603 | D21: =UPPER(IF($B21="EDIF",VLOOKUP($C21,[1]EDIF!$A$1:$E$2656,2,0),(IF($B21="INFRA",VLOOKUP($C21,[1]INFRA!$A$1:$E$843,2,0),(IF($B21="SINAPI",VLOOKUP($C21,[1]SINAPI!$A$1:$G$7498,2,0),(IF($B21="FDE",VLOOKUP($C21,[1]FDE!$A$1:$E$3179,2,0),(IF($B21="CDHU",VLOOKUP($C21,[1]CDHU!$A$1:$F$4132,2,0),(IF($B21="SIEC",VLOOKUP($C21,[1]SIEC!$A$1:$E$4166,2,0),(IF($B21="DER",VLOOKUP($C21,[1]DER!$A$1:$D$2157,2,0),(IF($B21="SICRO",VLOOKUP($C21,[1]SICRO!$A$1:$E$6354,2,0))))))))))))))))) -> PLACA DE OBRA EM CHAPA DE AÇO GALVANIZADO | I21: =UPPER(IF($B21="EDIF",VLOOKUP($C21,[1]EDIF!$A$1:$E$2656,3,0),(IF($B21="INFRA",VLOOKUP($C21,[1]INFRA!$A$1:$E$843,3,0),(IF($B21="SINAPI",VLOOKUP($C21,[1]SINAPI!$A$1:$G$7498,3,0),(IF($B21="FDE",VLOOKUP($C21,[1]FDE!$A$1:$E$3179,3,0),(IF($B21="CDHU",VLOOKUP($C21,[1]CDHU!$A$1:$F$4132,3,0),(IF($B21="SIEC",VLOOKUP($C21,[1]SIEC!$A$1:$E$4166,3,0),(IF($B21="DER",VLOOKUP($C21,[1]DER!$A$1:$D$2157,3,0),(IF($B21="SICRO",VLOOKUP($C21,[1]SICRO!$A$1:$E$6354,3,0))))))))))))))))) -> M2 | J21: 3 | K21: 391.58 | L21: =ROUND(J21*K21,2) -> 1174.74
B23: INFRA | C23: 62305 | D23: =UPPER(IF($B23="EDIF",VLOOKUP($C23,[1]EDIF!$A$1:$E$2656,2,0),(IF($B23="INFRA",VLOOKUP($C23,[1]INFRA!$A$1:$E$843,2,0),(IF($B23="SINAPI",VLOOKUP($C23,[1]SINAPI!$A$1:$G$7498,2,0),(IF($B23="FDE",VLOOKUP($C23,[1]FDE!$A$1:$E$3179,2,0),(IF($B23="CDHU",VLOOKUP($C23,[1]CDHU!$A$1:$F$4132,2,0),(IF($B23="SIEC",VLOOKUP($C23,[1]SIEC!$A$1:$E$4166,2,0),(IF($B23="DER",VLOOKUP($C23,[1]DER!$A$1:$D$2157,2,0),(IF($B23="SICRO",VLOOKUP($C23,[1]SICRO!$A$1:$E$6354,2,0))))))))))))))))) -> SUBSTITUIÇÃO DE TAMPA DE CONCRETO PARA BOCA DE LOBO | I23: =UPPER(IF($B23="EDIF",VLOOKUP($C23,[1]EDIF!$A$1:$E$2656,3,0),(IF($B23="INFRA",VLOOKUP($C23,[1]INFRA!$A$1:$E$843,3,0),(IF($B23="SINAPI",VLOOKUP($C23,[1]SINAPI!$A$1:$G$7498,3,0),(IF($B23="FDE",VLOOKUP($C23,[1]FDE!$A$1:$E$3179,3,0),(IF($B23="CDHU",VLOOKUP($C23,[1]CDHU!$A$1:$F$4132,3,0),(IF($B23="SIEC",VLOOKUP($C23,[1]SIEC!$A$1:$E$4166,3,0),(IF($B23="DER",VLOOKUP($C23,[1]DER!$A$1:$D$2157,3,0),(IF($B23="SICRO",VLOOKUP($C23,[1]SICRO!$A$1:$E$6354,3,0))))))))))))))))) -> UN | J23: 2 | K23: 351.98 | L23: =ROUND(J23*K23,2) -> 703.96
D24: R. DOS LÍRIOS
B25: EDIF | C25: 175020 | D25: =UPPER(IF($B25="EDIF",VLOOKUP($C25,[1]EDIF!$A$1:$E$2656,2,0),(IF($B25="INFRA",VLOOKUP($C25,[1]INFRA!$A$1:$E$843,2,0),(IF($B25="SINAPI",VLOOKUP($C25,[1]SINAPI!$A$1:$G$7498,2,0),(IF($B25="FDE",VLOOKUP($C25,[1]FDE!$A$1:$E$3179,2,0),(IF($B25="CDHU",VLOOKUP($C25,[1]CDHU!$A$1:$F$4132,2,0),(IF($B25="SIEC",VLOOKUP($C25,[1]SIEC!$A$1:$E$4166,2,0),(IF($B25="DER",VLOOKUP($C25,[1]DER!$A$1:$D$2157,2,0),(IF($B25="SICRO",VLOOKUP($C25,[1]SICRO!$A$1:$E$6354,2,0))))))))))))))))) -> DEMOLIÇÃO MANUAL DE CONCRETO SIMPLES | I25: =UPPER(IF($B25="EDIF",VLOOKUP($C25,[1]EDIF!$A$1:$E$2656,3,0),(IF($B25="INFRA",VLOOKUP($C25,[1]INFRA!$A$1:$E$843,3,0),(IF($B25="SINAPI",VLOOKUP($C25,[1]SINAPI!$A$1:$G$7498,3,0),(IF($B25="FDE",VLOOKUP($C25,[1]FDE!$A$1:$E$3179,3,0),(IF($B25="CDHU",VLOOKUP($C25,[1]CDHU!$A$1:$F$4132,3,0),(IF($B25="SIEC",VLOOKUP($C25,[1]SIEC!$A$1:$E$4166,3,0),(IF($B25="DER",VLOOKUP($C25,[1]DER!$A$1:$D$2157,3,0),(IF($B25="SICRO",VLOOKUP($C25,[1]SICRO!$A$1:$E$6354,3,0))))))))))))))))) -> M3 | J25: 0.6 | K25: 265.15 | L25: =ROUND(J25*K25,2) -> 159.09 | M25: =C25 -> 175020 | N25: =UPPER(IF($B25="EDIF",VLOOKUP($C25,[1]EDIF!$A$1:$E$2656,5,0),(IF($B25="INFRA",VLOOKUP($C25,[1]INFRA!$A$1:$E$843,5,0),(IF($B25="SINAPI",VLOOKUP($C25,[1]SINAPI!$A$1:$G$7498,7,0),(IF($B25="FDE",VLOOKUP($C25,[1]FDE!$A$1:$E$3179,5,0),(IF($B25="CDHU",VLOOKUP($C25,[1]CDHU!$A$1:$G$4132,7,0),(IF($B25="SIEC",VLOOKUP($C25,[1]SIEC!$A$1:$E$4166,5,0),(IF($B25="DER",VLOOKUP($C25,[1]DER!$A$1:$D$2157,5,0),(IF($B25="SICRO",VLOOKUP($C25,[1]SICRO!$A$1:$E$6354,5,0))))))))))))))))) -> EDIF JUL/23
D26: 3*2=6,00*0,10
B27: INFRA | C27: 43100 | D27: =UPPER(IF($B27="EDIF",VLOOKUP($C27,[1]EDIF!$A$1:$E$2656,2,0),(IF($B27="INFRA",VLOOKUP($C27,[1]INFRA!$A$1:$E$843,2,0),(IF($B27="SINAPI",VLOOKUP($C27,[1]SINAPI!$A$1:$G$7498,2,0),(IF($B27="FDE",VLOOKUP($C27,[1]FDE!$A$1:$E$3179,2,0),(IF($B27="CDHU",VLOOKUP($C27,[1]CDHU!$A$1:$F$4132,2,0),(IF($B27="SIEC",VLOOKUP($C27,[1]SIEC!$A$1:$E$4166,2,0),(IF($B27="DER",VLOOKUP($C27,[1]DER!$A$1:$D$2157,2,0),(IF($B27="SICRO",VLOOKUP($C27,[1]SICRO!$A$1:$E$6354,2,0))))))))))))))))) -> FORNECIMENTO DE TERRA, INCLUINDO ESCAVAÇÃO, CARGA E TRANSPORTE ATÉ A DISTÂNCIA MÉDIA DE 1,0KM, MEDIDO NO ATERRO COMPACTADO | I27: =UPPER(IF($B27="EDIF",VLOOKUP($C27,[1]EDIF!$A$1:$E$2656,3,0),(IF($B27="INFRA",VLOOKUP($C27,[1]INFRA!$A$1:$E$843,3,0),(IF($B27="SINAPI",VLOOKUP($C27,[1]SINAPI!$A$1:$G$7498,3,0),(IF($B27="FDE",VLOOKUP($C27,[1]FDE!$A$1:$E$3179,3,0),(IF($B27="CDHU",VLOOKUP($C27,[1]CDHU!$A$1:$F$4132,3,0),(IF($B27="SIEC",VLOOKUP($C27,[1]SIEC!$A$1:$E$4166,3,0),(IF($B27="DER",VLOOKUP($C27,[1]DER!$A$1:$D$2157,3,0),(IF($B27="SICRO",VLOOKUP($C27,[1]SICRO!$A$1:$E$6354,3,0))))))))))))))))) -> M3 | J27: 6 | K27: 31.72 | L27: =ROUND(J27*K27,2) -> 190.32
C28: - | D28: P/Rua: Dos Lírios -- 2*1*3,00=6,00M2 | L28: =ROUND(J28*K28,2) -> 0
B29: INFRA | C29: 43200 | D29: =UPPER(IF($B29="EDIF",VLOOKUP($C29,[1]EDIF!$A$1:$E$2656,2,0),(IF($B29="INFRA",VLOOKUP($C29,[1]INFRA!$A$1:$E$843,2,0),(IF($B29="SINAPI",VLOOKUP($C29,[1]SINAPI!$A$1:$G$7498,2,0),(IF($B29="FDE",VLOOKUP($C29,[1]FDE!$A$1:$E$3179,2,0),(IF($B29="CDHU",VLOOKUP($C29,[1]CDHU!$A$1:$F$4132,2,0),(IF($B29="SIEC",VLOOKUP($C29,[1]SIEC!$A$1:$E$4166,2,0),(IF($B29="DER",VLOOKUP($C29,[1]DER!$A$1:$D$2157,2,0),(IF($B29="SICRO",VLOOKUP($C29,[1]SICRO!$A$1:$E$6354,2,0))))))))))))))))) -> COMPACTAÇÃO DE TERRA, MEDIDA NO ATERRO | I29: =UPPER(IF($B29="EDIF",VLOOKUP($C29,[1]EDIF!$A$1:$E$2656,3,0),(IF($B29="INFRA",VLOOKUP($C29,[1]INFRA!$A$1:$E$843,3,0),(IF($B29="SINAPI",VLOOKUP($C29,[1]SINAPI!$A$1:$G$7498,3,0),(IF($B29="FDE",VLOOKUP($C29,[1]FDE!$A$1:$E$3179,3,0),(IF($B29="CDHU",VLOOKUP($C29,[1]CDHU!$A$1:$F$4132,3,0),(IF($B29="SIEC",VLOOKUP($C29,[1]SIEC!$A$1:$E$4166,3,0),(IF($B29="DER",VLOOKUP($C29,[1]DER!$A$1:$D$2157,3,0),(IF($B29="SICRO",VLOOKUP($C29,[1]SICRO!$A$1:$E$6354,3,0))))))))))))))))) -> M3 | J29: 6 | K29: 8.58 | L29: =ROUND(J29*K29,2) -> 51.48
C30: - | D30: P/Rua: Dos Lírios -- 2*1*3,00=6,00M2 ---- 6 | L30: =ROUND(J30*K30,2) -> 0
B31: INFRA | C31: 59201 | D31: =UPPER(IF($B31="EDIF",VLOOKUP($C31,[1]EDIF!$A$1:$E$2656,2,0),(IF($B31="INFRA",VLOOKUP($C31,[1]INFRA!$A$1:$E$843,2,0),(IF($B31="SINAPI",VLOOKUP($C31,[1]SINAPI!$A$1:$G$7498,2,0),(IF($B31="FDE",VLOOKUP($C31,[1]FDE!$A$1:$E$3179,2,0),(IF($B31="CDHU",VLOOKUP($C31,[1]CDHU!$A$1:$F$4132,2,0),(IF($B31="SIEC",VLOOKUP($C31,[1]SIEC!$A$1:$E$4166,2,0),(IF($B31="DER",VLOOKUP($C31,[1]DER!$A$1:$D$2157,2,0),(IF($B31="SICRO",VLOOKUP($C31,[1]SICRO!$A$1:$E$6354,2,0))))))))))))))))) -> PISO/ PASSEIO DE CONCRETO, INCLUINDO O PREPARO DA CAIXA, LASTRO DE BRITA E A MÃO DE OBRA REFERENTE AOS SERVIÇOS NO CONCRETO: LANÇAMENTO E ACABAMENTO (RIPADO E DESEMPENADO) EXCLUSIVE O FORNECIMENTO DO CONCRETO | I31: =UPPER(IF($B31="EDIF",VLOOKUP($C31,[1]EDIF!$A$1:$E$2656,3,0),(IF($B31="INFRA",VLOOKUP($C31,[1]INFRA!$A$1:$E$843,3,0),(IF($B31="SINAPI",VLOOKUP($C31,[1]SINAPI!$A$1:$G$7498,3,0),(IF($B31="FDE",VLOOKUP($C31,[1]FDE!$A$1:$E$3179,3,0),(IF($B31="CDHU",VLOOKUP($C31,[1]CDHU!$A$1:$F$4132,3,0),(IF($B31="SIEC",VLOOKUP($C31,[1]SIEC!$A$1:$E$4166,3,0),(IF($B31="DER",VLOOKUP($C31,[1]DER!$A$1:$D$2157,3,0),(IF($B31="SICRO",VLOOKUP($C31,[1]SICRO!$A$1:$E$6354,3,0))))))))))))))))) -> M3 | J31: 0.42 | K31: 347.96 | L31: =ROUND(J31*K31,2) -> 146.14
D32: RUA DOS LÍRIOS -N 299 ----- 2*3=6*0,07=0,42 | L32: =ROUND(J32*K32,2) -> 0
D33: RUA: TOMIO KATAGUIRI -PROX.Nº100
B34: INFRA | C34: 101603 | D34: =UPPER(IF($B34="EDIF",VLOOKUP($C34,[1]EDIF!$A$1:$E$2656,2,0),(IF($B34="INFRA",VLOOKUP($C34,[1]INFRA!$A$1:$E$843,2,0),(IF($B34="SINAPI",VLOOKUP($C34,[1]SINAPI!$A$1:$G$7498,2,0),(IF($B34="FDE",VLOOKUP($C34,[1]FDE!$A$1:$E$3179,2,0),(IF($B34="CDHU",VLOOKUP($C34,[1]CDHU!$A$1:$F$4132,2,0),(IF($B34="SIEC",VLOOKUP($C34,[1]SIEC!$A$1:$E$4166,2,0),(IF($B34="DER",VLOOKUP($C34,[1]DER!$A$1:$D$2157,2,0),(IF($B34="SICRO",VLOOKUP($C34,[1]SICRO!$A$1:$E$6354,2,0))))))))))))))))) -> PLACA DE OBRA EM CHAPA DE AÇO GALVANIZADO | I34: =UPPER(IF($B34="EDIF",VLOOKUP($C34,[1]EDIF!$A$1:$E$2656,3,0),(IF($B34="INFRA",VLOOKUP($C34,[1]INFRA!$A$1:$E$843,3,0),(IF($B34="SINAPI",VLOOKUP($C34,[1]SINAPI!$A$1:$G$7498,3,0),(IF($B34="FDE",VLOOKUP($C34,[1]FDE!$A$1:$E$3179,3,0),(IF($B34="CDHU",VLOOKUP($C34,[1]CDHU!$A$1:$F$4132,3,0),(IF($B34="SIEC",VLOOKUP($C34,[1]SIEC!$A$1:$E$4166,3,0),(IF($B34="DER",VLOOKUP($C34,[1]DER!$A$1:$D$2157,3,0),(IF($B34="SICRO",VLOOKUP($C34,[1]SICRO!$A$1:$E$6354,3,0))))))))))))))))) -> M2 | J34: 3 | K34: 391.58 | L34: =ROUND(J34*K34,2) -> 1174.74
B36: INFRA | C36: 62302 | D36: =UPPER(IF($B36="EDIF",VLOOKUP($C36,[1]EDIF!$A$1:$E$2656,2,0),(IF($B36="INFRA",VLOOKUP($C36,[1]INFRA!$A$1:$E$843,2,0),(IF($B36="SINAPI",VLOOKUP($C36,[1]SINAPI!$A$1:$G$7498,2,0),(IF($B36="FDE",VLOOKUP($C36,[1]FDE!$A$1:$E$3179,2,0),(IF($B36="CDHU",VLOOKUP($C36,[1]CDHU!$A$1:$F$4132,2,0),(IF($B36="SIEC",VLOOKUP($C36,[1]SIEC!$A$1:$E$4166,2,0),(IF($B36="DER",VLOOKUP($C36,[1]DER!$A$1:$D$2157,2,0),(IF($B36="SICRO",VLOOKUP($C36,[1]SICRO!$A$1:$E$6354,2,0))))))))))))))))) -> REFORMA DE BOCA DE LOBO DUPLA | I36: =UPPER(IF($B36="EDIF",VLOOKUP($C36,[1]EDIF!$A$1:$E$2656,3,0),(IF($B36="INFRA",VLOOKUP($C36,[1]INFRA!$A$1:$E$843,3,0),(IF($B36="SINAPI",VLOOKUP($C36,[1]SINAPI!$A$1:$G$7498,3,0),(IF($B36="FDE",VLOOKUP($C36,[1]FDE!$A$1:$E$3179,3,0),(IF($B36="CDHU",VLOOKUP($C36,[1]CDHU!$A$1:$F$4132,3,0),(IF($B36="SIEC",VLOOKUP($C36,[1]SIEC!$A$1:$E$4166,3,0),(IF($B36="DER",VLOOKUP($C36,[1]DER!$A$1:$D$2157,3,0),(IF($B36="SICRO",VLOOKUP($C36,[1]SICRO!$A$1:$E$6354,3,0))))))))))))))))) -> UN | J36: 1 | K36: 1080.42 | L36: =ROUND(J36*K36,2) -> 1080.42 | M36: =C36 -> 62302 | N36: =UPPER(IF($B36="EDIF",VLOOKUP($C36,[1]EDIF!$A$1:$E$2656,5,0),(IF($B36="INFRA",VLOOKUP($C36,[1]INFRA!$A$1:$E$843,5,0),(IF($B36="SINAPI",VLOOKUP($C36,[1]SINAPI!$A$1:$G$7498,7,0),(IF($B36="FDE",VLOOKUP($C36,[1]FDE!$A$1:$E$3179,5,0),(IF($B36="CDHU",VLOOKUP($C36,[1]CDHU!$A$1:$G$4132,7,0),(IF($B36="SIEC",VLOOKUP($C36,[1]SIEC!$A$1:$E$4166,5,0),(IF($B36="DER",VLOOKUP($C36,[1]DER!$A$1:$D$2157,5,0),(IF($B36="SICRO",VLOOKUP($C36,[1]SICRO!$A$1:$E$6354,5,0))))))))))))))))) -> INFRA JUL/23
C37: - | D37: R. TOMIO | L37: =ROUND(J37*K37,2) -> 0
B38: EDIF | C38: 80276 | D38: =UPPER(IF($B38="EDIF",VLOOKUP($C38,[1]EDIF!$A$1:$E$2656,2,0),(IF($B38="INFRA",VLOOKUP($C38,[1]INFRA!$A$1:$E$843,2,0),(IF($B38="SINAPI",VLOOKUP($C38,[1]SINAPI!$A$1:$G$7498,2,0),(IF($B38="FDE",VLOOKUP($C38,[1]FDE!$A$1:$E$3179,2,0),(IF($B38="CDHU",VLOOKUP($C38,[1]CDHU!$A$1:$F$4132,2,0),(IF($B38="SIEC",VLOOKUP($C38,[1]SIEC!$A$1:$E$4166,2,0),(IF($B38="DER",VLOOKUP($C38,[1]DER!$A$1:$D$2157,2,0),(IF($B38="SICRO",VLOOKUP($C38,[1]SICRO!$A$1:$E$6354,2,0))))))))))))))))) -> GRADE DE PROTEÇÃO EM FERRO GALVANIZADO ELETROFUNDIDO - BARRA 25X2MM, MALHA 65X132MM | I38: =UPPER(IF($B38="EDIF",VLOOKUP($C38,[1]EDIF!$A$1:$E$2656,3,0),(IF($B38="INFRA",VLOOKUP($C38,[1]INFRA!$A$1:$E$843,3,0),(IF($B38="SINAPI",VLOOKUP($C38,[1]SINAPI!$A$1:$G$7498,3,0),(IF($B38="FDE",VLOOKUP($C38,[1]FDE!$A$1:$E$3179,3,0),(IF($B38="CDHU",VLOOKUP($C38,[1]CDHU!$A$1:$F$4132,3,0),(IF($B38="SIEC",VLOOKUP($C38,[1]SIEC!$A$1:$E$4166,3,0),(IF($B38="DER",VLOOKUP($C38,[1]DER!$A$1:$D$2157,3,0),(IF($B38="SICRO",VLOOKUP($C38,[1]SICRO!$A$1:$E$6354,3,0))))))))))))))))) -> M2 | J38: 3.36 | K38: 282.01 | L38: =ROUND(J38*K38,2) -> 947.55
D39: ESPAÇAMENTOS REDUZIDOS PARA 32X62MM - 1,20*1,40=1,680*2 = 3,36 | L39: =ROUND(J39*K39,2) -> 0
B40: CDHU | C40: 29.01.210 | D40: =UPPER(IF($B40="EDIF",VLOOKUP($C40,[1]EDIF!$A$1:$E$2656,2,0),(IF($B40="INFRA",VLOOKUP($C40,[1]INFRA!$A$1:$E$843,2,0),(IF($B40="SINAPI",VLOOKUP($C40,[1]SINAPI!$A$1:$G$7498,2,0),(IF($B40="FDE",VLOOKUP($C40,[1]FDE!$A$1:$E$3179,2,0),(IF($B40="CDHU",VLOOKUP($C40,[1]CDHU!$A$1:$F$4132,2,0),(IF($B40="SIEC",VLOOKUP($C40,[1]SIEC!$A$1:$E$4166,2,0),(IF($B40="DER",VLOOKUP($C40,[1]DER!$A$1:$D$2157,2,0),(IF($B40="SICRO",VLOOKUP($C40,[1]SICRO!$A$1:$E$6354,2,0))))))))))))))))) -> CANTONEIRA EM AÇO GALVANIZADO | I40: =UPPER(IF($B40="EDIF",VLOOKUP($C40,[1]EDIF!$A$1:$E$2656,3,0),(IF($B40="INFRA",VLOOKUP($C40,[1]INFRA!$A$1:$E$843,3,0),(IF($B40="SINAPI",VLOOKUP($C40,[1]SINAPI!$A$1:$G$7498,3,0),(IF($B40="FDE",VLOOKUP($C40,[1]FDE!$A$1:$E$3179,3,0),(IF($B40="CDHU",VLOOKUP($C40,[1]CDHU!$A$1:$F$4132,3,0),(IF($B40="SIEC",VLOOKUP($C40,[1]SIEC!$A$1:$E$4166,3,0),(IF($B40="DER",VLOOKUP($C40,[1]DER!$A$1:$D$2157,3,0),(IF($B40="SICRO",VLOOKUP($C40,[1]SICRO!$A$1:$E$6354,3,0))))))))))))))))) -> KG | J40: 18 | K40: 29.08 | L40: =ROUND(J40*K40,2) -> 523.44
D41: CANTONEIRA 1'X 1'ABAS IGUAIS -1,20*2=2,40+1,40*2=2,80 = 5,20*2 =10,40M *1,73 =18,00KG
D42: RUA: RYOSHIN HASEGAWA -PROX AO Nº122
B43: INFRA | C43: 101603 | D43: =UPPER(IF($B43="EDIF",VLOOKUP($C43,[1]EDIF!$A$1:$E$2656,2,0),(IF($B43="INFRA",VLOOKUP($C43,[1]INFRA!$A$1:$E$843,2,0),(IF($B43="SINAPI",VLOOKUP($C43,[1]SINAPI!$A$1:$G$7498,2,0),(IF($B43="FDE",VLOOKUP($C43,[1]FDE!$A$1:$E$3179,2,0),(IF($B43="CDHU",VLOOKUP($C43,[1]CDHU!$A$1:$F$4132,2,0),(IF($B43="SIEC",VLOOKUP($C43,[1]SIEC!$A$1:$E$4166,2,0),(IF($B43="DER",VLOOKUP($C43,[1]DER!$A$1:$D$2157,2,0),(IF($B43="SICRO",VLOOKUP($C43,[1]SICRO!$A$1:$E$6354,2,0))))))))))))))))) -> PLACA DE OBRA EM CHAPA DE AÇO GALVANIZADO | I43: =UPPER(IF($B43="EDIF",VLOOKUP($C43,[1]EDIF!$A$1:$E$2656,3,0),(IF($B43="INFRA",VLOOKUP($C43,[1]INFRA!$A$1:$E$843,3,0),(IF($B43="SINAPI",VLOOKUP($C43,[1]SINAPI!$A$1:$G$7498,3,0),(IF($B43="FDE",VLOOKUP($C43,[1]FDE!$A$1:$E$3179,3,0),(IF($B43="CDHU",VLOOKUP($C43,[1]CDHU!$A$1:$F$4132,3,0),(IF($B43="SIEC",VLOOKUP($C43,[1]SIEC!$A$1:$E$4166,3,0),(IF($B43="DER",VLOOKUP($C43,[1]DER!$A$1:$D$2157,3,0),(IF($B43="SICRO",VLOOKUP($C43,[1]SICRO!$A$1:$E$6354,3,0))))))))))))))))) -> M2 | J43: 3 | K43: 391.58 | L43: =ROUND(J43*K43,2) -> 1174.74
B44: INFRA | C44: 50300 | D44: =UPPER(IF($B44="EDIF",VLOOKUP($C44,[1]EDIF!$A$1:$E$2656,2,0),(IF($B44="INFRA",VLOOKUP($C44,[1]INFRA!$A$1:$E$843,2,0),(IF($B44="SINAPI",VLOOKUP($C44,[1]SINAPI!$A$1:$G$7498,2,0),(IF($B44="FDE",VLOOKUP($C44,[1]FDE!$A$1:$E$3179,2,0),(IF($B44="CDHU",VLOOKUP($C44,[1]CDHU!$A$1:$F$4132,2,0),(IF($B44="SIEC",VLOOKUP($C44,[1]SIEC!$A$1:$E$4166,2,0),(IF($B44="DER",VLOOKUP($C44,[1]DER!$A$1:$D$2157,2,0),(IF($B44="SICRO",VLOOKUP($C44,[1]SICRO!$A$1:$E$6354,2,0))))))))))))))))) -> DEMOLIÇÃO DE PAVIMENTO DE CONCRETO, SARJETA OU SARJETÃO, INCLUI CARGA EM CAMINHÃO | I44: =UPPER(IF($B44="EDIF",VLOOKUP($C44,[1]EDIF!$A$1:$E$2656,3,0),(IF($B44="INFRA",VLOOKUP($C44,[1]INFRA!$A$1:$E$843,3,0),(IF($B44="SINAPI",VLOOKUP($C44,[1]SINAPI!$A$1:$G$7498,3,0),(IF($B44="FDE",VLOOKUP($C44,[1]FDE!$A$1:$E$3179,3,0),(IF($B44="CDHU",VLOOKUP($C44,[1]CDHU!$A$1:$F$4132,3,0),(IF($B44="SIEC",VLOOKUP($C44,[1]SIEC!$A$1:$E$4166,3,0),(IF($B44="DER",VLOOKUP($C44,[1]DER!$A$1:$D$2157,3,0),(IF($B44="SICRO",VLOOKUP($C44,[1]SICRO!$A$1:$E$6354,3,0))))))))))))))))) -> M2 | J44: 73.7 | K44: 27.67 | L44: =ROUND(J44*K44,2) -> 2039.28
D45: 8*0,90=7,20m2 + 9,50*7,00=66,50 -- 66,50+7,20 = 73,70
B46: EDIF | C46: 10106 | D46: =UPPER(IF($B46="EDIF",VLOOKUP($C46,[1]EDIF!$A$1:$E$2656,2,0),(IF($B46="INFRA",VLOOKUP($C46,[1]INFRA!$A$1:$E$843,2,0),(IF($B46="SINAPI",VLOOKUP($C46,[1]SINAPI!$A$1:$G$7498,2,0),(IF($B46="FDE",VLOOKUP($C46,[1]FDE!$A$1:$E$3179,2,0),(IF($B46="CDHU",VLOOKUP($C46,[1]CDHU!$A$1:$F$4132,2,0),(IF($B46="SIEC",VLOOKUP($C46,[1]SIEC!$A$1:$E$4166,2,0),(IF($B46="DER",VLOOKUP($C46,[1]DER!$A$1:$D$2157,2,0),(IF($B46="SICRO",VLOOKUP($C46,[1]SICRO!$A$1:$E$6354,2,0))))))))))))))))) -> CARGA MANUAL E REMOÇÃO DE ENTULHO, INCLUSIVE TRANSPORTE ATÉ 1 KM | I46: =UPPER(IF($B46="EDIF",VLOOKUP($C46,[1]EDIF!$A$1:$E$2656,3,0),(IF($B46="INFRA",VLOOKUP($C46,[1]INFRA!$A$1:$E$843,3,0),(IF($B46="SINAPI",VLOOKUP($C46,[1]SINAPI!$A$1:$G$7498,3,0),(IF($B46="FDE",VLOOKUP($C46,[1]FDE!$A$1:$E$3179,3,0),(IF($B46="CDHU",VLOOKUP($C46,[1]CDHU!$A$1:$F$4132,3,0),(IF($B46="SIEC",VLOOKUP($C46,[1]SIEC!$A$1:$E$4166,3,0),(IF($B46="DER",VLOOKUP($C46,[1]DER!$A$1:$D$2157,3,0),(IF($B46="SICRO",VLOOKUP($C46,[1]SICRO!$A$1:$E$6354,3,0))))))))))))))))) -> M3 | J46: 16.6 | K46: 51.66 | L46: =ROUND(J46*K46,2) -> 857.56
D47: 73,70*0,20=14,74+31,00*0,15*0,40=1,86 | L47: =ROUND(J47*K47,2) -> 0
B48: EDIF | C48: 10110 | D48: =UPPER(IF($B48="EDIF",VLOOKUP($C48,[1]EDIF!$A$1:$E$2656,2,0),(IF($B48="INFRA",VLOOKUP($C48,[1]INFRA!$A$1:$E$843,2,0),(IF($B48="SINAPI",VLOOKUP($C48,[1]SINAPI!$A$1:$G$7498,2,0),(IF($B48="FDE",VLOOKUP($C48,[1]FDE!$A$1:$E$3179,2,0),(IF($B48="CDHU",VLOOKUP($C48,[1]CDHU!$A$1:$F$4132,2,0),(IF($B48="SIEC",VLOOKUP($C48,[1]SIEC!$A$1:$E$4166,2,0),(IF($B48="DER",VLOOKUP($C48,[1]DER!$A$1:$D$2157,2,0),(IF($B48="SICRO",VLOOKUP($C48,[1]SICRO!$A$1:$E$6354,2,0))))))))))))))))) -> TRANSPORTE DE ENTULHO POR CAMINHÃO BASCULANTE, A PARTIR DE 1KM | I48: =UPPER(IF($B48="EDIF",VLOOKUP($C48,[1]EDIF!$A$1:$E$2656,3,0),(IF($B48="INFRA",VLOOKUP($C48,[1]INFRA!$A$1:$E$843,3,0),(IF($B48="SINAPI",VLOOKUP($C48,[1]SINAPI!$A$1:$G$7498,3,0),(IF($B48="FDE",VLOOKUP($C48,[1]FDE!$A$1:$E$3179,3,0),(IF($B48="CDHU",VLOOKUP($C48,[1]CDHU!$A$1:$F$4132,3,0),(IF($B48="SIEC",VLOOKUP($C48,[1]SIEC!$A$1:$E$4166,3,0),(IF($B48="DER",VLOOKUP($C48,[1]DER!$A$1:$D$2157,3,0),(IF($B48="SICRO",VLOOKUP($C48,[1]SICRO!$A$1:$E$6354,3,0))))))))))))))))) -> M3XKM | J48: 294.8 | K48: 1.66 | L48: =ROUND(J48*K48,2) -> 489.37
D49: 14,74*20=294,80
B50: EDIF | C50: 175045 | D50: =UPPER(IF($B50="EDIF",VLOOKUP($C50,[1]EDIF!$A$1:$E$2656,2,0),(IF($B50="INFRA",VLOOKUP($C50,[1]INFRA!$A$1:$E$843,2,0),(IF($B50="SINAPI",VLOOKUP($C50,[1]SINAPI!$A$1:$G$7498,2,0),(IF($B50="FDE",VLOOKUP($C50,[1]FDE!$A$1:$E$3179,2,0),(IF($B50="CDHU",VLOOKUP($C50,[1]CDHU!$A$1:$F$4132,2,0),(IF($B50="SIEC",VLOOKUP($C50,[1]SIEC!$A$1:$E$4166,2,0),(IF($B50="DER",VLOOKUP($C50,[1]DER!$A$1:$D$2157,2,0),(IF($B50="SICRO",VLOOKUP($C50,[1]SICRO!$A$1:$E$6354,2,0))))))))))))))))) -> DEMOLIÇÃO DE GUIAS DE CONCRETO | I50: =UPPER(IF($B50="EDIF",VLOOKUP($C50,[1]EDIF!$A$1:$E$2656,3,0),(IF($B50="INFRA",VLOOKUP($C50,[1]INFRA!$A$1:$E$843,3,0),(IF($B50="SINAPI",VLOOKUP($C50,[1]SINAPI!$A$1:$G$7498,3,0),(IF($B50="FDE",VLOOKUP($C50,[1]FDE!$A$1:$E$3179,3,0),(IF($B50="CDHU",VLOOKUP($C50,[1]CDHU!$A$1:$F$4132,3,0),(IF($B50="SIEC",VLOOKUP($C50,[1]SIEC!$A$1:$E$4166,3,0),(IF($B50="DER",VLOOKUP($C50,[1]DER!$A$1:$D$2157,3,0),(IF($B50="SICRO",VLOOKUP($C50,[1]SICRO!$A$1:$E$6354,3,0))))))))))))))))) -> M | J50: 31 | K50: 9.64 | L50: =ROUND(J50*K50,2) -> 298.84
D51: 12+7+12 | L51: =ROUND(J51*K51,2) -> 0
B52: INFRA | C52: 62203 | D52: =UPPER(IF($B52="EDIF",VLOOKUP($C52,[1]EDIF!$A$1:$E$2656,2,0),(IF($B52="INFRA",VLOOKUP($C52,[1]INFRA!$A$1:$E$843,2,0),(IF($B52="SINAPI",VLOOKUP($C52,[1]SINAPI!$A$1:$G$7498,2,0),(IF($B52="FDE",VLOOKUP($C52,[1]FDE!$A$1:$E$3179,2,0),(IF($B52="CDHU",VLOOKUP($C52,[1]CDHU!$A$1:$F$4132,2,0),(IF($B52="SIEC",VLOOKUP($C52,[1]SIEC!$A$1:$E$4166,2,0),(IF($B52="DER",VLOOKUP($C52,[1]DER!$A$1:$D$2157,2,0),(IF($B52="SICRO",VLOOKUP($C52,[1]SICRO!$A$1:$E$6354,2,0))))))))))))))))) -> BOCA DE LOBO SIMPLES | I52: =UPPER(IF($B52="EDIF",VLOOKUP($C52,[1]EDIF!$A$1:$E$2656,3,0),(IF($B52="INFRA",VLOOKUP($C52,[1]INFRA!$A$1:$E$843,3,0),(IF($B52="SINAPI",VLOOKUP($C52,[1]SINAPI!$A$1:$G$7498,3,0),(IF($B52="FDE",VLOOKUP($C52,[1]FDE!$A$1:$E$3179,3,0),(IF($B52="CDHU",VLOOKUP($C52,[1]CDHU!$A$1:$F$4132,3,0),(IF($B52="SIEC",VLOOKUP($C52,[1]SIEC!$A$1:$E$4166,3,0),(IF($B52="DER",VLOOKUP($C52,[1]DER!$A$1:$D$2157,3,0),(IF($B52="SICRO",VLOOKUP($C52,[1]SICRO!$A$1:$E$6354,3,0))))))))))))))))) -> UN | J52: 1 | K52: 2364.64 | L52: =ROUND(J52*K52,2) -> 2364.64
B54: EDIF | C54: 170252 | D54: =UPPER(IF($B54="EDIF",VLOOKUP($C54,[1]EDIF!$A$1:$E$2656,2,0),(IF($B54="INFRA",VLOOKUP($C54,[1]INFRA!$A$1:$E$843,2,0),(IF($B54="SINAPI",VLOOKUP($C54,[1]SINAPI!$A$1:$G$7498,2,0),(IF($B54="FDE",VLOOKUP($C54,[1]FDE!$A$1:$E$3179,2,0),(IF($B54="CDHU",VLOOKUP($C54,[1]CDHU!$A$1:$F$4132,2,0),(IF($B54="SIEC",VLOOKUP($C54,[1]SIEC!$A$1:$E$4166,2,0),(IF($B54="DER",VLOOKUP($C54,[1]DER!$A$1:$D$2157,2,0),(IF($B54="SICRO",VLOOKUP($C54,[1]SICRO!$A$1:$E$6354,2,0))))))))))))))))) -> SARJETA DE CONCRETO, INCLUSIVE PREPARO DE CAIXA | I54: =UPPER(IF($B54="EDIF",VLOOKUP($C54,[1]EDIF!$A$1:$E$2656,3,0),(IF($B54="INFRA",VLOOKUP($C54,[1]INFRA!$A$1:$E$843,3,0),(IF($B54="SINAPI",VLOOKUP($C54,[1]SINAPI!$A$1:$G$7498,3,0),(IF($B54="FDE",VLOOKUP($C54,[1]FDE!$A$1:$E$3179,3,0),(IF($B54="CDHU",VLOOKUP($C54,[1]CDHU!$A$1:$F$4132,3,0),(IF($B54="SIEC",VLOOKUP($C54,[1]SIEC!$A$1:$E$4166,3,0),(IF($B54="DER",VLOOKUP($C54,[1]DER!$A$1:$D$2157,3,0),(IF($B54="SICRO",VLOOKUP($C54,[1]SICRO!$A$1:$E$6354,3,0))))))))))))))))) -> M3 | J54: 2.94 | K54: 783.96 | L54: =ROUND(J54*K54,2) -> 2304.84
D55: 31*0,40*0,15=1,86 + 8*0,90*0,15=1,08=2,94m3
B56: EDIF | C56: 170250 | D56: =UPPER(IF($B56="EDIF",VLOOKUP($C56,[1]EDIF!$A$1:$E$2656,2,0),(IF($B56="INFRA",VLOOKUP($C56,[1]INFRA!$A$1:$E$843,2,0),(IF($B56="SINAPI",VLOOKUP($C56,[1]SINAPI!$A$1:$G$7498,2,0),(IF($B56="FDE",VLOOKUP($C56,[1]FDE!$A$1:$E$3179,2,0),(IF($B56="CDHU",VLOOKUP($C56,[1]CDHU!$A$1:$F$4132,2,0),(IF($B56="SIEC",VLOOKUP($C56,[1]SIEC!$A$1:$E$4166,2,0),(IF($B56="DER",VLOOKUP($C56,[1]DER!$A$1:$D$2157,2,0),(IF($B56="SICRO",VLOOKUP($C56,[1]SICRO!$A$1:$E$6354,2,0))))))))))))))))) -> GUIA DE CONCRETO RETA OU CURVA, TIPO PMSP | I56: =UPPER(IF($B56="EDIF",VLOOKUP($C56,[1]EDIF!$A$1:$E$2656,3,0),(IF($B56="INFRA",VLOOKUP($C56,[1]INFRA!$A$1:$E$843,3,0),(IF($B56="SINAPI",VLOOKUP($C56,[1]SINAPI!$A$1:$G$7498,3,0),(IF($B56="FDE",VLOOKUP($C56,[1]FDE!$A$1:$E$3179,3,0),(IF($B56="CDHU",VLOOKUP($C56,[1]CDHU!$A$1:$F$4132,3,0),(IF($B56="SIEC",VLOOKUP($C56,[1]SIEC!$A$1:$E$4166,3,0),(IF($B56="DER",VLOOKUP($C56,[1]DER!$A$1:$D$2157,3,0),(IF($B56="SICRO",VLOOKUP($C56,[1]SICRO!$A$1:$E$6354,3,0))))))))))))))))) -> M | J56: 31 | K56: 95.03 | L56: =ROUND(J56*K56,2) -> 2945.93
D57: 31 | L57: =ROUND(J57*K57,2) -> 0
B58: EDIF | C58: 170246 | D58: =UPPER(IF($B58="EDIF",VLOOKUP($C58,[1]EDIF!$A$1:$E$2656,2,0),(IF($B58="INFRA",VLOOKUP($C58,[1]INFRA!$A$1:$E$843,2,0),(IF($B58="SINAPI",VLOOKUP($C58,[1]SINAPI!$A$1:$G$7498,2,0),(IF($B58="FDE",VLOOKUP($C58,[1]FDE!$A$1:$E$3179,2,0),(IF($B58="CDHU",VLOOKUP($C58,[1]CDHU!$A$1:$F$4132,2,0),(IF($B58="SIEC",VLOOKUP($C58,[1]SIEC!$A$1:$E$4166,2,0),(IF($B58="DER",VLOOKUP($C58,[1]DER!$A$1:$D$2157,2,0),(IF($B58="SICRO",VLOOKUP($C58,[1]SICRO!$A$1:$E$6354,2,0))))))))))))))))) -> PISO/ PASSEIO DE CONCRETO, INCLUINDO O PREPARO DA CAIXA, LASTRO DE BRITA E A MÃO DE OBRA REFERENTE AOS SERVIÇOS NO CONCRETO: LANÇAMENTO E ACABAMENTO (RIPADO E DESEMPENADO) EXCLUSIVE O FORNECIMENTO DO CONCRETO | I58: =UPPER(IF($B58="EDIF",VLOOKUP($C58,[1]EDIF!$A$1:$E$2656,3,0),(IF($B58="INFRA",VLOOKUP($C58,[1]INFRA!$A$1:$E$843,3,0),(IF($B58="SINAPI",VLOOKUP($C58,[1]SINAPI!$A$1:$G$7498,3,0),(IF($B58="FDE",VLOOKUP($C58,[1]FDE!$A$1:$E$3179,3,0),(IF($B58="CDHU",VLOOKUP($C58,[1]CDHU!$A$1:$F$4132,3,0),(IF($B58="SIEC",VLOOKUP($C58,[1]SIEC!$A$1:$E$4166,3,0),(IF($B58="DER",VLOOKUP($C58,[1]DER!$A$1:$D$2157,3,0),(IF($B58="SICRO",VLOOKUP($C58,[1]SICRO!$A$1:$E$6354,3,0))))))))))))))))) -> M3 | J58: 6.77 | K58: 347.97 | L58: =ROUND(J58*K58,2) -> 2355.76
D59: 9,50*6,80*0,08=6,77
D60: RUA: PAPA JOÃO PAULO II - PROX TRAV R. JOSÉ PEREIRA X AV ALBINO F. FIG.X VIELA | L60: =ROUND(J60*K60,2) -> 0
B61: INFRA | C61: 101603 | D61: =UPPER(IF($B61="EDIF",VLOOKUP($C61,[1]EDIF!$A$1:$E$2656,2,0),(IF($B61="INFRA",VLOOKUP($C61,[1]INFRA!$A$1:$E$843,2,0),(IF($B61="SINAPI",VLOOKUP($C61,[1]SINAPI!$A$1:$G$7498,2,0),(IF($B61="FDE",VLOOKUP($C61,[1]FDE!$A$1:$E$3179,2,0),(IF($B61="CDHU",VLOOKUP($C61,[1]CDHU!$A$1:$F$4132,2,0),(IF($B61="SIEC",VLOOKUP($C61,[1]SIEC!$A$1:$E$4166,2,0),(IF($B61="DER",VLOOKUP($C61,[1]DER!$A$1:$D$2157,2,0),(IF($B61="SICRO",VLOOKUP($C61,[1]SICRO!$A$1:$E$6354,2,0))))))))))))))))) -> PLACA DE OBRA EM CHAPA DE AÇO GALVANIZADO | I61: =UPPER(IF($B61="EDIF",VLOOKUP($C61,[1]EDIF!$A$1:$E$2656,3,0),(IF($B61="INFRA",VLOOKUP($C61,[1]INFRA!$A$1:$E$843,3,0),(IF($B61="SINAPI",VLOOKUP($C61,[1]SINAPI!$A$1:$G$7498,3,0),(IF($B61="FDE",VLOOKUP($C61,[1]FDE!$A$1:$E$3179,3,0),(IF($B61="CDHU",VLOOKUP($C61,[1]CDHU!$A$1:$F$4132,3,0),(IF($B61="SIEC",VLOOKUP($C61,[1]SIEC!$A$1:$E$4166,3,0),(IF($B61="DER",VLOOKUP($C61,[1]DER!$A$1:$D$2157,3,0),(IF($B61="SICRO",VLOOKUP($C61,[1]SICRO!$A$1:$E$6354,3,0))))))))))))))))) -> M2 | J61: 3 | K61: 391.58 | L61: =ROUND(J61*K61,2) -> 1174.74
B62: CDHU | C62: 54.01.400 | D62: =UPPER(IF($B62="EDIF",VLOOKUP($C62,[1]EDIF!$A$1:$E$2656,2,0),(IF($B62="INFRA",VLOOKUP($C62,[1]INFRA!$A$1:$E$843,2,0),(IF($B62="SINAPI",VLOOKUP($C62,[1]SINAPI!$A$1:$G$7498,2,0),(IF($B62="FDE",VLOOKUP($C62,[1]FDE!$A$1:$E$3179,2,0),(IF($B62="CDHU",VLOOKUP($C62,[1]CDHU!$A$1:$F$4132,2,0),(IF($B62="SIEC",VLOOKUP($C62,[1]SIEC!$A$1:$E$4166,2,0),(IF($B62="DER",VLOOKUP($C62,[1]DER!$A$1:$D$2157,2,0),(IF($B62="SICRO",VLOOKUP($C62,[1]SICRO!$A$1:$E$6354,2,0))))))))))))))))) -> ABERTURA DE CAIXA ATÉ 25 CM, INCLUI ESCAVAÇÃO, COMPACTAÇÃO, TRANSPORTE E PREPARO DO SUB-LEITO | I62: =UPPER(IF($B62="EDIF",VLOOKUP($C62,[1]EDIF!$A$1:$E$2656,3,0),(IF($B62="INFRA",VLOOKUP($C62,[1]INFRA!$A$1:$E$843,3,0),(IF($B62="SINAPI",VLOOKUP($C62,[1]SINAPI!$A$1:$G$7498,3,0),(IF($B62="FDE",VLOOKUP($C62,[1]FDE!$A$1:$E$3179,3,0),(IF($B62="CDHU",VLOOKUP($C62,[1]CDHU!$A$1:$F$4132,3,0),(IF($B62="SIEC",VLOOKUP($C62,[1]SIEC!$A$1:$E$4166,3,0),(IF($B62="DER",VLOOKUP($C62,[1]DER!$A$1:$D$2157,3,0),(IF($B62="SICRO",VLOOKUP($C62,[1]SICRO!$A$1:$E$6354,3,0))))))))))))))))) -> M2 | J62: 8 | K62: 25.19 | L62: =ROUND(J62*K62,2) -> 201.52
D63: 8+6+6=20,00M*0,40=8,00M2
B64: CDHU | C64: 08.05.180 | D64: =UPPER(IF($B64="EDIF",VLOOKUP($C64,[1]EDIF!$A$1:$E$2656,2,0),(IF($B64="INFRA",VLOOKUP($C64,[1]INFRA!$A$1:$E$843,2,0),(IF($B64="SINAPI",VLOOKUP($C64,[1]SINAPI!$A$1:$G$7498,2,0),(IF($B64="FDE",VLOOKUP($C64,[1]FDE!$A$1:$E$3179,2,0),(IF($B64="CDHU",VLOOKUP($C64,[1]CDHU!$A$1:$F$4132,2,0),(IF($B64="SIEC",VLOOKUP($C64,[1]SIEC!$A$1:$E$4166,2,0),(IF($B64="DER",VLOOKUP($C64,[1]DER!$A$1:$D$2157,2,0),(IF($B64="SICRO",VLOOKUP($C64,[1]SICRO!$A$1:$E$6354,2,0))))))))))))))))) -> MANTA GEOTÊXTIL COM RESISTÊNCIA À TRAÇÃO LONGITUDINAL DE 10KN/M E TRANSVERSAL DE 9KN/M | I64: =UPPER(IF($B64="EDIF",VLOOKUP($C64,[1]EDIF!$A$1:$E$2656,3,0),(IF($B64="INFRA",VLOOKUP($C64,[1]INFRA!$A$1:$E$843,3,0),(IF($B64="SINAPI",VLOOKUP($C64,[1]SINAPI!$A$1:$G$7498,3,0),(IF($B64="FDE",VLOOKUP($C64,[1]FDE!$A$1:$E$3179,3,0),(IF($B64="CDHU",VLOOKUP($C64,[1]CDHU!$A$1:$F$4132,3,0),(IF($B64="SIEC",VLOOKUP($C64,[1]SIEC!$A$1:$E$4166,3,0),(IF($B64="DER",VLOOKUP($C64,[1]DER!$A$1:$D$2157,3,0),(IF($B64="SICRO",VLOOKUP($C64,[1]SICRO!$A$1:$E$6354,3,0))))))))))))))))) -> M2 | J64: 30 | K64: 18.37 | L64: =ROUND(J64*K64,2) -> 551.1
D65: 20*1,50=30,00
B66: CDHU | C66: 11.18.040 | D66: =UPPER(IF($B66="EDIF",VLOOKUP($C66,[1]EDIF!$A$1:$E$2656,2,0),(IF($B66="INFRA",VLOOKUP($C66,[1]INFRA!$A$1:$E$843,2,0),(IF($B66="SINAPI",VLOOKUP($C66,[1]SINAPI!$A$1:$G$7498,2,0),(IF($B66="FDE",VLOOKUP($C66,[1]FDE!$A$1:$E$3179,2,0),(IF($B66="CDHU",VLOOKUP($C66,[1]CDHU!$A$1:$F$4132,2,0),(IF($B66="SIEC",VLOOKUP($C66,[1]SIEC!$A$1:$E$4166,2,0),(IF($B66="DER",VLOOKUP($C66,[1]DER!$A$1:$D$2157,2,0),(IF($B66="SICRO",VLOOKUP($C66,[1]SICRO!$A$1:$E$6354,2,0))))))))))))))))) -> LASTRO DE PEDRA BRITADA | I66: =UPPER(IF($B66="EDIF",VLOOKUP($C66,[1]EDIF!$A$1:$E$2656,3,0),(IF($B66="INFRA",VLOOKUP($C66,[1]INFRA!$A$1:$E$843,3,0),(IF($B66="SINAPI",VLOOKUP($C66,[1]SINAPI!$A$1:$G$7498,3,0),(IF($B66="FDE",VLOOKUP($C66,[1]FDE!$A$1:$E$3179,3,0),(IF($B66="CDHU",VLOOKUP($C66,[1]CDHU!$A$1:$F$4132,3,0),(IF($B66="SIEC",VLOOKUP($C66,[1]SIEC!$A$1:$E$4166,3,0),(IF($B66="DER",VLOOKUP($C66,[1]DER!$A$1:$D$2157,3,0),(IF($B66="SICRO",VLOOKUP($C66,[1]SICRO!$A$1:$E$6354,3,0))))))))))))))))) -> M3 | J66: 2 | K66: 206.94 | L66: =ROUND(J66*K66,2) -> 413.88
D67: 20*0,40*0,25=2,00M3
B68: INFRA | C68: 62203 | D68: =UPPER(IF($B68="EDIF",VLOOKUP($C68,[1]EDIF!$A$1:$E$2656,2,0),(IF($B68="INFRA",VLOOKUP($C68,[1]INFRA!$A$1:$E$843,2,0),(IF($B68="SINAPI",VLOOKUP($C68,[1]SINAPI!$A$1:$G$7498,2,0),(IF($B68="FDE",VLOOKUP($C68,[1]FDE!$A$1:$E$3179,2,0),(IF($B68="CDHU",VLOOKUP($C68,[1]CDHU!$A$1:$F$4132,2,0),(IF($B68="SIEC",VLOOKUP($C68,[1]SIEC!$A$1:$E$4166,2,0),(IF($B68="DER",VLOOKUP($C68,[1]DER!$A$1:$D$2157,2,0),(IF($B68="SICRO",VLOOKUP($C68,[1]SICRO!$A$1:$E$6354,2,0))))))))))))))))) -> BOCA DE LOBO SIMPLES | I68: =UPPER(IF($B68="EDIF",VLOOKUP($C68,[1]EDIF!$A$1:$E$2656,3,0),(IF($B68="INFRA",VLOOKUP($C68,[1]INFRA!$A$1:$E$843,3,0),(IF($B68="SINAPI",VLOOKUP($C68,[1]SINAPI!$A$1:$G$7498,3,0),(IF($B68="FDE",VLOOKUP($C68,[1]FDE!$A$1:$E$3179,3,0),(IF($B68="CDHU",VLOOKUP($C68,[1]CDHU!$A$1:$F$4132,3,0),(IF($B68="SIEC",VLOOKUP($C68,[1]SIEC!$A$1:$E$4166,3,0),(IF($B68="DER",VLOOKUP($C68,[1]DER!$A$1:$D$2157,3,0),(IF($B68="SICRO",VLOOKUP($C68,[1]SICRO!$A$1:$E$6354,3,0))))))))))))))))) -> UN | J68: 1 | K68: 2364.64 | L68: =ROUND(J68*K68,2) -> 2364.64
B70: INFRA | C70: 62204 | D70: =UPPER(IF($B70="EDIF",VLOOKUP($C70,[1]EDIF!$A$1:$E$2656,2,0),(IF($B70="INFRA",VLOOKUP($C70,[1]INFRA!$A$1:$E$843,2,0),(IF($B70="SINAPI",VLOOKUP($C70,[1]SINAPI!$A$1:$G$7498,2,0),(IF($B70="FDE",VLOOKUP($C70,[1]FDE!$A$1:$E$3179,2,0),(IF($B70="CDHU",VLOOKUP($C70,[1]CDHU!$A$1:$F$4132,2,0),(IF($B70="SIEC",VLOOKUP($C70,[1]SIEC!$A$1:$E$4166,2,0),(IF($B70="DER",VLOOKUP($C70,[1]DER!$A$1:$D$2157,2,0),(IF($B70="SICRO",VLOOKUP($C70,[1]SICRO!$A$1:$E$6354,2,0))))))))))))))))) -> BOCA DE LOBO DUPLA | I70: =UPPER(IF($B70="EDIF",VLOOKUP($C70,[1]EDIF!$A$1:$E$2656,3,0),(IF($B70="INFRA",VLOOKUP($C70,[1]INFRA!$A$1:$E$843,3,0),(IF($B70="SINAPI",VLOOKUP($C70,[1]SINAPI!$A$1:$G$7498,3,0),(IF($B70="FDE",VLOOKUP($C70,[1]FDE!$A$1:$E$3179,3,0),(IF($B70="CDHU",VLOOKUP($C70,[1]CDHU!$A$1:$F$4132,3,0),(IF($B70="SIEC",VLOOKUP($C70,[1]SIEC!$A$1:$E$4166,3,0),(IF($B70="DER",VLOOKUP($C70,[1]DER!$A$1:$D$2157,3,0),(IF($B70="SICRO",VLOOKUP($C70,[1]SICRO!$A$1:$E$6354,3,0))))))))))))))))) -> UN | J70: 1 | K70: 4218.81 | L70: =ROUND(J70*K70,2) -> 4218.81
B71: INFRA | C71: 62305 | D71: =UPPER(IF($B71="EDIF",VLOOKUP($C71,[1]EDIF!$A$1:$E$2656,2,0),(IF($B71="INFRA",VLOOKUP($C71,[1]INFRA!$A$1:$E$843,2,0),(IF($B71="SINAPI",VLOOKUP($C71,[1]SINAPI!$A$1:$G$7498,2,0),(IF($B71="FDE",VLOOKUP($C71,[1]FDE!$A$1:$E$3179,2,0),(IF($B71="CDHU",VLOOKUP($C71,[1]CDHU!$A$1:$F$4132,2,0),(IF($B71="SIEC",VLOOKUP($C71,[1]SIEC!$A$1:$E$4166,2,0),(IF($B71="DER",VLOOKUP($C71,[1]DER!$A$1:$D$2157,2,0),(IF($B71="SICRO",VLOOKUP($C71,[1]SICRO!$A$1:$E$6354,2,0))))))))))))))))) -> SUBSTITUIÇÃO DE TAMPA DE CONCRETO PARA BOCA DE LOBO | I71: =UPPER(IF($B71="EDIF",VLOOKUP($C71,[1]EDIF!$A$1:$E$2656,3,0),(IF($B71="INFRA",VLOOKUP($C71,[1]INFRA!$A$1:$E$843,3,0),(IF($B71="SINAPI",VLOOKUP($C71,[1]SINAPI!$A$1:$G$7498,3,0),(IF($B71="FDE",VLOOKUP($C71,[1]FDE!$A$1:$E$3179,3,0),(IF($B71="CDHU",VLOOKUP($C71,[1]CDHU!$A$1:$F$4132,3,0),(IF($B71="SIEC",VLOOKUP($C71,[1]SIEC!$A$1:$E$4166,3,0),(IF($B71="DER",VLOOKUP($C71,[1]DER!$A$1:$D$2157,3,0),(IF($B71="SICRO",VLOOKUP($C71,[1]SICRO!$A$1:$E$6354,3,0))))))))))))))))) -> UN | J71: 2 | K71: 351.98 | L71: =ROUND(J71*K71,2) -> 703.96
B73: INFRA | C73: 54200 | D73: =UPPER(IF($B73="EDIF",VLOOKUP($C73,[1]EDIF!$A$1:$E$2656,2,0),(IF($B73="INFRA",VLOOKUP($C73,[1]INFRA!$A$1:$E$843,2,0),(IF($B73="SINAPI",VLOOKUP($C73,[1]SINAPI!$A$1:$G$7498,2,0),(IF($B73="FDE",VLOOKUP($C73,[1]FDE!$A$1:$E$3179,2,0),(IF($B73="CDHU",VLOOKUP($C73,[1]CDHU!$A$1:$F$4132,2,0),(IF($B73="SIEC",VLOOKUP($C73,[1]SIEC!$A$1:$E$4166,2,0),(IF($B73="DER",VLOOKUP($C73,[1]DER!$A$1:$D$2157,2,0),(IF($B73="SICRO",VLOOKUP($C73,[1]SICRO!$A$1:$E$6354,2,0))))))))))))))))) -> PASSEIO DE CONCRETO FCK=15,0MPA, INCLUSIVE PREPARO DE CAIXA E LASTRO DE BRITA | I73: =UPPER(IF($B73="EDIF",VLOOKUP($C73,[1]EDIF!$A$1:$E$2656,3,0),(IF($B73="INFRA",VLOOKUP($C73,[1]INFRA!$A$1:$E$843,3,0),(IF($B73="SINAPI",VLOOKUP($C73,[1]SINAPI!$A$1:$G$7498,3,0),(IF($B73="FDE",VLOOKUP($C73,[1]FDE!$A$1:$E$3179,3,0),(IF($B73="CDHU",VLOOKUP($C73,[1]CDHU!$A$1:$F$4132,3,0),(IF($B73="SIEC",VLOOKUP($C73,[1]SIEC!$A$1:$E$4166,3,0),(IF($B73="DER",VLOOKUP($C73,[1]DER!$A$1:$D$2157,3,0),(IF($B73="SICRO",VLOOKUP($C73,[1]SICRO!$A$1:$E$6354,3,0))))))))))))))))) -> M3 | J73: 18.33 | K73: 799.15 | L73: =ROUND(J73*K73,2) -> 14648.42
D74: 3*2=6M2 *0,08=0,48 + 5*1,50=7,50*0,08=0,60
D75: 149+2+144+22+8+20=345m*1,00*0,05=17,25+1,08=18,33
B76: INFRA | C76: 50400 | D76: =UPPER(IF($B76="EDIF",VLOOKUP($C76,[1]EDIF!$A$1:$E$2656,2,0),(IF($B76="INFRA",VLOOKUP($C76,[1]INFRA!$A$1:$E$843,2,0),(IF($B76="SINAPI",VLOOKUP($C76,[1]SINAPI!$A$1:$G$7498,2,0),(IF($B76="FDE",VLOOKUP($C76,[1]FDE!$A$1:$E$3179,2,0),(IF($B76="CDHU",VLOOKUP($C76,[1]CDHU!$A$1:$F$4132,2,0),(IF($B76="SIEC",VLOOKUP($C76,[1]SIEC!$A$1:$E$4166,2,0),(IF($B76="DER",VLOOKUP($C76,[1]DER!$A$1:$D$2157,2,0),(IF($B76="SICRO",VLOOKUP($C76,[1]SICRO!$A$1:$E$6354,2,0))))))))))))))))) -> DEMOLIÇÃO DE PAVIMENTO ASFÁLTICO, INCLUSIVE CAPA, INCLUI CARGA NO CAMINHÃO | I76: =UPPER(IF($B76="EDIF",VLOOKUP($C76,[1]EDIF!$A$1:$E$2656,3,0),(IF($B76="INFRA",VLOOKUP($C76,[1]INFRA!$A$1:$E$843,3,0),(IF($B76="SINAPI",VLOOKUP($C76,[1]SINAPI!$A$1:$G$7498,3,0),(IF($B76="FDE",VLOOKUP($C76,[1]FDE!$A$1:$E$3179,3,0),(IF($B76="CDHU",VLOOKUP($C76,[1]CDHU!$A$1:$F$4132,3,0),(IF($B76="SIEC",VLOOKUP($C76,[1]SIEC!$A$1:$E$4166,3,0),(IF($B76="DER",VLOOKUP($C76,[1]DER!$A$1:$D$2157,3,0),(IF($B76="SICRO",VLOOKUP($C76,[1]SICRO!$A$1:$E$6354,3,0))))))))))))))))) -> M2 | J76: 16.6 | K76: 21.73 | L76: =ROUND(J76*K76,2) -> 360.72 | M76: =C76 -> 50400 | N76: =UPPER(IF($B76="EDIF",VLOOKUP($C76,[1]EDIF!$A$1:$E$2656,5,0),(IF($B76="INFRA",VLOOKUP($C76,[1]INFRA!$A$1:$E$843,5,0),(IF($B76="SINAPI",VLOOKUP($C76,[1]SINAPI!$A$1:$G$7498,7,0),(IF($B76="FDE",VLOOKUP($C76,[1]FDE!$A$1:$E$3179,5,0),(IF($B76="CDHU",VLOOKUP($C76,[1]CDHU!$A$1:$G$4132,7,0),(IF($B76="SIEC",VLOOKUP($C76,[1]SIEC!$A$1:$E$4166,5,0),(IF($B76="DER",VLOOKUP($C76,[1]DER!$A$1:$D$2157,5,0),(IF($B76="SICRO",VLOOKUP($C76,[1]SICRO!$A$1:$E$6354,5,0))))))))))))))))) -> INFRA JUL/23
C77: - | D77: AV - ALBINO F.-- Via Marginal do Córrego três Pontesx R. José Pereira -trav. ----- 8,3*2=16,60 | L77: =ROUND(J77*K77,2) -> 0
B78: INFRA | C78: 52800 | D78: =UPPER(IF($B78="EDIF",VLOOKUP($C78,[1]EDIF!$A$1:$E$2656,2,0),(IF($B78="INFRA",VLOOKUP($C78,[1]INFRA!$A$1:$E$843,2,0),(IF($B78="SINAPI",VLOOKUP($C78,[1]SINAPI!$A$1:$G$7498,2,0),(IF($B78="FDE",VLOOKUP($C78,[1]FDE!$A$1:$E$3179,2,0),(IF($B78="CDHU",VLOOKUP($C78,[1]CDHU!$A$1:$F$4132,2,0),(IF($B78="SIEC",VLOOKUP($C78,[1]SIEC!$A$1:$E$4166,2,0),(IF($B78="DER",VLOOKUP($C78,[1]DER!$A$1:$D$2157,2,0),(IF($B78="SICRO",VLOOKUP($C78,[1]SICRO!$A$1:$E$6354,2,0))))))))))))))))) -> REVESTIMENTO DE CONCRETO ASFÁLTICO (SEM TRANSPORTE) | I78: =UPPER(IF($B78="EDIF",VLOOKUP($C78,[1]EDIF!$A$1:$E$2656,3,0),(IF($B78="INFRA",VLOOKUP($C78,[1]INFRA!$A$1:$E$843,3,0),(IF($B78="SINAPI",VLOOKUP($C78,[1]SINAPI!$A$1:$G$7498,3,0),(IF($B78="FDE",VLOOKUP($C78,[1]FDE!$A$1:$E$3179,3,0),(IF($B78="CDHU",VLOOKUP($C78,[1]CDHU!$A$1:$F$4132,3,0),(IF($B78="SIEC",VLOOKUP($C78,[1]SIEC!$A$1:$E$4166,3,0),(IF($B78="DER",VLOOKUP($C78,[1]DER!$A$1:$D$2157,3,0),(IF($B78="SICRO",VLOOKUP($C78,[1]SICRO!$A$1:$E$6354,3,0))))))))))))))))) -> M3 | J78: 0.83 | K78: 1475.72 | L78: =ROUND(J78*K78,2) -> 1224.85 | M78: =C78 -> 52800 | N78: =UPPER(IF($B78="EDIF",VLOOKUP($C78,[1]EDIF!$A$1:$E$2656,5,0),(IF($B78="INFRA",VLOOKUP($C78,[1]INFRA!$A$1:$E$843,5,0),(IF($B78="SINAPI",VLOOKUP($C78,[1]SINAPI!$A$1:$G$7498,7,0),(IF($B78="FDE",VLOOKUP($C78,[1]FDE!$A$1:$E$3179,5,0),(IF($B78="CDHU",VLOOKUP($C78,[1]CDHU!$A$1:$G$4132,7,0),(IF($B78="SIEC",VLOOKUP($C78,[1]SIEC!$A$1:$E$4166,5,0),(IF($B78="DER",VLOOKUP($C78,[1]DER!$A$1:$D$2157,5,0),(IF($B78="SICRO",VLOOKUP($C78,[1]SICRO!$A$1:$E$6354,5,0))))))))))))))))) -> INFRA JUL/23
D79: AV - ALBINO F.-- Via Marginal do Córrego três Pontesx R. José Pereira -trav. 8,3*2*0,05=0,60 | L79: =ROUND(J79*K79,2) -> 0
B80: INFRA | C80: 54800 | D80: =UPPER(IF($B80="EDIF",VLOOKUP($C80,[1]EDIF!$A$1:$E$2656,2,0),(IF($B80="INFRA",VLOOKUP($C80,[1]INFRA!$A$1:$E$843,2,0),(IF($B80="SINAPI",VLOOKUP($C80,[1]SINAPI!$A$1:$G$7498,2,0),(IF($B80="FDE",VLOOKUP($C80,[1]FDE!$A$1:$E$3179,2,0),(IF($B80="CDHU",VLOOKUP($C80,[1]CDHU!$A$1:$F$4132,2,0),(IF($B80="SIEC",VLOOKUP($C80,[1]SIEC!$A$1:$E$4166,2,0),(IF($B80="DER",VLOOKUP($C80,[1]DER!$A$1:$D$2157,2,0),(IF($B80="SICRO",VLOOKUP($C80,[1]SICRO!$A$1:$E$6354,2,0))))))))))))))))) -> BASE DE BRITA GRADUADA | I80: =UPPER(IF($B80="EDIF",VLOOKUP($C80,[1]EDIF!$A$1:$E$2656,3,0),(IF($B80="INFRA",VLOOKUP($C80,[1]INFRA!$A$1:$E$843,3,0),(IF($B80="SINAPI",VLOOKUP($C80,[1]SINAPI!$A$1:$G$7498,3,0),(IF($B80="FDE",VLOOKUP($C80,[1]FDE!$A$1:$E$3179,3,0),(IF($B80="CDHU",VLOOKUP($C80,[1]CDHU!$A$1:$F$4132,3,0),(IF($B80="SIEC",VLOOKUP($C80,[1]SIEC!$A$1:$E$4166,3,0),(IF($B80="DER",VLOOKUP($C80,[1]DER!$A$1:$D$2157,3,0),(IF($B80="SICRO",VLOOKUP($C80,[1]SICRO!$A$1:$E$6354,3,0))))))))))))))))) -> M3 | J80: 1.66 | K80: 246.7 | L80: =ROUND(J80*K80,2) -> 409.52
D81: AV - ALBINO F.-- Via Marginal do Córrego três Pontesx R. José Pereira -trav. -8,30*2*0,10=1,66
B82: INFRA | C82: 52600 | D82: =UPPER(IF($B82="EDIF",VLOOKUP($C82,[1]EDIF!$A$1:$E$2656,2,0),(IF($B82="INFRA",VLOOKUP($C82,[1]INFRA!$A$1:$E$843,2,0),(IF($B82="SINAPI",VLOOKUP($C82,[1]SINAPI!$A$1:$G$7498,2,0),(IF($B82="FDE",VLOOKUP($C82,[1]FDE!$A$1:$E$3179,2,0),(IF($B82="CDHU",VLOOKUP($C82,[1]CDHU!$A$1:$F$4132,2,0),(IF($B82="SIEC",VLOOKUP($C82,[1]SIEC!$A$1:$E$4166,2,0),(IF($B82="DER",VLOOKUP($C82,[1]DER!$A$1:$D$2157,2,0),(IF($B82="SICRO",VLOOKUP($C82,[1]SICRO!$A$1:$E$6354,2,0))))))))))))))))) -> IMPRIMAÇÃO BETUMINOSA LIGANTE | I82: =UPPER(IF($B82="EDIF",VLOOKUP($C82,[1]EDIF!$A$1:$E$2656,3,0),(IF($B82="INFRA",VLOOKUP($C82,[1]INFRA!$A$1:$E$843,3,0),(IF($B82="SINAPI",VLOOKUP($C82,[1]SINAPI!$A$1:$G$7498,3,0),(IF($B82="FDE",VLOOKUP($C82,[1]FDE!$A$1:$E$3179,3,0),(IF($B82="CDHU",VLOOKUP($C82,[1]CDHU!$A$1:$F$4132,3,0),(IF($B82="SIEC",VLOOKUP($C82,[1]SIEC!$A$1:$E$4166,3,0),(IF($B82="DER",VLOOKUP($C82,[1]DER!$A$1:$D$2157,3,0),(IF($B82="SICRO",VLOOKUP($C82,[1]SICRO!$A$1:$E$6354,3,0))))))))))))))))) -> M2 | J82: 32.6 | K82: 6.48 | L82: =ROUND(J82*K82,2) -> 211.25
D83: AV - ALBINO F.-- Via Marginal do Córrego três Pontesx R. José Pereira -trav. 16,30*2=32,60 | L83: =ROUND(J83*K83,2) -> 0
B84: INFRA | C84: 52700 | D84: =UPPER(IF($B84="EDIF",VLOOKUP($C84,[1]EDIF!$A$1:$E$2656,2,0),(IF($B84="INFRA",VLOOKUP($C84,[1]INFRA!$A$1:$E$843,2,0),(IF($B84="SINAPI",VLOOKUP($C84,[1]SINAPI!$A$1:$G$7498,2,0),(IF($B84="FDE",VLOOKUP($C84,[1]FDE!$A$1:$E$3179,2,0),(IF($B84="CDHU",VLOOKUP($C84,[1]CDHU!$A$1:$F$4132,2,0),(IF($B84="SIEC",VLOOKUP($C84,[1]SIEC!$A$1:$E$4166,2,0),(IF($B84="DER",VLOOKUP($C84,[1]DER!$A$1:$D$2157,2,0),(IF($B84="SICRO",VLOOKUP($C84,[1]SICRO!$A$1:$E$6354,2,0))))))))))))))))) -> IMPRIMAÇÃO BETUMINOSA IMPERMEABILIZANTE | I84: =UPPER(IF($B84="EDIF",VLOOKUP($C84,[1]EDIF!$A$1:$E$2656,3,0),(IF($B84="INFRA",VLOOKUP($C84,[1]INFRA!$A$1:$E$843,3,0),(IF($B84="SINAPI",VLOOKUP($C84,[1]SINAPI!$A$1:$G$7498,3,0),(IF($B84="FDE",VLOOKUP($C84,[1]FDE!$A$1:$E$3179,3,0),(IF($B84="CDHU",VLOOKUP($C84,[1]CDHU!$A$1:$F$4132,3,0),(IF($B84="SIEC",VLOOKUP($C84,[1]SIEC!$A$1:$E$4166,3,0),(IF($B84="DER",VLOOKUP($C84,[1]DER!$A$1:$D$2157,3,0),(IF($B84="SICRO",VLOOKUP($C84,[1]SICRO!$A$1:$E$6354,3,0))))))))))))))))) -> M2 | J84: 16.6 | K84: 15.69 | L84: =ROUND(J84*K84,2) -> 260.45
D85: AV - ALBINO F.-- Via Marginal do Córrego três Pontesx R. José Pereira -trav. 16,60 | L85: =ROUND(J85*K85,2) -> 0
B86: INFRA | C86: 56700 | D86: =UPPER(IF($B86="EDIF",VLOOKUP($C86,[1]EDIF!$A$1:$E$2656,2,0),(IF($B86="INFRA",VLOOKUP($C86,[1]INFRA!$A$1:$E$843,2,0),(IF($B86="SINAPI",VLOOKUP($C86,[1]SINAPI!$A$1:$G$7498,2,0),(IF($B86="FDE",VLOOKUP($C86,[1]FDE!$A$1:$E$3179,2,0),(IF($B86="CDHU",VLOOKUP($C86,[1]CDHU!$A$1:$F$4132,2,0),(IF($B86="SIEC",VLOOKUP($C86,[1]SIEC!$A$1:$E$4166,2,0),(IF($B86="DER",VLOOKUP($C86,[1]DER!$A$1:$D$2157,2,0),(IF($B86="SICRO",VLOOKUP($C86,[1]SICRO!$A$1:$E$6354,2,0))))))))))))))))) -> TRANSPORTE DE PAVIMENTO ASFÁLTICO | I86: =UPPER(IF($B86="EDIF",VLOOKUP($C86,[1]EDIF!$A$1:$E$2656,3,0),(IF($B86="INFRA",VLOOKUP($C86,[1]INFRA!$A$1:$E$843,3,0),(IF($B86="SINAPI",VLOOKUP($C86,[1]SINAPI!$A$1:$G$7498,3,0),(IF($B86="FDE",VLOOKUP($C86,[1]FDE!$A$1:$E$3179,3,0),(IF($B86="CDHU",VLOOKUP($C86,[1]CDHU!$A$1:$F$4132,3,0),(IF($B86="SIEC",VLOOKUP($C86,[1]SIEC!$A$1:$E$4166,3,0),(IF($B86="DER",VLOOKUP($C86,[1]DER!$A$1:$D$2157,3,0),(IF($B86="SICRO",VLOOKUP($C86,[1]SICRO!$A$1:$E$6354,3,0))))))))))))))))) -> M2XKM | J86: 332 | K86: 0.94 | L86: =ROUND(J86*K86,2) -> 312.08
D87: AV - ALBINO F.-- Via Marginal do Córrego três Pontesx R. José Pereira -trav. 16,60*20=332,00 | L87: =ROUND(J87*K87,2) -> 0
B88: INFRA | C88: 40800 | D88: =UPPER(IF($B88="EDIF",VLOOKUP($C88,[1]EDIF!$A$1:$E$2656,2,0),(IF($B88="INFRA",VLOOKUP($C88,[1]INFRA!$A$1:$E$843,2,0),(IF($B88="SINAPI",VLOOKUP($C88,[1]SINAPI!$A$1:$G$7498,2,0),(IF($B88="FDE",VLOOKUP($C88,[1]FDE!$A$1:$E$3179,2,0),(IF($B88="CDHU",VLOOKUP($C88,[1]CDHU!$A$1:$F$4132,2,0),(IF($B88="SIEC",VLOOKUP($C88,[1]SIEC!$A$1:$E$4166,2,0),(IF($B88="DER",VLOOKUP($C88,[1]DER!$A$1:$D$2157,2,0),(IF($B88="SICRO",VLOOKUP($C88,[1]SICRO!$A$1:$E$6354,2,0))))))))))))))))) -> REATERRO COMPACTADO DE FUNDAÇÃO | I88: =UPPER(IF($B88="EDIF",VLOOKUP($C88,[1]EDIF!$A$1:$E$2656,3,0),(IF($B88="INFRA",VLOOKUP($C88,[1]INFRA!$A$1:$E$843,3,0),(IF($B88="SINAPI",VLOOKUP($C88,[1]SINAPI!$A$1:$G$7498,3,0),(IF($B88="FDE",VLOOKUP($C88,[1]FDE!$A$1:$E$3179,3,0),(IF($B88="CDHU",VLOOKUP($C88,[1]CDHU!$A$1:$F$4132,3,0),(IF($B88="SIEC",VLOOKUP($C88,[1]SIEC!$A$1:$E$4166,3,0),(IF($B88="DER",VLOOKUP($C88,[1]DER!$A$1:$D$2157,3,0),(IF($B88="SICRO",VLOOKUP($C88,[1]SICRO!$A$1:$E$6354,3,0))))))))))))))))) -> M3 | J88: 11.62 | K88: 16.97 | L88: =ROUND(J88*K88,2) -> 197.19
D89: AV - ALBINO F.-- Via Marginal do Córrego três Pontesx R. José Pereira -trav. --16,60-(8,30*0,6)=11,62 | L89: =ROUND(J89*K89,2) -> 0
B90: INFRA | C90: 60500 | D90: =UPPER(IF($B90="EDIF",VLOOKUP($C90,[1]EDIF!$A$1:$E$2656,2,0),(IF($B90="INFRA",VLOOKUP($C90,[1]INFRA!$A$1:$E$843,2,0),(IF($B90="SINAPI",VLOOKUP($C90,[1]SINAPI!$A$1:$G$7498,2,0),(IF($B90="FDE",VLOOKUP($C90,[1]FDE!$A$1:$E$3179,2,0),(IF($B90="CDHU",VLOOKUP($C90,[1]CDHU!$A$1:$F$4132,2,0),(IF($B90="SIEC",VLOOKUP($C90,[1]SIEC!$A$1:$E$4166,2,0),(IF($B90="DER",VLOOKUP($C90,[1]DER!$A$1:$D$2157,2,0),(IF($B90="SICRO",VLOOKUP($C90,[1]SICRO!$A$1:$E$6354,2,0))))))))))))))))) -> LASTRO DE BRITA E PÓ DE PEDRA | I90: =UPPER(IF($B90="EDIF",VLOOKUP($C90,[1]EDIF!$A$1:$E$2656,3,0),(IF($B90="INFRA",VLOOKUP($C90,[1]INFRA!$A$1:$E$843,3,0),(IF($B90="SINAPI",VLOOKUP($C90,[1]SINAPI!$A$1:$G$7498,3,0),(IF($B90="FDE",VLOOKUP($C90,[1]FDE!$A$1:$E$3179,3,0),(IF($B90="CDHU",VLOOKUP($C90,[1]CDHU!$A$1:$F$4132,3,0),(IF($B90="SIEC",VLOOKUP($C90,[1]SIEC!$A$1:$E$4166,3,0),(IF($B90="DER",VLOOKUP($C90,[1]DER!$A$1:$D$2157,3,0),(IF($B90="SICRO",VLOOKUP($C90,[1]SICRO!$A$1:$E$6354,3,0))))))))))))))))) -> M3 | J90: 0.83 | K90: 269.28 | L90: =ROUND(J90*K90,2) -> 223.5
D91: AV - ALBINO F.- Via Marginal do Córrego três Pontesx R. José Pereira -trav. 8,3*1,00*0,10=0,83
B92: CDHU | C92: 46.13.104 | D92: =UPPER(IF($B92="EDIF",VLOOKUP($C92,[1]EDIF!$A$1:$E$2656,2,0),(IF($B92="INFRA",VLOOKUP($C92,[1]INFRA!$A$1:$E$843,2,0),(IF($B92="SINAPI",VLOOKUP($C92,[1]SINAPI!$A$1:$G$7498,2,0),(IF($B92="FDE",VLOOKUP($C92,[1]FDE!$A$1:$E$3179,2,0),(IF($B92="CDHU",VLOOKUP($C92,[1]CDHU!$A$1:$F$4132,2,0),(IF($B92="SIEC",VLOOKUP($C92,[1]SIEC!$A$1:$E$4166,2,0),(IF($B92="DER",VLOOKUP($C92,[1]DER!$A$1:$D$2157,2,0),(IF($B92="SICRO",VLOOKUP($C92,[1]SICRO!$A$1:$E$6354,2,0))))))))))))))))) -> TUBO EM POLIETILENO DE ALTA DENSIDADE CORRUGADO, DN/DI= 600 MM | I92: =UPPER(IF($B92="EDIF",VLOOKUP($C92,[1]EDIF!$A$1:$E$2656,3,0),(IF($B92="INFRA",VLOOKUP($C92,[1]INFRA!$A$1:$E$843,3,0),(IF($B92="SINAPI",VLOOKUP($C92,[1]SINAPI!$A$1:$G$7498,3,0),(IF($B92="FDE",VLOOKUP($C92,[1]FDE!$A$1:$E$3179,3,0),(IF($B92="CDHU",VLOOKUP($C92,[1]CDHU!$A$1:$F$4132,3,0),(IF($B92="SIEC",VLOOKUP($C92,[1]SIEC!$A$1:$E$4166,3,0),(IF($B92="DER",VLOOKUP($C92,[1]DER!$A$1:$D$2157,3,0),(IF($B92="SICRO",VLOOKUP($C92,[1]SICRO!$A$1:$E$6354,3,0))))))))))))))))) -> M | J92: 8.5 | K92: 355.8 | L92: =ROUND(J92*K92,2) -> 3024.3
D93: AV - ALBINO F.-- Via Marginal do Córrego três Pontesx R. José Pereira -trav. --- 8,5M | L93: =ROUND(J93*K93,2) -> 0
B94: INFRA | C94: 51300 | D94: =UPPER(IF($B94="EDIF",VLOOKUP($C94,[1]EDIF!$A$1:$E$2656,2,0),(IF($B94="INFRA",VLOOKUP($C94,[1]INFRA!$A$1:$E$843,2,0),(IF($B94="SINAPI",VLOOKUP($C94,[1]SINAPI!$A$1:$G$7498,2,0),(IF($B94="FDE",VLOOKUP($C94,[1]FDE!$A$1:$E$3179,2,0),(IF($B94="CDHU",VLOOKUP($C94,[1]CDHU!$A$1:$F$4132,2,0),(IF($B94="SIEC",VLOOKUP($C94,[1]SIEC!$A$1:$E$4166,2,0),(IF($B94="DER",VLOOKUP($C94,[1]DER!$A$1:$D$2157,2,0),(IF($B94="SICRO",VLOOKUP($C94,[1]SICRO!$A$1:$E$6354,2,0))))))))))))))))) -> BASE DE CONCRETO FCK=15,00MPA PARA GUIAS, SARJETAS OU SARJETÕES | I94: =UPPER(IF($B94="EDIF",VLOOKUP($C94,[1]EDIF!$A$1:$E$2656,3,0),(IF($B94="INFRA",VLOOKUP($C94,[1]INFRA!$A$1:$E$843,3,0),(IF($B94="SINAPI",VLOOKUP($C94,[1]SINAPI!$A$1:$G$7498,3,0),(IF($B94="FDE",VLOOKUP($C94,[1]FDE!$A$1:$E$3179,3,0),(IF($B94="CDHU",VLOOKUP($C94,[1]CDHU!$A$1:$F$4132,3,0),(IF($B94="SIEC",VLOOKUP($C94,[1]SIEC!$A$1:$E$4166,3,0),(IF($B94="DER",VLOOKUP($C94,[1]DER!$A$1:$D$2157,3,0),(IF($B94="SICRO",VLOOKUP($C94,[1]SICRO!$A$1:$E$6354,3,0))))))))))))))))) -> M3 | J94: 0.65 | K94: 498.12 | L94: =ROUND(J94*K94,2) -> 323.78
D95: Ala de Concreto p/ suporte do tubo 1,0*1,0=1,0m2 +1,00*1,00*2=2,00m2 = 3,0m2 *0,15=0,45m3 | L95: =ROUND(J95*K95,2) -> 0
D96: base de concreto sob ala e tubo 2*1,00*0,10=0,20
B97: EDIF | C97: 80280 | D97: =UPPER(IF($B97="EDIF",VLOOKUP($C97,[1]EDIF!$A$1:$E$2656,2,0),(IF($B97="INFRA",VLOOKUP($C97,[1]INFRA!$A$1:$E$843,2,0),(IF($B97="SINAPI",VLOOKUP($C97,[1]SINAPI!$A$1:$G$7498,2,0),(IF($B97="FDE",VLOOKUP($C97,[1]FDE!$A$1:$E$3179,2,0),(IF($B97="CDHU",VLOOKUP($C97,[1]CDHU!$A$1:$F$4132,2,0),(IF($B97="SIEC",VLOOKUP($C97,[1]SIEC!$A$1:$E$4166,2,0),(IF($B97="DER",VLOOKUP($C97,[1]DER!$A$1:$D$2157,2,0),(IF($B97="SICRO",VLOOKUP($C97,[1]SICRO!$A$1:$E$6354,2,0))))))))))))))))) -> TELA DE PROTEÇÃO EM ARAME N.12, MALHA DE 1/2" - INCLUSIVE REQUADRO | I97: =UPPER(IF($B97="EDIF",VLOOKUP($C97,[1]EDIF!$A$1:$E$2656,3,0),(IF($B97="INFRA",VLOOKUP($C97,[1]INFRA!$A$1:$E$843,3,0),(IF($B97="SINAPI",VLOOKUP($C97,[1]SINAPI!$A$1:$G$7498,3,0),(IF($B97="FDE",VLOOKUP($C97,[1]FDE!$A$1:$E$3179,3,0),(IF($B97="CDHU",VLOOKUP($C97,[1]CDHU!$A$1:$F$4132,3,0),(IF($B97="SIEC",VLOOKUP($C97,[1]SIEC!$A$1:$E$4166,3,0),(IF($B97="DER",VLOOKUP($C97,[1]DER!$A$1:$D$2157,3,0),(IF($B97="SICRO",VLOOKUP($C97,[1]SICRO!$A$1:$E$6354,3,0))))))))))))))))) -> M2 | J97: 3 | K97: 260.91 | L97: =ROUND(J97*K97,2) -> 782.73
D98: 3,00M2
B99: EDIF | C99: 10105 | D99: =UPPER(IF($B99="EDIF",VLOOKUP($C99,[1]EDIF!$A$1:$E$2656,2,0),(IF($B99="INFRA",VLOOKUP($C99,[1]INFRA!$A$1:$E$843,2,0),(IF($B99="SINAPI",VLOOKUP($C99,[1]SINAPI!$A$1:$G$7498,2,0),(IF($B99="FDE",VLOOKUP($C99,[1]FDE!$A$1:$E$3179,2,0),(IF($B99="CDHU",VLOOKUP($C99,[1]CDHU!$A$1:$F$4132,2,0),(IF($B99="SIEC",VLOOKUP($C99,[1]SIEC!$A$1:$E$4166,2,0),(IF($B99="DER",VLOOKUP($C99,[1]DER!$A$1:$D$2157,2,0),(IF($B99="SICRO",VLOOKUP($C99,[1]SICRO!$A$1:$E$6354,2,0))))))))))))))))) -> CARGA MECANIZADA E REMOÇÃO DE ENTULHO, INCLUSIVE TRANSPORTE ATÉ 1KM | I99: =UPPER(IF($B99="EDIF",VLOOKUP($C99,[1]EDIF!$A$1:$E$2656,3,0),(IF($B99="INFRA",VLOOKUP($C99,[1]INFRA!$A$1:$E$843,3,0),(IF($B99="SINAPI",VLOOKUP($C99,[1]SINAPI!$A$1:$G$7498,3,0),(IF($B99="FDE",VLOOKUP($C99,[1]FDE!$A$1:$E$3179,3,0),(IF($B99="CDHU",VLOOKUP($C99,[1]CDHU!$A$1:$F$4132,3,0),(IF($B99="SIEC",VLOOKUP($C99,[1]SIEC!$A$1:$E$4166,3,0),(IF($B99="DER",VLOOKUP($C99,[1]DER!$A$1:$D$2157,3,0),(IF($B99="SICRO",VLOOKUP($C99,[1]SICRO!$A$1:$E$6354,3,0))))))))))))))))) -> M3 | J99: 21.23 | K99: 11.9 | L99: =ROUND(J99*K99,2) -> 252.64
D100: 1,20 *2=2,40 *0,10=0,24M3 +8,3*2=12,00*0,05=0,83+1,20*2*0,10=0,24 + 25,00*0,10=2,50 =4,65
D101: 80*0,05=4,0 +11*0,9*,15=1,49=5,50M3 +4,65=10,15M3*1,30=13,20M3+6,00*1,30=7,80 =21,00M3
B102: EDIF | C102: 10110 | D102: =UPPER(IF($B102="EDIF",VLOOKUP($C102,[1]EDIF!$A$1:$E$2656,2,0),(IF($B102="INFRA",VLOOKUP($C102,[1]INFRA!$A$1:$E$843,2,0),(IF($B102="SINAPI",VLOOKUP($C102,[1]SINAPI!$A$1:$G$7498,2,0),(IF($B102="FDE",VLOOKUP($C102,[1]FDE!$A$1:$E$3179,2,0),(IF($B102="CDHU",VLOOKUP($C102,[1]CDHU!$A$1:$F$4132,2,0),(IF($B102="SIEC",VLOOKUP($C102,[1]SIEC!$A$1:$E$4166,2,0),(IF($B102="DER",VLOOKUP($C102,[1]DER!$A$1:$D$2157,2,0),(IF($B102="SICRO",VLOOKUP($C102,[1]SICRO!$A$1:$E$6354,2,0))))))))))))))))) -> TRANSPORTE DE ENTULHO POR CAMINHÃO BASCULANTE, A PARTIR DE 1KM | I102: =UPPER(IF($B102="EDIF",VLOOKUP($C102,[1]EDIF!$A$1:$E$2656,3,0),(IF($B102="INFRA",VLOOKUP($C102,[1]INFRA!$A$1:$E$843,3,0),(IF($B102="SINAPI",VLOOKUP($C102,[1]SINAPI!$A$1:$G$7498,3,0),(IF($B102="FDE",VLOOKUP($C102,[1]FDE!$A$1:$E$3179,3,0),(IF($B102="CDHU",VLOOKUP($C102,[1]CDHU!$A$1:$F$4132,3,0),(IF($B102="SIEC",VLOOKUP($C102,[1]SIEC!$A$1:$E$4166,3,0),(IF($B102="DER",VLOOKUP($C102,[1]DER!$A$1:$D$2157,3,0),(IF($B102="SICRO",VLOOKUP($C102,[1]SICRO!$A$1:$E$6354,3,0))))))))))))))))) -> M3XKM | J102: 532.5 | K102: 1.66 | L102: =ROUND(J102*K102,2) -> 883.95
D103: 21,30*25=525
B104: INFRA | C104: 50100 | D104: =UPPER(IF($B104="EDIF",VLOOKUP($C104,[1]EDIF!$A$1:$E$2656,2,0),(IF($B104="INFRA",VLOOKUP($C104,[1]INFRA!$A$1:$E$843,2,0),(IF($B104="SINAPI",VLOOKUP($C104,[1]SINAPI!$A$1:$G$7498,2,0),(IF($B104="FDE",VLOOKUP($C104,[1]FDE!$A$1:$E$3179,2,0),(IF($B104="CDHU",VLOOKUP($C104,[1]CDHU!$A$1:$F$4132,2,0),(IF($B104="SIEC",VLOOKUP($C104,[1]SIEC!$A$1:$E$4166,2,0),(IF($B104="DER",VLOOKUP($C104,[1]DER!$A$1:$D$2157,2,0),(IF($B104="SICRO",VLOOKUP($C104,[1]SICRO!$A$1:$E$6354,2,0))))))))))))))))) -> ARRANCAMENTO DE GUIAS, INCLUI CARGA EM CAMINHÃO | I104: =UPPER(IF($B104="EDIF",VLOOKUP($C104,[1]EDIF!$A$1:$E$2656,3,0),(IF($B104="INFRA",VLOOKUP($C104,[1]INFRA!$A$1:$E$843,3,0),(IF($B104="SINAPI",VLOOKUP($C104,[1]SINAPI!$A$1:$G$7498,3,0),(IF($B104="FDE",VLOOKUP($C104,[1]FDE!$A$1:$E$3179,3,0),(IF($B104="CDHU",VLOOKUP($C104,[1]CDHU!$A$1:$F$4132,3,0),(IF($B104="SIEC",VLOOKUP($C104,[1]SIEC!$A$1:$E$4166,3,0),(IF($B104="DER",VLOOKUP($C104,[1]DER!$A$1:$D$2157,3,0),(IF($B104="SICRO",VLOOKUP($C104,[1]SICRO!$A$1:$E$6354,3,0))))))))))))))))) -> M | J104: 27 | K104: 10.44 | L104: =ROUND(J104*K104,2) -> 281.88
D105: 17+10=27 | L105: =ROUND(J105*K105,2) -> 0
B106: INFRA | C106: 50200 | D106: =UPPER(IF($B106="EDIF",VLOOKUP($C106,[1]EDIF!$A$1:$E$2656,2,0),(IF($B106="INFRA",VLOOKUP($C106,[1]INFRA!$A$1:$E$843,2,0),(IF($B106="SINAPI",VLOOKUP($C106,[1]SINAPI!$A$1:$G$7498,2,0),(IF($B106="FDE",VLOOKUP($C106,[1]FDE!$A$1:$E$3179,2,0),(IF($B106="CDHU",VLOOKUP($C106,[1]CDHU!$A$1:$F$4132,2,0),(IF($B106="SIEC",VLOOKUP($C106,[1]SIEC!$A$1:$E$4166,2,0),(IF($B106="DER",VLOOKUP($C106,[1]DER!$A$1:$D$2157,2,0),(IF($B106="SICRO",VLOOKUP($C106,[1]SICRO!$A$1:$E$6354,2,0))))))))))))))))) -> ARRANCAMENTO DE PARALELEPÍPEDOS, INCLUI CARGA EM CAMINHÃO | I106: =UPPER(IF($B106="EDIF",VLOOKUP($C106,[1]EDIF!$A$1:$E$2656,3,0),(IF($B106="INFRA",VLOOKUP($C106,[1]INFRA!$A$1:$E$843,3,0),(IF($B106="SINAPI",VLOOKUP($C106,[1]SINAPI!$A$1:$G$7498,3,0),(IF($B106="FDE",VLOOKUP($C106,[1]FDE!$A$1:$E$3179,3,0),(IF($B106="CDHU",VLOOKUP($C106,[1]CDHU!$A$1:$F$4132,3,0),(IF($B106="SIEC",VLOOKUP($C106,[1]SIEC!$A$1:$E$4166,3,0),(IF($B106="DER",VLOOKUP($C106,[1]DER!$A$1:$D$2157,3,0),(IF($B106="SICRO",VLOOKUP($C106,[1]SICRO!$A$1:$E$6354,3,0))))))))))))))))) -> M2 | J106: 42 | K106: 18.47 | L106: =ROUND(J106*K106,2) -> 775.74
D107: 42*0,5*2=42M2 | L107: =ROUND(J107*K107,2) -> 0
B108: INFRA | C108: 53500 | D108: =UPPER(IF($B108="EDIF",VLOOKUP($C108,[1]EDIF!$A$1:$E$2656,2,0),(IF($B108="INFRA",VLOOKUP($C108,[1]INFRA!$A$1:$E$843,2,0),(IF($B108="SINAPI",VLOOKUP($C108,[1]SINAPI!$A$1:$G$7498,2,0),(IF($B108="FDE",VLOOKUP($C108,[1]FDE!$A$1:$E$3179,2,0),(IF($B108="CDHU",VLOOKUP($C108,[1]CDHU!$A$1:$F$4132,2,0),(IF($B108="SIEC",VLOOKUP($C108,[1]SIEC!$A$1:$E$4166,2,0),(IF($B108="DER",VLOOKUP($C108,[1]DER!$A$1:$D$2157,2,0),(IF($B108="SICRO",VLOOKUP($C108,[1]SICRO!$A$1:$E$6354,2,0))))))))))))))))) -> ARRANCAMENTO E REASSENTAMENTO DE PARALELEPÍPEDOS SOBRE AREIA (IE-23) | I108: =UPPER(IF($B108="EDIF",VLOOKUP($C108,[1]EDIF!$A$1:$E$2656,3,0),(IF($B108="INFRA",VLOOKUP($C108,[1]INFRA!$A$1:$E$843,3,0),(IF($B108="SINAPI",VLOOKUP($C108,[1]SINAPI!$A$1:$G$7498,3,0),(IF($B108="FDE",VLOOKUP($C108,[1]FDE!$A$1:$E$3179,3,0),(IF($B108="CDHU",VLOOKUP($C108,[1]CDHU!$A$1:$F$4132,3,0),(IF($B108="SIEC",VLOOKUP($C108,[1]SIEC!$A$1:$E$4166,3,0),(IF($B108="DER",VLOOKUP($C108,[1]DER!$A$1:$D$2157,3,0),(IF($B108="SICRO",VLOOKUP($C108,[1]SICRO!$A$1:$E$6354,3,0))))))))))))))))) -> M2 | J108: 30 | K108: 55.83 | L108: =ROUND(J108*K108,2) -> 1674.9
D109: 5*6=30
B110: INFRA | C110: 54000 | D110: =UPPER(IF($B110="EDIF",VLOOKUP($C110,[1]EDIF!$A$1:$E$2656,2,0),(IF($B110="INFRA",VLOOKUP($C110,[1]INFRA!$A$1:$E$843,2,0),(IF($B110="SINAPI",VLOOKUP($C110,[1]SINAPI!$A$1:$G$7498,2,0),(IF($B110="FDE",VLOOKUP($C110,[1]FDE!$A$1:$E$3179,2,0),(IF($B110="CDHU",VLOOKUP($C110,[1]CDHU!$A$1:$F$4132,2,0),(IF($B110="SIEC",VLOOKUP($C110,[1]SIEC!$A$1:$E$4166,2,0),(IF($B110="DER",VLOOKUP($C110,[1]DER!$A$1:$D$2157,2,0),(IF($B110="SICRO",VLOOKUP($C110,[1]SICRO!$A$1:$E$6354,2,0))))))))))))))))) -> TRANSPORTE DE PARALELEPÍPEDOS | I110: =UPPER(IF($B110="EDIF",VLOOKUP($C110,[1]EDIF!$A$1:$E$2656,3,0),(IF($B110="INFRA",VLOOKUP($C110,[1]INFRA!$A$1:$E$843,3,0),(IF($B110="SINAPI",VLOOKUP($C110,[1]SINAPI!$A$1:$G$7498,3,0),(IF($B110="FDE",VLOOKUP($C110,[1]FDE!$A$1:$E$3179,3,0),(IF($B110="CDHU",VLOOKUP($C110,[1]CDHU!$A$1:$F$4132,3,0),(IF($B110="SIEC",VLOOKUP($C110,[1]SIEC!$A$1:$E$4166,3,0),(IF($B110="DER",VLOOKUP($C110,[1]DER!$A$1:$D$2157,3,0),(IF($B110="SICRO",VLOOKUP($C110,[1]SICRO!$A$1:$E$6354,3,0))))))))))))))))) -> M2XKM | J110: 840 | K110: 0.7 | L110: =ROUND(J110*K110,2) -> 588
H111: 42*20=840
...

Sheet Planilha
D3: PREFEITURA MUNICIPAL DE FERRAZ DE VASCONCELOS
D4: SECRETARIA MUNICIPAL DE OBRAS
D5: PLANILHA ORÇAMENTÁRIA
D7: =ORÇ!B5 -> OBRA: RECONSTRUÇÃO,BUEIROS,PAVIMENTOS ASF.PASSEIO-PISO VIELA | P7: CRONOGRAMA FISICO DA
D8: =ORÇ!B6 -> R. Viela Espatodéa -- R. DOS LÍRIOS PROX.N299-R.TOMIO KATAGUIRI-Prox.100-
D9: =ORÇ!B7 -> R: RYOSHIN HASEGAWA -PROX AO Nº122R.:Papa João Paulo II -próx.R.José Pereira -trav.Av. Albino F.Figueiredo
E10: DT B. SIURB/JUL/24 CDHU 195
B11: Referência | C11: Item | D11: Descrição | E11: Unid | F11: Quantidade | G11: Preço Unit | H11: Total | I11: =B11 -> Referência | J11: VALOR | L11: Verificação de erro
D12: =ORÇ!D11 -> VIELA ESPATODÉA -PROX. R. DOS PINHEIROS --- 18140/2023 | I12: =B12 -> 0
B13: INFRA | C13: 101603 | D13: =UPPER(IF($B13="EDIF",VLOOKUP($C13,[1]EDIF!$A$1:$E$2656,2,0),(IF($B13="INFRA",VLOOKUP($C13,[1]INFRA!$A$1:$E$843,2,0),(IF($B13="SINAPI",VLOOKUP($C13,[1]SINAPI!$A$1:$G$7498,2,0),(IF($B13="FDE",VLOOKUP($C13,[1]FDE!$A$1:$E$3179,2,0),(IF($B13="CDHU",VLOOKUP($C13,[1]CDHU!$A$1:$F$4132,2,0),(IF($B13="SIEC",VLOOKUP($C13,[1]SIEC!$A$1:$E$4166,2,0),(IF($B13="DER",VLOOKUP($C13,[1]DER!$A$1:$D$2157,2,0),(IF($B13="SICRO",VLOOKUP($C13,[1]SICRO!$A$1:$E$6354,2,0))))))))))))))))) -> PLACA DE OBRA EM CHAPA DE AÇO GALVANIZADO | E13: =UPPER(IF($B13="EDIF",VLOOKUP($C13,[1]EDIF!$A$1:$E$2656,3,0),(IF($B13="INFRA",VLOOKUP($C13,[1]INFRA!$A$1:$E$843,3,0),(IF($B13="SINAPI",VLOOKUP($C13,[1]SINAPI!$A$1:$G$7498,3,0),(IF($B13="FDE",VLOOKUP($C13,[1]FDE!$A$1:$E$3179,3,0),(IF($B13="CDHU",VLOOKUP($C13,[1]CDHU!$A$1:$F$4132,3,0),(IF($B13="SIEC",VLOOKUP($C13,[1]SIEC!$A$1:$E$4166,3,0),(IF($B13="DER",VLOOKUP($C13,[1]DER!$A$1:$D$2157,3,0),(IF($B13="SICRO",VLOOKUP($C13,[1]SICRO!$A$1:$E$6354,3,0))))))))))))))))) -> M2 | F13: 3 | G13: =ORÇ!K12 -> 391.58 | H13: =TRUNC(F13*G13,2) -> 1174.74 | I13: =B13 -> INFRA | J13: =ROUND(G13*F13,2) -> 1174.74 | L13: =UPPER(IF($B13="EDIF",VLOOKUP($C13,[1]EDIF!$A$1:$E$2656,5,0),(IF($B13="INFRA",VLOOKUP($C13,[1]INFRA!$A$1:$E$843,5,0),(IF($B13="SINAPI",VLOOKUP($C13,[1]SINAPI!$A$1:$G$7498,7,0),(IF($B13="FDE",VLOOKUP($C13,[1]FDE!$A$1:$E$3179,5,0),(IF($B13="CDHU",VLOOKUP($C13,[1]CDHU!$A$1:$G$4132,7,0),(IF($B13="SIEC",VLOOKUP($C13,[1]SIEC!$A$1:$E$4166,5,0),(IF($B13="DER",VLOOKUP($C13,[1]DER!$A$1:$D$2157,5,0),(IF($B13="SICRO",VLOOKUP($C13,[1]SICRO!$A$1:$E$6354,5,0))))))))))))))))) -> INFRA JUL/23
B14: EDIF | C14: =ORÇ!C14 -> 175020 | D14: =UPPER(IF($B14="EDIF",VLOOKUP($C14,[1]EDIF!$A$1:$E$2656,2,0),(IF($B14="INFRA",VLOOKUP($C14,[1]INFRA!$A$1:$E$843,2,0),(IF($B14="SINAPI",VLOOKUP($C14,[1]SINAPI!$A$1:$G$7498,2,0),(IF($B14="FDE",VLOOKUP($C14,[1]FDE!$A$1:$E$3179,2,0),(IF($B14="CDHU",VLOOKUP($C14,[1]CDHU!$A$1:$F$4132,2,0),(IF($B14="SIEC",VLOOKUP($C14,[1]SIEC!$A$1:$E$4166,2,0),(IF($B14="DER",VLOOKUP($C14,[1]DER!$A$1:$D$2157,2,0),(IF($B14="SICRO",VLOOKUP($C14,[1]SICRO!$A$1:$E$6354,2,0))))))))))))))))) -> DEMOLIÇÃO MANUAL DE CONCRETO SIMPLES | E14: =UPPER(IF($B14="EDIF",VLOOKUP($C14,[1]EDIF!$A$1:$E$2656,3,0),(IF($B14="INFRA",VLOOKUP($C14,[1]INFRA!$A$1:$E$843,3,0),(IF($B14="SINAPI",VLOOKUP($C14,[1]SINAPI!$A$1:$G$7498,3,0),(IF($B14="FDE",VLOOKUP($C14,[1]FDE!$A$1:$E$3179,3,0),(IF($B14="CDHU",VLOOKUP($C14,[1]CDHU!$A$1:$F$4132,3,0),(IF($B14="SIEC",VLOOKUP($C14,[1]SIEC!$A$1:$E$4166,3,0),(IF($B14="DER",VLOOKUP($C14,[1]DER!$A$1:$D$2157,3,0),(IF($B14="SICRO",VLOOKUP($C14,[1]SICRO!$A$1:$E$6354,3,0))))))))))))))))) -> M3 | F14: 2.5 | G14: =ORÇ!K14 -> 265.15 | H14: =TRUNC(F14*G14,2) -> 662.87 | I14: =B14 -> EDIF | J14: =ROUND(G14*F14,2) -> 662.88 | L14: =UPPER(IF($B14="EDIF",VLOOKUP($C14,[1]EDIF!$A$1:$E$2656,5,0),(IF($B14="INFRA",VLOOKUP($C14,[1]INFRA!$A$1:$E$843,5,0),(IF($B14="SINAPI",VLOOKUP($C14,[1]SINAPI!$A$1:$G$7498,7,0),(IF($B14="FDE",VLOOKUP($C14,[1]FDE!$A$1:$E$3179,5,0),(IF($B14="CDHU",VLOOKUP($C14,[1]CDHU!$A$1:$G$4132,7,0),(IF($B14="SIEC",VLOOKUP($C14,[1]SIEC!$A$1:$E$4166,5,0),(IF($B14="DER",VLOOKUP($C14,[1]DER!$A$1:$D$2157,5,0),(IF($B14="SICRO",VLOOKUP($C14,[1]SICRO!$A$1:$E$6354,5,0))))))))))))))))) -> EDIF JUL/23
B15: EDIF | C15: 10107 | D15: =UPPER(IF($B15="EDIF",VLOOKUP($C15,[1]EDIF!$A$1:$E$2656,2,0),(IF($B15="INFRA",VLOOKUP($C15,[1]INFRA!$A$1:$E$843,2,0),(IF($B15="SINAPI",VLOOKUP($C15,[1]SINAPI!$A$1:$G$7498,2,0),(IF($B15="FDE",VLOOKUP($C15,[1]FDE!$A$1:$E$3179,2,0),(IF($B15="CDHU",VLOOKUP($C15,[1]CDHU!$A$1:$F$4132,2,0),(IF($B15="SIEC",VLOOKUP($C15,[1]SIEC!$A$1:$E$4166,2,0),(IF($B15="DER",VLOOKUP($C15,[1]DER!$A$1:$D$2157,2,0),(IF($B15="SICRO",VLOOKUP($C15,[1]SICRO!$A$1:$E$6354,2,0))))))))))))))))) -> REMOÇÃO DE ENTULHO COM CAÇAMBA METÁLICA, INCLUSIVE CARGA MANUAL E DESCARGA EM BOTA-FORA | E15: =UPPER(IF($B15="EDIF",VLOOKUP($C15,[1]EDIF!$A$1:$E$2656,3,0),(IF($B15="INFRA",VLOOKUP($C15,[1]INFRA!$A$1:$E$843,3,0),(IF($B15="SINAPI",VLOOKUP($C15,[1]SINAPI!$A$1:$G$7498,3,0),(IF($B15="FDE",VLOOKUP($C15,[1]FDE!$A$1:$E$3179,3,0),(IF($B15="CDHU",VLOOKUP($C15,[1]CDHU!$A$1:$F$4132,3,0),(IF($B15="SIEC",VLOOKUP($C15,[1]SIEC!$A$1:$E$4166,3,0),(IF($B15="DER",VLOOKUP($C15,[1]DER!$A$1:$D$2157,3,0),(IF($B15="SICRO",VLOOKUP($C15,[1]SICRO!$A$1:$E$6354,3,0))))))))))))))))) -> M3 | F15: 3.25 | G15: =ORÇ!K16 -> 129.38 | H15: =TRUNC(F15*G15,2) -> 420.48 | I15: =B15 -> EDIF | J15: =ROUND(G15*F15,2) -> 420.49 | L15: =UPPER(IF($B15="EDIF",VLOOKUP($C15,[1]EDIF!$A$1:$E$2656,5,0),(IF($B15="INFRA",VLOOKUP($C15,[1]INFRA!$A$1:$E$843,5,0),(IF($B15="SINAPI",VLOOKUP($C15,[1]SINAPI!$A$1:$G$7498,7,0),(IF($B15="FDE",VLOOKUP($C15,[1]FDE!$A$1:$E$3179,5,0),(IF($B15="CDHU",VLOOKUP($C15,[1]CDHU!$A$1:$G$4132,7,0),(IF($B15="SIEC",VLOOKUP($C15,[1]SIEC!$A$1:$E$4166,5,0),(IF($B15="DER",VLOOKUP($C15,[1]DER!$A$1:$D$2157,5,0),(IF($B15="SICRO",VLOOKUP($C15,[1]SICRO!$A$1:$E$6354,5,0))))))))))))))))) -> EDIF JUL/23
B16: EDIF | C16: =ORÇ!C18 -> 30317 | D16: =UPPER(IF($B16="EDIF",VLOOKUP($C16,[1]EDIF!$A$1:$E$2656,2,0),(IF($B16="INFRA",VLOOKUP($C16,[1]INFRA!$A$1:$E$843,2,0),(IF($B16="SINAPI",VLOOKUP($C16,[1]SINAPI!$A$1:$G$7498,2,0),(IF($B16="FDE",VLOOKUP($C16,[1]FDE!$A$1:$E$3179,2,0),(IF($B16="CDHU",VLOOKUP($C16,[1]CDHU!$A$1:$F$4132,2,0),(IF($B16="SIEC",VLOOKUP($C16,[1]SIEC!$A$1:$E$4166,2,0),(IF($B16="DER",VLOOKUP($C16,[1]DER!$A$1:$D$2157,2,0),(IF($B16="SICRO",VLOOKUP($C16,[1]SICRO!$A$1:$E$6354,2,0))))))))))))))))) -> CONCRETO FCK = 25,0MPA - USINADO | E16: =UPPER(IF($B16="EDIF",VLOOKUP($C16,[1]EDIF!$A$1:$E$2656,3,0),(IF($B16="INFRA",VLOOKUP($C16,[1]INFRA!$A$1:$E$843,3,0),(IF($B16="SINAPI",VLOOKUP($C16,[1]SINAPI!$A$1:$G$7498,3,0),(IF($B16="FDE",VLOOKUP($C16,[1]FDE!$A$1:$E$3179,3,0),(IF($B16="CDHU",VLOOKUP($C16,[1]CDHU!$A$1:$F$4132,3,0),(IF($B16="SIEC",VLOOKUP($C16,[1]SIEC!$A$1:$E$4166,3,0),(IF($B16="DER",VLOOKUP($C16,[1]DER!$A$1:$D$2157,3,0),(IF($B16="SICRO",VLOOKUP($C16,[1]SICRO!$A$1:$E$6354,3,0))))))))))))))))) -> M3 | F16: 1.75 | G16: =ORÇ!K18 -> 536.34 | H16: =TRUNC(F16*G16,2) -> 938.59 | I16: =B16 -> EDIF | J16: =ROUND(G16*F16,2) -> 938.6 | L16: =UPPER(IF($B16="EDIF",VLOOKUP($C16,[1]EDIF!$A$1:$E$2656,5,0),(IF($B16="INFRA",VLOOKUP($C16,[1]INFRA!$A$1:$E$843,5,0),(IF($B16="SINAPI",VLOOKUP($C16,[1]SINAPI!$A$1:$G$7498,7,0),(IF($B16="FDE",VLOOKUP($C16,[1]FDE!$A$1:$E$3179,5,0),(IF($B16="CDHU",VLOOKUP($C16,[1]CDHU!$A$1:$G$4132,7,0),(IF($B16="SIEC",VLOOKUP($C16,[1]SIEC!$A$1:$E$4166,5,0),(IF($B16="DER",VLOOKUP($C16,[1]DER!$A$1:$D$2157,5,0),(IF($B16="SICRO",VLOOKUP($C16,[1]SICRO!$A$1:$E$6354,5,0))))))))))))))))) -> EDIF JUL/23
G17: SUB TOTAL | J17: =SUM(J13:J16) -> 3196.71
D18: =ORÇ!D20 -> RUA: DOS LÍRIOS PROX. Nº299- proc.5896/2024 | H18: =TRUNC(F18*G18,2) -> 0 | I18: =B18 -> 0 | L18: =UPPER(IF($B18="EDIF",VLOOKUP($C18,[1]EDIF!$A$1:$E$2656,5,0),(IF($B18="INFRA",VLOOKUP($C18,[1]INFRA!$A$1:$E$843,5,0),(IF($B18="SINAPI",VLOOKUP($C18,[1]SINAPI!$A$1:$G$7498,7,0),(IF($B18="FDE",VLOOKUP($C18,[1]FDE!$A$1:$E$3179,5,0),(IF($B18="CDHU",VLOOKUP($C18,[1]CDHU!$A$1:$G$4132,7,0),(IF($B18="SIEC",VLOOKUP($C18,[1]SIEC!$A$1:$E$4166,5,0),(IF($B18="DER",VLOOKUP($C18,[1]DER!$A$1:$D$2157,5,0),(IF($B18="SICRO",VLOOKUP($C18,[1]SICRO!$A$1:$E$6354,5,0))))))))))))))))) -> FALSO
B19: INFRA | C19: 101603 | D19: =UPPER(IF($B19="EDIF",VLOOKUP($C19,[1]EDIF!$A$1:$E$2656,2,0),(IF($B19="INFRA",VLOOKUP($C19,[1]INFRA!$A$1:$E$843,2,0),(IF($B19="SINAPI",VLOOKUP($C19,[1]SINAPI!$A$1:$G$7498,2,0),(IF($B19="FDE",VLOOKUP($C19,[1]FDE!$A$1:$E$3179,2,0),(IF($B19="CDHU",VLOOKUP($C19,[1]CDHU!$A$1:$F$4132,2,0),(IF($B19="SIEC",VLOOKUP($C19,[1]SIEC!$A$1:$E$4166,2,0),(IF($B19="DER",VLOOKUP($C19,[1]DER!$A$1:$D$2157,2,0),(IF($B19="SICRO",VLOOKUP($C19,[1]SICRO!$A$1:$E$6354,2,0))))))))))))))))) -> PLACA DE OBRA EM CHAPA DE AÇO GALVANIZADO | E19: =UPPER(IF($B19="EDIF",VLOOKUP($C19,[1]EDIF!$A$1:$E$2656,3,0),(IF($B19="INFRA",VLOOKUP($C19,[1]INFRA!$A$1:$E$843,3,0),(IF($B19="SINAPI",VLOOKUP($C19,[1]SINAPI!$A$1:$G$7498,3,0),(IF($B19="FDE",VLOOKUP($C19,[1]FDE!$A$1:$E$3179,3,0),(IF($B19="CDHU",VLOOKUP($C19,[1]CDHU!$A$1:$F$4132,3,0),(IF($B19="SIEC",VLOOKUP($C19,[1]SIEC!$A$1:$E$4166,3,0),(IF($B19="DER",VLOOKUP($C19,[1]DER!$A$1:$D$2157,3,0),(IF($B19="SICRO",VLOOKUP($C19,[1]SICRO!$A$1:$E$6354,3,0))))))))))))))))) -> M2 | F19: 3 | G19: =ORÇ!K21 -> 391.58 | H19: =TRUNC(F19*G19,2) -> 1174.74 | I19: =B19 -> INFRA | J19: =ROUND(G19*F19,2) -> 1174.74 | L19: =UPPER(IF($B19="EDIF",VLOOKUP($C19,[1]EDIF!$A$1:$E$2656,5,0),(IF($B19="INFRA",VLOOKUP($C19,[1]INFRA!$A$1:$E$843,5,0),(IF($B19="SINAPI",VLOOKUP($C19,[1]SINAPI!$A$1:$G$7498,7,0),(IF($B19="FDE",VLOOKUP($C19,[1]FDE!$A$1:$E$3179,5,0),(IF($B19="CDHU",VLOOKUP($C19,[1]CDHU!$A$1:$G$4132,7,0),(IF($B19="SIEC",VLOOKUP($C19,[1]SIEC!$A$1:$E$4166,5,0),(IF($B19="DER",VLOOKUP($C19,[1]DER!$A$1:$D$2157,5,0),(IF($B19="SICRO",VLOOKUP($C19,[1]SICRO!$A$1:$E$6354,5,0))))))))))))))))) -> INFRA JUL/23
B20: INFRA | C20: 62305 | D20: =UPPER(IF($B20="EDIF",VLOOKUP($C20,[1]EDIF!$A$1:$E$2656,2,0),(IF($B20="INFRA",VLOOKUP($C20,[1]INFRA!$A$1:$E$843,2,0),(IF($B20="SINAPI",VLOOKUP($C20,[1]SINAPI!$A$1:$G$7498,2,0),(IF($B20="FDE",VLOOKUP($C20,[1]FDE!$A$1:$E$3179,2,0),(IF($B20="CDHU",VLOOKUP($C20,[1]CDHU!$A$1:$F$4132,2,0),(IF($B20="SIEC",VLOOKUP($C20,[1]SIEC!$A$1:$E$4166,2,0),(IF($B20="DER",VLOOKUP($C20,[1]DER!$A$1:$D$2157,2,0),(IF($B20="SICRO",VLOOKUP($C20,[1]SICRO!$A$1:$E$6354,2,0))))))))))))))))) -> SUBSTITUIÇÃO DE TAMPA DE CONCRETO PARA BOCA DE LOBO | E20: =UPPER(IF($B20="EDIF",VLOOKUP($C20,[1]EDIF!$A$1:$E$2656,3,0),(IF($B20="INFRA",VLOOKUP($C20,[1]INFRA!$A$1:$E$843,3,0),(IF($B20="SINAPI",VLOOKUP($C20,[1]SINAPI!$A$1:$G$7498,3,0),(IF($B20="FDE",VLOOKUP($C20,[1]FDE!$A$1:$E$3179,3,0),(IF($B20="CDHU",VLOOKUP($C20,[1]CDHU!$A$1:$F$4132,3,0),(IF($B20="SIEC",VLOOKUP($C20,[1]SIEC!$A$1:$E$4166,3,0),(IF($B20="DER",VLOOKUP($C20,[1]DER!$A$1:$D$2157,3,0),(IF($B20="SICRO",VLOOKUP($C20,[1]SICRO!$A$1:$E$6354,3,0))))))))))))))))) -> UN | F20: 2 | G20: =ORÇ!K23 -> 351.98 | H20: =TRUNC(F20*G20,2) -> 703.96 | I20: =B20 -> INFRA | J20: =ROUND(G20*F20,2) -> 703.96 | L20: =UPPER(IF($B20="EDIF",VLOOKUP($C20,[1]EDIF!$A$1:$E$2656,5,0),(IF($B20="INFRA",VLOOKUP($C20,[1]INFRA!$A$1:$E$843,5,0),(IF($B20="SINAPI",VLOOKUP($C20,[1]SINAPI!$A$1:$G$7498,7,0),(IF($B20="FDE",VLOOKUP($C20,[1]FDE!$A$1:$E$3179,5,0),(IF($B20="CDHU",VLOOKUP($C20,[1]CDHU!$A$1:$G$4132,7,0),(IF($B20="SIEC",VLOOKUP($C20,[1]SIEC!$A$1:$E$4166,5,0),(IF($B20="DER",VLOOKUP($C20,[1]DER!$A$1:$D$2157,5,0),(IF($B20="SICRO",VLOOKUP($C20,[1]SICRO!$A$1:$E$6354,5,0))))))))))))))))) -> INFRA JUL/23
B21: EDIF | C21: 175020 | D21: =UPPER(IF($B21="EDIF",VLOOKUP($C21,[1]EDIF!$A$1:$E$2656,2,0),(IF($B21="INFRA",VLOOKUP($C21,[1]INFRA!$A$1:$E$843,2,0),(IF($B21="SINAPI",VLOOKUP($C21,[1]SINAPI!$A$1:$G$7498,2,0),(IF($B21="FDE",VLOOKUP($C21,[1]FDE!$A$1:$E$3179,2,0),(IF($B21="CDHU",VLOOKUP($C21,[1]CDHU!$A$1:$F$4132,2,0),(IF($B21="SIEC",VLOOKUP($C21,[1]SIEC!$A$1:$E$4166,2,0),(IF($B21="DER",VLOOKUP($C21,[1]DER!$A$1:$D$2157,2,0),(IF($B21="SICRO",VLOOKUP($C21,[1]SICRO!$A$1:$E$6354,2,0))))))))))))))))) -> DEMOLIÇÃO MANUAL DE CONCRETO SIMPLES | E21: =UPPER(IF($B21="EDIF",VLOOKUP($C21,[1]EDIF!$A$1:$E$2656,3,0),(IF($B21="INFRA",VLOOKUP($C21,[1]INFRA!$A$1:$E$843,3,0),(IF($B21="SINAPI",VLOOKUP($C21,[1]SINAPI!$A$1:$G$7498,3,0),(IF($B21="FDE",VLOOKUP($C21,[1]FDE!$A$1:$E$3179,3,0),(IF($B21="CDHU",VLOOKUP($C21,[1]CDHU!$A$1:$F$4132,3,0),(IF($B21="SIEC",VLOOKUP($C21,[1]SIEC!$A$1:$E$4166,3,0),(IF($B21="DER",VLOOKUP($C21,[1]DER!$A$1:$D$2157,3,0),(IF($B21="SICRO",VLOOKUP($C21,[1]SICRO!$A$1:$E$6354,3,0))))))))))))))))) -> M3 | F21: 0.6 | G21: =ORÇ!K25 -> 265.15 | H21: =TRUNC(F21*G21,2) -> 159.09 | I21: =B21 -> EDIF | J21: =ROUND(G21*F21,2) -> 159.09 | L21: =UPPER(IF($B21="EDIF",VLOOKUP($C21,[1]EDIF!$A$1:$E$2656,5,0),(IF($B21="INFRA",VLOOKUP($C21,[1]INFRA!$A$1:$E$843,5,0),(IF($B21="SINAPI",VLOOKUP($C21,[1]SINAPI!$A$1:$G$7498,7,0),(IF($B21="FDE",VLOOKUP($C21,[1]FDE!$A$1:$E$3179,5,0),(IF($B21="CDHU",VLOOKUP($C21,[1]CDHU!$A$1:$G$4132,7,0),(IF($B21="SIEC",VLOOKUP($C21,[1]SIEC!$A$1:$E$4166,5,0),(IF($B21="DER",VLOOKUP($C21,[1]DER!$A$1:$D$2157,5,0),(IF($B21="SICRO",VLOOKUP($C21,[1]SICRO!$A$1:$E$6354,5,0))))))))))))))))) -> EDIF JUL/23
B22: INFRA | C22: 43100 | D22: =UPPER(IF($B22="EDIF",VLOOKUP($C22,[1]EDIF!$A$1:$E$2656,2,0),(IF($B22="INFRA",VLOOKUP($C22,[1]INFRA!$A$1:$E$843,2,0),(IF($B22="SINAPI",VLOOKUP($C22,[1]SINAPI!$A$1:$G$7498,2,0),(IF($B22="FDE",VLOOKUP($C22,[1]FDE!$A$1:$E$3179,2,0),(IF($B22="CDHU",VLOOKUP($C22,[1]CDHU!$A$1:$F$4132,2,0),(IF($B22="SIEC",VLOOKUP($C22,[1]SIEC!$A$1:$E$4166,2,0),(IF($B22="DER",VLOOKUP($C22,[1]DER!$A$1:$D$2157,2,0),(IF($B22="SICRO",VLOOKUP($C22,[1]SICRO!$A$1:$E$6354,2,0))))))))))))))))) -> FORNECIMENTO DE TERRA, INCLUINDO ESCAVAÇÃO, CARGA E TRANSPORTE ATÉ A DISTÂNCIA MÉDIA DE 1,0KM, MEDIDO NO ATERRO COMPACTADO | E22: =UPPER(IF($B22="EDIF",VLOOKUP($C22,[1]EDIF!$A$1:$E$2656,3,0),(IF($B22="INFRA",VLOOKUP($C22,[1]INFRA!$A$1:$E$843,3,0),(IF($B22="SINAPI",VLOOKUP($C22,[1]SINAPI!$A$1:$G$7498,3,0),(IF($B22="FDE",VLOOKUP($C22,[1]FDE!$A$1:$E$3179,3,0),(IF($B22="CDHU",VLOOKUP($C22,[1]CDHU!$A$1:$F$4132,3,0),(IF($B22="SIEC",VLOOKUP($C22,[1]SIEC!$A$1:$E$4166,3,0),(IF($B22="DER",VLOOKUP($C22,[1]DER!$A$1:$D$2157,3,0),(IF($B22="SICRO",VLOOKUP($C22,[1]SICRO!$A$1:$E$6354,3,0))))))))))))))))) -> M3 | F22: 6 | G22: =ORÇ!K27 -> 31.72 | H22: =TRUNC(F22*G22,2) -> 190.32 | I22: =B22 -> INFRA | J22: =ROUND(G22*F22,2) -> 190.32 | L22: =UPPER(IF($B22="EDIF",VLOOKUP($C22,[1]EDIF!$A$1:$E$2656,5,0),(IF($B22="INFRA",VLOOKUP($C22,[1]INFRA!$A$1:$E$843,5,0),(IF($B22="SINAPI",VLOOKUP($C22,[1]SINAPI!$A$1:$G$7498,7,0),(IF($B22="FDE",VLOOKUP($C22,[1]FDE!$A$1:$E$3179,5,0),(IF($B22="CDHU",VLOOKUP($C22,[1]CDHU!$A$1:$G$4132,7,0),(IF($B22="SIEC",VLOOKUP($C22,[1]SIEC!$A$1:$E$4166,5,0),(IF($B22="DER",VLOOKUP($C22,[1]DER!$A$1:$D$2157,5,0),(IF($B22="SICRO",VLOOKUP($C22,[1]SICRO!$A$1:$E$6354,5,0))))))))))))))))) -> INFRA JUL/23
B23: INFRA | C23: 43200 | D23: =UPPER(IF($B23="EDIF",VLOOKUP($C23,[1]EDIF!$A$1:$E$2656,2,0),(IF($B23="INFRA",VLOOKUP($C23,[1]INFRA!$A$1:$E$843,2,0),(IF($B23="SINAPI",VLOOKUP($C23,[1]SINAPI!$A$1:$G$7498,2,0),(IF($B23="FDE",VLOOKUP($C23,[1]FDE!$A$1:$E$3179,2,0),(IF($B23="CDHU",VLOOKUP($C23,[1]CDHU!$A$1:$F$4132,2,0),(IF($B23="SIEC",VLOOKUP($C23,[1]SIEC!$A$1:$E$4166,2,0),(IF($B23="DER",VLOOKUP($C23,[1]DER!$A$1:$D$2157,2,0),(IF($B23="SICRO",VLOOKUP($C23,[1]SICRO!$A$1:$E$6354,2,0))))))))))))))))) -> COMPACTAÇÃO DE TERRA, MEDIDA NO ATERRO | E23: =UPPER(IF($B23="EDIF",VLOOKUP($C23,[1]EDIF!$A$1:$E$2656,3,0),(IF($B23="INFRA",VLOOKUP($C23,[1]INFRA!$A$1:$E$843,3,0),(IF($B23="SINAPI",VLOOKUP($C23,[1]SINAPI!$A$1:$G$7498,3,0),(IF($B23="FDE",VLOOKUP($C23,[1]FDE!$A$1:$E$3179,3,0),(IF($B23="CDHU",VLOOKUP($C23,[1]CDHU!$A$1:$F$4132,3,0),(IF($B23="SIEC",VLOOKUP($C23,[1]SIEC!$A$1:$E$4166,3,0),(IF($B23="DER",VLOOKUP($C23,[1]DER!$A$1:$D$2157,3,0),(IF($B23="SICRO",VLOOKUP($C23,[1]SICRO!$A$1:$E$6354,3,0))))))))))))))))) -> M3 | F23: 6 | G23: =ORÇ!K29 -> 8.58 | H23: =TRUNC(F23*G23,2) -> 51.48 | I23: =B23 -> INFRA | J23: =ROUND(G23*F23,2) -> 51.48 | L23: =UPPER(IF($B23="EDIF",VLOOKUP($C23,[1]EDIF!$A$1:$E$2656,5,0),(IF($B23="INFRA",VLOOKUP($C23,[1]INFRA!$A$1:$E$843,5,0),(IF($B23="SINAPI",VLOOKUP($C23,[1]SINAPI!$A$1:$G$7498,7,0),(IF($B23="FDE",VLOOKUP($C23,[1]FDE!$A$1:$E$3179,5,0),(IF($B23="CDHU",VLOOKUP($C23,[1]CDHU!$A$1:$G$4132,7,0),(IF($B23="SIEC",VLOOKUP($C23,[1]SIEC!$A$1:$E$4166,5,0),(IF($B23="DER",VLOOKUP($C23,[1]DER!$A$1:$D$2157,5,0),(IF($B23="SICRO",VLOOKUP($C23,[1]SICRO!$A$1:$E$6354,5,0))))))))))))))))) -> INFRA JUL/23
B24: INFRA | C24: 59201 | D24: =UPPER(IF($B24="EDIF",VLOOKUP($C24,[1]EDIF!$A$1:$E$2656,2,0),(IF($B24="INFRA",VLOOKUP($C24,[1]INFRA!$A$1:$E$843,2,0),(IF($B24="SINAPI",VLOOKUP($C24,[1]SINAPI!$A$1:$G$7498,2,0),(IF($B24="FDE",VLOOKUP($C24,[1]FDE!$A$1:$E$3179,2,0),(IF($B24="CDHU",VLOOKUP($C24,[1]CDHU!$A$1:$F$4132,2,0),(IF($B24="SIEC",VLOOKUP($C24,[1]SIEC!$A$1:$E$4166,2,0),(IF($B24="DER",VLOOKUP($C24,[1]DER!$A$1:$D$2157,2,0),(IF($B24="SICRO",VLOOKUP($C24,[1]SICRO!$A$1:$E$6354,2,0))))))))))))))))) -> PISO/ PASSEIO DE CONCRETO, INCLUINDO O PREPARO DA CAIXA, LASTRO DE BRITA E A MÃO DE OBRA REFERENTE AOS SERVIÇOS NO CONCRETO: LANÇAMENTO E ACABAMENTO (RIPADO E DESEMPENADO) EXCLUSIVE O FORNECIMENTO DO CONCRETO | E24: =UPPER(IF($B24="EDIF",VLOOKUP($C24,[1]EDIF!$A$1:$E$2656,3,0),(IF($B24="INFRA",VLOOKUP($C24,[1]INFRA!$A$1:$E$843,3,0),(IF($B24="SINAPI",VLOOKUP($C24,[1]SINAPI!$A$1:$G$7498,3,0),(IF($B24="FDE",VLOOKUP($C24,[1]FDE!$A$1:$E$3179,3,0),(IF($B24="CDHU",VLOOKUP($C24,[1]CDHU!$A$1:$F$4132,3,0),(IF($B24="SIEC",VLOOKUP($C24,[1]SIEC!$A$1:$E$4166,3,0),(IF($B24="DER",VLOOKUP($C24,[1]DER!$A$1:$D$2157,3,0),(IF($B24="SICRO",VLOOKUP($C24,[1]SICRO!$A$1:$E$6354,3,0))))))))))))))))) -> M3 | F24: 0.42 | G24: =ORÇ!K31 -> 347.96 | H24: =TRUNC(F24*G24,2) -> 146.14 | I24: =B24 -> INFRA | J24: =ROUND(G24*F24,2) -> 146.14 | L24: =UPPER(IF($B24="EDIF",VLOOKUP($C24,[1]EDIF!$A$1:$E$2656,5,0),(IF($B24="INFRA",VLOOKUP($C24,[1]INFRA!$A$1:$E$843,5,0),(IF($B24="SINAPI",VLOOKUP($C24,[1]SINAPI!$A$1:$G$7498,7,0),(IF($B24="FDE",VLOOKUP($C24,[1]FDE!$A$1:$E$3179,5,0),(IF($B24="CDHU",VLOOKUP($C24,[1]CDHU!$A$1:$G$4132,7,0),(IF($B24="SIEC",VLOOKUP($C24,[1]SIEC!$A$1:$E$4166,5,0),(IF($B24="DER",VLOOKUP($C24,[1]DER!$A$1:$D$2157,5,0),(IF($B24="SICRO",VLOOKUP($C24,[1]SICRO!$A$1:$E$6354,5,0))))))))))))))))) -> INFRA JUL/23
G25: SUB TOTAL | J25: =SUM(J19:J24) -> 2425.73 | L25: =UPPER(IF($B25="EDIF",VLOOKUP($C25,[1]EDIF!$A$1:$E$2656,5,0),(IF($B25="INFRA",VLOOKUP($C25,[1]INFRA!$A$1:$E$843,5,0),(IF($B25="SINAPI",VLOOKUP($C25,[1]SINAPI!$A$1:$G$7498,7,0),(IF($B25="FDE",VLOOKUP($C25,[1]FDE!$A$1:$E$3179,5,0),(IF($B25="CDHU",VLOOKUP($C25,[1]CDHU!$A$1:$G$4132,7,0),(IF($B25="SIEC",VLOOKUP($C25,[1]SIEC!$A$1:$E$4166,5,0),(IF($B25="DER",VLOOKUP($C25,[1]DER!$A$1:$D$2157,5,0),(IF($B25="SICRO",VLOOKUP($C25,[1]SICRO!$A$1:$E$6354,5,0))))))))))))))))) -> FALSO
D26: =ORÇ!D33 -> RUA: TOMIO KATAGUIRI -PROX.Nº100
B27: INFRA | C27: =ORÇ!C34 -> 101603 | D27: =UPPER(IF($B27="EDIF",VLOOKUP($C27,[1]EDIF!$A$1:$E$2656,2,0),(IF($B27="INFRA",VLOOKUP($C27,[1]INFRA!$A$1:$E$843,2,0),(IF($B27="SINAPI",VLOOKUP($C27,[1]SINAPI!$A$1:$G$7498,2,0),(IF($B27="FDE",VLOOKUP($C27,[1]FDE!$A$1:$E$3179,2,0),(IF($B27="CDHU",VLOOKUP($C27,[1]CDHU!$A$1:$F$4132,2,0),(IF($B27="SIEC",VLOOKUP($C27,[1]SIEC!$A$1:$E$4166,2,0),(IF($B27="DER",VLOOKUP($C27,[1]DER!$A$1:$D$2157,2,0),(IF($B27="SICRO",VLOOKUP($C27,[1]SICRO!$A$1:$E$6354,2,0))))))))))))))))) -> PLACA DE OBRA EM CHAPA DE AÇO GALVANIZADO | E27: =UPPER(IF($B27="EDIF",VLOOKUP($C27,[1]EDIF!$A$1:$E$2656,3,0),(IF($B27="INFRA",VLOOKUP($C27,[1]INFRA!$A$1:$E$843,3,0),(IF($B27="SINAPI",VLOOKUP($C27,[1]SINAPI!$A$1:$G$7498,3,0),(IF($B27="FDE",VLOOKUP($C27,[1]FDE!$A$1:$E$3179,3,0),(IF($B27="CDHU",VLOOKUP($C27,[1]CDHU!$A$1:$F$4132,3,0),(IF($B27="SIEC",VLOOKUP($C27,[1]SIEC!$A$1:$E$4166,3,0),(IF($B27="DER",VLOOKUP($C27,[1]DER!$A$1:$D$2157,3,0),(IF($B27="SICRO",VLOOKUP($C27,[1]SICRO!$A$1:$E$6354,3,0))))))))))))))))) -> M2 | F27: 3 | G27: =ORÇ!K34 -> 391.58 | H27: =TRUNC(F27*G27,2) -> 1174.74 | I27: =B27 -> INFRA | J27: =ROUND(G27*F27,2) -> 1174.74
B28: INFRA | C28: =ORÇ!C36 -> 62302 | D28: =UPPER(IF($B28="EDIF",VLOOKUP($C28,[1]EDIF!$A$1:$E$2656,2,0),(IF($B28="INFRA",VLOOKUP($C28,[1]INFRA!$A$1:$E$843,2,0),(IF($B28="SINAPI",VLOOKUP($C28,[1]SINAPI!$A$1:$G$7498,2,0),(IF($B28="FDE",VLOOKUP($C28,[1]FDE!$A$1:$E$3179,2,0),(IF($B28="CDHU",VLOOKUP($C28,[1]CDHU!$A$1:$F$4132,2,0),(IF($B28="SIEC",VLOOKUP($C28,[1]SIEC!$A$1:$E$4166,2,0),(IF($B28="DER",VLOOKUP($C28,[1]DER!$A$1:$D$2157,2,0),(IF($B28="SICRO",VLOOKUP($C28,[1]SICRO!$A$1:$E$6354,2,0))))))))))))))))) -> REFORMA DE BOCA DE LOBO DUPLA | E28: =UPPER(IF($B28="EDIF",VLOOKUP($C28,[1]EDIF!$A$1:$E$2656,3,0),(IF($B28="INFRA",VLOOKUP($C28,[1]INFRA!$A$1:$E$843,3,0),(IF($B28="SINAPI",VLOOKUP($C28,[1]SINAPI!$A$1:$G$7498,3,0),(IF($B28="FDE",VLOOKUP($C28,[1]FDE!$A$1:$E$3179,3,0),(IF($B28="CDHU",VLOOKUP($C28,[1]CDHU!$A$1:$F$4132,3,0),(IF($B28="SIEC",VLOOKUP($C28,[1]SIEC!$A$1:$E$4166,3,0),(IF($B28="DER",VLOOKUP($C28,[1]DER!$A$1:$D$2157,3,0),(IF($B28="SICRO",VLOOKUP($C28,[1]SICRO!$A$1:$E$6354,3,0))))))))))))))))) -> UN | F28: 1 | G28: =ORÇ!K36 -> 1080.42 | H28: =TRUNC(F28*G28,2) -> 1080.42 | I28: =B28 -> INFRA | J28: =ROUND(G28*F28,2) -> 1080.42 | L28: =UPPER(IF($B28="EDIF",VLOOKUP($C28,[1]EDIF!$A$1:$E$2656,5,0),(IF($B28="INFRA",VLOOKUP($C28,[1]INFRA!$A$1:$E$843,5,0),(IF($B28="SINAPI",VLOOKUP($C28,[1]SINAPI!$A$1:$G$7498,7,0),(IF($B28="FDE",VLOOKUP($C28,[1]FDE!$A$1:$E$3179,5,0),(IF($B28="CDHU",VLOOKUP($C28,[1]CDHU!$A$1:$G$4132,7,0),(IF($B28="SIEC",VLOOKUP($C28,[1]SIEC!$A$1:$E$4166,5,0),(IF($B28="DER",VLOOKUP($C28,[1]DER!$A$1:$D$2157,5,0),(IF($B28="SICRO",VLOOKUP($C28,[1]SICRO!$A$1:$E$6354,5,0))))))))))))))))) -> INFRA JUL/23
B29: EDIF | C29: 80276 | D29: =UPPER(IF($B29="EDIF",VLOOKUP($C29,[1]EDIF!$A$1:$E$2656,2,0),(IF($B29="INFRA",VLOOKUP($C29,[1]INFRA!$A$1:$E$843,2,0),(IF($B29="SINAPI",VLOOKUP($C29,[1]SINAPI!$A$1:$G$7498,2,0),(IF($B29="FDE",VLOOKUP($C29,[1]FDE!$A$1:$E$3179,2,0),(IF($B29="CDHU",VLOOKUP($C29,[1]CDHU!$A$1:$F$4132,2,0),(IF($B29="SIEC",VLOOKUP($C29,[1]SIEC!$A$1:$E$4166,2,0),(IF($B29="DER",VLOOKUP($C29,[1]DER!$A$1:$D$2157,2,0),(IF($B29="SICRO",VLOOKUP($C29,[1]SICRO!$A$1:$E$6354,2,0))))))))))))))))) -> GRADE DE PROTEÇÃO EM FERRO GALVANIZADO ELETROFUNDIDO - BARRA 25X2MM, MALHA 65X132MM | E29: =UPPER(IF($B29="EDIF",VLOOKUP($C29,[1]EDIF!$A$1:$E$2656,3,0),(IF($B29="INFRA",VLOOKUP($C29,[1]INFRA!$A$1:$E$843,3,0),(IF($B29="SINAPI",VLOOKUP($C29,[1]SINAPI!$A$1:$G$7498,3,0),(IF($B29="FDE",VLOOKUP($C29,[1]FDE!$A$1:$E$3179,3,0),(IF($B29="CDHU",VLOOKUP($C29,[1]CDHU!$A$1:$F$4132,3,0),(IF($B29="SIEC",VLOOKUP($C29,[1]SIEC!$A$1:$E$4166,3,0),(IF($B29="DER",VLOOKUP($C29,[1]DER!$A$1:$D$2157,3,0),(IF($B29="SICRO",VLOOKUP($C29,[1]SICRO!$A$1:$E$6354,3,0))))))))))))))))) -> M2 | F29: 3.36 | G29: =ORÇ!K38 -> 282.01 | H29: =TRUNC(F29*G29,2) -> 947.55 | I29: =B29 -> EDIF | J29: =ROUND(G29*F29,2) -> 947.55 | L29: =UPPER(IF($B29="EDIF",VLOOKUP($C29,[1]EDIF!$A$1:$E$2656,5,0),(IF($B29="INFRA",VLOOKUP($C29,[1]INFRA!$A$1:$E$843,5,0),(IF($B29="SINAPI",VLOOKUP($C29,[1]SINAPI!$A$1:$G$7498,7,0),(IF($B29="FDE",VLOOKUP($C29,[1]FDE!$A$1:$E$3179,5,0),(IF($B29="CDHU",VLOOKUP($C29,[1]CDHU!$A$1:$G$4132,7,0),(IF($B29="SIEC",VLOOKUP($C29,[1]SIEC!$A$1:$E$4166,5,0),(IF($B29="DER",VLOOKUP($C29,[1]DER!$A$1:$D$2157,5,0),(IF($B29="SICRO",VLOOKUP($C29,[1]SICRO!$A$1:$E$6354,5,0))))))))))))))))) -> EDIF JUL/23
B30: CDHU | C30: =ORÇ!C40 -> 29.01.210 | D30: =UPPER(IF($B30="EDIF",VLOOKUP($C30,[1]EDIF!$A$1:$E$2656,2,0),(IF($B30="INFRA",VLOOKUP($C30,[1]INFRA!$A$1:$E$843,2,0),(IF($B30="SINAPI",VLOOKUP($C30,[1]SINAPI!$A$1:$G$7498,2,0),(IF($B30="FDE",VLOOKUP($C30,[1]FDE!$A$1:$E$3179,2,0),(IF($B30="CDHU",VLOOKUP($C30,[1]CDHU!$A$1:$F$4132,2,0),(IF($B30="SIEC",VLOOKUP($C30,[1]SIEC!$A$1:$E$4166,2,0),(IF($B30="DER",VLOOKUP($C30,[1]DER!$A$1:$D$2157,2,0),(IF($B30="SICRO",VLOOKUP($C30,[1]SICRO!$A$1:$E$6354,2,0))))))))))))))))) -> CANTONEIRA EM AÇO GALVANIZADO | E30: =UPPER(IF($B30="EDIF",VLOOKUP($C30,[1]EDIF!$A$1:$E$2656,3,0),(IF($B30="INFRA",VLOOKUP($C30,[1]INFRA!$A$1:$E$843,3,0),(IF($B30="SINAPI",VLOOKUP($C30,[1]SINAPI!$A$1:$G$7498,3,0),(IF($B30="FDE",VLOOKUP($C30,[1]FDE!$A$1:$E$3179,3,0),(IF($B30="CDHU",VLOOKUP($C30,[1]CDHU!$A$1:$F$4132,3,0),(IF($B30="SIEC",VLOOKUP($C30,[1]SIEC!$A$1:$E$4166,3,0),(IF($B30="DER",VLOOKUP($C30,[1]DER!$A$1:$D$2157,3,0),(IF($B30="SICRO",VLOOKUP($C30,[1]SICRO!$A$1:$E$6354,3,0))))))))))))))))) -> KG | F30: 18 | G30: =ORÇ!K40 -> 29.08 | H30: =TRUNC(F30*G30,2) -> 523.44 | I30: =B30 -> CDHU | J30: =ROUND(G30*F30,2) -> 523.44 | L30: =UPPER(IF($B30="EDIF",VLOOKUP($C30,[1]EDIF!$A$1:$E$2656,5,0),(IF($B30="INFRA",VLOOKUP($C30,[1]INFRA!$A$1:$E$843,5,0),(IF($B30="SINAPI",VLOOKUP($C30,[1]SINAPI!$A$1:$G$7498,7,0),(IF($B30="FDE",VLOOKUP($C30,[1]FDE!$A$1:$E$3179,5,0),(IF($B30="CDHU",VLOOKUP($C30,[1]CDHU!$A$1:$G$4132,7,0),(IF($B30="SIEC",VLOOKUP($C30,[1]SIEC!$A$1:$E$4166,5,0),(IF($B30="DER",VLOOKUP($C30,[1]DER!$A$1:$D$2157,5,0),(IF($B30="SICRO",VLOOKUP($C30,[1]SICRO!$A$1:$E$6354,5,0))))))))))))))))) -> CDHU 192
G31: SUB TOTAL | J31: =SUM(J27:J30) -> 3726.15
D32: =ORÇ!D42 -> RUA: RYOSHIN HASEGAWA -PROX AO Nº122
B33: INFRA | C33: 101603 | D33: =UPPER(IF($B33="EDIF",VLOOKUP($C33,[1]EDIF!$A$1:$E$2656,2,0),(IF($B33="INFRA",VLOOKUP($C33,[1]INFRA!$A$1:$E$843,2,0),(IF($B33="SINAPI",VLOOKUP($C33,[1]SINAPI!$A$1:$G$7498,2,0),(IF($B33="FDE",VLOOKUP($C33,[1]FDE!$A$1:$E$3179,2,0),(IF($B33="CDHU",VLOOKUP($C33,[1]CDHU!$A$1:$F$4132,2,0),(IF($B33="SIEC",VLOOKUP($C33,[1]SIEC!$A$1:$E$4166,2,0),(IF($B33="DER",VLOOKUP($C33,[1]DER!$A$1:$D$2157,2,0),(IF($B33="SICRO",VLOOKUP($C33,[1]SICRO!$A$1:$E$6354,2,0))))))))))))))))) -> PLACA DE OBRA EM CHAPA DE AÇO GALVANIZADO | E33: =UPPER(IF($B33="EDIF",VLOOKUP($C33,[1]EDIF!$A$1:$E$2656,3,0),(IF($B33="INFRA",VLOOKUP($C33,[1]INFRA!$A$1:$E$843,3,0),(IF($B33="SINAPI",VLOOKUP($C33,[1]SINAPI!$A$1:$G$7498,3,0),(IF($B33="FDE",VLOOKUP($C33,[1]FDE!$A$1:$E$3179,3,0),(IF($B33="CDHU",VLOOKUP($C33,[1]CDHU!$A$1:$F$4132,3,0),(IF($B33="SIEC",VLOOKUP($C33,[1]SIEC!$A$1:$E$4166,3,0),(IF($B33="DER",VLOOKUP($C33,[1]DER!$A$1:$D$2157,3,0),(IF($B33="SICRO",VLOOKUP($C33,[1]SICRO!$A$1:$E$6354,3,0))))))))))))))))) -> M2 | F33: 3 | G33: =ORÇ!K43 -> 391.58 | H33: =TRUNC(F33*G33,2) -> 1174.74 | I33: =B33 -> INFRA | J33: =ROUND(G33*F33,2) -> 1174.74 | L33: =UPPER(IF($B33="EDIF",VLOOKUP($C33,[1]EDIF!$A$1:$E$2656,5,0),(IF($B33="INFRA",VLOOKUP($C33,[1]INFRA!$A$1:$E$843,5,0),(IF($B33="SINAPI",VLOOKUP($C33,[1]SINAPI!$A$1:$G$7498,7,0),(IF($B33="FDE",VLOOKUP($C33,[1]FDE!$A$1:$E$3179,5,0),(IF($B33="CDHU",VLOOKUP($C33,[1]CDHU!$A$1:$G$4132,7,0),(IF($B33="SIEC",VLOOKUP($C33,[1]SIEC!$A$1:$E$4166,5,0),(IF($B33="DER",VLOOKUP($C33,[1]DER!$A$1:$D$2157,5,0),(IF($B33="SICRO",VLOOKUP($C33,[1]SICRO!$A$1:$E$6354,5,0))))))))))))))))) -> INFRA JUL/23
B34: INFRA | C34: 50300 | D34: =UPPER(IF($B34="EDIF",VLOOKUP($C34,[1]EDIF!$A$1:$E$2656,2,0),(IF($B34="INFRA",VLOOKUP($C34,[1]INFRA!$A$1:$E$843,2,0),(IF($B34="SINAPI",VLOOKUP($C34,[1]SINAPI!$A$1:$G$7498,2,0),(IF($B34="FDE",VLOOKUP($C34,[1]FDE!$A$1:$E$3179,2,0),(IF($B34="CDHU",VLOOKUP($C34,[1]CDHU!$A$1:$F$4132,2,0),(IF($B34="SIEC",VLOOKUP($C34,[1]SIEC!$A$1:$E$4166,2,0),(IF($B34="DER",VLOOKUP($C34,[1]DER!$A$1:$D$2157,2,0),(IF($B34="SICRO",VLOOKUP($C34,[1]SICRO!$A$1:$E$6354,2,0))))))))))))))))) -> DEMOLIÇÃO DE PAVIMENTO DE CONCRETO, SARJETA OU SARJETÃO, INCLUI CARGA EM CAMINHÃO | E34: =UPPER(IF($B34="EDIF",VLOOKUP($C34,[1]EDIF!$A$1:$E$2656,3,0),(IF($B34="INFRA",VLOOKUP($C34,[1]INFRA!$A$1:$E$843,3,0),(IF($B34="SINAPI",VLOOKUP($C34,[1]SINAPI!$A$1:$G$7498,3,0),(IF($B34="FDE",VLOOKUP($C34,[1]FDE!$A$1:$E$3179,3,0),(IF($B34="CDHU",VLOOKUP($C34,[1]CDHU!$A$1:$F$4132,3,0),(IF($B34="SIEC",VLOOKUP($C34,[1]SIEC!$A$1:$E$4166,3,0),(IF($B34="DER",VLOOKUP($C34,[1]DER!$A$1:$D$2157,3,0),(IF($B34="SICRO",VLOOKUP($C34,[1]SICRO!$A$1:$E$6354,3,0))))))))))))))))) -> M2 | F34: 73.7 | G34: =ORÇ!K44 -> 27.67 | H34: =TRUNC(F34*G34,2) -> 2039.27 | I34: =B34 -> INFRA | J34: =ROUND(G34*F34,2) -> 2039.28 | L34: =UPPER(IF($B34="EDIF",VLOOKUP($C34,[1]EDIF!$A$1:$E$2656,5,0),(IF($B34="INFRA",VLOOKUP($C34,[1]INFRA!$A$1:$E$843,5,0),(IF($B34="SINAPI",VLOOKUP($C34,[1]SINAPI!$A$1:$G$7498,7,0),(IF($B34="FDE",VLOOKUP($C34,[1]FDE!$A$1:$E$3179,5,0),(IF($B34="CDHU",VLOOKUP($C34,[1]CDHU!$A$1:$G$4132,7,0),(IF($B34="SIEC",VLOOKUP($C34,[1]SIEC!$A$1:$E$4166,5,0),(IF($B34="DER",VLOOKUP($C34,[1]DER!$A$1:$D$2157,5,0),(IF($B34="SICRO",VLOOKUP($C34,[1]SICRO!$A$1:$E$6354,5,0))))))))))))))))) -> INFRA JUL/23
B35: EDIF | C35: 10106 | D35: =UPPER(IF($B35="EDIF",VLOOKUP($C35,[1]EDIF!$A$1:$E$2656,2,0),(IF($B35="INFRA",VLOOKUP($C35,[1]INFRA!$A$1:$E$843,2,0),(IF($B35="SINAPI",VLOOKUP($C35,[1]SINAPI!$A$1:$G$7498,2,0),(IF($B35="FDE",VLOOKUP($C35,[1]FDE!$A$1:$E$3179,2,0),(IF($B35="CDHU",VLOOKUP($C35,[1]CDHU!$A$1:$F$4132,2,0),(IF($B35="SIEC",VLOOKUP($C35,[1]SIEC!$A$1:$E$4166,2,0),(IF($B35="DER",VLOOKUP($C35,[1]DER!$A$1:$D$2157,2,0),(IF($B35="SICRO",VLOOKUP($C35,[1]SICRO!$A$1:$E$6354,2,0))))))))))))))))) -> CARGA MANUAL E REMOÇÃO DE ENTULHO, INCLUSIVE TRANSPORTE ATÉ 1 KM | E35: =UPPER(IF($B35="EDIF",VLOOKUP($C35,[1]EDIF!$A$1:$E$2656,3,0),(IF($B35="INFRA",VLOOKUP($C35,[1]INFRA!$A$1:$E$843,3,0),(IF($B35="SINAPI",VLOOKUP($C35,[1]SINAPI!$A$1:$G$7498,3,0),(IF($B35="FDE",VLOOKUP($C35,[1]FDE!$A$1:$E$3179,3,0),(IF($B35="CDHU",VLOOKUP($C35,[1]CDHU!$A$1:$F$4132,3,0),(IF($B35="SIEC",VLOOKUP($C35,[1]SIEC!$A$1:$E$4166,3,0),(IF($B35="DER",VLOOKUP($C35,[1]DER!$A$1:$D$2157,3,0),(IF($B35="SICRO",VLOOKUP($C35,[1]SICRO!$A$1:$E$6354,3,0))))))))))))))))) -> M3 | F35: 16.6 | G35: =ORÇ!K46 -> 51.66 | H35: =TRUNC(F35*G35,2) -> 857.55 | I35: =B35 -> EDIF | J35: =ROUND(G35*F35,2) -> 857.56 | L35: =UPPER(IF($B35="EDIF",VLOOKUP($C35,[1]EDIF!$A$1:$E$2656,5,0),(IF($B35="INFRA",VLOOKUP($C35,[1]INFRA!$A$1:$E$843,5,0),(IF($B35="SINAPI",VLOOKUP($C35,[1]SINAPI!$A$1:$G$7498,7,0),(IF($B35="FDE",VLOOKUP($C35,[1]FDE!$A$1:$E$3179,5,0),(IF($B35="CDHU",VLOOKUP($C35,[1]CDHU!$A$1:$G$4132,7,0),(IF($B35="SIEC",VLOOKUP($C35,[1]SIEC!$A$1:$E$4166,5,0),(IF($B35="DER",VLOOKUP($C35,[1]DER!$A$1:$D$2157,5,0),(IF($B35="SICRO",VLOOKUP($C35,[1]SICRO!$A$1:$E$6354,5,0))))))))))))))))) -> EDIF JUL/23
B36: EDIF | C36: 10110 | D36: =UPPER(IF($B36="EDIF",VLOOKUP($C36,[1]EDIF!$A$1:$E$2656,2,0),(IF($B36="INFRA",VLOOKUP($C36,[1]INFRA!$A$1:$E$843,2,0),(IF($B36="SINAPI",VLOOKUP($C36,[1]SINAPI!$A$1:$G$7498,2,0),(IF($B36="FDE",VLOOKUP($C36,[1]FDE!$A$1:$E$3179,2,0),(IF($B36="CDHU",VLOOKUP($C36,[1]CDHU!$A$1:$F$4132,2,0),(IF($B36="SIEC",VLOOKUP($C36,[1]SIEC!$A$1:$E$4166,2,0),(IF($B36="DER",VLOOKUP($C36,[1]DER!$A$1:$D$2157,2,0),(IF($B36="SICRO",VLOOKUP($C36,[1]SICRO!$A$1:$E$6354,2,0))))))))))))))))) -> TRANSPORTE DE ENTULHO POR CAMINHÃO BASCULANTE, A PARTIR DE 1KM | E36: =UPPER(IF($B36="EDIF",VLOOKUP($C36,[1]EDIF!$A$1:$E$2656,3,0),(IF($B36="INFRA",VLOOKUP($C36,[1]INFRA!$A$1:$E$843,3,0),(IF($B36="SINAPI",VLOOKUP($C36,[1]SINAPI!$A$1:$G$7498,3,0),(IF($B36="FDE",VLOOKUP($C36,[1]FDE!$A$1:$E$3179,3,0),(IF($B36="CDHU",VLOOKUP($C36,[1]CDHU!$A$1:$F$4132,3,0),(IF($B36="SIEC",VLOOKUP($C36,[1]SIEC!$A$1:$E$4166,3,0),(IF($B36="DER",VLOOKUP($C36,[1]DER!$A$1:$D$2157,3,0),(IF($B36="SICRO",VLOOKUP($C36,[1]SICRO!$A$1:$E$6354,3,0))))))))))))))))) -> M3XKM | F36: 294.8 | G36: =ORÇ!K48 -> 1.66 | H36: =TRUNC(F36*G36,2) -> 489.36 | I36: =B36 -> EDIF | J36: =ROUND(G36*F36,2) -> 489.37 | L36: =UPPER(IF($B36="EDIF",VLOOKUP($C36,[1]EDIF!$A$1:$E$2656,5,0),(IF($B36="INFRA",VLOOKUP($C36,[1]INFRA!$A$1:$E$843,5,0),(IF($B36="SINAPI",VLOOKUP($C36,[1]SINAPI!$A$1:$G$7498,7,0),(IF($B36="FDE",VLOOKUP($C36,[1]FDE!$A$1:$E$3179,5,0),(IF($B36="CDHU",VLOOKUP($C36,[1]CDHU!$A$1:$G$4132,7,0),(IF($B36="SIEC",VLOOKUP($C36,[1]SIEC!$A$1:$E$4166,5,0),(IF($B36="DER",VLOOKUP($C36,[1]DER!$A$1:$D$2157,5,0),(IF($B36="SICRO",VLOOKUP($C36,[1]SICRO!$A$1:$E$6354,5,0))))))))))))))))) -> EDIF JUL/23
B37: EDIF | C37: 175045 | D37: =UPPER(IF($B37="EDIF",VLOOKUP($C37,[1]EDIF!$A$1:$E$2656,2,0),(IF($B37="INFRA",VLOOKUP($C37,[1]INFRA!$A$1:$E$843,2,0),(IF($B37="SINAPI",VLOOKUP($C37,[1]SINAPI!$A$1:$G$7498,2,0),(IF($B37="FDE",VLOOKUP($C37,[1]FDE!$A$1:$E$3179,2,0),(IF($B37="CDHU",VLOOKUP($C37,[1]CDHU!$A$1:$F$4132,2,0),(IF($B37="SIEC",VLOOKUP($C37,[1]SIEC!$A$1:$E$4166,2,0),(IF($B37="DER",VLOOKUP($C37,[1]DER!$A$1:$D$2157,2,0),(IF($B37="SICRO",VLOOKUP($C37,[1]SICRO!$A$1:$E$6354,2,0))))))))))))))))) -> DEMOLIÇÃO DE GUIAS DE CONCRETO | E37: =UPPER(IF($B37="EDIF",VLOOKUP($C37,[1]EDIF!$A$1:$E$2656,3,0),(IF($B37="INFRA",VLOOKUP($C37,[1]INFRA!$A$1:$E$843,3,0),(IF($B37="SINAPI",VLOOKUP($C37,[1]SINAPI!$A$1:$G$7498,3,0),(IF($B37="FDE",VLOOKUP($C37,[1]FDE!$A$1:$E$3179,3,0),(IF($B37="CDHU",VLOOKUP($C37,[1]CDHU!$A$1:$F$4132,3,0),(IF($B37="SIEC",VLOOKUP($C37,[1]SIEC!$A$1:$E$4166,3,0),(IF($B37="DER",VLOOKUP($C37,[1]DER!$A$1:$D$2157,3,0),(IF($B37="SICRO",VLOOKUP($C37,[1]SICRO!$A$1:$E$6354,3,0))))))))))))))))) -> M | F37: 31 | G37: =ORÇ!K50 -> 9.64 | H37: =TRUNC(F37*G37,2) -> 298.84 | I37: =B37 -> EDIF | J37: =ROUND(G37*F37,2) -> 298.84 | L37: =UPPER(IF($B37="EDIF",VLOOKUP($C37,[1]EDIF!$A$1:$E$2656,5,0),(IF($B37="INFRA",VLOOKUP($C37,[1]INFRA!$A$1:$E$843,5,0),(IF($B37="SINAPI",VLOOKUP($C37,[1]SINAPI!$A$1:$G$7498,7,0),(IF($B37="FDE",VLOOKUP($C37,[1]FDE!$A$1:$E$3179,5,0),(IF($B37="CDHU",VLOOKUP($C37,[1]CDHU!$A$1:$G$4132,7,0),(IF($B37="SIEC",VLOOKUP($C37,[1]SIEC!$A$1:$E$4166,5,0),(IF($B37="DER",VLOOKUP($C37,[1]DER!$A$1:$D$2157,5,0),(IF($B37="SICRO",VLOOKUP($C37,[1]SICRO!$A$1:$E$6354,5,0))))))))))))))))) -> EDIF JUL/23
B38: INFRA | C38: 62203 | D38: =UPPER(IF($B38="EDIF",VLOOKUP($C38,[1]EDIF!$A$1:$E$2656,2,0),(IF($B38="INFRA",VLOOKUP($C38,[1]INFRA!$A$1:$E$843,2,0),(IF($B38="SINAPI",VLOOKUP($C38,[1]SINAPI!$A$1:$G$7498,2,0),(IF($B38="FDE",VLOOKUP($C38,[1]FDE!$A$1:$E$3179,2,0),(IF($B38="CDHU",VLOOKUP($C38,[1]CDHU!$A$1:$F$4132,2,0),(IF($B38="SIEC",VLOOKUP($C38,[1]SIEC!$A$1:$E$4166,2,0),(IF($B38="DER",VLOOKUP($C38,[1]DER!$A$1:$D$2157,2,0),(IF($B38="SICRO",VLOOKUP($C38,[1]SICRO!$A$1:$E$6354,2,0))))))))))))))))) -> BOCA DE LOBO SIMPLES | E38: =UPPER(IF($B38="EDIF",VLOOKUP($C38,[1]EDIF!$A$1:$E$2656,3,0),(IF($B38="INFRA",VLOOKUP($C38,[1]INFRA!$A$1:$E$843,3,0),(IF($B38="SINAPI",VLOOKUP($C38,[1]SINAPI!$A$1:$G$7498,3,0),(IF($B38="FDE",VLOOKUP($C38,[1]FDE!$A$1:$E$3179,3,0),(IF($B38="CDHU",VLOOKUP($C38,[1]CDHU!$A$1:$F$4132,3,0),(IF($B38="SIEC",VLOOKUP($C38,[1]SIEC!$A$1:$E$4166,3,0),(IF($B38="DER",VLOOKUP($C38,[1]DER!$A$1:$D$2157,3,0),(IF($B38="SICRO",VLOOKUP($C38,[1]SICRO!$A$1:$E$6354,3,0))))))))))))))))) -> UN | F38: 1 | G38: =ORÇ!K52 -> 2364.64 | I38: =B38 -> INFRA | J38: =ROUND(G38*F38,2) -> 2364.64
B39: EDIF | C39: 170252 | D39: =UPPER(IF($B39="EDIF",VLOOKUP($C39,[1]EDIF!$A$1:$E$2656,2,0),(IF($B39="INFRA",VLOOKUP($C39,[1]INFRA!$A$1:$E$843,2,0),(IF($B39="SINAPI",VLOOKUP($C39,[1]SINAPI!$A$1:$G$7498,2,0),(IF($B39="FDE",VLOOKUP($C39,[1]FDE!$A$1:$E$3179,2,0),(IF($B39="CDHU",VLOOKUP($C39,[1]CDHU!$A$1:$F$4132,2,0),(IF($B39="SIEC",VLOOKUP($C39,[1]SIEC!$A$1:$E$4166,2,0),(IF($B39="DER",VLOOKUP($C39,[1]DER!$A$1:$D$2157,2,0),(IF($B39="SICRO",VLOOKUP($C39,[1]SICRO!$A$1:$E$6354,2,0))))))))))))))))) -> SARJETA DE CONCRETO, INCLUSIVE PREPARO DE CAIXA | E39: =UPPER(IF($B39="EDIF",VLOOKUP($C39,[1]EDIF!$A$1:$E$2656,3,0),(IF($B39="INFRA",VLOOKUP($C39,[1]INFRA!$A$1:$E$843,3,0),(IF($B39="SINAPI",VLOOKUP($C39,[1]SINAPI!$A$1:$G$7498,3,0),(IF($B39="FDE",VLOOKUP($C39,[1]FDE!$A$1:$E$3179,3,0),(IF($B39="CDHU",VLOOKUP($C39,[1]CDHU!$A$1:$F$4132,3,0),(IF($B39="SIEC",VLOOKUP($C39,[1]SIEC!$A$1:$E$4166,3,0),(IF($B39="DER",VLOOKUP($C39,[1]DER!$A$1:$D$2157,3,0),(IF($B39="SICRO",VLOOKUP($C39,[1]SICRO!$A$1:$E$6354,3,0))))))))))))))))) -> M3 | F39: 2.94 | G39: =ORÇ!K54 -> 783.96 | I39: =B39 -> EDIF | J39: =ROUND(G39*F39,2) -> 2304.84
B40: EDIF | C40: 170250 | D40: =UPPER(IF($B40="EDIF",VLOOKUP($C40,[1]EDIF!$A$1:$E$2656,2,0),(IF($B40="INFRA",VLOOKUP($C40,[1]INFRA!$A$1:$E$843,2,0),(IF($B40="SINAPI",VLOOKUP($C40,[1]SINAPI!$A$1:$G$7498,2,0),(IF($B40="FDE",VLOOKUP($C40,[1]FDE!$A$1:$E$3179,2,0),(IF($B40="CDHU",VLOOKUP($C40,[1]CDHU!$A$1:$F$4132,2,0),(IF($B40="SIEC",VLOOKUP($C40,[1]SIEC!$A$1:$E$4166,2,0),(IF($B40="DER",VLOOKUP($C40,[1]DER!$A$1:$D$2157,2,0),(IF($B40="SICRO",VLOOKUP($C40,[1]SICRO!$A$1:$E$6354,2,0))))))))))))))))) -> GUIA DE CONCRETO RETA OU CURVA, TIPO PMSP | E40: =UPPER(IF($B40="EDIF",VLOOKUP($C40,[1]EDIF!$A$1:$E$2656,3,0),(IF($B40="INFRA",VLOOKUP($C40,[1]INFRA!$A$1:$E$843,3,0),(IF($B40="SINAPI",VLOOKUP($C40,[1]SINAPI!$A$1:$G$7498,3,0),(IF($B40="FDE",VLOOKUP($C40,[1]FDE!$A$1:$E$3179,3,0),(IF($B40="CDHU",VLOOKUP($C40,[1]CDHU!$A$1:$F$4132,3,0),(IF($B40="SIEC",VLOOKUP($C40,[1]SIEC!$A$1:$E$4166,3,0),(IF($B40="DER",VLOOKUP($C40,[1]DER!$A$1:$D$2157,3,0),(IF($B40="SICRO",VLOOKUP($C40,[1]SICRO!$A$1:$E$6354,3,0))))))))))))))))) -> M | F40: 31 | G40: =ORÇ!K56 -> 95.03 | I40: =B40 -> EDIF | J40: =ROUND(G40*F40,2) -> 2945.93
B41: EDIF | C41: 170246 | D41: =UPPER(IF($B41="EDIF",VLOOKUP($C41,[1]EDIF!$A$1:$E$2656,2,0),(IF($B41="INFRA",VLOOKUP($C41,[1]INFRA!$A$1:$E$843,2,0),(IF($B41="SINAPI",VLOOKUP($C41,[1]SINAPI!$A$1:$G$7498,2,0),(IF($B41="FDE",VLOOKUP($C41,[1]FDE!$A$1:$E$3179,2,0),(IF($B41="CDHU",VLOOKUP($C41,[1]CDHU!$A$1:$F$4132,2,0),(IF($B41="SIEC",VLOOKUP($C41,[1]SIEC!$A$1:$E$4166,2,0),(IF($B41="DER",VLOOKUP($C41,[1]DER!$A$1:$D$2157,2,0),(IF($B41="SICRO",VLOOKUP($C41,[1]SICRO!$A$1:$E$6354,2,0))))))))))))))))) -> PISO/ PASSEIO DE CONCRETO, INCLUINDO O PREPARO DA CAIXA, LASTRO DE BRITA E A MÃO DE OBRA REFERENTE AOS SERVIÇOS NO CONCRETO: LANÇAMENTO E ACABAMENTO (RIPADO E DESEMPENADO) EXCLUSIVE O FORNECIMENTO DO CONCRETO | E41: =UPPER(IF($B41="EDIF",VLOOKUP($C41,[1]EDIF!$A$1:$E$2656,3,0),(IF($B41="INFRA",VLOOKUP($C41,[1]INFRA!$A$1:$E$843,3,0),(IF($B41="SINAPI",VLOOKUP($C41,[1]SINAPI!$A$1:$G$7498,3,0),(IF($B41="FDE",VLOOKUP($C41,[1]FDE!$A$1:$E$3179,3,0),(IF($B41="CDHU",VLOOKUP($C41,[1]CDHU!$A$1:$F$4132,3,0),(IF($B41="SIEC",VLOOKUP($C41,[1]SIEC!$A$1:$E$4166,3,0),(IF($B41="DER",VLOOKUP($C41,[1]DER!$A$1:$D$2157,3,0),(IF($B41="SICRO",VLOOKUP($C41,[1]SICRO!$A$1:$E$6354,3,0))))))))))))))))) -> M3 | F41: 6.77 | G41: =ORÇ!K58 -> 347.97 | H41: =TRUNC(F41*G41,2) -> 2355.75 | I41: =B41 -> EDIF | J41: =ROUND(G41*F41,2) -> 2355.76 | L41: =UPPER(IF($B41="EDIF",VLOOKUP($C41,[1]EDIF!$A$1:$E$2656,5,0),(IF($B41="INFRA",VLOOKUP($C41,[1]INFRA!$A$1:$E$843,5,0),(IF($B41="SINAPI",VLOOKUP($C41,[1]SINAPI!$A$1:$G$7498,7,0),(IF($B41="FDE",VLOOKUP($C41,[1]FDE!$A$1:$E$3179,5,0),(IF($B41="CDHU",VLOOKUP($C41,[1]CDHU!$A$1:$G$4132,7,0),(IF($B41="SIEC",VLOOKUP($C41,[1]SIEC!$A$1:$E$4166,5,0),(IF($B41="DER",VLOOKUP($C41,[1]DER!$A$1:$D$2157,5,0),(IF($B41="SICRO",VLOOKUP($C41,[1]SICRO!$A$1:$E$6354,5,0))))))))))))))))) -> EDIF JUL/23
G42: SUB TOTAL | J42: =SUM(J33:J41) -> 14830.96
D43: =ORÇ!D60 -> RUA: PAPA JOÃO PAULO II - PROX TRAV R. JOSÉ PEREIRA X AV ALBINO F. FIG.X VIELA | L43: =UPPER(IF($B43="EDIF",VLOOKUP($C43,[1]EDIF!$A$1:$E$2656,5,0),(IF($B43="INFRA",VLOOKUP($C43,[1]INFRA!$A$1:$E$843,5,0),(IF($B43="SINAPI",VLOOKUP($C43,[1]SINAPI!$A$1:$G$7498,7,0),(IF($B43="FDE",VLOOKUP($C43,[1]FDE!$A$1:$E$3179,5,0),(IF($B43="CDHU",VLOOKUP($C43,[1]CDHU!$A$1:$G$4132,7,0),(IF($B43="SIEC",VLOOKUP($C43,[1]SIEC!$A$1:$E$4166,5,0),(IF($B43="DER",VLOOKUP($C43,[1]DER!$A$1:$D$2157,5,0),(IF($B43="SICRO",VLOOKUP($C43,[1]SICRO!$A$1:$E$6354,5,0))))))))))))))))) -> FALSO
B44: =ORÇ!B61 -> INFRA | C44: 101603 | D44: =UPPER(IF($B44="EDIF",VLOOKUP($C44,[1]EDIF!$A$1:$E$2656,2,0),(IF($B44="INFRA",VLOOKUP($C44,[1]INFRA!$A$1:$E$843,2,0),(IF($B44="SINAPI",VLOOKUP($C44,[1]SINAPI!$A$1:$G$7498,2,0),(IF($B44="FDE",VLOOKUP($C44,[1]FDE!$A$1:$E$3179,2,0),(IF($B44="CDHU",VLOOKUP($C44,[1]CDHU!$A$1:$F$4132,2,0),(IF($B44="SIEC",VLOOKUP($C44,[1]SIEC!$A$1:$E$4166,2,0),(IF($B44="DER",VLOOKUP($C44,[1]DER!$A$1:$D$2157,2,0),(IF($B44="SICRO",VLOOKUP($C44,[1]SICRO!$A$1:$E$6354,2,0))))))))))))))))) -> PLACA DE OBRA EM CHAPA DE AÇO GALVANIZADO | E44: =UPPER(IF($B44="EDIF",VLOOKUP($C44,[1]EDIF!$A$1:$E$2656,3,0),(IF($B44="INFRA",VLOOKUP($C44,[1]INFRA!$A$1:$E$843,3,0),(IF($B44="SINAPI",VLOOKUP($C44,[1]SINAPI!$A$1:$G$7498,3,0),(IF($B44="FDE",VLOOKUP($C44,[1]FDE!$A$1:$E$3179,3,0),(IF($B44="CDHU",VLOOKUP($C44,[1]CDHU!$A$1:$F$4132,3,0),(IF($B44="SIEC",VLOOKUP($C44,[1]SIEC!$A$1:$E$4166,3,0),(IF($B44="DER",VLOOKUP($C44,[1]DER!$A$1:$D$2157,3,0),(IF($B44="SICRO",VLOOKUP($C44,[1]SICRO!$A$1:$E$6354,3,0))))))))))))))))) -> M2 | F44: 3 | G44: =ORÇ!K61 -> 391.58 | J44: =ROUND(G44*F44,2) -> 1174.74
B45: =ORÇ!B62 -> CDHU | C45: 54.01.400 | D45: =UPPER(IF($B45="EDIF",VLOOKUP($C45,[1]EDIF!$A$1:$E$2656,2,0),(IF($B45="INFRA",VLOOKUP($C45,[1]INFRA!$A$1:$E$843,2,0),(IF($B45="SINAPI",VLOOKUP($C45,[1]SINAPI!$A$1:$G$7498,2,0),(IF($B45="FDE",VLOOKUP($C45,[1]FDE!$A$1:$E$3179,2,0),(IF($B45="CDHU",VLOOKUP($C45,[1]CDHU!$A$1:$F$4132,2,0),(IF($B45="SIEC",VLOOKUP($C45,[1]SIEC!$A$1:$E$4166,2,0),(IF($B45="DER",VLOOKUP($C45,[1]DER!$A$1:$D$2157,2,0),(IF($B45="SICRO",VLOOKUP($C45,[1]SICRO!$A$1:$E$6354,2,0))))))))))))))))) -> ABERTURA DE CAIXA ATÉ 25 CM, INCLUI ESCAVAÇÃO, COMPACTAÇÃO, TRANSPORTE E PREPARO DO SUB-LEITO | E45: =UPPER(IF($B45="EDIF",VLOOKUP($C45,[1]EDIF!$A$1:$E$2656,3,0),(IF($B45="INFRA",VLOOKUP($C45,[1]INFRA!$A$1:$E$843,3,0),(IF($B45="SINAPI",VLOOKUP($C45,[1]SINAPI!$A$1:$G$7498,3,0),(IF($B45="FDE",VLOOKUP($C45,[1]FDE!$A$1:$E$3179,3,0),(IF($B45="CDHU",VLOOKUP($C45,[1]CDHU!$A$1:$F$4132,3,0),(IF($B45="SIEC",VLOOKUP($C45,[1]SIEC!$A$1:$E$4166,3,0),(IF($B45="DER",VLOOKUP($C45,[1]DER!$A$1:$D$2157,3,0),(IF($B45="SICRO",VLOOKUP($C45,[1]SICRO!$A$1:$E$6354,3,0))))))))))))))))) -> M2 | F45: 8 | G45: =ORÇ!K62 -> 25.19 | J45: =ROUND(G45*F45,2) -> 201.52
B46: CDHU | C46: 08.05.180 | D46: =UPPER(IF($B46="EDIF",VLOOKUP($C46,[1]EDIF!$A$1:$E$2656,2,0),(IF($B46="INFRA",VLOOKUP($C46,[1]INFRA!$A$1:$E$843,2,0),(IF($B46="SINAPI",VLOOKUP($C46,[1]SINAPI!$A$1:$G$7498,2,0),(IF($B46="FDE",VLOOKUP($C46,[1]FDE!$A$1:$E$3179,2,0),(IF($B46="CDHU",VLOOKUP($C46,[1]CDHU!$A$1:$F$4132,2,0),(IF($B46="SIEC",VLOOKUP($C46,[1]SIEC!$A$1:$E$4166,2,0),(IF($B46="DER",VLOOKUP($C46,[1]DER!$A$1:$D$2157,2,0),(IF($B46="SICRO",VLOOKUP($C46,[1]SICRO!$A$1:$E$6354,2,0))))))))))))))))) -> MANTA GEOTÊXTIL COM RESISTÊNCIA À TRAÇÃO LONGITUDINAL DE 10KN/M E TRANSVERSAL DE 9KN/M | E46: =UPPER(IF($B46="EDIF",VLOOKUP($C46,[1]EDIF!$A$1:$E$2656,3,0),(IF($B46="INFRA",VLOOKUP($C46,[1]INFRA!$A$1:$E$843,3,0),(IF($B46="SINAPI",VLOOKUP($C46,[1]SINAPI!$A$1:$G$7498,3,0),(IF($B46="FDE",VLOOKUP($C46,[1]FDE!$A$1:$E$3179,3,0),(IF($B46="CDHU",VLOOKUP($C46,[1]CDHU!$A$1:$F$4132,3,0),(IF($B46="SIEC",VLOOKUP($C46,[1]SIEC!$A$1:$E$4166,3,0),(IF($B46="DER",VLOOKUP($C46,[1]DER!$A$1:$D$2157,3,0),(IF($B46="SICRO",VLOOKUP($C46,[1]SICRO!$A$1:$E$6354,3,0))))))))))))))))) -> M2 | F46: 30 | G46: =ORÇ!K64 -> 18.37 | J46: =ROUND(G46*F46,2) -> 551.1
B47: =ORÇ!B64 -> CDHU | C47: 11.18.040 | D47: =UPPER(IF($B47="EDIF",VLOOKUP($C47,[1]EDIF!$A$1:$E$2656,2,0),(IF($B47="INFRA",VLOOKUP($C47,[1]INFRA!$A$1:$E$843,2,0),(IF($B47="SINAPI",VLOOKUP($C47,[1]SINAPI!$A$1:$G$7498,2,0),(IF($B47="FDE",VLOOKUP($C47,[1]FDE!$A$1:$E$3179,2,0),(IF($B47="CDHU",VLOOKUP($C47,[1]CDHU!$A$1:$F$4132,2,0),(IF($B47="SIEC",VLOOKUP($C47,[1]SIEC!$A$1:$E$4166,2,0),(IF($B47="DER",VLOOKUP($C47,[1]DER!$A$1:$D$2157,2,0),(IF($B47="SICRO",VLOOKUP($C47,[1]SICRO!$A$1:$E$6354,2,0))))))))))))))))) -> LASTRO DE PEDRA BRITADA | E47: =UPPER(IF($B47="EDIF",VLOOKUP($C47,[1]EDIF!$A$1:$E$2656,3,0),(IF($B47="INFRA",VLOOKUP($C47,[1]INFRA!$A$1:$E$843,3,0),(IF($B47="SINAPI",VLOOKUP($C47,[1]SINAPI!$A$1:$G$7498,3,0),(IF($B47="FDE",VLOOKUP($C47,[1]FDE!$A$1:$E$3179,3,0),(IF($B47="CDHU",VLOOKUP($C47,[1]CDHU!$A$1:$F$4132,3,0),(IF($B47="SIEC",VLOOKUP($C47,[1]SIEC!$A$1:$E$4166,3,0),(IF($B47="DER",VLOOKUP($C47,[1]DER!$A$1:$D$2157,3,0),(IF($B47="SICRO",VLOOKUP($C47,[1]SICRO!$A$1:$E$6354,3,0))))))))))))))))) -> M3 | F47: 2 | G47: =ORÇ!K66 -> 206.94 | J47: =ROUND(G47*F47,2) -> 413.88
B48: INFRA | C48: 62203 | D48: =UPPER(IF($B48="EDIF",VLOOKUP($C48,[1]EDIF!$A$1:$E$2656,2,0),(IF($B48="INFRA",VLOOKUP($C48,[1]INFRA!$A$1:$E$843,2,0),(IF($B48="SINAPI",VLOOKUP($C48,[1]SINAPI!$A$1:$G$7498,2,0),(IF($B48="FDE",VLOOKUP($C48,[1]FDE!$A$1:$E$3179,2,0),(IF($B48="CDHU",VLOOKUP($C48,[1]CDHU!$A$1:$F$4132,2,0),(IF($B48="SIEC",VLOOKUP($C48,[1]SIEC!$A$1:$E$4166,2,0),(IF($B48="DER",VLOOKUP($C48,[1]DER!$A$1:$D$2157,2,0),(IF($B48="SICRO",VLOOKUP($C48,[1]SICRO!$A$1:$E$6354,2,0))))))))))))))))) -> BOCA DE LOBO SIMPLES | E48: =UPPER(IF($B48="EDIF",VLOOKUP($C48,[1]EDIF!$A$1:$E$2656,3,0),(IF($B48="INFRA",VLOOKUP($C48,[1]INFRA!$A$1:$E$843,3,0),(IF($B48="SINAPI",VLOOKUP($C48,[1]SINAPI!$A$1:$G$7498,3,0),(IF($B48="FDE",VLOOKUP($C48,[1]FDE!$A$1:$E$3179,3,0),(IF($B48="CDHU",VLOOKUP($C48,[1]CDHU!$A$1:$F$4132,3,0),(IF($B48="SIEC",VLOOKUP($C48,[1]SIEC!$A$1:$E$4166,3,0),(IF($B48="DER",VLOOKUP($C48,[1]DER!$A$1:$D$2157,3,0),(IF($B48="SICRO",VLOOKUP($C48,[1]SICRO!$A$1:$E$6354,3,0))))))))))))))))) -> UN | F48: 1 | G48: =ORÇ!K68 -> 2364.64 | J48: =ROUND(G48*F48,2) -> 2364.64
B49: INFRA | C49: 62204 | D49: =UPPER(IF($B49="EDIF",VLOOKUP($C49,[1]EDIF!$A$1:$E$2656,2,0),(IF($B49="INFRA",VLOOKUP($C49,[1]INFRA!$A$1:$E$843,2,0),(IF($B49="SINAPI",VLOOKUP($C49,[1]SINAPI!$A$1:$G$7498,2,0),(IF($B49="FDE",VLOOKUP($C49,[1]FDE!$A$1:$E$3179,2,0),(IF($B49="CDHU",VLOOKUP($C49,[1]CDHU!$A$1:$F$4132,2,0),(IF($B49="SIEC",VLOOKUP($C49,[1]SIEC!$A$1:$E$4166,2,0),(IF($B49="DER",VLOOKUP($C49,[1]DER!$A$1:$D$2157,2,0),(IF($B49="SICRO",VLOOKUP($C49,[1]SICRO!$A$1:$E$6354,2,0))))))))))))))))) -> BOCA DE LOBO DUPLA | E49: =UPPER(IF($B49="EDIF",VLOOKUP($C49,[1]EDIF!$A$1:$E$2656,3,0),(IF($B49="INFRA",VLOOKUP($C49,[1]INFRA!$A$1:$E$843,3,0),(IF($B49="SINAPI",VLOOKUP($C49,[1]SINAPI!$A$1:$G$7498,3,0),(IF($B49="FDE",VLOOKUP($C49,[1]FDE!$A$1:$E$3179,3,0),(IF($B49="CDHU",VLOOKUP($C49,[1]CDHU!$A$1:$F$4132,3,0),(IF($B49="SIEC",VLOOKUP($C49,[1]SIEC!$A$1:$E$4166,3,0),(IF($B49="DER",VLOOKUP($C49,[1]DER!$A$1:$D$2157,3,0),(IF($B49="SICRO",VLOOKUP($C49,[1]SICRO!$A$1:$E$6354,3,0))))))))))))))))) -> UN | F49: 1 | G49: =ORÇ!K70 -> 4218.81 | J49: =ROUND(G49*F49,2) -> 4218.81
B50: INFRA | C50: 62305 | D50: =UPPER(IF($B50="EDIF",VLOOKUP($C50,[1]EDIF!$A$1:$E$2656,2,0),(IF($B50="INFRA",VLOOKUP($C50,[1]INFRA!$A$1:$E$843,2,0),(IF($B50="SINAPI",VLOOKUP($C50,[1]SINAPI!$A$1:$G$7498,2,0),(IF($B50="FDE",VLOOKUP($C50,[1]FDE!$A$1:$E$3179,2,0),(IF($B50="CDHU",VLOOKUP($C50,[1]CDHU!$A$1:$F$4132,2,0),(IF($B50="SIEC",VLOOKUP($C50,[1]SIEC!$A$1:$E$4166,2,0),(IF($B50="DER",VLOOKUP($C50,[1]DER!$A$1:$D$2157,2,0),(IF($B50="SICRO",VLOOKUP($C50,[1]SICRO!$A$1:$E$6354,2,0))))))))))))))))) -> SUBSTITUIÇÃO DE TAMPA DE CONCRETO PARA BOCA DE LOBO | E50: =UPPER(IF($B50="EDIF",VLOOKUP($C50,[1]EDIF!$A$1:$E$2656,3,0),(IF($B50="INFRA",VLOOKUP($C50,[1]INFRA!$A$1:$E$843,3,0),(IF($B50="SINAPI",VLOOKUP($C50,[1]SINAPI!$A$1:$G$7498,3,0),(IF($B50="FDE",VLOOKUP($C50,[1]FDE!$A$1:$E$3179,3,0),(IF($B50="CDHU",VLOOKUP($C50,[1]CDHU!$A$1:$F$4132,3,0),(IF($B50="SIEC",VLOOKUP($C50,[1]SIEC!$A$1:$E$4166,3,0),(IF($B50="DER",VLOOKUP($C50,[1]DER!$A$1:$D$2157,3,0),(IF($B50="SICRO",VLOOKUP($C50,[1]SICRO!$A$1:$E$6354,3,0))))))))))))))))) -> UN | F50: 2 | G50: =ORÇ!K71 -> 351.98 | J50: =ROUND(G50*F50,2) -> 703.96
B51: INFRA | C51: 54200 | D51: =UPPER(IF($B51="EDIF",VLOOKUP($C51,[1]EDIF!$A$1:$E$2656,2,0),(IF($B51="INFRA",VLOOKUP($C51,[1]INFRA!$A$1:$E$843,2,0),(IF($B51="SINAPI",VLOOKUP($C51,[1]SINAPI!$A$1:$G$7498,2,0),(IF($B51="FDE",VLOOKUP($C51,[1]FDE!$A$1:$E$3179,2,0),(IF($B51="CDHU",VLOOKUP($C51,[1]CDHU!$A$1:$F$4132,2,0),(IF($B51="SIEC",VLOOKUP($C51,[1]SIEC!$A$1:$E$4166,2,0),(IF($B51="DER",VLOOKUP($C51,[1]DER!$A$1:$D$2157,2,0),(IF($B51="SICRO",VLOOKUP($C51,[1]SICRO!$A$1:$E$6354,2,0))))))))))))))))) -> PASSEIO DE CONCRETO FCK=15,0MPA, INCLUSIVE PREPARO DE CAIXA E LASTRO DE BRITA | E51: =UPPER(IF($B51="EDIF",VLOOKUP($C51,[1]EDIF!$A$1:$E$2656,3,0),(IF($B51="INFRA",VLOOKUP($C51,[1]INFRA!$A$1:$E$843,3,0),(IF($B51="SINAPI",VLOOKUP($C51,[1]SINAPI!$A$1:$G$7498,3,0),(IF($B51="FDE",VLOOKUP($C51,[1]FDE!$A$1:$E$3179,3,0),(IF($B51="CDHU",VLOOKUP($C51,[1]CDHU!$A$1:$F$4132,3,0),(IF($B51="SIEC",VLOOKUP($C51,[1]SIEC!$A$1:$E$4166,3,0),(IF($B51="DER",VLOOKUP($C51,[1]DER!$A$1:$D$2157,3,0),(IF($B51="SICRO",VLOOKUP($C51,[1]SICRO!$A$1:$E$6354,3,0))))))))))))))))) -> M3 | F51: 18.33 | G51: =ORÇ!K73 -> 799.15 | J51: =ROUND(G51*F51,2) -> 14648.42
B52: INFRA | C52: 50400 | D52: =UPPER(IF($B52="EDIF",VLOOKUP($C52,[1]EDIF!$A$1:$E$2656,2,0),(IF($B52="INFRA",VLOOKUP($C52,[1]INFRA!$A$1:$E$843,2,0),(IF($B52="SINAPI",VLOOKUP($C52,[1]SINAPI!$A$1:$G$7498,2,0),(IF($B52="FDE",VLOOKUP($C52,[1]FDE!$A$1:$E$3179,2,0),(IF($B52="CDHU",VLOOKUP($C52,[1]CDHU!$A$1:$F$4132,2,0),(IF($B52="SIEC",VLOOKUP($C52,[1]SIEC!$A$1:$E$4166,2,0),(IF($B52="DER",VLOOKUP($C52,[1]DER!$A$1:$D$2157,2,0),(IF($B52="SICRO",VLOOKUP($C52,[1]SICRO!$A$1:$E$6354,2,0))))))))))))))))) -> DEMOLIÇÃO DE PAVIMENTO ASFÁLTICO, INCLUSIVE CAPA, INCLUI CARGA NO CAMINHÃO | E52: =UPPER(IF($B52="EDIF",VLOOKUP($C52,[1]EDIF!$A$1:$E$2656,3,0),(IF($B52="INFRA",VLOOKUP($C52,[1]INFRA!$A$1:$E$843,3,0),(IF($B52="SINAPI",VLOOKUP($C52,[1]SINAPI!$A$1:$G$7498,3,0),(IF($B52="FDE",VLOOKUP($C52,[1]FDE!$A$1:$E$3179,3,0),(IF($B52="CDHU",VLOOKUP($C52,[1]CDHU!$A$1:$F$4132,3,0),(IF($B52="SIEC",VLOOKUP($C52,[1]SIEC!$A$1:$E$4166,3,0),(IF($B52="DER",VLOOKUP($C52,[1]DER!$A$1:$D$2157,3,0),(IF($B52="SICRO",VLOOKUP($C52,[1]SICRO!$A$1:$E$6354,3,0))))))))))))))))) -> M2 | F52: 16.6 | G52: =ORÇ!K76 -> 21.73 | J52: =ROUND(G52*F52,2) -> 360.72
B53: INFRA | C53: 52800 | D53: =UPPER(IF($B53="EDIF",VLOOKUP($C53,[1]EDIF!$A$1:$E$2656,2,0),(IF($B53="INFRA",VLOOKUP($C53,[1]INFRA!$A$1:$E$843,2,0),(IF($B53="SINAPI",VLOOKUP($C53,[1]SINAPI!$A$1:$G$7498,2,0),(IF($B53="FDE",VLOOKUP($C53,[1]FDE!$A$1:$E$3179,2,0),(IF($B53="CDHU",VLOOKUP($C53,[1]CDHU!$A$1:$F$4132,2,0),(IF($B53="SIEC",VLOOKUP($C53,[1]SIEC!$A$1:$E$4166,2,0),(IF($B53="DER",VLOOKUP($C53,[1]DER!$A$1:$D$2157,2,0),(IF($B53="SICRO",VLOOKUP($C53,[1]SICRO!$A$1:$E$6354,2,0))))))))))))))))) -> REVESTIMENTO DE CONCRETO ASFÁLTICO (SEM TRANSPORTE) | E53: =UPPER(IF($B53="EDIF",VLOOKUP($C53,[1]EDIF!$A$1:$E$2656,3,0),(IF($B53="INFRA",VLOOKUP($C53,[1]INFRA!$A$1:$E$843,3,0),(IF($B53="SINAPI",VLOOKUP($C53,[1]SINAPI!$A$1:$G$7498,3,0),(IF($B53="FDE",VLOOKUP($C53,[1]FDE!$A$1:$E$3179,3,0),(IF($B53="CDHU",VLOOKUP($C53,[1]CDHU!$A$1:$F$4132,3,0),(IF($B53="SIEC",VLOOKUP($C53,[1]SIEC!$A$1:$E$4166,3,0),(IF($B53="DER",VLOOKUP($C53,[1]DER!$A$1:$D$2157,3,0),(IF($B53="SICRO",VLOOKUP($C53,[1]SICRO!$A$1:$E$6354,3,0))))))))))))))))) -> M3 | F53: 0.83 | G53: =ORÇ!K78 -> 1475.72 | J53: =ROUND(G53*F53,2) -> 1224.85
B54: INFRA | C54: 54800 | D54: =UPPER(IF($B54="EDIF",VLOOKUP($C54,[1]EDIF!$A$1:$E$2656,2,0),(IF($B54="INFRA",VLOOKUP($C54,[1]INFRA!$A$1:$E$843,2,0),(IF($B54="SINAPI",VLOOKUP($C54,[1]SINAPI!$A$1:$G$7498,2,0),(IF($B54="FDE",VLOOKUP($C54,[1]FDE!$A$1:$E$3179,2,0),(IF($B54="CDHU",VLOOKUP($C54,[1]CDHU!$A$1:$F$4132,2,0),(IF($B54="SIEC",VLOOKUP($C54,[1]SIEC!$A$1:$E$4166,2,0),(IF($B54="DER",VLOOKUP($C54,[1]DER!$A$1:$D$2157,2,0),(IF($B54="SICRO",VLOOKUP($C54,[1]SICRO!$A$1:$E$6354,2,0))))))))))))))))) -> BASE DE BRITA GRADUADA | E54: =UPPER(IF($B54="EDIF",VLOOKUP($C54,[1]EDIF!$A$1:$E$2656,3,0),(IF($B54="INFRA",VLOOKUP($C54,[1]INFRA!$A$1:$E$843,3,0),(IF($B54="SINAPI",VLOOKUP($C54,[1]SINAPI!$A$1:$G$7498,3,0),(IF($B54="FDE",VLOOKUP($C54,[1]FDE!$A$1:$E$3179,3,0),(IF($B54="CDHU",VLOOKUP($C54,[1]CDHU!$A$1:$F$4132,3,0),(IF($B54="SIEC",VLOOKUP($C54,[1]SIEC!$A$1:$E$4166,3,0),(IF($B54="DER",VLOOKUP($C54,[1]DER!$A$1:$D$2157,3,0),(IF($B54="SICRO",VLOOKUP($C54,[1]SICRO!$A$1:$E$6354,3,0))))))))))))))))) -> M3 | F54: 1.66 | G54: =ORÇ!K80 -> 246.7 | J54: =ROUND(G54*F54,2) -> 409.52
B55: INFRA | C55: 52600 | D55: =UPPER(IF($B55="EDIF",VLOOKUP($C55,[1]EDIF!$A$1:$E$2656,2,0),(IF($B55="INFRA",VLOOKUP($C55,[1]INFRA!$A$1:$E$843,2,0),(IF($B55="SINAPI",VLOOKUP($C55,[1]SINAPI!$A$1:$G$7498,2,0),(IF($B55="FDE",VLOOKUP($C55,[1]FDE!$A$1:$E$3179,2,0),(IF($B55="CDHU",VLOOKUP($C55,[1]CDHU!$A$1:$F$4132,2,0),(IF($B55="SIEC",VLOOKUP($C55,[1]SIEC!$A$1:$E$4166,2,0),(IF($B55="DER",VLOOKUP($C55,[1]DER!$A$1:$D$2157,2,0),(IF($B55="SICRO",VLOOKUP($C55,[1]SICRO!$A$1:$E$6354,2,0))))))))))))))))) -> IMPRIMAÇÃO BETUMINOSA LIGANTE | E55: =UPPER(IF($B55="EDIF",VLOOKUP($C55,[1]EDIF!$A$1:$E$2656,3,0),(IF($B55="INFRA",VLOOKUP($C55,[1]INFRA!$A$1:$E$843,3,0),(IF($B55="SINAPI",VLOOKUP($C55,[1]SINAPI!$A$1:$G$7498,3,0),(IF($B55="FDE",VLOOKUP($C55,[1]FDE!$A$1:$E$3179,3,0),(IF($B55="CDHU",VLOOKUP($C55,[1]CDHU!$A$1:$F$4132,3,0),(IF($B55="SIEC",VLOOKUP($C55,[1]SIEC!$A$1:$E$4166,3,0),(IF($B55="DER",VLOOKUP($C55,[1]DER!$A$1:$D$2157,3,0),(IF($B55="SICRO",VLOOKUP($C55,[1]SICRO!$A$1:$E$6354,3,0))))))))))))))))) -> M2 | F55: 32.6 | G55: =ORÇ!K82 -> 6.48 | J55: =ROUND(G55*F55,2) -> 211.25
B56: INFRA | C56: 52700 | D56: =UPPER(IF($B56="EDIF",VLOOKUP($C56,[1]EDIF!$A$1:$E$2656,2,0),(IF($B56="INFRA",VLOOKUP($C56,[1]INFRA!$A$1:$E$843,2,0),(IF($B56="SINAPI",VLOOKUP($C56,[1]SINAPI!$A$1:$G$7498,2,0),(IF($B56="FDE",VLOOKUP($C56,[1]FDE!$A$1:$E$3179,2,0),(IF($B56="CDHU",VLOOKUP($C56,[1]CDHU!$A$1:$F$4132,2,0),(IF($B56="SIEC",VLOOKUP($C56,[1]SIEC!$A$1:$E$4166,2,0),(IF($B56="DER",VLOOKUP($C56,[1]DER!$A$1:$D$2157,2,0),(IF($B56="SICRO",VLOOKUP($C56,[1]SICRO!$A$1:$E$6354,2,0))))))))))))))))) -> IMPRIMAÇÃO BETUMINOSA IMPERMEABILIZANTE | E56: =UPPER(IF($B56="EDIF",VLOOKUP($C56,[1]EDIF!$A$1:$E$2656,3,0),(IF($B56="INFRA",VLOOKUP($C56,[1]INFRA!$A$1:$E$843,3,0),(IF($B56="SINAPI",VLOOKUP($C56,[1]SINAPI!$A$1:$G$7498,3,0),(IF($B56="FDE",VLOOKUP($C56,[1]FDE!$A$1:$E$3179,3,0),(IF($B56="CDHU",VLOOKUP($C56,[1]CDHU!$A$1:$F$4132,3,0),(IF($B56="SIEC",VLOOKUP($C56,[1]SIEC!$A$1:$E$4166,3,0),(IF($B56="DER",VLOOKUP($C56,[1]DER!$A$1:$D$2157,3,0),(IF($B56="SICRO",VLOOKUP($C56,[1]SICRO!$A$1:$E$6354,3,0))))))))))))))))) -> M2 | F56: 16.6 | G56: =ORÇ!K84 -> 15.69 | J56: =ROUND(G56*F56,2) -> 260.45
B57: INFRA | C57: 56700 | D57: =UPPER(IF($B57="EDIF",VLOOKUP($C57,[1]EDIF!$A$1:$E$2656,2,0),(IF($B57="INFRA",VLOOKUP($C57,[1]INFRA!$A$1:$E$843,2,0),(IF($B57="SINAPI",VLOOKUP($C57,[1]SINAPI!$A$1:$G$7498,2,0),(IF($B57="FDE",VLOOKUP($C57,[1]FDE!$A$1:$E$3179,2,0),(IF($B57="CDHU",VLOOKUP($C57,[1]CDHU!$A$1:$F$4132,2,0),(IF($B57="SIEC",VLOOKUP($C57,[1]SIEC!$A$1:$E$4166,2,0),(IF($B57="DER",VLOOKUP($C57,[1]DER!$A$1:$D$2157,2,0),(IF($B57="SICRO",VLOOKUP($C57,[1]SICRO!$A$1:$E$6354,2,0))))))))))))))))) -> TRANSPORTE DE PAVIMENTO ASFÁLTICO | E57: =UPPER(IF($B57="EDIF",VLOOKUP($C57,[1]EDIF!$A$1:$E$2656,3,0),(IF($B57="INFRA",VLOOKUP($C57,[1]INFRA!$A$1:$E$843,3,0),(IF($B57="SINAPI",VLOOKUP($C57,[1]SINAPI!$A$1:$G$7498,3,0),(IF($B57="FDE",VLOOKUP($C57,[1]FDE!$A$1:$E$3179,3,0),(IF($B57="CDHU",VLOOKUP($C57,[1]CDHU!$A$1:$F$4132,3,0),(IF($B57="SIEC",VLOOKUP($C57,[1]SIEC!$A$1:$E$4166,3,0),(IF($B57="DER",VLOOKUP($C57,[1]DER!$A$1:$D$2157,3,0),(IF($B57="SICRO",VLOOKUP($C57,[1]SICRO!$A$1:$E$6354,3,0))))))))))))))))) -> M2XKM | F57: 332 | G57: =ORÇ!K86 -> 0.94 | J57: =ROUND(G57*F57,2) -> 312.08
B58: INFRA | C58: 40800 | D58: =UPPER(IF($B58="EDIF",VLOOKUP($C58,[1]EDIF!$A$1:$E$2656,2,0),(IF($B58="INFRA",VLOOKUP($C58,[1]INFRA!$A$1:$E$843,2,0),(IF($B58="SINAPI",VLOOKUP($C58,[1]SINAPI!$A$1:$G$7498,2,0),(IF($B58="FDE",VLOOKUP($C58,[1]FDE!$A$1:$E$3179,2,0),(IF($B58="CDHU",VLOOKUP($C58,[1]CDHU!$A$1:$F$4132,2,0),(IF($B58="SIEC",VLOOKUP($C58,[1]SIEC!$A$1:$E$4166,2,0),(IF($B58="DER",VLOOKUP($C58,[1]DER!$A$1:$D$2157,2,0),(IF($B58="SICRO",VLOOKUP($C58,[1]SICRO!$A$1:$E$6354,2,0))))))))))))))))) -> REATERRO COMPACTADO DE FUNDAÇÃO | E58: =UPPER(IF($B58="EDIF",VLOOKUP($C58,[1]EDIF!$A$1:$E$2656,3,0),(IF($B58="INFRA",VLOOKUP($C58,[1]INFRA!$A$1:$E$843,3,0),(IF($B58="SINAPI",VLOOKUP($C58,[1]SINAPI!$A$1:$G$7498,3,0),(IF($B58="FDE",VLOOKUP($C58,[1]FDE!$A$1:$E$3179,3,0),(IF($B58="CDHU",VLOOKUP($C58,[1]CDHU!$A$1:$F$4132,3,0),(IF($B58="SIEC",VLOOKUP($C58,[1]SIEC!$A$1:$E$4166,3,0),(IF($B58="DER",VLOOKUP($C58,[1]DER!$A$1:$D$2157,3,0),(IF($B58="SICRO",VLOOKUP($C58,[1]SICRO!$A$1:$E$6354,3,0))))))))))))))))) -> M3 | F58: 11.62 | G58: =ORÇ!K88 -> 16.97 | J58: =ROUND(G58*F58,2) -> 197.19
B59: INFRA | C59: 60500 | D59: =UPPER(IF($B59="EDIF",VLOOKUP($C59,[1]EDIF!$A$1:$E$2656,2,0),(IF($B59="INFRA",VLOOKUP($C59,[1]INFRA!$A$1:$E$843,2,0),(IF($B59="SINAPI",VLOOKUP($C59,[1]SINAPI!$A$1:$G$7498,2,0),(IF($B59="FDE",VLOOKUP($C59,[1]FDE!$A$1:$E$3179,2,0),(IF($B59="CDHU",VLOOKUP($C59,[1]CDHU!$A$1:$F$4132,2,0),(IF($B59="SIEC",VLOOKUP($C59,[1]SIEC!$A$1:$E$4166,2,0),(IF($B59="DER",VLOOKUP($C59,[1]DER!$A$1:$D$2157,2,0),(IF($B59="SICRO",VLOOKUP($C59,[1]SICRO!$A$1:$E$6354,2,0))))))))))))))))) -> LASTRO DE BRITA E PÓ DE PEDRA | E59: =UPPER(IF($B59="EDIF",VLOOKUP($C59,[1]EDIF!$A$1:$E$2656,3,0),(IF($B59="INFRA",VLOOKUP($C59,[1]INFRA!$A$1:$E$843,3,0),(IF($B59="SINAPI",VLOOKUP($C59,[1]SINAPI!$A$1:$G$7498,3,0),(IF($B59="FDE",VLOOKUP($C59,[1]FDE!$A$1:$E$3179,3,0),(IF($B59="CDHU",VLOOKUP($C59,[1]CDHU!$A$1:$F$4132,3,0),(IF($B59="SIEC",VLOOKUP($C59,[1]SIEC!$A$1:$E$4166,3,0),(IF($B59="DER",VLOOKUP($C59,[1]DER!$A$1:$D$2157,3,0),(IF($B59="SICRO",VLOOKUP($C59,[1]SICRO!$A$1:$E$6354,3,0))))))))))))))))) -> M3 | F59: 0.83 | G59: =ORÇ!K90 -> 269.28 | J59: =ROUND(G59*F59,2) -> 223.5
B60: CDHU | C60: 46.13.104 | D60: =UPPER(IF($B60="EDIF",VLOOKUP($C60,[1]EDIF!$A$1:$E$2656,2,0),(IF($B60="INFRA",VLOOKUP($C60,[1]INFRA!$A$1:$E$843,2,0),(IF($B60="SINAPI",VLOOKUP($C60,[1]SINAPI!$A$1:$G$7498,2,0),(IF($B60="FDE",VLOOKUP($C60,[1]FDE!$A$1:$E$3179,2,0),(IF($B60="CDHU",VLOOKUP($C60,[1]CDHU!$A$1:$F$4132,2,0),(IF($B60="SIEC",VLOOKUP($C60,[1]SIEC!$A$1:$E$4166,2,0),(IF($B60="DER",VLOOKUP($C60,[1]DER!$A$1:$D$2157,2,0),(IF($B60="SICRO",VLOOKUP($C60,[1]SICRO!$A$1:$E$6354,2,0))))))))))))))))) -> TUBO EM POLIETILENO DE ALTA DENSIDADE CORRUGADO, DN/DI= 600 MM | E60: =UPPER(IF($B60="EDIF",VLOOKUP($C60,[1]EDIF!$A$1:$E$2656,3,0),(IF($B60="INFRA",VLOOKUP($C60,[1]INFRA!$A$1:$E$843,3,0),(IF($B60="SINAPI",VLOOKUP($C60,[1]SINAPI!$A$1:$G$7498,3,0),(IF($B60="FDE",VLOOKUP($C60,[1]FDE!$A$1:$E$3179,3,0),(IF($B60="CDHU",VLOOKUP($C60,[1]CDHU!$A$1:$F$4132,3,0),(IF($B60="SIEC",VLOOKUP($C60,[1]SIEC!$A$1:$E$4166,3,0),(IF($B60="DER",VLOOKUP($C60,[1]DER!$A$1:$D$2157,3,0),(IF($B60="SICRO",VLOOKUP($C60,[1]SICRO!$A$1:$E$6354,3,0))))))))))))))))) -> M | F60: 8.5 | G60: =ORÇ!K92 -> 355.8 | J60: =ROUND(G60*F60,2) -> 3024.3
B61: INFRA | C61: 51300 | D61: =UPPER(IF($B61="EDIF",VLOOKUP($C61,[1]EDIF!$A$1:$E$2656,2,0),(IF($B61="INFRA",VLOOKUP($C61,[1]INFRA!$A$1:$E$843,2,0),(IF($B61="SINAPI",VLOOKUP($C61,[1]SINAPI!$A$1:$G$7498,2,0),(IF($B61="FDE",VLOOKUP($C61,[1]FDE!$A$1:$E$3179,2,0),(IF($B61="CDHU",VLOOKUP($C61,[1]CDHU!$A$1:$F$4132,2,0),(IF($B61="SIEC",VLOOKUP($C61,[1]SIEC!$A$1:$E$4166,2,0),(IF($B61="DER",VLOOKUP($C61,[1]DER!$A$1:$D$2157,2,0),(IF($B61="SICRO",VLOOKUP($C61,[1]SICRO!$A$1:$E$6354,2,0))))))))))))))))) -> BASE DE CONCRETO FCK=15,00MPA PARA GUIAS, SARJETAS OU SARJETÕES | E61: =UPPER(IF($B61="EDIF",VLOOKUP($C61,[1]EDIF!$A$1:$E$2656,3,0),(IF($B61="INFRA",VLOOKUP($C61,[1]INFRA!$A$1:$E$843,3,0),(IF($B61="SINAPI",VLOOKUP($C61,[1]SINAPI!$A$1:$G$7498,3,0),(IF($B61="FDE",VLOOKUP($C61,[1]FDE!$A$1:$E$3179,3,0),(IF($B61="CDHU",VLOOKUP($C61,[1]CDHU!$A$1:$F$4132,3,0),(IF($B61="SIEC",VLOOKUP($C61,[1]SIEC!$A$1:$E$4166,3,0),(IF($B61="DER",VLOOKUP($C61,[1]DER!$A$1:$D$2157,3,0),(IF($B61="SICRO",VLOOKUP($C61,[1]SICRO!$A$1:$E$6354,3,0))))))))))))))))) -> M3 | F61: 0.65 | G61: =ORÇ!K94 -> 498.12 | J61: =ROUND(G61*F61,2) -> 323.78
B62: EDIF | C62: 80280 | D62: =UPPER(IF($B62="EDIF",VLOOKUP($C62,[1]EDIF!$A$1:$E$2656,2,0),(IF($B62="INFRA",VLOOKUP($C62,[1]INFRA!$A$1:$E$843,2,0),(IF($B62="SINAPI",VLOOKUP($C62,[1]SINAPI!$A$1:$G$7498,2,0),(IF($B62="FDE",VLOOKUP($C62,[1]FDE!$A$1:$E$3179,2,0),(IF($B62="CDHU",VLOOKUP($C62,[1]CDHU!$A$1:$F$4132,2,0),(IF($B62="SIEC",VLOOKUP($C62,[1]SIEC!$A$1:$E$4166,2,0),(IF($B62="DER",VLOOKUP($C62,[1]DER!$A$1:$D$2157,2,0),(IF($B62="SICRO",VLOOKUP($C62,[1]SICRO!$A$1:$E$6354,2,0))))))))))))))))) -> TELA DE PROTEÇÃO EM ARAME N.12, MALHA DE 1/2" - INCLUSIVE REQUADRO | E62: =UPPER(IF($B62="EDIF",VLOOKUP($C62,[1]EDIF!$A$1:$E$2656,3,0),(IF($B62="INFRA",VLOOKUP($C62,[1]INFRA!$A$1:$E$843,3,0),(IF($B62="SINAPI",VLOOKUP($C62,[1]SINAPI!$A$1:$G$7498,3,0),(IF($B62="FDE",VLOOKUP($C62,[1]FDE!$A$1:$E$3179,3,0),(IF($B62="CDHU",VLOOKUP($C62,[1]CDHU!$A$1:$F$4132,3,0),(IF($B62="SIEC",VLOOKUP($C62,[1]SIEC!$A$1:$E$4166,3,0),(IF($B62="DER",VLOOKUP($C62,[1]DER!$A$1:$D$2157,3,0),(IF($B62="SICRO",VLOOKUP($C62,[1]SICRO!$A$1:$E$6354,3,0))))))))))))))))) -> M2 | F62: 3 | G62: =ORÇ!K97 -> 260.91 | J62: =ROUND(G62*F62,2) -> 782.73
B63: EDIF | C63: 10105 | D63: =UPPER(IF($B63="EDIF",VLOOKUP($C63,[1]EDIF!$A$1:$E$2656,2,0),(IF($B63="INFRA",VLOOKUP($C63,[1]INFRA!$A$1:$E$843,2,0),(IF($B63="SINAPI",VLOOKUP($C63,[1]SINAPI!$A$1:$G$7498,2,0),(IF($B63="FDE",VLOOKUP($C63,[1]FDE!$A$1:$E$3179,2,0),(IF($B63="CDHU",VLOOKUP($C63,[1]CDHU!$A$1:$F$4132,2,0),(IF($B63="SIEC",VLOOKUP($C63,[1]SIEC!$A$1:$E$4166,2,0),(IF($B63="DER",VLOOKUP($C63,[1]DER!$A$1:$D$2157,2,0),(IF($B63="SICRO",VLOOKUP($C63,[1]SICRO!$A$1:$E$6354,2,0))))))))))))))))) -> CARGA MECANIZADA E REMOÇÃO DE ENTULHO, INCLUSIVE TRANSPORTE ATÉ 1KM | E63: =UPPER(IF($B63="EDIF",VLOOKUP($C63,[1]EDIF!$A$1:$E$2656,3,0),(IF($B63="INFRA",VLOOKUP($C63,[1]INFRA!$A$1:$E$843,3,0),(IF($B63="SINAPI",VLOOKUP($C63,[1]SINAPI!$A$1:$G$7498,3,0),(IF($B63="FDE",VLOOKUP($C63,[1]FDE!$A$1:$E$3179,3,0),(IF($B63="CDHU",VLOOKUP($C63,[1]CDHU!$A$1:$F$4132,3,0),(IF($B63="SIEC",VLOOKUP($C63,[1]SIEC!$A$1:$E$4166,3,0),(IF($B63="DER",VLOOKUP($C63,[1]DER!$A$1:$D$2157,3,0),(IF($B63="SICRO",VLOOKUP($C63,[1]SICRO!$A$1:$E$6354,3,0))))))))))))))))) -> M3 | F63: 21.23 | G63: =ORÇ!K99 -> 11.9 | J63: =ROUND(G63*F63,2) -> 252.64
B64: EDIF | C64: 10110 | D64: =UPPER(IF($B64="EDIF",VLOOKUP($C64,[1]EDIF!$A$1:$E$2656,2,0),(IF($B64="INFRA",VLOOKUP($C64,[1]INFRA!$A$1:$E$843,2,0),(IF($B64="SINAPI",VLOOKUP($C64,[1]SINAPI!$A$1:$G$7498,2,0),(IF($B64="FDE",VLOOKUP($C64,[1]FDE!$A$1:$E$3179,2,0),(IF($B64="CDHU",VLOOKUP($C64,[1]CDHU!$A$1:$F$4132,2,0),(IF($B64="SIEC",VLOOKUP($C64,[1]SIEC!$A$1:$E$4166,2,0),(IF($B64="DER",VLOOKUP($C64,[1]DER!$A$1:$D$2157,2,0),(IF($B64="SICRO",VLOOKUP($C64,[1]SICRO!$A$1:$E$6354,2,0))))))))))))))))) -> TRANSPORTE DE ENTULHO POR CAMINHÃO BASCULANTE, A PARTIR DE 1KM | E64: =UPPER(IF($B64="EDIF",VLOOKUP($C64,[1]EDIF!$A$1:$E$2656,3,0),(IF($B64="INFRA",VLOOKUP($C64,[1]INFRA!$A$1:$E$843,3,0),(IF($B64="SINAPI",VLOOKUP($C64,[1]SINAPI!$A$1:$G$7498,3,0),(IF($B64="FDE",VLOOKUP($C64,[1]FDE!$A$1:$E$3179,3,0),(IF($B64="CDHU",VLOOKUP($C64,[1]CDHU!$A$1:$F$4132,3,0),(IF($B64="SIEC",VLOOKUP($C64,[1]SIEC!$A$1:$E$4166,3,0),(IF($B64="DER",VLOOKUP($C64,[1]DER!$A$1:$D$2157,3,0),(IF($B64="SICRO",VLOOKUP($C64,[1]SICRO!$A$1:$E$6354,3,0))))))))))))))))) -> M3XKM | F64: 532.5 | G64: =ORÇ!K102 -> 1.66 | J64: =ROUND(G64*F64,2) -> 883.95
B65: INFRA | C65: 50100 | D65: =UPPER(IF($B65="EDIF",VLOOKUP($C65,[1]EDIF!$A$1:$E$2656,2,0),(IF($B65="INFRA",VLOOKUP($C65,[1]INFRA!$A$1:$E$843,2,0),(IF($B65="SINAPI",VLOOKUP($C65,[1]SINAPI!$A$1:$G$7498,2,0),(IF($B65="FDE",VLOOKUP($C65,[1]FDE!$A$1:$E$3179,2,0),(IF($B65="CDHU",VLOOKUP($C65,[1]CDHU!$A$1:$F$4132,2,0),(IF($B65="SIEC",VLOOKUP($C65,[1]SIEC!$A$1:$E$4166,2,0),(IF($B65="DER",VLOOKUP($C65,[1]DER!$A$1:$D$2157,2,0),(IF($B65="SICRO",VLOOKUP($C65,[1]SICRO!$A$1:$E$6354,2,0))))))))))))))))) -> ARRANCAMENTO DE GUIAS, INCLUI CARGA EM CAMINHÃO | E65: =UPPER(IF($B65="EDIF",VLOOKUP($C65,[1]EDIF!$A$1:$E$2656,3,0),(IF($B65="INFRA",VLOOKUP($C65,[1]INFRA!$A$1:$E$843,3,0),(IF($B65="SINAPI",VLOOKUP($C65,[1]SINAPI!$A$1:$G$7498,3,0),(IF($B65="FDE",VLOOKUP($C65,[1]FDE!$A$1:$E$3179,3,0),(IF($B65="CDHU",VLOOKUP($C65,[1]CDHU!$A$1:$F$4132,3,0),(IF($B65="SIEC",VLOOKUP($C65,[1]SIEC!$A$1:$E$4166,3,0),(IF($B65="DER",VLOOKUP($C65,[1]DER!$A$1:$D$2157,3,0),(IF($B65="SICRO",VLOOKUP($C65,[1]SICRO!$A$1:$E$6354,3,0))))))))))))))))) -> M | F65: 27 | G65: =ORÇ!K104 -> 10.44 | J65: =ROUND(G65*F65,2) -> 281.88
B66: INFRA | C66: 50200 | D66: =UPPER(IF($B66="EDIF",VLOOKUP($C66,[1]EDIF!$A$1:$E$2656,2,0),(IF($B66="INFRA",VLOOKUP($C66,[1]INFRA!$A$1:$E$843,2,0),(IF($B66="SINAPI",VLOOKUP($C66,[1]SINAPI!$A$1:$G$7498,2,0),(IF($B66="FDE",VLOOKUP($C66,[1]FDE!$A$1:$E$3179,2,0),(IF($B66="CDHU",VLOOKUP($C66,[1]CDHU!$A$1:$F$4132,2,0),(IF($B66="SIEC",VLOOKUP($C66,[1]SIEC!$A$1:$E$4166,2,0),(IF($B66="DER",VLOOKUP($C66,[1]DER!$A$1:$D$2157,2,0),(IF($B66="SICRO",VLOOKUP($C66,[1]SICRO!$A$1:$E$6354,2,0))))))))))))))))) -> ARRANCAMENTO DE PARALELEPÍPEDOS, INCLUI CARGA EM CAMINHÃO | E66: =UPPER(IF($B66="EDIF",VLOOKUP($C66,[1]EDIF!$A$1:$E$2656,3,0),(IF($B66="INFRA",VLOOKUP($C66,[1]INFRA!$A$1:$E$843,3,0),(IF($B66="SINAPI",VLOOKUP($C66,[1]SINAPI!$A$1:$G$7498,3,0),(IF($B66="FDE",VLOOKUP($C66,[1]FDE!$A$1:$E$3179,3,0),(IF($B66="CDHU",VLOOKUP($C66,[1]CDHU!$A$1:$F$4132,3,0),(IF($B66="SIEC",VLOOKUP($C66,[1]SIEC!$A$1:$E$4166,3,0),(IF($B66="DER",VLOOKUP($C66,[1]DER!$A$1:$D$2157,3,0),(IF($B66="SICRO",VLOOKUP($C66,[1]SICRO!$A$1:$E$6354,3,0))))))))))))))))) -> M2 | F66: 42 | G66: =ORÇ!K106 -> 18.47 | J66: =ROUND(G66*F66,2) -> 775.74
B67: INFRA | C67: 53500 | D67: =UPPER(IF($B67="EDIF",VLOOKUP($C67,[1]EDIF!$A$1:$E$2656,2,0),(IF($B67="INFRA",VLOOKUP($C67,[1]INFRA!$A$1:$E$843,2,0),(IF($B67="SINAPI",VLOOKUP($C67,[1]SINAPI!$A$1:$G$7498,2,0),(IF($B67="FDE",VLOOKUP($C67,[1]FDE!$A$1:$E$3179,2,0),(IF($B67="CDHU",VLOOKUP($C67,[1]CDHU!$A$1:$F$4132,2,0),(IF($B67="SIEC",VLOOKUP($C67,[1]SIEC!$A$1:$E$4166,2,0),(IF($B67="DER",VLOOKUP($C67,[1]DER!$A$1:$D$2157,2,0),(IF($B67="SICRO",VLOOKUP($C67,[1]SICRO!$A$1:$E$6354,2,0))))))))))))))))) -> ARRANCAMENTO E REASSENTAMENTO DE PARALELEPÍPEDOS SOBRE AREIA (IE-23) | E67: =UPPER(IF($B67="EDIF",VLOOKUP($C67,[1]EDIF!$A$1:$E$2656,3,0),(IF($B67="INFRA",VLOOKUP($C67,[1]INFRA!$A$1:$E$843,3,0),(IF($B67="SINAPI",VLOOKUP($C67,[1]SINAPI!$A$1:$G$7498,3,0),(IF($B67="FDE",VLOOKUP($C67,[1]FDE!$A$1:$E$3179,3,0),(IF($B67="CDHU",VLOOKUP($C67,[1]CDHU!$A$1:$F$4132,3,0),(IF($B67="SIEC",VLOOKUP($C67,[1]SIEC!$A$1:$E$4166,3,0),(IF($B67="DER",VLOOKUP($C67,[1]DER!$A$1:$D$2157,3,0),(IF($B67="SICRO",VLOOKUP($C67,[1]SICRO!$A$1:$E$6354,3,0))))))))))))))))) -> M2 | F67: 30 | G67: =ORÇ!K108 -> 55.83 | J67: =ROUND(G67*F67,2) -> 1674.9
B68: INFRA | C68: 54000 | D68: =UPPER(IF($B68="EDIF",VLOOKUP($C68,[1]EDIF!$A$1:$E$2656,2,0),(IF($B68="INFRA",VLOOKUP($C68,[1]INFRA!$A$1:$E$843,2,0),(IF($B68="SINAPI",VLOOKUP($C68,[1]SINAPI!$A$1:$G$7498,2,0),(IF($B68="FDE",VLOOKUP($C68,[1]FDE!$A$1:$E$3179,2,0),(IF($B68="CDHU",VLOOKUP($C68,[1]CDHU!$A$1:$F$4132,2,0),(IF($B68="SIEC",VLOOKUP($C68,[1]SIEC!$A$1:$E$4166,2,0),(IF($B68="DER",VLOOKUP($C68,[1]DER!$A$1:$D$2157,2,0),(IF($B68="SICRO",VLOOKUP($C68,[1]SICRO!$A$1:$E$6354,2,0))))))))))))))))) -> TRANSPORTE DE PARALELEPÍPEDOS | E68: =UPPER(IF($B68="EDIF",VLOOKUP($C68,[1]EDIF!$A$1:$E$2656,3,0),(IF($B68="INFRA",VLOOKUP($C68,[1]INFRA!$A$1:$E$843,3,0),(IF($B68="SINAPI",VLOOKUP($C68,[1]SINAPI!$A$1:$G$7498,3,0),(IF($B68="FDE",VLOOKUP($C68,[1]FDE!$A$1:$E$3179,3,0),(IF($B68="CDHU",VLOOKUP($C68,[1]CDHU!$A$1:$F$4132,3,0),(IF($B68="SIEC",VLOOKUP($C68,[1]SIEC!$A$1:$E$4166,3,0),(IF($B68="DER",VLOOKUP($C68,[1]DER!$A$1:$D$2157,3,0),(IF($B68="SICRO",VLOOKUP($C68,[1]SICRO!$A$1:$E$6354,3,0))))))))))))))))) -> M2XKM | F68: 840 | G68: =ORÇ!K110 -> 0.7 | J68: =ROUND(G68*F68,2) -> 588
B69: INFRA | C69: 50400 | D69: =UPPER(IF($B69="EDIF",VLOOKUP($C69,[1]EDIF!$A$1:$E$2656,2,0),(IF($B69="INFRA",VLOOKUP($C69,[1]INFRA!$A$1:$E$843,2,0),(IF($B69="SINAPI",VLOOKUP($C69,[1]SINAPI!$A$1:$G$7498,2,0),(IF($B69="FDE",VLOOKUP($C69,[1]FDE!$A$1:$E$3179,2,0),(IF($B69="CDHU",VLOOKUP($C69,[1]CDHU!$A$1:$F$4132,2,0),(IF($B69="SIEC",VLOOKUP($C69,[1]SIEC!$A$1:$E$4166,2,0),(IF($B69="DER",VLOOKUP($C69,[1]DER!$A$1:$D$2157,2,0),(IF($B69="SICRO",VLOOKUP($C69,[1]SICRO!$A$1:$E$6354,2,0))))))))))))))))) -> DEMOLIÇÃO DE PAVIMENTO ASFÁLTICO, INCLUSIVE CAPA, INCLUI CARGA NO CAMINHÃO | E69: =UPPER(IF($B69="EDIF",VLOOKUP($C69,[1]EDIF!$A$1:$E$2656,3,0),(IF($B69="INFRA",VLOOKUP($C69,[1]INFRA!$A$1:$E$843,3,0),(IF($B69="SINAPI",VLOOKUP($C69,[1]SINAPI!$A$1:$G$7498,3,0),(IF($B69="FDE",VLOOKUP($C69,[1]FDE!$A$1:$E$3179,3,0),(IF($B69="CDHU",VLOOKUP($C69,[1]CDHU!$A$1:$F$4132,3,0),(IF($B69="SIEC",VLOOKUP($C69,[1]SIEC!$A$1:$E$4166,3,0),(IF($B69="DER",VLOOKUP($C69,[1]DER!$A$1:$D$2157,3,0),(IF($B69="SICRO",VLOOKUP($C69,[1]SICRO!$A$1:$E$6354,3,0))))))))))))))))) -> M2 | F69: 80 | G69: =ORÇ!K112 -> 21.73 | J69: =ROUND(G69*F69,2) -> 1738.4
B70: INFRA | C70: 51401 | D70: =UPPER(IF($B70="EDIF",VLOOKUP($C70,[1]EDIF!$A$1:$E$2656,2,0),(IF($B70="INFRA",VLOOKUP($C70,[1]INFRA!$A$1:$E$843,2,0),(IF($B70="SINAPI",VLOOKUP($C70,[1]SINAPI!$A$1:$G$7498,2,0),(IF($B70="FDE",VLOOKUP($C70,[1]FDE!$A$1:$E$3179,2,0),(IF($B70="CDHU",VLOOKUP($C70,[1]CDHU!$A$1:$F$4132,2,0),(IF($B70="SIEC",VLOOKUP($C70,[1]SIEC!$A$1:$E$4166,2,0),(IF($B70="DER",VLOOKUP($C70,[1]DER!$A$1:$D$2157,2,0),(IF($B70="SICRO",VLOOKUP($C70,[1]SICRO!$A$1:$E$6354,2,0))))))))))))))))) -> FORNECIMENTO E ASSENTAMENTO DE GUIAS TIPO PMSP 100, INCLUSIVE ENCOSTAMENTO DE TERRA - FCK=20,0MPA | E70: =UPPER(IF($B70="EDIF",VLOOKUP($C70,[1]EDIF!$A$1:$E$2656,3,0),(IF($B70="INFRA",VLOOKUP($C70,[1]INFRA!$A$1:$E$843,3,0),(IF($B70="SINAPI",VLOOKUP($C70,[1]SINAPI!$A$1:$G$7498,3,0),(IF($B70="FDE",VLOOKUP($C70,[1]FDE!$A$1:$E$3179,3,0),(IF($B70="CDHU",VLOOKUP($C70,[1]CDHU!$A$1:$F$4132,3,0),(IF($B70="SIEC",VLOOKUP($C70,[1]SIEC!$A$1:$E$4166,3,0),(IF($B70="DER",VLOOKUP($C70,[1]DER!$A$1:$D$2157,3,0),(IF($B70="SICRO",VLOOKUP($C70,[1]SICRO!$A$1:$E$6354,3,0))))))))))))))))) -> M | F70: 27 | G70: =ORÇ!K114 -> 49.24 | J70: =ROUND(G70*F70,2) -> 1329.48
B71: INFRA | C71: 51300 | D71: =UPPER(IF($B71="EDIF",VLOOKUP($C71,[1]EDIF!$A$1:$E$2656,2,0),(IF($B71="INFRA",VLOOKUP($C71,[1]INFRA!$A$1:$E$843,2,0),(IF($B71="SINAPI",VLOOKUP($C71,[1]SINAPI!$A$1:$G$7498,2,0),(IF($B71="FDE",VLOOKUP($C71,[1]FDE!$A$1:$E$3179,2,0),(IF($B71="CDHU",VLOOKUP($C71,[1]CDHU!$A$1:$F$4132,2,0),(IF($B71="SIEC",VLOOKUP($C71,[1]SIEC!$A$1:$E$4166,2,0),(IF($B71="DER",VLOOKUP($C71,[1]DER!$A$1:$D$2157,2,0),(IF($B71="SICRO",VLOOKUP($C71,[1]SICRO!$A$1:$E$6354,2,0))))))))))))))))) -> BASE DE CONCRETO FCK=15,00MPA PARA GUIAS, SARJETAS OU SARJETÕES | E71: =UPPER(IF($B71="EDIF",VLOOKUP($C71,[1]EDIF!$A$1:$E$2656,3,0),(IF($B71="INFRA",VLOOKUP($C71,[1]INFRA!$A$1:$E$843,3,0),(IF($B71="SINAPI",VLOOKUP($C71,[1]SINAPI!$A$1:$G$7498,3,0),(IF($B71="FDE",VLOOKUP($C71,[1]FDE!$A$1:$E$3179,3,0),(IF($B71="CDHU",VLOOKUP($C71,[1]CDHU!$A$1:$F$4132,3,0),(IF($B71="SIEC",VLOOKUP($C71,[1]SIEC!$A$1:$E$4166,3,0),(IF($B71="DER",VLOOKUP($C71,[1]DER!$A$1:$D$2157,3,0),(IF($B71="SICRO",VLOOKUP($C71,[1]SICRO!$A$1:$E$6354,3,0))))))))))))))))) -> M3 | F71: 2.58 | G71: =ORÇ!K116 -> 498.12 | J71: =ROUND(G71*F71,2) -> 1285.15
B72: INFRA | C72: 62305 | D72: =UPPER(IF($B72="EDIF",VLOOKUP($C72,[1]EDIF!$A$1:$E$2656,2,0),(IF($B72="INFRA",VLOOKUP($C72,[1]INFRA!$A$1:$E$843,2,0),(IF($B72="SINAPI",VLOOKUP($C72,[1]SINAPI!$A$1:$G$7498,2,0),(IF($B72="FDE",VLOOKUP($C72,[1]FDE!$A$1:$E$3179,2,0),(IF($B72="CDHU",VLOOKUP($C72,[1]CDHU!$A$1:$F$4132,2,0),(IF($B72="SIEC",VLOOKUP($C72,[1]SIEC!$A$1:$E$4166,2,0),(IF($B72="DER",VLOOKUP($C72,[1]DER!$A$1:$D$2157,2,0),(IF($B72="SICRO",VLOOKUP($C72,[1]SICRO!$A$1:$E$6354,2,0))))))))))))))))) -> SUBSTITUIÇÃO DE TAMPA DE CONCRETO PARA BOCA DE LOBO | E72: =UPPER(IF($B72="EDIF",VLOOKUP($C72,[1]EDIF!$A$1:$E$2656,3,0),(IF($B72="INFRA",VLOOKUP($C72,[1]INFRA!$A$1:$E$843,3,0),(IF($B72="SINAPI",VLOOKUP($C72,[1]SINAPI!$A$1:$G$7498,3,0),(IF($B72="FDE",VLOOKUP($C72,[1]FDE!$A$1:$E$3179,3,0),(IF($B72="CDHU",VLOOKUP($C72,[1]CDHU!$A$1:$F$4132,3,0),(IF($B72="SIEC",VLOOKUP($C72,[1]SIEC!$A$1:$E$4166,3,0),(IF($B72="DER",VLOOKUP($C72,[1]DER!$A$1:$D$2157,3,0),(IF($B72="SICRO",VLOOKUP($C72,[1]SICRO!$A$1:$E$6354,3,0))))))))))))))))) -> UN | F72: 2 | G72: =ORÇ!K118 -> 351.98 | J72: =ROUND(G72*F72,2) -> 703.96
B73: EDIF | C73: 30317 | D73: =UPPER(IF($B73="EDIF",VLOOKUP($C73,[1]EDIF!$A$1:$E$2656,2,0),(IF($B73="INFRA",VLOOKUP($C73,[1]INFRA!$A$1:$E$843,2,0),(IF($B73="SINAPI",VLOOKUP($C73,[1]SINAPI!$A$1:$G$7498,2,0),(IF($B73="FDE",VLOOKUP($C73,[1]FDE!$A$1:$E$3179,2,0),(IF($B73="CDHU",VLOOKUP($C73,[1]CDHU!$A$1:$F$4132,2,0),(IF($B73="SIEC",VLOOKUP($C73,[1]SIEC!$A$1:$E$4166,2,0),(IF($B73="DER",VLOOKUP($C73,[1]DER!$A$1:$D$2157,2,0),(IF($B73="SICRO",VLOOKUP($C73,[1]SICRO!$A$1:$E$6354,2,0))))))))))))))))) -> CONCRETO FCK = 25,0MPA - USINADO | E73: =UPPER(IF($B73="EDIF",VLOOKUP($C73,[1]EDIF!$A$1:$E$2656,3,0),(IF($B73="INFRA",VLOOKUP($C73,[1]INFRA!$A$1:$E$843,3,0),(IF($B73="SINAPI",VLOOKUP($C73,[1]SINAPI!$A$1:$G$7498,3,0),(IF($B73="FDE",VLOOKUP($C73,[1]FDE!$A$1:$E$3179,3,0),(IF($B73="CDHU",VLOOKUP($C73,[1]CDHU!$A$1:$F$4132,3,0),(IF($B73="SIEC",VLOOKUP($C73,[1]SIEC!$A$1:$E$4166,3,0),(IF($B73="DER",VLOOKUP($C73,[1]DER!$A$1:$D$2157,3,0),(IF($B73="SICRO",VLOOKUP($C73,[1]SICRO!$A$1:$E$6354,3,0))))))))))))))))) -> M3 | F73: 40.25 | G73: =ORÇ!K119 -> 536.34 | J73: =ROUND(G73*F73,2) -> 21587.69
B74: EDIF | C74: 170176 | D74: =UPPER(IF($B74="EDIF",VLOOKUP($C74,[1]EDIF!$A$1:$E$2656,2,0),(IF($B74="INFRA",VLOOKUP($C74,[1]INFRA!$A$1:$E$843,2,0),(IF($B74="SINAPI",VLOOKUP($C74,[1]SINAPI!$A$1:$G$7498,2,0),(IF($B74="FDE",VLOOKUP($C74,[1]FDE!$A$1:$E$3179,2,0),(IF($B74="CDHU",VLOOKUP($C74,[1]CDHU!$A$1:$F$4132,2,0),(IF($B74="SIEC",VLOOKUP($C74,[1]SIEC!$A$1:$E$4166,2,0),(IF($B74="DER",VLOOKUP($C74,[1]DER!$A$1:$D$2157,2,0),(IF($B74="SICRO",VLOOKUP($C74,[1]SICRO!$A$1:$E$6354,2,0))))))))))))))))) -> FV.08 - MURETA DE BLOCOS DE CONCRETO | E74: =UPPER(IF($B74="EDIF",VLOOKUP($C74,[1]EDIF!$A$1:$E$2656,3,0),(IF($B74="INFRA",VLOOKUP($C74,[1]INFRA!$A$1:$E$843,3,0),(IF($B74="SINAPI",VLOOKUP($C74,[1]SINAPI!$A$1:$G$7498,3,0),(IF($B74="FDE",VLOOKUP($C74,[1]FDE!$A$1:$E$3179,3,0),(IF($B74="CDHU",VLOOKUP($C74,[1]CDHU!$A$1:$F$4132,3,0),(IF($B74="SIEC",VLOOKUP($C74,[1]SIEC!$A$1:$E$4166,3,0),(IF($B74="DER",VLOOKUP($C74,[1]DER!$A$1:$D$2157,3,0),(IF($B74="SICRO",VLOOKUP($C74,[1]SICRO!$A$1:$E$6354,3,0))))))))))))))))) -> M | F74: 349 | G74: =ORÇ!K121 -> 457.73 | J74: =ROUND(G74*F74,2) -> 159747.77
B75: EDIF | C75: 45001 | D75: =UPPER(IF($B75="EDIF",VLOOKUP($C75,[1]EDIF!$A$1:$E$2656,2,0),(IF($B75="INFRA",VLOOKUP($C75,[1]INFRA!$A$1:$E$843,2,0),(IF($B75="SINAPI",VLOOKUP($C75,[1]SINAPI!$A$1:$G$7498,2,0),(IF($B75="FDE",VLOOKUP($C75,[1]FDE!$A$1:$E$3179,2,0),(IF($B75="CDHU",VLOOKUP($C75,[1]CDHU!$A$1:$F$4132,2,0),(IF($B75="SIEC",VLOOKUP($C75,[1]SIEC!$A$1:$E$4166,2,0),(IF($B75="DER",VLOOKUP($C75,[1]DER!$A$1:$D$2157,2,0),(IF($B75="SICRO",VLOOKUP($C75,[1]SICRO!$A$1:$E$6354,2,0))))))))))))))))) -> DEMOLIÇÃO DE ALVENARIA ESTRUTURAL DE BLOCOS VAZADOS DE CONCRETO | E75: =UPPER(IF($B75="EDIF",VLOOKUP($C75,[1]EDIF!$A$1:$E$2656,3,0),(IF($B75="INFRA",VLOOKUP($C75,[1]INFRA!$A$1:$E$843,3,0),(IF($B75="SINAPI",VLOOKUP($C75,[1]SINAPI!$A$1:$G$7498,3,0),(IF($B75="FDE",VLOOKUP($C75,[1]FDE!$A$1:$E$3179,3,0),(IF($B75="CDHU",VLOOKUP($C75,[1]CDHU!$A$1:$F$4132,3,0),(IF($B75="SIEC",VLOOKUP($C75,[1]SIEC!$A$1:$E$4166,3,0),(IF($B75="DER",VLOOKUP($C75,[1]DER!$A$1:$D$2157,3,0),(IF($B75="SICRO",VLOOKUP($C75,[1]SICRO!$A$1:$E$6354,3,0))))))))))))))))) -> M3 | F75: 4.8 | G75: =ORÇ!K123 -> 96.42 | J75: =ROUND(G75*F75,2) -> 462.82
B76: EDIF | C76: 45009 | D76: =UPPER(IF($B76="EDIF",VLOOKUP($C76,[1]EDIF!$A$1:$E$2656,2,0),(IF($B76="INFRA",VLOOKUP($C76,[1]INFRA!$A$1:$E$843,2,0),(IF($B76="SINAPI",VLOOKUP($C76,[1]SINAPI!$A$1:$G$7498,2,0),(IF($B76="FDE",VLOOKUP($C76,[1]FDE!$A$1:$E$3179,2,0),(IF($B76="CDHU",VLOOKUP($C76,[1]CDHU!$A$1:$F$4132,2,0),(IF($B76="SIEC",VLOOKUP($C76,[1]SIEC!$A$1:$E$4166,2,0),(IF($B76="DER",VLOOKUP($C76,[1]DER!$A$1:$D$2157,2,0),(IF($B76="SICRO",VLOOKUP($C76,[1]SICRO!$A$1:$E$6354,2,0))))))))))))))))) -> DEMOLIÇÃO DE VERGAS, CINTAS E PILARETES DE CONCRETO | E76: =UPPER(IF($B76="EDIF",VLOOKUP($C76,[1]EDIF!$A$1:$E$2656,3,0),(IF($B76="INFRA",VLOOKUP($C76,[1]INFRA!$A$1:$E$843,3,0),(IF($B76="SINAPI",VLOOKUP($C76,[1]SINAPI!$A$1:$G$7498,3,0),(IF($B76="FDE",VLOOKUP($C76,[1]FDE!$A$1:$E$3179,3,0),(IF($B76="CDHU",VLOOKUP($C76,[1]CDHU!$A$1:$F$4132,3,0),(IF($B76="SIEC",VLOOKUP($C76,[1]SIEC!$A$1:$E$4166,3,0),(IF($B76="DER",VLOOKUP($C76,[1]DER!$A$1:$D$2157,3,0),(IF($B76="SICRO",VLOOKUP($C76,[1]SICRO!$A$1:$E$6354,3,0))))))))))))))))) -> M3 | F76: 1.2 | G76: =ORÇ!K125 -> 313.35 | J76: =ROUND(G76*F76,2) -> 376.02
B77: EDIF | C77: 10306 | D77: =UPPER(IF($B77="EDIF",VLOOKUP($C77,[1]EDIF!$A$1:$E$2656,2,0),(IF($B77="INFRA",VLOOKUP($C77,[1]INFRA!$A$1:$E$843,2,0),(IF($B77="SINAPI",VLOOKUP($C77,[1]SINAPI!$A$1:$G$7498,2,0),(IF($B77="FDE",VLOOKUP($C77,[1]FDE!$A$1:$E$3179,2,0),(IF($B77="CDHU",VLOOKUP($C77,[1]CDHU!$A$1:$F$4132,2,0),(IF($B77="SIEC",VLOOKUP($C77,[1]SIEC!$A$1:$E$4166,2,0),(IF($B77="DER",VLOOKUP($C77,[1]DER!$A$1:$D$2157,2,0),(IF($B77="SICRO",VLOOKUP($C77,[1]SICRO!$A$1:$E$6354,2,0))))))))))))))))) -> ATERRO, INCLUSIVE COMPACTAÇÃO | E77: =UPPER(IF($B77="EDIF",VLOOKUP($C77,[1]EDIF!$A$1:$E$2656,3,0),(IF($B77="INFRA",VLOOKUP($C77,[1]INFRA!$A$1:$E$843,3,0),(IF($B77="SINAPI",VLOOKUP($C77,[1]SINAPI!$A$1:$G$7498,3,0),(IF($B77="FDE",VLOOKUP($C77,[1]FDE!$A$1:$E$3179,3,0),(IF($B77="CDHU",VLOOKUP($C77,[1]CDHU!$A$1:$F$4132,3,0),(IF($B77="SIEC",VLOOKUP($C77,[1]SIEC!$A$1:$E$4166,3,0),(IF($B77="DER",VLOOKUP($C77,[1]DER!$A$1:$D$2157,3,0),(IF($B77="SICRO",VLOOKUP($C77,[1]SICRO!$A$1:$E$6354,3,0))))))))))))))))) -> M3 | F77: 45 | G77: =ORÇ!K127 -> 7.66 | J77: =ROUND(G77*F77,2) -> 344.7
B78: EDIF | C78: 10305 | D78: =UPPER(IF($B78="EDIF",VLOOKUP($C78,[1]EDIF!$A$1:$E$2656,2,0),(IF($B78="INFRA",VLOOKUP($C78,[1]INFRA!$A$1:$E$843,2,0),(IF($B78="SINAPI",VLOOKUP($C78,[1]SINAPI!$A$1:$G$7498,2,0),(IF($B78="FDE",VLOOKUP($C78,[1]FDE!$A$1:$E$3179,2,0),(IF($B78="CDHU",VLOOKUP($C78,[1]CDHU!$A$1:$F$4132,2,0),(IF($B78="SIEC",VLOOKUP($C78,[1]SIEC!$A$1:$E$4166,2,0),(IF($B78="DER",VLOOKUP($C78,[1]DER!$A$1:$D$2157,2,0),(IF($B78="SICRO",VLOOKUP($C78,[1]SICRO!$A$1:$E$6354,2,0))))))))))))))))) -> FORNECIMENTO DE TERRA, INCLUSIVE CORTE, CARGA, DESCARGA E TRANSPORTE ATÉ 1KM | E78: =UPPER(IF($B78="EDIF",VLOOKUP($C78,[1]EDIF!$A$1:$E$2656,3,0),(IF($B78="INFRA",VLOOKUP($C78,[1]INFRA!$A$1:$E$843,3,0),(IF($B78="SINAPI",VLOOKUP($C78,[1]SINAPI!$A$1:$G$7498,3,0),(IF($B78="FDE",VLOOKUP($C78,[1]FDE!$A$1:$E$3179,3,0),(IF($B78="CDHU",VLOOKUP($C78,[1]CDHU!$A$1:$F$4132,3,0),(IF($B78="SIEC",VLOOKUP($C78,[1]SIEC!$A$1:$E$4166,3,0),(IF($B78="DER",VLOOKUP($C78,[1]DER!$A$1:$D$2157,3,0),(IF($B78="SICRO",VLOOKUP($C78,[1]SICRO!$A$1:$E$6354,3,0))))))))))))))))) -> M3 | F78: 45 | G78: =ORÇ!K129 -> 31.72 | J78: =ROUND(G78*F78,2) -> 1427.4
B79: EDIF | C79: 10310 | D79: =UPPER(IF($B79="EDIF",VLOOKUP($C79,[1]EDIF!$A$1:$E$2656,2,0),(IF($B79="INFRA",VLOOKUP($C79,[1]INFRA!$A$1:$E$843,2,0),(IF($B79="SINAPI",VLOOKUP($C79,[1]SINAPI!$A$1:$G$7498,2,0),(IF($B79="FDE",VLOOKUP($C79,[1]FDE!$A$1:$E$3179,2,0),(IF($B79="CDHU",VLOOKUP($C79,[1]CDHU!$A$1:$F$4132,2,0),(IF($B79="SIEC",VLOOKUP($C79,[1]SIEC!$A$1:$E$4166,2,0),(IF($B79="DER",VLOOKUP($C79,[1]DER!$A$1:$D$2157,2,0),(IF($B79="SICRO",VLOOKUP($C79,[1]SICRO!$A$1:$E$6354,2,0))))))))))))))))) -> TRANSPORTE DE TERRA POR CAMINHÃO BASCULANTE, A PARTIR DE 1KM | E79: =UPPER(IF($B79="EDIF",VLOOKUP($C79,[1]EDIF!$A$1:$E$2656,3,0),(IF($B79="INFRA",VLOOKUP($C79,[1]INFRA!$A$1:$E$843,3,0),(IF($B79="SINAPI",VLOOKUP($C79,[1]SINAPI!$A$1:$G$7498,3,0),(IF($B79="FDE",VLOOKUP($C79,[1]FDE!$A$1:$E$3179,3,0),(IF($B79="CDHU",VLOOKUP($C79,[1]CDHU!$A$1:$F$4132,3,0),(IF($B79="SIEC",VLOOKUP($C79,[1]SIEC!$A$1:$E$4166,3,0),(IF($B79="DER",VLOOKUP($C79,[1]DER!$A$1:$D$2157,3,0),(IF($B79="SICRO",VLOOKUP($C79,[1]SICRO!$A$1:$E$6354,3,0))))))))))))))))) -> M3XKM | F79: 900 | G79: =ORÇ!K131 -> 2.96 | J79: =ROUND(G79*F79,2) -> 2664
B80: EDIF | C80: 80274 | D80: =UPPER(IF($B80="EDIF",VLOOKUP($C80,[1]EDIF!$A$1:$E$2656,2,0),(IF($B80="INFRA",VLOOKUP($C80,[1]INFRA!$A$1:$E$843,2,0),(IF($B80="SINAPI",VLOOKUP($C80,[1]SINAPI!$A$1:$G$7498,2,0),(IF($B80="FDE",VLOOKUP($C80,[1]FDE!$A$1:$E$3179,2,0),(IF($B80="CDHU",VLOOKUP($C80,[1]CDHU!$A$1:$F$4132,2,0),(IF($B80="SIEC",VLOOKUP($C80,[1]SIEC!$A$1:$E$4166,2,0),(IF($B80="DER",VLOOKUP($C80,[1]DER!$A$1:$D$2157,2,0),(IF($B80="SICRO",VLOOKUP($C80,[1]SICRO!$A$1:$E$6354,2,0))))))))))))))))) -> EP.06 - GRADE DE PROTEÇÃO EM FERRO REDONDO | E80: =UPPER(IF($B80="EDIF",VLOOKUP($C80,[1]EDIF!$A$1:$E$2656,3,0),(IF($B80="INFRA",VLOOKUP($C80,[1]INFRA!$A$1:$E$843,3,0),(IF($B80="SINAPI",VLOOKUP($C80,[1]SINAPI!$A$1:$G$7498,3,0),(IF($B80="FDE",VLOOKUP($C80,[1]FDE!$A$1:$E$3179,3,0),(IF($B80="CDHU",VLOOKUP($C80,[1]CDHU!$A$1:$F$4132,3,0),(IF($B80="SIEC",VLOOKUP($C80,[1]SIEC!$A$1:$E$4166,3,0),(IF($B80="DER",VLOOKUP($C80,[1]DER!$A$1:$D$2157,3,0),(IF($B80="SICRO",VLOOKUP($C80,[1]SICRO!$A$1:$E$6354,3,0))))))))))))))))) -> M2 | F80: 0.96 | G80: =ORÇ!K133 -> 145.78 | J80: =ROUND(G80*F80,2) -> 139.95
D81: =ORÇ!D135 -> TRECHO ENTRE AS CASAS N946 A N954 --- VIA MARGINAL CÓRREGO TRÊS PONTES
B82: =ORÇ!B137 -> FDE | C82: =ORÇ!C137 -> 16.08.026 | D82: =UPPER(IF($B82="EDIF",VLOOKUP($C82,[1]EDIF!$A$1:$E$2656,2,0),(IF($B82="INFRA",VLOOKUP($C82,[1]INFRA!$A$1:$E$843,2,0),(IF($B82="SINAPI",VLOOKUP($C82,[1]SINAPI!$A$1:$G$7498,2,0),(IF($B82="FDE",VLOOKUP($C82,[1]FDE!$A$1:$E$3179,2,0),(IF($B82="CDHU",VLOOKUP($C82,[1]CDHU!$A$1:$F$4132,2,0),(IF($B82="SIEC",VLOOKUP($C82,[1]SIEC!$A$1:$E$4166,2,0),(IF($B82="DER",VLOOKUP($C82,[1]DER!$A$1:$D$2157,2,0),(IF($B82="SICRO",VLOOKUP($C82,[1]SICRO!$A$1:$E$6354,2,0))))))))))))))))) -> CI-02 CAIXA DE INSPEÇÃO 80X80CM PARA ESGOTO | E82: =UPPER(IF($B82="EDIF",VLOOKUP($C82,[1]EDIF!$A$1:$E$2656,3,0),(IF($B82="INFRA",VLOOKUP($C82,[1]INFRA!$A$1:$E$843,3,0),(IF($B82="SINAPI",VLOOKUP($C82,[1]SINAPI!$A$1:$G$7498,3,0),(IF($B82="FDE",VLOOKUP($C82,[1]FDE!$A$1:$E$3179,3,0),(IF($B82="CDHU",VLOOKUP($C82,[1]CDHU!$A$1:$F$4132,3,0),(IF($B82="SIEC",VLOOKUP($C82,[1]SIEC!$A$1:$E$4166,3,0),(IF($B82="DER",VLOOKUP($C82,[1]DER!$A$1:$D$2157,3,0),(IF($B82="SICRO",VLOOKUP($C82,[1]SICRO!$A$1:$E$6354,3,0))))))))))))))))) -> UN | F82: =ORÇ!J137 -> 2 | G82: =ORÇ!K137 -> 1066.01 | J82: =ROUND(G82*F82,2) -> 2132.02
B83: =ORÇ!B139 -> EDIF | C83: =ORÇ!C139 -> 100933 | D83: =UPPER(IF($B83="EDIF",VLOOKUP($C83,[1]EDIF!$A$1:$E$2656,2,0),(IF($B83="INFRA",VLOOKUP($C83,[1]INFRA!$A$1:$E$843,2,0),(IF($B83="SINAPI",VLOOKUP($C83,[1]SINAPI!$A$1:$G$7498,2,0),(IF($B83="FDE",VLOOKUP($C83,[1]FDE!$A$1:$E$3179,2,0),(IF($B83="CDHU",VLOOKUP($C83,[1]CDHU!$A$1:$F$4132,2,0),(IF($B83="SIEC",VLOOKUP($C83,[1]SIEC!$A$1:$E$4166,2,0),(IF($B83="DER",VLOOKUP($C83,[1]DER!$A$1:$D$2157,2,0),(IF($B83="SICRO",VLOOKUP($C83,[1]SICRO!$A$1:$E$6354,2,0))))))))))))))))) -> TUBO DE PVC RÍGIDO, PONTA E BOLSA (LINHA ESGOTO) - 100MM (4") | E83: =UPPER(IF($B83="EDIF",VLOOKUP($C83,[1]EDIF!$A$1:$E$2656,3,0),(IF($B83="INFRA",VLOOKUP($C83,[1]INFRA!$A$1:$E$843,3,0),(IF($B83="SINAPI",VLOOKUP($C83,[1]SINAPI!$A$1:$G$7498,3,0),(IF($B83="FDE",VLOOKUP($C83,[1]FDE!$A$1:$E$3179,3,0),(IF($B83="CDHU",VLOOKUP($C83,[1]CDHU!$A$1:$F$4132,3,0),(IF($B83="SIEC",VLOOKUP($C83,[1]SIEC!$A$1:$E$4166,3,0),(IF($B83="DER",VLOOKUP($C83,[1]DER!$A$1:$D$2157,3,0),(IF($B83="SICRO",VLOOKUP($C83,[1]SICRO!$A$1:$E$6354,3,0))))))))))))))))) -> M | F83: 30 | G83: =ORÇ!K139 -> 48.59 | J83: =ROUND(G83*F83,2) -> 1457.7
B84: =ORÇ!B141 -> EDIF | C84: =ORÇ!C141 -> 10401 | D84: =UPPER(IF($B84="EDIF",VLOOKUP($C84,[1]EDIF!$A$1:$E$2656,2,0),(IF($B84="INFRA",VLOOKUP($C84,[1]INFRA!$A$1:$E$843,2,0),(IF($B84="SINAPI",VLOOKUP($C84,[1]SINAPI!$A$1:$G$7498,2,0),(IF($B84="FDE",VLOOKUP($C84,[1]FDE!$A$1:$E$3179,2,0),(IF($B84="CDHU",VLOOKUP($C84,[1]CDHU!$A$1:$F$4132,2,0),(IF($B84="SIEC",VLOOKUP($C84,[1]SIEC!$A$1:$E$4166,2,0),(IF($B84="DER",VLOOKUP($C84,[1]DER!$A$1:$D$2157,2,0),(IF($B84="SICRO",VLOOKUP($C84,[1]SICRO!$A$1:$E$6354,2,0))))))))))))))))) -> ESCAVAÇÃO MANUAL, PROFUNDIDADE IGUAL OU INFERIOR A 1,50M | E84: =UPPER(IF($B84="EDIF",VLOOKUP($C84,[1]EDIF!$A$1:$E$2656,3,0),(IF($B84="INFRA",VLOOKUP($C84,[1]INFRA!$A$1:$E$843,3,0),(IF($B84="SINAPI",VLOOKUP($C84,[1]SINAPI!$A$1:$G$7498,3,0),(IF($B84="FDE",VLOOKUP($C84,[1]FDE!$A$1:$E$3179,3,0),(IF($B84="CDHU",VLOOKUP($C84,[1]CDHU!$A$1:$F$4132,3,0),(IF($B84="SIEC",VLOOKUP($C84,[1]SIEC!$A$1:$E$4166,3,0),(IF($B84="DER",VLOOKUP($C84,[1]DER!$A$1:$D$2157,3,0),(IF($B84="SICRO",VLOOKUP($C84,[1]SICRO!$A$1:$E$6354,3,0))))))))))))))))) -> M3 | F84: =ORÇ!J141 -> 18 | G84: =ORÇ!K141 -> 76.89 | J84: =ROUND(G84*F84,2) -> 1384.02
B85: =ORÇ!B144 -> CDHU | C85: =ORÇ!C144 -> 46.05.070 | D85: =UPPER(IF($B85="EDIF",VLOOKUP($C85,[1]EDIF!$A$1:$E$2656,2,0),(IF($B85="INFRA",VLOOKUP($C85,[1]INFRA!$A$1:$E$843,2,0),(IF($B85="SINAPI",VLOOKUP($C85,[1]SINAPI!$A$1:$G$7498,2,0),(IF($B85="FDE",VLOOKUP($C85,[1]FDE!$A$1:$E$3179,2,0),(IF($B85="CDHU",VLOOKUP($C85,[1]CDHU!$A$1:$F$4132,2,0),(IF($B85="SIEC",VLOOKUP($C85,[1]SIEC!$A$1:$E$4166,2,0),(IF($B85="DER",VLOOKUP($C85,[1]DER!$A$1:$D$2157,2,0),(IF($B85="SICRO",VLOOKUP($C85,[1]SICRO!$A$1:$E$6354,2,0))))))))))))))))) -> TUBO PVC RÍGIDO, TIPO COLETOR ESGOTO, JUNTA ELÁSTICA, DN= 300 MM, INCLUSIVE CONEXÕES | E85: =UPPER(IF($B85="EDIF",VLOOKUP($C85,[1]EDIF!$A$1:$E$2656,3,0),(IF($B85="INFRA",VLOOKUP($C85,[1]INFRA!$A$1:$E$843,3,0),(IF($B85="SINAPI",VLOOKUP($C85,[1]SINAPI!$A$1:$G$7498,3,0),(IF($B85="FDE",VLOOKUP($C85,[1]FDE!$A$1:$E$3179,3,0),(IF($B85="CDHU",VLOOKUP($C85,[1]CDHU!$A$1:$F$4132,3,0),(IF($B85="SIEC",VLOOKUP($C85,[1]SIEC!$A$1:$E$4166,3,0),(IF($B85="DER",VLOOKUP($C85,[1]DER!$A$1:$D$2157,3,0),(IF($B85="SICRO",VLOOKUP($C85,[1]SICRO!$A$1:$E$6354,3,0))))))))))))))))) -> M | F85: 24 | G85: =ORÇ!K144 -> 255.74 | J85: =ROUND(G85*F85,2) -> 6137.76
B86: =ORÇ!B146 -> EDIF | C86: =ORÇ!C146 -> 135005 | D86: =UPPER(IF($B86="EDIF",VLOOKUP($C86,[1]EDIF!$A$1:$E$2656,2,0),(IF($B86="INFRA",VLOOKUP($C86,[1]INFRA!$A$1:$E$843,2,0),(IF($B86="SINAPI",VLOOKUP($C86,[1]SINAPI!$A$1:$G$7498,2,0),(IF($B86="FDE",VLOOKUP($C86,[1]FDE!$A$1:$E$3179,2,0),(IF($B86="CDHU",VLOOKUP($C86,[1]CDHU!$A$1:$F$4132,2,0),(IF($B86="SIEC",VLOOKUP($C86,[1]SIEC!$A$1:$E$4166,2,0),(IF($B86="DER",VLOOKUP($C86,[1]DER!$A$1:$D$2157,2,0),(IF($B86="SICRO",VLOOKUP($C86,[1]SICRO!$A$1:$E$6354,2,0))))))))))))))))) -> DEMOLIÇÃO DE ARGAMASSA, CERÂMICA OU SIMILAR INCLUSIVE ARGAMASSA DE REGULARIZAÇÃO | E86: =UPPER(IF($B86="EDIF",VLOOKUP($C86,[1]EDIF!$A$1:$E$2656,3,0),(IF($B86="INFRA",VLOOKUP($C86,[1]INFRA!$A$1:$E$843,3,0),(IF($B86="SINAPI",VLOOKUP($C86,[1]SINAPI!$A$1:$G$7498,3,0),(IF($B86="FDE",VLOOKUP($C86,[1]FDE!$A$1:$E$3179,3,0),(IF($B86="CDHU",VLOOKUP($C86,[1]CDHU!$A$1:$F$4132,3,0),(IF($B86="SIEC",VLOOKUP($C86,[1]SIEC!$A$1:$E$4166,3,0),(IF($B86="DER",VLOOKUP($C86,[1]DER!$A$1:$D$2157,3,0),(IF($B86="SICRO",VLOOKUP($C86,[1]SICRO!$A$1:$E$6354,3,0))))))))))))))))) -> M2 | F86: 3 | G86: =ORÇ!K146 -> 40.59 | J86: =ROUND(G86*F86,2) -> 121.77
B87: =ORÇ!B148 -> CDHU | C87: =ORÇ!C148 -> 17.03.020 | D87: =UPPER(IF($B87="EDIF",VLOOKUP($C87,[1]EDIF!$A$1:$E$2656,2,0),(IF($B87="INFRA",VLOOKUP($C87,[1]INFRA!$A$1:$E$843,2,0),(IF($B87="SINAPI",VLOOKUP($C87,[1]SINAPI!$A$1:$G$7498,2,0),(IF($B87="FDE",VLOOKUP($C87,[1]FDE!$A$1:$E$3179,2,0),(IF($B87="CDHU",VLOOKUP($C87,[1]CDHU!$A$1:$F$4132,2,0),(IF($B87="SIEC",VLOOKUP($C87,[1]SIEC!$A$1:$E$4166,2,0),(IF($B87="DER",VLOOKUP($C87,[1]DER!$A$1:$D$2157,2,0),(IF($B87="SICRO",VLOOKUP($C87,[1]SICRO!$A$1:$E$6354,2,0))))))))))))))))) -> CIMENTADO DESEMPENADO | E87: =UPPER(IF($B87="EDIF",VLOOKUP($C87,[1]EDIF!$A$1:$E$2656,3,0),(IF($B87="INFRA",VLOOKUP($C87,[1]INFRA!$A$1:$E$843,3,0),(IF($B87="SINAPI",VLOOKUP($C87,[1]SINAPI!$A$1:$G$7498,3,0),(IF($B87="FDE",VLOOKUP($C87,[1]FDE!$A$1:$E$3179,3,0),(IF($B87="CDHU",VLOOKUP($C87,[1]CDHU!$A$1:$F$4132,3,0),(IF($B87="SIEC",VLOOKUP($C87,[1]SIEC!$A$1:$E$4166,3,0),(IF($B87="DER",VLOOKUP($C87,[1]DER!$A$1:$D$2157,3,0),(IF($B87="SICRO",VLOOKUP($C87,[1]SICRO!$A$1:$E$6354,3,0))))))))))))))))) -> M2 | F87: 3 | G87: =ORÇ!K148 -> 31.93 | J87: =ROUND(G87*F87,2) -> 95.79
B88: =ORÇ!B150 -> CDHU | C88: =ORÇ!C150 -> 19.03.090 | D88: =UPPER(IF($B88="EDIF",VLOOKUP($C88,[1]EDIF!$A$1:$E$2656,2,0),(IF($B88="INFRA",VLOOKUP($C88,[1]INFRA!$A$1:$E$843,2,0),(IF($B88="SINAPI",VLOOKUP($C88,[1]SINAPI!$A$1:$G$7498,2,0),(IF($B88="FDE",VLOOKUP($C88,[1]FDE!$A$1:$E$3179,2,0),(IF($B88="CDHU",VLOOKUP($C88,[1]CDHU!$A$1:$F$4132,2,0),(IF($B88="SIEC",VLOOKUP($C88,[1]SIEC!$A$1:$E$4166,2,0),(IF($B88="DER",VLOOKUP($C88,[1]DER!$A$1:$D$2157,2,0),(IF($B88="SICRO",VLOOKUP($C88,[1]SICRO!$A$1:$E$6354,2,0))))))))))))))))) -> REVESTIMENTO EM PEDRA MIRACEMA | E88: =UPPER(IF($B88="EDIF",VLOOKUP($C88,[1]EDIF!$A$1:$E$2656,3,0),(IF($B88="INFRA",VLOOKUP($C88,[1]INFRA!$A$1:$E$843,3,0),(IF($B88="SINAPI",VLOOKUP($C88,[1]SINAPI!$A$1:$G$7498,3,0),(IF($B88="FDE",VLOOKUP($C88,[1]FDE!$A$1:$E$3179,3,0),(IF($B88="CDHU",VLOOKUP($C88,[1]CDHU!$A$1:$F$4132,3,0),(IF($B88="SIEC",VLOOKUP($C88,[1]SIEC!$A$1:$E$4166,3,0),(IF($B88="DER",VLOOKUP($C88,[1]DER!$A$1:$D$2157,3,0),(IF($B88="SICRO",VLOOKUP($C88,[1]SICRO!$A$1:$E$6354,3,0))))))))))))))))) -> M2 | F88: 3 | G88: =ORÇ!K150 -> 97.32 | J88: =ROUND(G88*F88,2) -> 291.96
B89: =ORÇ!B152 -> INFRA | C89: =ORÇ!C152 -> 50400 | D89: =UPPER(IF($B89="EDIF",VLOOKUP($C89,[1]EDIF!$A$1:$E$2656,2,0),(IF($B89="INFRA",VLOOKUP($C89,[1]INFRA!$A$1:$E$843,2,0),(IF($B89="SINAPI",VLOOKUP($C89,[1]SINAPI!$A$1:$G$7498,2,0),(IF($B89="FDE",VLOOKUP($C89,[1]FDE!$A$1:$E$3179,2,0),(IF($B89="CDHU",VLOOKUP($C89,[1]CDHU!$A$1:$F$4132,2,0),(IF($B89="SIEC",VLOOKUP($C89,[1]SIEC!$A$1:$E$4166,2,0),(IF($B89="DER",VLOOKUP($C89,[1]DER!$A$1:$D$2157,2,0),(IF($B89="SICRO",VLOOKUP($C89,[1]SICRO!$A$1:$E$6354,2,0))))))))))))))))) -> DEMOLIÇÃO DE PAVIMENTO ASFÁLTICO, INCLUSIVE CAPA, INCLUI CARGA NO CAMINHÃO | E89: =UPPER(IF($B89="EDIF",VLOOKUP($C89,[1]EDIF!$A$1:$E$2656,3,0),(IF($B89="INFRA",VLOOKUP($C89,[1]INFRA!$A$1:$E$843,3,0),(IF($B89="SINAPI",VLOOKUP($C89,[1]SINAPI!$A$1:$G$7498,3,0),(IF($B89="FDE",VLOOKUP($C89,[1]FDE!$A$1:$E$3179,3,0),(IF($B89="CDHU",VLOOKUP($C89,[1]CDHU!$A$1:$F$4132,3,0),(IF($B89="SIEC",VLOOKUP($C89,[1]SIEC!$A$1:$E$4166,3,0),(IF($B89="DER",VLOOKUP($C89,[1]DER!$A$1:$D$2157,3,0),(IF($B89="SICRO",VLOOKUP($C89,[1]SICRO!$A$1:$E$6354,3,0))))))))))))))))) -> M2 | F89: =ORÇ!J152 -> 25.2 | G89: =ORÇ!K152 -> 21.73 | J89: =ROUND(G89*F89,2) -> 547.6
B90: =ORÇ!B154 -> EDIF | C90: =ORÇ!C154 -> 10480 | D90: =UPPER(IF($B90="EDIF",VLOOKUP($C90,[1]EDIF!$A$1:$E$2656,2,0),(IF($B90="INFRA",VLOOKUP($C90,[1]INFRA!$A$1:$E$843,2,0),(IF($B90="SINAPI",VLOOKUP($C90,[1]SINAPI!$A$1:$G$7498,2,0),(IF($B90="FDE",VLOOKUP($C90,[1]FDE!$A$1:$E$3179,2,0),(IF($B90="CDHU",VLOOKUP($C90,[1]CDHU!$A$1:$F$4132,2,0),(IF($B90="SIEC",VLOOKUP($C90,[1]SIEC!$A$1:$E$4166,2,0),(IF($B90="DER",VLOOKUP($C90,[1]DER!$A$1:$D$2157,2,0),(IF($B90="SICRO",VLOOKUP($C90,[1]SICRO!$A$1:$E$6354,2,0))))))))))))))))) -> REATERRO DE VALAS, INCLUSIVE COMPACTAÇÃO | E90: =UPPER(IF($B90="EDIF",VLOOKUP($C90,[1]EDIF!$A$1:$E$2656,3,0),(IF($B90="INFRA",VLOOKUP($C90,[1]INFRA!$A$1:$E$843,3,0),(IF($B90="SINAPI",VLOOKUP($C90,[1]SINAPI!$A$1:$G$7498,3,0),(IF($B90="FDE",VLOOKUP($C90,[1]FDE!$A$1:$E$3179,3,0),(IF($B90="CDHU",VLOOKUP($C90,[1]CDHU!$A$1:$F$4132,3,0),(IF($B90="SIEC",VLOOKUP($C90,[1]SIEC!$A$1:$E$4166,3,0),(IF($B90="DER",VLOOKUP($C90,[1]DER!$A$1:$D$2157,3,0),(IF($B90="SICRO",VLOOKUP($C90,[1]SICRO!$A$1:$E$6354,3,0))))))))))))))))) -> M3 | F90: =ORÇ!J154 -> 16.3 | G90: =ORÇ!K154 -> 16.97 | J90: =ROUND(G90*F90,2) -> 276.61
B91: =ORÇ!B158 -> INFRA | C91: =ORÇ!C156 -> 62203 | D91: =UPPER(IF($B91="EDIF",VLOOKUP($C91,[1]EDIF!$A$1:$E$2656,2,0),(IF($B91="INFRA",VLOOKUP($C91,[1]INFRA!$A$1:$E$843,2,0),(IF($B91="SINAPI",VLOOKUP($C91,[1]SINAPI!$A$1:$G$7498,2,0),(IF($B91="FDE",VLOOKUP($C91,[1]FDE!$A$1:$E$3179,2,0),(IF($B91="CDHU",VLOOKUP($C91,[1]CDHU!$A$1:$F$4132,2,0),(IF($B91="SIEC",VLOOKUP($C91,[1]SIEC!$A$1:$E$4166,2,0),(IF($B91="DER",VLOOKUP($C91,[1]DER!$A$1:$D$2157,2,0),(IF($B91="SICRO",VLOOKUP($C91,[1]SICRO!$A$1:$E$6354,2,0))))))))))))))))) -> BOCA DE LOBO SIMPLES | E91: =UPPER(IF($B91="EDIF",VLOOKUP($C91,[1]EDIF!$A$1:$E$2656,3,0),(IF($B91="INFRA",VLOOKUP($C91,[1]INFRA!$A$1:$E$843,3,0),(IF($B91="SINAPI",VLOOKUP($C91,[1]SINAPI!$A$1:$G$7498,3,0),(IF($B91="FDE",VLOOKUP($C91,[1]FDE!$A$1:$E$3179,3,0),(IF($B91="CDHU",VLOOKUP($C91,[1]CDHU!$A$1:$F$4132,3,0),(IF($B91="SIEC",VLOOKUP($C91,[1]SIEC!$A$1:$E$4166,3,0),(IF($B91="DER",VLOOKUP($C91,[1]DER!$A$1:$D$2157,3,0),(IF($B91="SICRO",VLOOKUP($C91,[1]SICRO!$A$1:$E$6354,3,0))))))))))))))))) -> UN | F91: =ORÇ!J156 -> 2 | G91: =ORÇ!K156 -> 2364.64 | J91: =ROUND(G91*F91,2) -> 4729.28
B92: =ORÇ!B158 -> INFRA | C92: =ORÇ!C158 -> 50400 | D92: =UPPER(IF($B92="EDIF",VLOOKUP($C92,[1]EDIF!$A$1:$E$2656,2,0),(IF($B92="INFRA",VLOOKUP($C92,[1]INFRA!$A$1:$E$843,2,0),(IF($B92="SINAPI",VLOOKUP($C92,[1]SINAPI!$A$1:$G$7498,2,0),(IF($B92="FDE",VLOOKUP($C92,[1]FDE!$A$1:$E$3179,2,0),(IF($B92="CDHU",VLOOKUP($C92,[1]CDHU!$A$1:$F$4132,2,0),(IF($B92="SIEC",VLOOKUP($C92,[1]SIEC!$A$1:$E$4166,2,0),(IF($B92="DER",VLOOKUP($C92,[1]DER!$A$1:$D$2157,2,0),(IF($B92="SICRO",VLOOKUP($C92,[1]SICRO!$A$1:$E$6354,2,0))))))))))))))))) -> DEMOLIÇÃO DE PAVIMENTO ASFÁLTICO, INCLUSIVE CAPA, INCLUI CARGA NO CAMINHÃO | E92: =UPPER(IF($B92="EDIF",VLOOKUP($C92,[1]EDIF!$A$1:$E$2656,3,0),(IF($B92="INFRA",VLOOKUP($C92,[1]INFRA!$A$1:$E$843,3,0),(IF($B92="SINAPI",VLOOKUP($C92,[1]SINAPI!$A$1:$G$7498,3,0),(IF($B92="FDE",VLOOKUP($C92,[1]FDE!$A$1:$E$3179,3,0),(IF($B92="CDHU",VLOOKUP($C92,[1]CDHU!$A$1:$F$4132,3,0),(IF($B92="SIEC",VLOOKUP($C92,[1]SIEC!$A$1:$E$4166,3,0),(IF($B92="DER",VLOOKUP($C92,[1]DER!$A$1:$D$2157,3,0),(IF($B92="SICRO",VLOOKUP($C92,[1]SICRO!$A$1:$E$6354,3,0))))))))))))))))) -> M2 | F92: =ORÇ!J158 -> 16.6 | G92: =ORÇ!K158 -> 21.73 | J92: =ROUND(G92*F92,2) -> 360.72
B93: =ORÇ!B160 -> INFRA | C93: =ORÇ!C160 -> 52800 | D93: =UPPER(IF($B93="EDIF",VLOOKUP($C93,[1]EDIF!$A$1:$E$2656,2,0),(IF($B93="INFRA",VLOOKUP($C93,[1]INFRA!$A$1:$E$843,2,0),(IF($B93="SINAPI",VLOOKUP($C93,[1]SINAPI!$A$1:$G$7498,2,0),(IF($B93="FDE",VLOOKUP($C93,[1]FDE!$A$1:$E$3179,2,0),(IF($B93="CDHU",VLOOKUP($C93,[1]CDHU!$A$1:$F$4132,2,0),(IF($B93="SIEC",VLOOKUP($C93,[1]SIEC!$A$1:$E$4166,2,0),(IF($B93="DER",VLOOKUP($C93,[1]DER!$A$1:$D$2157,2,0),(IF($B93="SICRO",VLOOKUP($C93,[1]SICRO!$A$1:$E$6354,2,0))))))))))))))))) -> REVESTIMENTO DE CONCRETO ASFÁLTICO (SEM TRANSPORTE) | E93: =UPPER(IF($B93="EDIF",VLOOKUP($C93,[1]EDIF!$A$1:$E$2656,3,0),(IF($B93="INFRA",VLOOKUP($C93,[1]INFRA!$A$1:$E$843,3,0),(IF($B93="SINAPI",VLOOKUP($C93,[1]SINAPI!$A$1:$G$7498,3,0),(IF($B93="FDE",VLOOKUP($C93,[1]FDE!$A$1:$E$3179,3,0),(IF($B93="CDHU",VLOOKUP($C93,[1]CDHU!$A$1:$F$4132,3,0),(IF($B93="SIEC",VLOOKUP($C93,[1]SIEC!$A$1:$E$4166,3,0),(IF($B93="DER",VLOOKUP($C93,[1]DER!$A$1:$D$2157,3,0),(IF($B93="SICRO",VLOOKUP($C93,[1]SICRO!$A$1:$E$6354,3,0))))))))))))))))) -> M3 | F93: =ORÇ!J160 -> 0.6 | G93: =ORÇ!K160 -> 1475.72 | J93: =ROUND(G93*F93,2) -> 885.43
B94: =ORÇ!B162 -> INFRA | C94: =ORÇ!C162 -> 54800 | D94: =UPPER(IF($B94="EDIF",VLOOKUP($C94,[1]EDIF!$A$1:$E$2656,2,0),(IF($B94="INFRA",VLOOKUP($C94,[1]INFRA!$A$1:$E$843,2,0),(IF($B94="SINAPI",VLOOKUP($C94,[1]SINAPI!$A$1:$G$7498,2,0),(IF($B94="FDE",VLOOKUP($C94,[1]FDE!$A$1:$E$3179,2,0),(IF($B94="CDHU",VLOOKUP($C94,[1]CDHU!$A$1:$F$4132,2,0),(IF($B94="SIEC",VLOOKUP($C94,[1]SIEC!$A$1:$E$4166,2,0),(IF($B94="DER",VLOOKUP($C94,[1]DER!$A$1:$D$2157,2,0),(IF($B94="SICRO",VLOOKUP($C94,[1]SICRO!$A$1:$E$6354,2,0))))))))))))))))) -> BASE DE BRITA GRADUADA | E94: =UPPER(IF($B94="EDIF",VLOOKUP($C94,[1]EDIF!$A$1:$E$2656,3,0),(IF($B94="INFRA",VLOOKUP($C94,[1]INFRA!$A$1:$E$843,3,0),(IF($B94="SINAPI",VLOOKUP($C94,[1]SINAPI!$A$1:$G$7498,3,0),(IF($B94="FDE",VLOOKUP($C94,[1]FDE!$A$1:$E$3179,3,0),(IF($B94="CDHU",VLOOKUP($C94,[1]CDHU!$A$1:$F$4132,3,0),(IF($B94="SIEC",VLOOKUP($C94,[1]SIEC!$A$1:$E$4166,3,0),(IF($B94="DER",VLOOKUP($C94,[1]DER!$A$1:$D$2157,3,0),(IF($B94="SICRO",VLOOKUP($C94,[1]SICRO!$A$1:$E$6354,3,0))))))))))))))))) -> M3 | F94: =ORÇ!J162 -> 1.66 | G94: =ORÇ!K162 -> 246.7 | J94: =ROUND(G94*F94,2) -> 409.52
B95: =ORÇ!B164 -> INFRA | C95: =ORÇ!C164 -> 52600 | D95: =UPPER(IF($B95="EDIF",VLOOKUP($C95,[1]EDIF!$A$1:$E$2656,2,0),(IF($B95="INFRA",VLOOKUP($C95,[1]INFRA!$A$1:$E$843,2,0),(IF($B95="SINAPI",VLOOKUP($C95,[1]SINAPI!$A$1:$G$7498,2,0),(IF($B95="FDE",VLOOKUP($C95,[1]FDE!$A$1:$E$3179,2,0),(IF($B95="CDHU",VLOOKUP($C95,[1]CDHU!$A$1:$F$4132,2,0),(IF($B95="SIEC",VLOOKUP($C95,[1]SIEC!$A$1:$E$4166,2,0),(IF($B95="DER",VLOOKUP($C95,[1]DER!$A$1:$D$2157,2,0),(IF($B95="SICRO",VLOOKUP($C95,[1]SICRO!$A$1:$E$6354,2,0))))))))))))))))) -> IMPRIMAÇÃO BETUMINOSA LIGANTE | E95: =UPPER(IF($B95="EDIF",VLOOKUP($C95,[1]EDIF!$A$1:$E$2656,3,0),(IF($B95="INFRA",VLOOKUP($C95,[1]INFRA!$A$1:$E$843,3,0),(IF($B95="SINAPI",VLOOKUP($C95,[1]SINAPI!$A$1:$G$7498,3,0),(IF($B95="FDE",VLOOKUP($C95,[1]FDE!$A$1:$E$3179,3,0),(IF($B95="CDHU",VLOOKUP($C95,[1]CDHU!$A$1:$F$4132,3,0),(IF($B95="SIEC",VLOOKUP($C95,[1]SIEC!$A$1:$E$4166,3,0),(IF($B95="DER",VLOOKUP($C95,[1]DER!$A$1:$D$2157,3,0),(IF($B95="SICRO",VLOOKUP($C95,[1]SICRO!$A$1:$E$6354,3,0))))))))))))))))) -> M2 | F95: =ORÇ!J164 -> 32.6 | G95: =ORÇ!K164 -> 6.48 | J95: =ROUND(G95*F95,2) -> 211.25
B96: =ORÇ!B166 -> INFRA | C96: =ORÇ!C166 -> 52700 | D96: =UPPER(IF($B96="EDIF",VLOOKUP($C96,[1]EDIF!$A$1:$E$2656,2,0),(IF($B96="INFRA",VLOOKUP($C96,[1]INFRA!$A$1:$E$843,2,0),(IF($B96="SINAPI",VLOOKUP($C96,[1]SINAPI!$A$1:$G$7498,2,0),(IF($B96="FDE",VLOOKUP($C96,[1]FDE!$A$1:$E$3179,2,0),(IF($B96="CDHU",VLOOKUP($C96,[1]CDHU!$A$1:$F$4132,2,0),(IF($B96="SIEC",VLOOKUP($C96,[1]SIEC!$A$1:$E$4166,2,0),(IF($B96="DER",VLOOKUP($C96,[1]DER!$A$1:$D$2157,2,0),(IF($B96="SICRO",VLOOKUP($C96,[1]SICRO!$A$1:$E$6354,2,0))))))))))))))))) -> IMPRIMAÇÃO BETUMINOSA IMPERMEABILIZANTE | E96: =UPPER(IF($B96="EDIF",VLOOKUP($C96,[1]EDIF!$A$1:$E$2656,3,0),(IF($B96="INFRA",VLOOKUP($C96,[1]INFRA!$A$1:$E$843,3,0),(IF($B96="SINAPI",VLOOKUP($C96,[1]SINAPI!$A$1:$G$7498,3,0),(IF($B96="FDE",VLOOKUP($C96,[1]FDE!$A$1:$E$3179,3,0),(IF($B96="CDHU",VLOOKUP($C96,[1]CDHU!$A$1:$F$4132,3,0),(IF($B96="SIEC",VLOOKUP($C96,[1]SIEC!$A$1:$E$4166,3,0),(IF($B96="DER",VLOOKUP($C96,[1]DER!$A$1:$D$2157,3,0),(IF($B96="SICRO",VLOOKUP($C96,[1]SICRO!$A$1:$E$6354,3,0))))))))))))))))) -> M2 | F96: =ORÇ!J166 -> 16.6 | G96: =ORÇ!K166 -> 15.69 | J96: =ROUND(G96*F96,2) -> 260.45
B97: =ORÇ!B170 -> INFRA | C97: =ORÇ!C168 -> 56700 | D97: =UPPER(IF($B97="EDIF",VLOOKUP($C97,[1]EDIF!$A$1:$E$2656,2,0),(IF($B97="INFRA",VLOOKUP($C97,[1]INFRA!$A$1:$E$843,2,0),(IF($B97="SINAPI",VLOOKUP($C97,[1]SINAPI!$A$1:$G$7498,2,0),(IF($B97="FDE",VLOOKUP($C97,[1]FDE!$A$1:$E$3179,2,0),(IF($B97="CDHU",VLOOKUP($C97,[1]CDHU!$A$1:$F$4132,2,0),(IF($B97="SIEC",VLOOKUP($C97,[1]SIEC!$A$1:$E$4166,2,0),(IF($B97="DER",VLOOKUP($C97,[1]DER!$A$1:$D$2157,2,0),(IF($B97="SICRO",VLOOKUP($C97,[1]SICRO!$A$1:$E$6354,2,0))))))))))))))))) -> TRANSPORTE DE PAVIMENTO ASFÁLTICO | E97: =UPPER(IF($B97="EDIF",VLOOKUP($C97,[1]EDIF!$A$1:$E$2656,3,0),(IF($B97="INFRA",VLOOKUP($C97,[1]INFRA!$A$1:$E$843,3,0),(IF($B97="SINAPI",VLOOKUP($C97,[1]SINAPI!$A$1:$G$7498,3,0),(IF($B97="FDE",VLOOKUP($C97,[1]FDE!$A$1:$E$3179,3,0),(IF($B97="CDHU",VLOOKUP($C97,[1]CDHU!$A$1:$F$4132,3,0),(IF($B97="SIEC",VLOOKUP($C97,[1]SIEC!$A$1:$E$4166,3,0),(IF($B97="DER",VLOOKUP($C97,[1]DER!$A$1:$D$2157,3,0),(IF($B97="SICRO",VLOOKUP($C97,[1]SICRO!$A$1:$E$6354,3,0))))))))))))))))) -> M2XKM | F97: =ORÇ!J168 -> 332 | G97: =ORÇ!K168 -> 0.94 | J97: =ROUND(G97*F97,2) -> 312.08
B98: =ORÇ!B170 -> INFRA | C98: =ORÇ!C170 -> 40800 | D98: =UPPER(IF($B98="EDIF",VLOOKUP($C98,[1]EDIF!$A$1:$E$2656,2,0),(IF($B98="INFRA",VLOOKUP($C98,[1]INFRA!$A$1:$E$843,2,0),(IF($B98="SINAPI",VLOOKUP($C98,[1]SINAPI!$A$1:$G$7498,2,0),(IF($B98="FDE",VLOOKUP($C98,[1]FDE!$A$1:$E$3179,2,0),(IF($B98="CDHU",VLOOKUP($C98,[1]CDHU!$A$1:$F$4132,2,0),(IF($B98="SIEC",VLOOKUP($C98,[1]SIEC!$A$1:$E$4166,2,0),(IF($B98="DER",VLOOKUP($C98,[1]DER!$A$1:$D$2157,2,0),(IF($B98="SICRO",VLOOKUP($C98,[1]SICRO!$A$1:$E$6354,2,0))))))))))))))))) -> REATERRO COMPACTADO DE FUNDAÇÃO | E98: =UPPER(IF($B98="EDIF",VLOOKUP($C98,[1]EDIF!$A$1:$E$2656,3,0),(IF($B98="INFRA",VLOOKUP($C98,[1]INFRA!$A$1:$E$843,3,0),(IF($B98="SINAPI",VLOOKUP($C98,[1]SINAPI!$A$1:$G$7498,3,0),(IF($B98="FDE",VLOOKUP($C98,[1]FDE!$A$1:$E$3179,3,0),(IF($B98="CDHU",VLOOKUP($C98,[1]CDHU!$A$1:$F$4132,3,0),(IF($B98="SIEC",VLOOKUP($C98,[1]SIEC!$A$1:$E$4166,3,0),(IF($B98="DER",VLOOKUP($C98,[1]DER!$A$1:$D$2157,3,0),(IF($B98="SICRO",VLOOKUP($C98,[1]SICRO!$A$1:$E$6354,3,0))))))))))))))))) -> M3 | F98: =ORÇ!J170 -> 11.62 | G98: =ORÇ!K170 -> 16.97 | J98: =ROUND(G98*F98,2) -> 197.19
B99: =ORÇ!B172 -> INFRA | C99: =ORÇ!C172 -> 60500 | D99: =UPPER(IF($B99="EDIF",VLOOKUP($C99,[1]EDIF!$A$1:$E$2656,2,0),(IF($B99="INFRA",VLOOKUP($C99,[1]INFRA!$A$1:$E$843,2,0),(IF($B99="SINAPI",VLOOKUP($C99,[1]SINAPI!$A$1:$G$7498,2,0),(IF($B99="FDE",VLOOKUP($C99,[1]FDE!$A$1:$E$3179,2,0),(IF($B99="CDHU",VLOOKUP($C99,[1]CDHU!$A$1:$F$4132,2,0),(IF($B99="SIEC",VLOOKUP($C99,[1]SIEC!$A$1:$E$4166,2,0),(IF($B99="DER",VLOOKUP($C99,[1]DER!$A$1:$D$2157,2,0),(IF($B99="SICRO",VLOOKUP($C99,[1]SICRO!$A$1:$E$6354,2,0))))))))))))))))) -> LASTRO DE BRITA E PÓ DE PEDRA | E99: =UPPER(IF($B99="EDIF",VLOOKUP($C99,[1]EDIF!$A$1:$E$2656,3,0),(IF($B99="INFRA",VLOOKUP($C99,[1]INFRA!$A$1:$E$843,3,0),(IF($B99="SINAPI",VLOOKUP($C99,[1]SINAPI!$A$1:$G$7498,3,0),(IF($B99="FDE",VLOOKUP($C99,[1]FDE!$A$1:$E$3179,3,0),(IF($B99="CDHU",VLOOKUP($C99,[1]CDHU!$A$1:$F$4132,3,0),(IF($B99="SIEC",VLOOKUP($C99,[1]SIEC!$A$1:$E$4166,3,0),(IF($B99="DER",VLOOKUP($C99,[1]DER!$A$1:$D$2157,3,0),(IF($B99="SICRO",VLOOKUP($C99,[1]SICRO!$A$1:$E$6354,3,0))))))))))))))))) -> M3 | F99: =ORÇ!J172 -> 0.83 | G99: =ORÇ!K172 -> 269.28 | J99: =ROUND(G99*F99,2) -> 223.5
B100: =ORÇ!B174 -> CDHU | C100: =ORÇ!C174 -> 46.13.104 | D100: =UPPER(IF($B100="EDIF",VLOOKUP($C100,[1]EDIF!$A$1:$E$2656,2,0),(IF($B100="INFRA",VLOOKUP($C100,[1]INFRA!$A$1:$E$843,2,0),(IF($B100="SINAPI",VLOOKUP($C100,[1]SINAPI!$A$1:$G$7498,2,0),(IF($B100="FDE",VLOOKUP($C100,[1]FDE!$A$1:$E$3179,2,0),(IF($B100="CDHU",VLOOKUP($C100,[1]CDHU!$A$1:$F$4132,2,0),(IF($B100="SIEC",VLOOKUP($C100,[1]SIEC!$A$1:$E$4166,2,0),(IF($B100="DER",VLOOKUP($C100,[1]DER!$A$1:$D$2157,2,0),(IF($B100="SICRO",VLOOKUP($C100,[1]SICRO!$A$1:$E$6354,2,0))))))))))))))))) -> TUBO EM POLIETILENO DE ALTA DENSIDADE CORRUGADO, DN/DI= 600 MM | E100: =UPPER(IF($B100="EDIF",VLOOKUP($C100,[1]EDIF!$A$1:$E$2656,3,0),(IF($B100="INFRA",VLOOKUP($C100,[1]INFRA!$A$1:$E$843,3,0),(IF($B100="SINAPI",VLOOKUP($C100,[1]SINAPI!$A$1:$G$7498,3,0),(IF($B100="FDE",VLOOKUP($C100,[1]FDE!$A$1:$E$3179,3,0),(IF($B100="CDHU",VLOOKUP($C100,[1]CDHU!$A$1:$F$4132,3,0),(IF($B100="SIEC",VLOOKUP($C100,[1]SIEC!$A$1:$E$4166,3,0),(IF($B100="DER",VLOOKUP($C100,[1]DER!$A$1:$D$2157,3,0),(IF($B100="SICRO",VLOOKUP($C100,[1]SICRO!$A$1:$E$6354,3,0))))))))))))))))) -> M | F100: =ORÇ!J174 -> 8.5 | G100: =ORÇ!K174 -> 355.8 | J100: =ROUND(G100*F100,2) -> 3024.3
G101: SUB TOTAL | J101: =SUM(J44:J100) -> 250930.84
L103: =UPPER(IF($B103="EDIF",VLOOKUP($C103,[1]EDIF!$A$1:$E$2656,5,0),(IF($B103="INFRA",VLOOKUP($C103,[1]INFRA!$A$1:$E$843,5,0),(IF($B103="SINAPI",VLOOKUP($C103,[1]SINAPI!$A$1:$G$7498,7,0),(IF($B103="FDE",VLOOKUP($C103,[1]FDE!$A$1:$E$3179,5,0),(IF($B103="CDHU",VLOOKUP($C103,[1]CDHU!$A$1:$G$4132,7,0),(IF($B103="SIEC",VLOOKUP($C103,[1]SIEC!$A$1:$E$4166,5,0),(IF($B103="DER",VLOOKUP($C103,[1]DER!$A$1:$D$2157,5,0),(IF($B103="SICRO",VLOOKUP($C103,[1]SICRO!$A$1:$E$6354,5,0))))))))))))))))) -> FALSO
B104: =ORÇ!B176 -> 0 | F104: TOTAL S/ BDI : | H104: =SUM(H12:H103)/2 -> 8282.035 | J104: =SUM(J17+J25+J31+J42+J101) -> 275110.39
...
