Workbook
Name AreaTeste: #REF!
Name AreaTeste2: #REF!
Name CélulaInicioPlanilha: #REF!
Name CélulaResumo: #REF!
Name Excel_BuiltIn_Database: #REF!
Name Excel_BuiltIn_Database_2: #REF!

Sheet ORÇ
E2: MEMÓRIA DE CÁLCULO
B5: OBRA: RECONSTRUÇÃO,BUEIROS,PAVIMENTOS ASF.PASSEIO-PISO VIELA | H5: LOCAL: Ferraz de Vasconcelos
B6: R. Viela Espatodéa -- R. DOS LÍRIOS PROX.N299-R.TOMIO KATAGUIRI-Prox.100- | H6: DT B. SIURB/JUL/24 CDHU 195
B7: R: RYOSHIN HASEGAWA -PROX AO Nº122R.:Papa João Paulo II -próx.R.José Pereira -trav.Av. Albino F.Figueiredo
B9: REF | C9: CÓDIGO | D9: DESCRIÇÃO DOS SERVIÇOS | I9: UNID | J9: QUANT
D11: VIELA ESPATODÉA -PROX. R. DOS PINHEIROS --- 18140/2023
B12: INFRA | C12: 101603 | D12: =UPPER(IF($B12="EDIF",VLOOKUP($C12,[1]EDIF!$A$1:$E$2656,2,0),(IF($B12="INFRA",VLOOKUP($C12,[1]INFRA!$A$1:$E$843,2,0),(IF($B12="SINAPI",VLOOKUP($C12,[1]SINAPI!$A$1:$G$7498,2,0),(IF($B12="FDE",VLOOKUP($C12,[1]FDE!$A$1:$E$3179,2,0),(IF($B12="CDHU",VLOOKUP($C12,[1]CDHU!$A$1:$F$4132,2,0),(IF($B12="SIEC",VLOOKUP($C12,[1]SIEC!$A$1:$E$4166,2,0),(IF($B12="DER",VLOOKUP($C12,[1]DER!$A$1:$D$2157,2,0),(IF($B12="SICRO",VLOOKUP($C12,[1]SICRO!$A$1:$E$6354,2,0))))))))))))))))) -> PLACA DE OBRA EM CHAPA DE AÇO GALVANIZADO | I12: =UPPER(IF($B12="EDIF",VLOOKUP($C12,[1]EDIF!$A$1:$E$2656,3,0),(IF($B12="INFRA",VLOOKUP($C12,[1]INFRA!$A$1:$E$843,3,0),(IF($B12="SINAPI",VLOOKUP($C12,[1]SINAPI!$A$1:$G$7498,3,0),(IF($B12="FDE",VLOOKUP($C12,[1]FDE!$A$1:$E$3179,3,0),(IF($B12="CDHU",VLOOKUP($C12,[1]CDHU!$A$1:$F$4132,3,0),(IF($B12="SIEC",VLOOKUP($C12,[1]SIEC!$A$1:$E$4166,3,0),(IF($B12="DER",VLOOKUP($C12,[1]DER!$A$1:$D$2157,3,0),(IF($B12="SICRO",VLOOKUP($C12,[1]SICRO!$A$1:$E$6354,3,0))))))))))))))))) -> M2 | J12: 3 | K12: 391.58 | L12: =ROUND(J12*K12,2) -> 1174.74
B14: EDIF | C14: 175020 | D14: =UPPER(IF($B14="EDIF",VLOOKUP($C14,[1]EDIF!$A$1:$E$2656,2,0),(IF($B14="INFRA",VLOOKUP($C14,[1]INFRA!$A$1:$E$843,2,0),(IF($B14="SINAPI",VLOOKUP($C14,[1]SINAPI!$A$1:$G$7498,2,0),(IF($B14="FDE",VLOOKUP($C14,[1]FDE!$A$1:$E$3179,2,0),(IF($B14="CDHU",VLOOKUP($C14,[1]CDHU!$A$1:$F$4132,2,0),(IF($B14="SIEC",VLOOKUP($C14,[1]SIEC!$A$1:$E$4166,2,0),(IF($B14="DER",VLOOKUP($C14,[1]DER!$A$1:$D$2157,2,0),(IF($B14="SICRO",VLOOKUP($C14,[1]SICRO!$A$1:$E$6354,2,0))))))))))))))))) -> DEMOLIÇÃO MANUAL DE CONCRETO SIMPLES | I14: =UPPER(IF($B14="EDIF",VLOOKUP($C14,[1]EDIF!$A$1:$E$2656,3,0),(IF($B14="INFRA",VLOOKUP($C14,[1]INFRA!$A$1:$E$843,3,0),(IF($B14="SINAPI",VLOOKUP($C14,[1]SINAPI!$A$1:$G$7498,3,0),(IF($B14="FDE",VLOOKUP($C14,[1]FDE!$A$1:$E$3179,3,0),(IF($B14="CDHU",VLOOKUP($C14,[1]CDHU!$A$1:$F$4132,3,0),(IF($B14="SIEC",VLOOKUP($C14,[1]SIEC!$A$1:$E$4166,3,0),(IF($B14="DER",VLOOKUP($C14,[1]DER!$A$1:$D$2157,3,0),(IF($B14="SICRO",VLOOKUP($C14,[1]SICRO!$A$1:$E$6354,3,0))))))))))))))))) -> M3 | J14: 2.5 | K14: 265.15 | L14: =ROUND(J14*K14,2) -> 662.88 | M14: =C14 -> 175020 | N14: =UPPER(IF($B14="EDIF",VLOOKUP($C14,[1]EDIF!$A$1:$E$2656,5,0),(IF($B14="INFRA",VLOOKUP($C14,[1]INFRA!$A$1:$E$843,5,0),(IF($B14="SINAPI",VLOOKUP($C14,[1]SINAPI!$A$1:$G$7498,7,0),(IF($B14="FDE",VLOOKUP($C14,[1]FDE!$A$1:$E$3179,5,0),(IF($B14="CDHU",VLOOKUP($C14,[1]CDHU!$A$1:$G$4132,7,0),(IF($B14="SIEC",VLOOKUP($C14,[1]SIEC!$A$1:$E$4166,5,0),(IF($B14="DER",VLOOKUP($C14,[1]DER!$A$1:$D$2157,5,0),(IF($B14="SICRO",VLOOKUP($C14,[1]SICRO!$A$1:$E$6354,5,0))))))))))))))))) -> EDIF JUL/23
C15: - | D15: 25,00M2*0,10 | L15: =ROUND(J15*K15,2) -> 0
B16: EDIF | C16: 10107 | D16: =UPPER(IF($B16="EDIF",VLOOKUP($C16,[1]EDIF!$A$1:$E$2656,2,0),(IF($B16="INFRA",VLOOKUP($C16,[1]INFRA!$A$1:$E$843,2,0),(IF($B16="SINAPI",VLOOKUP($C16,[1]SINAPI!$A$1:$G$7498,2,0),(IF($B16="FDE",VLOOKUP($C16,[1]FDE!$A$1:$E$3179,2,0),(IF($B16="CDHU",VLOOKUP($C16,[1]CDHU!$A$1:$F$4132,2,0),(IF($B16="SIEC",VLOOKUP($C16,[1]SIEC!$A$1:$E$4166,2,0),(IF($B16="DER",VLOOKUP($C16,[1]DER!$A$1:$D$2157,2,0),(IF($B16="SICRO",VLOOKUP($C16,[1]SICRO!$A$1:$E$6354,2,0))))))))))))))))) -> REMOÇÃO DE ENTULHO COM CAÇAMBA METÁLICA, INCLUSIVE CARGA MANUAL E DESCARGA EM BOTA-FORA | I16: =UPPER(IF($B16="EDIF",VLOOKUP($C16,[1]EDIF!$A$1:$E$2656,3,0),(IF($B16="INFRA",VLOOKUP($C16,[1]INFRA!$A$1:$E$843,3,0),(IF($B16="SINAPI",VLOOKUP($C16,[1]SINAPI!$A$1:$G$7498,3,0),(IF($B16="FDE",VLOOKUP($C16,[1]FDE!$A$1:$E$3179,3,0),(IF($B16="CDHU",VLOOKUP($C16,[1]CDHU!$A$1:$F$4132,3,0),(IF($B16="SIEC",VLOOKUP($C16,[1]SIEC!$A$1:$E$4166,3,0),(IF($B16="DER",VLOOKUP($C16,[1]DER!$A$1:$D$2157,3,0),(IF($B16="SICRO",VLOOKUP($C16,[1]SICRO!$A$1:$E$6354,3,0))))))))))))))))) -> M3 | J16: 3.25 | K16: 129.38 | L16: =ROUND(J16*K16,2) -> 420.49
D17: 2,50*1,30=3,25
B18: EDIF | C18: 30317 | D18: =UPPER(IF($B18="EDIF",VLOOKUP($C18,[1]EDIF!$A$1:$E$2656,2,0),(IF($B18="INFRA",VLOOKUP($C18,[1]INFRA!$A$1:$E$843,2,0),(IF($B18="SINAPI",VLOOKUP($C18,[1]SINAPI!$A$1:$G$7498,2,0),(IF($B18="FDE",VLOOKUP($C18,[1]FDE!$A$1:$E$3179,2,0),(IF($B18="CDHU",VLOOKUP($C18,[1]CDHU!$A$1:$F$4132,2,0),(IF($B18="SIEC",VLOOKUP($C18,[1]SIEC!$A$1:$E$4166,2,0),(IF($B18="DER",VLOOKUP($C18,[1]DER!$A$1:$D$2157,2,0),(IF($B18="SICRO",VLOOKUP($C18,[1]SICRO!$A$1:$E$6354,2,0))))))))))))))))) -> CONCRETO FCK = 25,0MPA - USINADO | I18: =UPPER(IF($B18="EDIF",VLOOKUP($C18,[1]EDIF!$A$1:$E$2656,3,0),(IF($B18="INFRA",VLOOKUP($C18,[1]INFRA!$A$1:$E$843,3,0),(IF($B18="SINAPI",VLOOKUP($C18,[1]SINAPI!$A$1:$G$7498,3,0),(IF($B18="FDE",VLOOKUP($C18,[1]FDE!$A$1:$E$3179,3,0),(IF($B18="CDHU",VLOOKUP($C18,[1]CDHU!$A$1:$F$4132,3,0),(IF($B18="SIEC",VLOOKUP($C18,[1]SIEC!$A$1:$E$4166,3,0),(IF($B18="DER",VLOOKUP($C18,[1]DER!$A$1:$D$2157,3,0),(IF($B18="SICRO",VLOOKUP($C18,[1]SICRO!$A$1:$E$6354,3,0))))))))))))))))) -> M3 | J18: 1.75 | K18: 536.34 | L18: =ROUND(J18*K18,2) -> 938.6
D19: 25,00M2 *0,07= | L19: =ROUND(J19*K19,2) -> 0
D20: RUA: DOS LÍRIOS PROX. Nº299- proc.5896/2024
B21: INFRA | C21: 101603 | D21: =UPPER(IF($B21="EDIF",VLOOKUP($C21,[1]EDIF!$A$1:$E$2656,2,0),(IF($B21="INFRA",VLOOKUP($C21,[1]INFRA!$A$1:$E$843,2,0),(IF($B21="SINAPI",VLOOKUP($C21,[1]SINAPI!$A$1:$G$7498,2,0),(IF($B21="FDE",VLOOKUP($C21,[1]FDE!$A$1:$E$3179,2,0),(IF($B21="CDHU",VLOOKUP($C21,[1]CDHU!$A$1:$F$4132,2,0),(IF($B21="SIEC",VLOOKUP($C21,[1]SIEC!$A$1:$E$4166,2,0),(IF($B21="DER",VLOOKUP($C21,[1]DER!$A$1:$D$2157,2,0),(IF($B21="SICRO",VLOOKUP($C21,[1]SICRO!$A$1:$E$6354,2,0))))))))))))))))) -> PLACA DE OBRA EM CHAPA DE AÇO GALVANIZADO | I21: =UPPER(IF($B21="EDIF",VLOOKUP($C21,[1]EDIF!$A$1:$E$2656,3,0),(IF($B21="INFRA",VLOOKUP($C21,[1]INFRA!$A$1:$E$843,3,0),(IF($B21="SINAPI",VLOOKUP($C21,[1]SINAPI!$A$1:$G$7498,3,0),(IF($B21="FDE",VLOOKUP($C21,[1]FDE!$A$1:$E$3179,3,0),(IF($B21="CDHU",VLOOKUP($C21,[1]CDHU!$A$1:$F$4132,3,0),(IF($B21="SIEC",VLOOKUP($C21,[1]SIEC!$A$1:$E$4166,3,0),(IF($B21="DER",VLOOKUP($C21,[1]DER!$A$1:$D$2157,3,0),(IF($B21="SICRO",VLOOKUP($C21,[1]SICRO!$A$1:$E$6354,3,0))))))))))))))))) -> M2 | J21: 3 | K21: 391.58 | L21: =ROUND(J21*K21,2) -> 1174.74
B23: INFRA | C23: 62305 | D23: =UPPER(IF($B23="EDIF",VLOOKUP($C23,[1]EDIF!$A$1:$E$2656,2,0),(IF($B23="INFRA",VLOOKUP($C23,[1]INFRA!$A$1:$E$843,2,0),(IF($B23="SINAPI",VLOOKUP($C23,[1]SINAPI!$A$1:$G$7498,2,0),(IF($B23="FDE",VLOOKUP($C23,[1]FDE!$A$1:$E$3179,2,0),(IF($B23="CDHU",VLOOKUP($C23,[1]CDHU!$A$1:$F$4132,2,0),(IF($B23="SIEC",VLOOKUP($C23,[1]SIEC!$A$1:$E$4166,2,0),(IF($B23="DER",VLOOKUP($C23,[1]DER!$A$1:$D$2157,2,0),(IF($B23="SICRO",VLOOKUP($C23,[1]SICRO!$A$1:$E$6354,2,0))))))))))))))))) -> SUBSTITUIÇÃO DE TAMPA DE CONCRETO PARA BOCA DE LOBO | I23: =UPPER(IF($B23="EDIF",VLOOKUP($C23,[1]EDIF!$A$1:$E$2656,3,0),(IF($B23="INFRA",VLOOKUP($C23,[1]INFRA!$A$1:$E$843,3,0),(IF($B23="SINAPI",VLOOKUP($C23,[1]SINAPI!$A$1:$G$7498,3,0),(IF($B23="FDE",VLOOKUP($C23,[1]FDE!$A$1:$E$3179,3,0),(IF($B23="CDHU",VLOOKUP($C23,[1]CDHU!$A$1:$F$4132,3,0),(IF($B23="SIEC",VLOOKUP($C23,[1]SIEC!$A$1:$E$4166,3,0),(IF($B23="DER",VLOOKUP($C23,[1]DER!$A$1:$D$2157,3,0),(IF($B23="SICRO",VLOOKUP($C23,[1]SICRO!$A$1:$E$6354,3,0))))))))))))))))) -> UN | J23: 2 | K23: 351.98 | L23: =ROUND(J23*K23,2) -> 703.96
D24: R. DOS LÍRIOS
B25: EDIF | C25: 175020 | D25: =UPPER(IF($B25="EDIF",VLOOKUP($C25,[1]EDIF!$A$1:$E$2656,2,0),(IF($B25="INFRA",VLOOKUP($C25,[1]INFRA!$A$1:$E$843,2,0),(IF($B25="SINAPI",VLOOKUP($C25,[1]SINAPI!$A$1:$G$7498,2,0),(IF($B25="FDE",VLOOKUP($C25,[1]FDE!$A$1:$E$3179,2,0),(IF($B25="CDHU",VLOOKUP($C25,[1]CDHU!$A$1:$F$4132,2,0),(IF($B25="SIEC",VLOOKUP($C25,[1]SIEC!$A$1:$E$4166,2,0),(IF($B25="DER",VLOOKUP($C25,[1]DER!$A$1:$D$2157,2,0),(IF($B25="SICRO",VLOOKUP($C25,[1]SICRO!$A$1:$E$6354,2,0))))))))))))))))) -> DEMOLIÇÃO MANUAL DE CONCRETO SIMPLES | I25: =UPPER(IF($B25="EDIF",VLOOKUP($C25,[1]EDIF!$A$1:$E$2656,3,0),(IF($B25="INFRA",VLOOKUP($C25,[1]INFRA!$A$1:$E$843,3,0),(IF($B25="SINAPI",VLOOKUP($C25,[1]SINAPI!$A$1:$G$7498,3,0),(IF($B25="FDE",VLOOKUP($C25,[1]FDE!$A$1:$E$3179,3,0),(IF($B25="CDHU",VLOOKUP($C25,[1]CDHU!$A$1:$F$4132,3,0),(IF($B25="SIEC",VLOOKUP($C25,[1]SIEC!$A$1:$E$4166,3,0),(IF($B25="DER",VLOOKUP($C25,[1]DER!$A$1:$D$2157,3,0),(IF($B25="SICRO",VLOOKUP($C25,[1]SICRO!$A$1:$E$6354,3,0))))))))))))))))) -> M3 | J25: 0.6 | K25: 265.15 | L25: =ROUND(J25*K25,2) -> 159.09 | M25: =C25 -> 175020 | N25: =UPPER(IF($B25="EDIF",VLOOKUP($C25,[1]EDIF!$A$1:$E$2656,5,0),(IF($B25="INFRA",VLOOKUP($C25,[1]INFRA!$A$1:$E$843,5,0),(IF($B25="SINAPI",VLOOKUP($C25,[1]SINAPI!$A$1:$G$7498,7,0),(IF($B25="FDE",VLOOKUP($C25,[1]FDE!$A$1:$E$3179,5,0),(IF($B25="CDHU",VLOOKUP($C25,[1]CDHU!$A$1:$G$4132,7,0),(IF($B25="SIEC",VLOOKUP($C25,[1]SIEC!$A$1:$E$4166,5,0),(IF($B25="DER",VLOOKUP($C25,[1]DER!$A$1:$D$2157,5,0),(IF($B25="SICRO",VLOOKUP($C25,[1]SICRO!$A$1:$E$6354,5,0))))))))))))))))) -> EDIF JUL/23
D26: 3*2=6,00*0,10
B27: INFRA | C27: 43100 | D27: =UPPER(IF($B27="EDIF",VLOOKUP($C27,[1]EDIF!$A$1:$E$2656,2,0),(IF($B27="INFRA",VLOOKUP($C27,[1]INFRA!$A$1:$E$843,2,0),(IF($B27="SINAPI",VLOOKUP($C27,[1]SINAPI!$A$1:$G$7498,2,0),(IF($B27="FDE",VLOOKUP($C27,[1]FDE!$A$1:$E$3179,2,0),(IF($B27="CDHU",VLOOKUP($C27,[1]CDHU!$A$1:$F$4132,2,0),(IF($B27="SIEC",VLOOKUP($C27,[1]SIEC!$A$1:$E$4166,2,0),(IF($B27="DER",VLOOKUP($C27,[1]DER!$A$1:$D$2157,2,0),(IF($B27="SICRO",VLOOKUP($C27,[1]SICRO!$A$1:$E$6354,2,0))))))))))))))))) -> FORNECIMENTO DE TERRA, INCLUINDO ESCAVAÇÃO, CARGA E TRANSPORTE ATÉ A DISTÂNCIA MÉDIA DE 1,0KM, MEDIDO NO ATERRO COMPACTADO | I27: =UPPER(IF($B27="EDIF",VLOOKUP($C27,[1]EDIF!$A$1:$E$2656,3,0),(IF($B27="INFRA",VLOOKUP($C27,[1]INFRA!$A$1:$E$843,3,0),(IF($B27="SINAPI",VLOOKUP($C27,[1]SINAPI!$A$1:$G$7498,3,0),(IF($B27="FDE",VLOOKUP($C27,[1]FDE!$A$1:$E$3179,3,0),(IF($B27="CDHU",VLOOKUP($C27,[1]CDHU!$A$1:$F$4132,3,0),(IF($B27="SIEC",VLOOKUP($C27,[1]SIEC!$A$1:$E$4166,3,0),(IF($B27="DER",VLOOKUP($C27,[1]DER!$A$1:$D$2157,3,0),(IF($B27="SICRO",VLOOKUP($C27,[1]SICRO!$A$1:$E$6354,3,0))))))))))))))))) -> M3 | J27: 6 | K27: 31.72 | L27: =ROUND(J27*K27,2) -> 190.32
C28: - | D28: P/Rua: Dos Lírios -- 2*1*3,00=6,00M2 | L28: =ROUND(J28*K28,2) -> 0
B29: INFRA | C29: 43200 | D29: =UPPER(IF($B29="EDIF",VLOOKUP($C29,[1]EDIF!$A$1:$E$2656,2,0),(IF($B29="INFRA",VLOOKUP($C29,[1]INFRA!$A$1:$E$843,2,0),(IF($B29="SINAPI",VLOOKUP($C29,[1]SINAPI!$A$1:$G$7498,2,0),(IF($B29="FDE",VLOOKUP($C29,[1]FDE!$A$1:$E$3179,2,0),(IF($B29="CDHU",VLOOKUP($C29,[1]CDHU!$A$1:$F$4132,2,0),(IF($B29="SIEC",VLOOKUP($C29,[1]SIEC!$A$1:$E$4166,2,0),(IF($B29="DER",VLOOKUP($C29,[1]DER!$A$1:$D$2157,2,0),(IF($B29="SICRO",VLOOKUP($C29,[1]SICRO!$A$1:$E$6354,2,0))))))))))))))))) -> COMPACTAÇÃO DE TERRA, MEDIDA NO ATERRO | I29: =UPPER(IF($B29="EDIF",VLOOKUP($C29,[1]EDIF!$A$1:$E$2656,3,0),(IF($B29="INFRA",VLOOKUP($C29,[1]INFRA!$A$1:$E$843,3,0),(IF($B29="SINAPI",VLOOKUP($C29,[1]SINAPI!$A$1:$G$7498,3,0),(IF($B29="FDE",VLOOKUP($C29,[1]FDE!$A$1:$E$3179,3,0),(IF($B29="CDHU",VLOOKUP($C29,[1]CDHU!$A$1:$F$4132,3,0),(IF($B29="SIEC",VLOOKUP($C29,[1]SIEC!$A$1:$E$4166,3,0),(IF($B29="DER",VLOOKUP($C29,[1]DER!$A$1:$D$2157,3,0),(IF($B29="SICRO",VLOOKUP($C29,[1]SICRO!$A$1:$E$6354,3,0))))))))))))))))) -> M3 | J29: 6 | K29: 8.58 | L29: =ROUND(J29*K29,2) -> 51.48
C30: - | D30: P/Rua: Dos Lírios -- 2*1*3,00=6,00M2 ---- 6 | L30: =ROUND(J30*K30,2) -> 0
B31: INFRA | C31: 59201 | D31: =UPPER(IF($B31="EDIF",VLOOKUP($C31,[1]EDIF!$A$1:$E$2656,2,0),(IF($B31="INFRA",VLOOKUP($C31,[1]INFRA!$A$1:$E$843,2,0),(IF($B31="SINAPI",VLOOKUP($C31,[1]SINAPI!$A$1:$G$7498,2,0),(IF($B31="FDE",VLOOKUP($C31,[1]FDE!$A$1:$E$3179,2,0),(IF($B31="CDHU",VLOOKUP($C31,[1]CDHU!$A$1:$F$4132,2,0),(IF($B31="SIEC",VLOOKUP($C31,[1]SIEC!$A$1:$E$4166,2,0),(IF($B31="DER",VLOOKUP($C31,[1]DER!$A$1:$D$2157,2,0),(IF($B31="SICRO",VLOOKUP($C31,[1]SICRO!$A$1:$E$6354,2,0))))))))))))))))) -> PISO/ PASSEIO DE CONCRETO, INCLUINDO O PREPARO DA CAIXA, LASTRO DE BRITA E A MÃO DE OBRA REFERENTE AOS SERVIÇOS NO CONCRETO: LANÇAMENTO E ACABAMENTO (RIPADO E DESEMPENADO) EXCLUSIVE O FORNECIMENTO DO CONCRETO | I31: =UPPER(IF($B31="EDIF",VLOOKUP($C31,[1]EDIF!$A$1:$E$2656,3,0),(IF($B31="INFRA",VLOOKUP($C31,[1]INFRA!$A$1:$E$843,3,0),(IF($B31="SINAPI",VLOOKUP($C31,[1]SINAPI!$A$1:$G$7498,3,0),(IF($B31="FDE",VLOOKUP($C31,[1]FDE!$A$1:$E$3179,3,0),(IF($B31="CDHU",VLOOKUP($C31,[1]CDHU!$A$1:$F$4132,3,0),(IF($B31="SIEC",VLOOKUP($C31,[1]SIEC!$A$1:$E$4166,3,0),(IF($B31="DER",VLOOKUP($C31,[1]DER!$A$1:$D$2157,3,0),(IF($B31="SICRO",VLOOKUP($C31,[1]SICRO!$A$1:$E$6354,3,0))))))))))))))))) -> M3 | J31: 0.42 | K31: 347.96 | L31: =ROUND(J31*K31,2) -> 146.14
D32: RUA DOS LÍRIOS -N 299 ----- 2*3=6*0,07=0,42 | L32: =ROUND(J32*K32,2) -> 0
D33: RUA: TOMIO KATAGUIRI -PROX.Nº100
B34: INFRA | C34: 101603 | D34: =UPPER(IF($B34="EDIF",VLOOKUP($C34,[1]EDIF!$A$1:$E$2656,2,0),(IF($B34="INFRA",VLOOKUP($C34,[1]INFRA!$A$1:$E$843,2,0),(IF($B34="SINAPI",VLOOKUP($C34,[1]SINAPI!$A$1:$G$7498,2,0),(IF($B34="FDE",VLOOKUP($C34,[1]FDE!$A$1:$E$3179,2,0),(IF($B34="CDHU",VLOOKUP($C34,[1]CDHU!$A$1:$F$4132,2,0),(IF($B34="SIEC",VLOOKUP($C34,[1]SIEC!$A$1:$E$4166,2,0),(IF($B34="DER",VLOOKUP($C34,[1]DER!$A$1:$D$2157,2,0),(IF($B34="SICRO",VLOOKUP($C34,[1]SICRO!$A$1:$E$6354,2,0))))))))))))))))) -> PLACA DE OBRA EM CHAPA DE AÇO GALVANIZADO | I34: =UPPER(IF($B34="EDIF",VLOOKUP($C34,[1]EDIF!$A$1:$E$2656,3,0),(IF($B34="INFRA",VLOOKUP($C34,[1]INFRA!$A$1:$E$843,3,0),(IF($B34="SINAPI",VLOOKUP($C34,[1]SINAPI!$A$1:$G$7498,3,0),(IF($B34="FDE",VLOOKUP($C34,[1]FDE!$A$1:$E$3179,3,0),(IF($B34="CDHU",VLOOKUP($C34,[1]CDHU!$A$1:$F$4132,3,0),(IF($B34="SIEC",VLOOKUP($C34,[1]SIEC!$A$1:$E$4166,3,0),(IF($B34="DER",VLOOKUP($C34,[1]DER!$A$1:$D$2157,3,0),(IF($B34="SICRO",VLOOKUP($C34,[1]SICRO!$A$1:$E$6354,3,0))))))))))))))))) -> M2 | J34: 3 | K34: 391.58 | L34: =ROUND(J34*K34,2) -> 1174.74
B36: INFRA | C36: 62302 | D36: =UPPER(IF($B36="EDIF",VLOOKUP($C36,[1]EDIF!$A$1:$E$2656,2,0),(IF($B36="INFRA",VLOOKUP($C36,[1]INFRA!$A$1:$E$843,2,0),(IF($B36="SINAPI",VLOOKUP($C36,[1]SINAPI!$A$1:$G$7498,2,0),(IF($B36="FDE",VLOOKUP($C36,[1]FDE!$A$1:$E$3179,2,0),(IF($B36="CDHU",VLOOKUP($C36,[1]CDHU!$A$1:$F$4132,2,0),(IF($B36="SIEC",VLOOKUP($C36,[1]SIEC!$A$1:$E$4166,2,0),(IF($B36="DER",VLOOKUP($C36,[1]DER!$A$1:$D$2157,2,0),(IF($B36="SICRO",VLOOKUP($C36,[1]SICRO!$A$1:$E$6354,2,0))))))))))))))))) -> REFORMA DE BOCA DE LOBO DUPLA | I36: =UPPER(IF($B36="EDIF",VLOOKUP($C36,[1]EDIF!$A$1:$E$2656,3,0),(IF($B36="INFRA",VLOOKUP($C36,[1]INFRA!$A$1:$E$843,3,0),(IF($B36="SINAPI",VLOOKUP($C36,[1]SINAPI!$A$1:$G$7498,3,0),(IF($B36="FDE",VLOOKUP($C36,[1]FDE!$A$1:$E$3179,3,0),(IF($B36="CDHU",VLOOKUP($C36,[1]CDHU!$A$1:$F$4132,3,0),(IF($B36="SIEC",VLOOKUP($C36,[1]SIEC!$A$1:$E$4166,3,0),(IF($B36="DER",VLOOKUP($C36,[1]DER!$A$1:$D$2157,3,0),(IF($B36="SICRO",VLOOKUP($C36,[1]SICRO!$A$1:$E$6354,3,0))))))))))))))))) -> UN | J36: 1 | K36: 1080.42 | L36: =ROUND(J36*K36,2) -> 1080.42 | M36: =C36 -> 62302 | N36: =UPPER(IF($B36="EDIF",VLOOKUP($C36,[1]EDIF!$A$1:$E$2656,5,0),(IF($B36="INFRA",VLOOKUP($C36,[1]INFRA!$A$1:$E$843,5,0),(IF($B36="SINAPI",VLOOKUP($C36,[1]SINAPI!$A$1:$G$7498,7,0),(IF($B36="FDE",VLOOKUP($C36,[1]FDE!$A$1:$E$3179,5,0),(IF($B36="CDHU",VLOOKUP($C36,[1]CDHU!$A$1:$G$4132,7,0),(IF($B36="SIEC",VLOOKUP($C36,[1]SIEC!$A$1:$E$4166,5,0),(IF($B36="DER",VLOOKUP($C36,[1]DER!$A$1:$D$2157,5,0),(IF($B36="SICRO",VLOOKUP($C36,[1]SICRO!$A$1:$E$6354,5,0))))))))))))))))) -> INFRA JUL/23
C37: - | D37: R. TOMIO | L37: =ROUND(J37*K37,2) -> 0
B38: EDIF | C38: 80276 | D38: =UPPER(IF($B38="EDIF",VLOOKUP($C38,[1]EDIF!$A$1:$E$2656,2,0),(IF($B38="INFRA",VLOOKUP($C38,[1]INFRA!$A$1:$E$843,2,0),(IF($B38="SINAPI",VLOOKUP($C38,[1]SINAPI!$A$1:$G$7498,2,0),(IF($B38="FDE",VLOOKUP($C38,[1]FDE!$A$1:$E$3179,2,0),(IF($B38="CDHU",VLOOKUP($C38,[1]CDHU!$A$1:$F$4132,2,0),(IF($B38="SIEC",VLOOKUP($C38,[1]SIEC!$A$1:$E$4166,2,0),(IF($B38="DER",VLOOKUP($C38,[1]DER!$A$1:$D$2157,2,0),(IF($B38="SICRO",VLOOKUP($C38,[1]SICRO!$A$1:$E$6354,2,0))))))))))))))))) -> GRADE DE PROTEÇÃO EM FERRO GALVANIZADO ELETROFUNDIDO - BARRA 25X2MM, MALHA 65X132MM | I38: =UPPER(IF($B38="EDIF",VLOOKUP($C38,[1]EDIF!$A$1:$E$2656,3,0),(IF($B38="INFRA",VLOOKUP($C38,[1]INFRA!$A$1:$E$843,3,0),(IF($B38="SINAPI",VLOOKUP($C38,[1]SINAPI!$A$1:$G$7498,3,0),(IF($B38="FDE",VLOOKUP($C38,[1]FDE!$A$1:$E$3179,3,0),(IF($B38="CDHU",VLOOKUP($C38,[1]CDHU!$A$1:$F$4132,3,0),(IF($B38="SIEC",VLOOKUP($C38,[1]SIEC!$A$1:$E$4166,3,0),(IF($B38="DER",VLOOKUP($C38,[1]DER!$A$1:$D$2157,3,0),(IF($B38="SICRO",VLOOKUP($C38,[1]SICRO!$A$1:$E$6354,3,0))))))))))))))))) -> M2 | J38: 3.36 | K38: 282.01 | L38: =ROUND(J38*K38,2) -> 947.55
D39: ESPAÇAMENTOS REDUZIDOS PARA 32X62MM - 1,20*1,40=1,680*2 = 3,36 | L39: =ROUND(J39*K39,2) -> 0
B40: CDHU | C40: 29.01.210 | D40: =UPPER(IF($B40="EDIF",VLOOKUP($C40,[1]EDIF!$A$1:$E$2656,2,0),(IF($B40="INFRA",VLOOKUP($C40,[1]INFRA!$A$1:$E$843,2,0),(IF($B40="SINAPI",VLOOKUP($C40,[1]SINAPI!$A$1:$G$7498,2,0),(IF($B40="FDE",VLOOKUP($C40,[1]FDE!$A$1:$E$3179,2,0),(IF($B40="CDHU",VLOOKUP($C40,[1]CDHU!$A$1:$F$4132,2,0),(IF($B40="SIEC",VLOOKUP($C40,[1]SIEC!$A$1:$E$4166,2,0),(IF($B40="DER",VLOOKUP($C40,[1]DER!$A$1:$D$2157,2,0),(IF($B40="SICRO",VLOOKUP($C40,[1]SICRO!$A$1:$E$6354,2,0))))))))))))))))) -> CANTONEIRA EM AÇO GALVANIZADO | I40: =UPPER(IF($B40="EDIF",VLOOKUP($C40,[1]EDIF!$A$1:$E$2656,3,0),(IF($B40="INFRA",VLOOKUP($C40,[1]INFRA!$A$1:$E$843,3,0),(IF($B40="SINAPI",VLOOKUP($C40,[1]SINAPI!$A$1:$G$7498,3,0),(IF($B40="FDE",VLOOKUP($C40,[1]FDE!$A$1:$E$3179,3,0),(IF($B40="CDHU",VLOOKUP($C40,[1]CDHU!$A$1:$F$4132,3,0),(IF($B40="SIEC",VLOOKUP($C40,[1]SIEC!$A$1:$E$4166,3,0),(IF($B40="DER",VLOOKUP($C40,[1]DER!$A$1:$D$2157,3,0),(IF($B40="SICRO",VLOOKUP($C40,[1]SICRO!$A$1:$E$6354,3,0))))))))))))))))) -> KG | J40: 18 | K40: 29.08 | L40: =ROUND(J40*K40,2) -> 523.44
D41: CANTONEIRA 1'X 1'ABAS IGUAIS -1,20*2=2,40+1,40*2=2,80 = 5,20*2 =10,40M *1,73 =18,00KG
D42: RUA: RYOSHIN HASEGAWA -PROX AO Nº122
B43: INFRA | C43: 101603 | D43: =UPPER(IF($B43="EDIF",VLOOKUP($C43,[1]EDIF!$A$1:$E$2656,2,0),(IF($B43="INFRA",VLOOKUP($C43,[1]INFRA!$A$1:$E$843,2,0),(IF($B43="SINAPI",VLOOKUP($C43,[1]SINAPI!$A$1:$G$7498,2,0),(IF($B43="FDE",VLOOKUP($C43,[1]FDE!$A$1:$E$3179,2,0),(IF($B43="CDHU",VLOOKUP($C43,[1]CDHU!$A$1:$F$4132,2,0),(IF($B43="SIEC",VLOOKUP($C43,[1]SIEC!$A$1:$E$4166,2,0),(IF($B43="DER",VLOOKUP($C43,[1]DER!$A$1:$D$2157,2,0),(IF($B43="SICRO",VLOOKUP($C43,[1]SICRO!$A$1:$E$6354,2,0))))))))))))))))) -> PLACA DE OBRA EM CHAPA DE AÇO GALVANIZADO | I43: =UPPER(IF($B43="EDIF",VLOOKUP($C43,[1]EDIF!$A$1:$E$2656,3,0),(IF($B43="INFRA",VLOOKUP($C43,[1]INFRA!$A$1:$E$843,3,0),(IF($B43="SINAPI",VLOOKUP($C43,[1]SINAPI!$A$1:$G$7498,3,0),(IF($B43="FDE",VLOOKUP($C43,[1]FDE!$A$1:$E$3179,3,0),(IF($B43="CDHU",VLOOKUP($C43,[1]CDHU!$A$1:$F$4132,3,0),(IF($B43="SIEC",VLOOKUP($C43,[1]SIEC!$A$1:$E$4166,3,0),(IF($B43="DER",VLOOKUP($C43,[1]DER!$A$1:$D$2157,3,0),(IF($B43="SICRO",VLOOKUP($C43,[1]SICRO!$A$1:$E$6354,3,0))))))))))))))))) -> M2 | J43: 3 | K43: 391.58 | L43: =ROUND(J43*K43,2) -> 1174.74
B44: INFRA | C44: 50300 | D44: =UPPER(IF($B44="EDIF",VLOOKUP($C44,[1]EDIF!$A$1:$E$2656,2,0),(IF($B44="INFRA",VLOOKUP($C44,[1]INFRA!$A$1:$E$843,2,0),(IF($B44="SINAPI",VLOOKUP($C44,[1]SINAPI!$A$1:$G$7498,2,0),(IF($B44="FDE",VLOOKUP($C44,[1]FDE!$A$1:$E$3179,2,0),(IF($B44="CDHU",VLOOKUP($C44,[1]CDHU!$A$1:$F$4132,2,0),(IF($B44="SIEC",VLOOKUP($C44,[1]SIEC!$A$1:$E$4166,2,0),(IF($B44="DER",VLOOKUP($C44,[1]DER!$A$1:$D$2157,2,0),(IF($B44="SICRO",VLOOKUP($C44,[1]SICRO!$A$1:$E$6354,2,0))))))))))))))))) -> DEMOLIÇÃO DE PAVIMENTO DE CONCRETO, SARJETA OU SARJETÃO, INCLUI CARGA EM CAMINHÃO | I44: =UPPER(IF($B44="EDIF",VLOOKUP($C44,[1]EDIF!$A$1:$E$2656,3,0),(IF($B44="INFRA",VLOOKUP($C44,[1]INFRA!$A$1:$E$843,3,0),(IF($B44="SINAPI",VLOOKUP($C44,[1]SINAPI!$A$1:$G$7498,3,0),(IF($B44="FDE",VLOOKUP($C44,[1]FDE!$A$1:$E$3179,3,0),(IF($B44="CDHU",VLOOKUP($C44,[1]CDHU!$A$1:$F$4132,3,0),(IF($B44="SIEC",VLOOKUP($C44,[1]SIEC!$A$1:$E$4166,3,0),(IF($B44="DER",VLOOKUP($C44,[1]DER!$A$1:$D$2157,3,0),(IF($B44="SICRO",VLOOKUP($C44,[1]SICRO!$A$1:$E$6354,3,0))))))))))))))))) -> M2 | J44: 73.7 | K44: 27.67 | L44: =ROUND(J44*K44,2) -> 2039.28
D45: 8*0,90=7,20m2 + 9,50*7,00=66,50 -- 66,50+7,20 = 73,70
B46: EDIF | C46: 10106 | D46: =UPPER(IF($B46="EDIF",VLOOKUP($C46,[1]EDIF!$A$1:$E$2656,2,0),(IF($B46="INFRA",VLOOKUP($C46,[1]INFRA!$A$1:$E$843,2,0),(IF($B46="SINAPI",VLOOKUP($C46,[1]SINAPI!$A$1:$G$7498,2,0),(IF($B46="FDE",VLOOKUP($C46,[1]FDE!$A$1:$E$3179,2,0),(IF($B46="CDHU",VLOOKUP($C46,[1]CDHU!$A$1:$F$4132,2,0),(IF($B46="SIEC",VLOOKUP($C46,[1]SIEC!$A$1:$E$4166,2,0),(IF($B46="DER",VLOOKUP($C46,[1]DER!$A$1:$D$2157,2,0),(IF($B46="SICRO",VLOOKUP($C46,[1]SICRO!$A$1:$E$6354,2,0))))))))))))))))) -> CARGA MANUAL E REMOÇÃO DE ENTULHO, INCLUSIVE TRANSPORTE ATÉ 1 KM | I46: =UPPER(IF($B46="EDIF",VLOOKUP($C46,[1]EDIF!$A$1:$E$2656,3,0),(IF($B46="INFRA",VLOOKUP($C46,[1]INFRA!$A$1:$E$843,3,0),(IF($B46="SINAPI",VLOOKUP($C46,[1]SINAPI!$A$1:$G$7498,3,0),(IF($B46="FDE",VLOOKUP($C46,[1]FDE!$A$1:$E$3179,3,0),(IF($B46="CDHU",VLOOKUP($C46,[1]CDHU!$A$1:$F$4132,3,0),(IF($B46="SIEC",VLOOKUP($C46,[1]SIEC!$A$1:$E$4166,3,0),(IF($B46="DER",VLOOKUP($C46,[1]DER!$A$1:$D$2157,3,0),(IF($B46="SICRO",VLOOKUP($C46,[1]SICRO!$A$1:$E$6354,3,0))))))))))))))))) -> M3 | J46: 16.6 | K46: 51.66 | L46: =ROUND(J46*K46,2) -> 857.56
D47: 73,70*0,20=14,74+31,00*0,15*0,40=1,86 | L47: =ROUND(J47*K47,2) -> 0
B48: EDIF | C48: 10110 | D48: =UPPER(IF($B48="EDIF",VLOOKUP($C48,[1]EDIF!$A$1:$E$2656,2,0),(IF($B48="INFRA",VLOOKUP($C48,[1]INFRA!$A$1:$E$843,2,0),(IF($B48="SINAPI",VLOOKUP($C48,[1]SINAPI!$A$1:$G$7498,2,0),(IF($B48="FDE",VLOOKUP($C48,[1]FDE!$A$1:$E$3179,2,0),(IF($B48="CDHU",VLOOKUP($C48,[1]CDHU!$A$1:$F$4132,2,0),(IF($B48="SIEC",VLOOKUP($C48,[1]SIEC!$A$1:$E$4166,2,0),(IF($B48="DER",VLOOKUP($C48,[1]DER!$A$1:$D$2157,2,0),(IF($B48="SICRO",VLOOKUP($C48,[1]SICRO!$A$1:$E$6354,2,0))))))))))))))))) -> TRANSPORTE DE ENTULHO POR CAMINHÃO BASCULANTE, A PARTIR DE 1KM | I48: =UPPER(IF($B48="EDIF",VLOOKUP($C48,[1]EDIF!$A$1:$E$2656,3,0),(IF($B48="INFRA",VLOOKUP($C48,[1]INFRA!$A$1:$E$843,3,0),(IF($B48="SINAPI",VLOOKUP($C48,[1]SINAPI!$A$1:$G$7498,3,0),(IF($B48="FDE",VLOOKUP($C48,[1]FDE!$A$1:$E$3179,3,0),(IF($B48="CDHU",VLOOKUP($C48,[1]CDHU!$A$1:$F$4132,3,0),(IF($B48="SIEC",VLOOKUP($C48,[1]SIEC!$A$1:$E$4166,3,0),(IF($B48="DER",VLOOKUP($C48,[1]DER!$A$1:$D$2157,3,0),(IF($B48="SICRO",VLOOKUP($C48,[1]SICRO!$A$1:$E$6354,3,0))))))))))))))))) -> M3XKM | J48: 294.8 | K48: 1.66 | L48: =ROUND(J48*K48,2) -> 489.37
...

Sheet Planilha
D3: PREFEITURA MUNICIPAL DE FERRAZ DE VASCONCELOS
D4: SECRETARIA MUNICIPAL DE OBRAS
D5: PLANILHA ORÇAMENTÁRIA
D7: =ORÇ!B5 -> OBRA: RECONSTRUÇÃO,BUEIROS,PAVIMENTOS ASF.PASSEIO-PISO VIELA | P7: CRONOGRAMA FISICO DA
D8: =ORÇ!B6 -> R. Viela Espatodéa -- R. DOS LÍRIOS PROX.N299-R.TOMIO KATAGUIRI-Prox.100-
D9: =ORÇ!B7 -> R: RYOSHIN HASEGAWA -PROX AO Nº122R.:Papa João Paulo II -próx.R.José Pereira -trav.Av. Albino F.Figueiredo
E10: DT B. SIURB/JUL/24 CDHU 195
B11: Referência | C11: Item | D11: Descrição | E11: Unid | F11: Quantidade | G11: Preço Unit | H11: Total | I11: =B11 -> Referência | J11: VALOR | L11: Verificação de erro
D12: =ORÇ!D11 -> VIELA ESPATODÉA -PROX. R. DOS PINHEIROS --- 18140/2023 | I12: =B12 -> 0
B13: INFRA | C13: 101603 | D13: =UPPER(IF($B13="EDIF",VLOOKUP($C13,[1]EDIF!$A$1:$E$2656,2,0),(IF($B13="INFRA",VLOOKUP($C13,[1]INFRA!$A$1:$E$843,2,0),(IF($B13="SINAPI",VLOOKUP($C13,[1]SINAPI!$A$1:$G$7498,2,0),(IF($B13="FDE",VLOOKUP($C13,[1]FDE!$A$1:$E$3179,2,0),(IF($B13="CDHU",VLOOKUP($C13,[1]CDHU!$A$1:$F$4132,2,0),(IF($B13="SIEC",VLOOKUP($C13,[1]SIEC!$A$1:$E$4166,2,0),(IF($B13="DER",VLOOKUP($C13,[1]DER!$A$1:$D$2157,2,0),(IF($B13="SICRO",VLOOKUP($C13,[1]SICRO!$A$1:$E$6354,2,0))))))))))))))))) -> PLACA DE OBRA EM CHAPA DE AÇO GALVANIZADO | E13: =UPPER(IF($B13="EDIF",VLOOKUP($C13,[1]EDIF!$A$1:$E$2656,3,0),(IF($B13="INFRA",VLOOKUP($C13,[1]INFRA!$A$1:$E$843,3,0),(IF($B13="SINAPI",VLOOKUP($C13,[1]SINAPI!$A$1:$G$7498,3,0),(IF($B13="FDE",VLOOKUP($C13,[1]FDE!$A$1:$E$3179,3,0),(IF($B13="CDHU",VLOOKUP($C13,[1]CDHU!$A$1:$F$4132,3,0),(IF($B13="SIEC",VLOOKUP($C13,[1]SIEC!$A$1:$E$4166,3,0),(IF($B13="DER",VLOOKUP($C13,[1]DER!$A$1:$D$2157,3,0),(IF($B13="SICRO",VLOOKUP($C13,[1]SICRO!$A$1:$E$6354,3,0))))))))))))))))) -> M2 | F13: 3 | G13: =ORÇ!K12 -> 391.58 | H13: =TRUNC(F13*G13,2) -> 1174.74 | I13: =B13 -> INFRA | J13: =ROUND(G13*F13,2) -> 1174.74 | L13: =UPPER(IF($B13="EDIF",VLOOKUP($C13,[1]EDIF!$A$1:$E$2656,5,0),(IF($B13="INFRA",VLOOKUP($C13,[1]INFRA!$A$1:$E$843,5,0),(IF($B13="SINAPI",VLOOKUP($C13,[1]SINAPI!$A$1:$G$7498,7,0),(IF($B13="FDE",VLOOKUP($C13,[1]FDE!$A$1:$E$3179,5,0),(IF($B13="CDHU",VLOOKUP($C13,[1]CDHU!$A$1:$G$4132,7,0),(IF($B13="SIEC",VLOOKUP($C13,[1]SIEC!$A$1:$E$4166,5,0),(IF($B13="DER",VLOOKUP($C13,[1]DER!$A$1:$D$2157,5,0),(IF($B13="SICRO",VLOOKUP($C13,[1]SICRO!$A$1:$E$6354,5,0))))))))))))))))) -> INFRA JUL/23
B14: EDIF | C14: =ORÇ!C14 -> 175020 | D14: =UPPER(IF($B14="EDIF",VLOOKUP($C14,[1]EDIF!$A$1:$E$2656,2,0),(IF($B14="INFRA",VLOOKUP($C14,[1]INFRA!$A$1:$E$843,2,0),(IF($B14="SINAPI",VLOOKUP($C14,[1]SINAPI!$A$1:$G$7498,2,0),(IF($B14="FDE",VLOOKUP($C14,[1]FDE!$A$1:$E$3179,2,0),(IF($B14="CDHU",VLOOKUP($C14,[1]CDHU!$A$1:$F$4132,2,0),(IF($B14="SIEC",VLOOKUP($C14,[1]SIEC!$A$1:$E$4166,2,0),(IF($B14="DER",VLOOKUP($C14,[1]DER!$A$1:$D$2157,2,0),(IF($B14="SICRO",VLOOKUP($C14,[1]SICRO!$A$1:$E$6354,2,0))))))))))))))))) -> DEMOLIÇÃO MANUAL DE CONCRETO SIMPLES | E14: =UPPER(IF($B14="EDIF",VLOOKUP($C14,[1]EDIF!$A$1:$E$2656,3,0),(IF($B14="INFRA",VLOOKUP($C14,[1]INFRA!$A$1:$E$843,3,0),(IF($B14="SINAPI",VLOOKUP($C14,[1]SINAPI!$A$1:$G$7498,3,0),(IF($B14="FDE",VLOOKUP($C14,[1]FDE!$A$1:$E$3179,3,0),(IF($B14="CDHU",VLOOKUP($C14,[1]CDHU!$A$1:$F$4132,3,0),(IF($B14="SIEC",VLOOKUP($C14,[1]SIEC!$A$1:$E$4166,3,0),(IF($B14="DER",VLOOKUP($C14,[1]DER!$A$1:$D$2157,3,0),(IF($B14="SICRO",VLOOKUP($C14,[1]SICRO!$A$1:$E$6354,3,0))))))))))))))))) -> M3 | F14: 2.5 | G14: =ORÇ!K14 -> 265.15 | H14: =TRUNC(F14*G14,2) -> 662.87 | I14: =B14 -> EDIF | J14: =ROUND(G14*F14,2) -> 662.88 | L14: =UPPER(IF($B14="EDIF",VLOOKUP($C14,[1]EDIF!$A$1:$E$2656,5,0),(IF($B14="INFRA",VLOOKUP($C14,[1]INFRA!$A$1:$E$843,5,0),(IF($B14="SINAPI",VLOOKUP($C14,[1]SINAPI!$A$1:$G$7498,7,0),(IF($B14="FDE",VLOOKUP($C14,[1]FDE!$A$1:$E$3179,5,0),(IF($B14="CDHU",VLOOKUP($C14,[1]CDHU!$A$1:$G$4132,7,0),(IF($B14="SIEC",VLOOKUP($C14,[1]SIEC!$A$1:$E$4166,5,0),(IF($B14="DER",VLOOKUP($C14,[1]DER!$A$1:$D$2157,5,0),(IF($B14="SICRO",VLOOKUP($C14,[1]SICRO!$A$1:$E$6354,5,0))))))))))))))))) -> EDIF JUL/23
B15: EDIF | C15: 10107 | D15: =UPPER(IF($B15="EDIF",VLOOKUP($C15,[1]EDIF!$A$1:$E$2656,2,0),(IF($B15="INFRA",VLOOKUP($C15,[1]INFRA!$A$1:$E$843,2,0),(IF($B15="SINAPI",VLOOKUP($C15,[1]SINAPI!$A$1:$G$7498,2,0),(IF($B15="FDE",VLOOKUP($C15,[1]FDE!$A$1:$E$3179,2,0),(IF($B15="CDHU",VLOOKUP($C15,[1]CDHU!$A$1:$F$4132,2,0),(IF($B15="SIEC",VLOOKUP($C15,[1]SIEC!$A$1:$E$4166,2,0),(IF($B15="DER",VLOOKUP($C15,[1]DER!$A$1:$D$2157,2,0),(IF($B15="SICRO",VLOOKUP($C15,[1]SICRO!$A$1:$E$6354,2,0))))))))))))))))) -> REMOÇÃO DE ENTULHO COM CAÇAMBA METÁLICA, INCLUSIVE CARGA MANUAL E DESCARGA EM BOTA-FORA | E15: =UPPER(IF($B15="EDIF",VLOOKUP($C15,[1]EDIF!$A$1:$E$2656,3,0),(IF($B15="INFRA",VLOOKUP($C15,[1]INFRA!$A$1:$E$843,3,0),(IF($B15="SINAPI",VLOOKUP($C15,[1]SINAPI!$A$1:$G$7498,3,0),(IF($B15="FDE",VLOOKUP($C15,[1]FDE!$A$1:$E$3179,3,0),(IF($B15="CDHU",VLOOKUP($C15,[1]CDHU!$A$1:$F$4132,3,0),(IF($B15="SIEC",VLOOKUP($C15,[1]SIEC!$A$1:$E$4166,3,0),(IF($B15="DER",VLOOKUP($C15,[1]DER!$A$1:$D$2157,3,0),(IF($B15="SICRO",VLOOKUP($C15,[1]SICRO!$A$1:$E$6354,3,0))))))))))))))))) -> M3 | F15: 3.25 | G15: =ORÇ!K16 -> 129.38 | H15: =TRUNC(F15*G15,2) -> 420.48 | I15: =B15 -> EDIF | J15: =ROUND(G15*F15,2) -> 420.49 | L15: =UPPER(IF($B15="EDIF",VLOOKUP($C15,[1]EDIF!$A$1:$E$2656,5,0),(IF($B15="INFRA",VLOOKUP($C15,[1]INFRA!$A$1:$E$843,5,0),(IF($B15="SINAPI",VLOOKUP($C15,[1]SINAPI!$A$1:$G$7498,7,0),(IF($B15="FDE",VLOOKUP($C15,[1]FDE!$A$1:$E$3179,5,0),(IF($B15="CDHU",VLOOKUP($C15,[1]CDHU!$A$1:$G$4132,7,0),(IF($B15="SIEC",VLOOKUP($C15,[1]SIEC!$A$1:$E$4166,5,0),(IF($B15="DER",VLOOKUP($C15,[1]DER!$A$1:$D$2157,5,0),(IF($B15="SICRO",VLOOKUP($C15,[1]SICRO!$A$1:$E$6354,5,0))))))))))))))))) -> EDIF JUL/23
B16: EDIF | C16: =ORÇ!C18 -> 30317 | D16: =UPPER(IF($B16="EDIF",VLOOKUP($C16,[1]EDIF!$A$1:$E$2656,2,0),(IF($B16="INFRA",VLOOKUP($C16,[1]INFRA!$A$1:$E$843,2,0),(IF($B16="SINAPI",VLOOKUP($C16,[1]SINAPI!$A$1:$G$7498,2,0),(IF($B16="FDE",VLOOKUP($C16,[1]FDE!$A$1:$E$3179,2,0),(IF($B16="CDHU",VLOOKUP($C16,[1]CDHU!$A$1:$F$4132,2,0),(IF($B16="SIEC",VLOOKUP($C16,[1]SIEC!$A$1:$E$4166,2,0),(IF($B16="DER",VLOOKUP($C16,[1]DER!$A$1:$D$2157,2,0),(IF($B16="SICRO",VLOOKUP($C16,[1]SICRO!$A$1:$E$6354,2,0))))))))))))))))) -> CONCRETO FCK = 25,0MPA - USINADO | E16: =UPPER(IF($B16="EDIF",VLOOKUP($C16,[1]EDIF!$A$1:$E$2656,3,0),(IF($B16="INFRA",VLOOKUP($C16,[1]INFRA!$A$1:$E$843,3,0),(IF($B16="SINAPI",VLOOKUP($C16,[1]SINAPI!$A$1:$G$7498,3,0),(IF($B16="FDE",VLOOKUP($C16,[1]FDE!$A$1:$E$3179,3,0),(IF($B16="CDHU",VLOOKUP($C16,[1]CDHU!$A$1:$F$4132,3,0),(IF($B16="SIEC",VLOOKUP($C16,[1]SIEC!$A$1:$E$4166,3,0),(IF($B16="DER",VLOOKUP($C16,[1]DER!$A$1:$D$2157,3,0),(IF($B16="SICRO",VLOOKUP($C16,[1]SICRO!$A$1:$E$6354,3,0))))))))))))))))) -> M3 | F16: 1.75 | G16: =ORÇ!K18 -> 536.34 | H16: =TRUNC(F16*G16,2) -> 938.59 | I16: =B16 -> EDIF | J16: =ROUND(G16*F16,2) -> 938.6 | L16: =UPPER(IF($B16="EDIF",VLOOKUP($C16,[1]EDIF!$A$1:$E$2656,5,0),(IF($B16="INFRA",VLOOKUP($C16,[1]INFRA!$A$1:$E$843,5,0),(IF($B16="SINAPI",VLOOKUP($C16,[1]SINAPI!$A$1:$G$7498,7,0),(IF($B16="FDE",VLOOKUP($C16,[1]FDE!$A$1:$E$3179,5,0),(IF($B16="CDHU",VLOOKUP($C16,[1]CDHU!$A$1:$G$4132,7,0),(IF($B16="SIEC",VLOOKUP($C16,[1]SIEC!$A$1:$E$4166,5,0),(IF($B16="DER",VLOOKUP($C16,[1]DER!$A$1:$D$2157,5,0),(IF($B16="SICRO",VLOOKUP($C16,[1]SICRO!$A$1:$E$6354,5,0))))))))))))))))) -> EDIF JUL/23
G17: SUB TOTAL | J17: =SUM(J13:J16) -> 3196.71
D18: =ORÇ!D20 -> RUA: DOS LÍRIOS PROX. Nº299- proc.5896/2024 | H18: =TRUNC(F18*G18,2) -> 0 | I18: =B18 -> 0 | L18: =UPPER(IF($B18="EDIF",VLOOKUP($C18,[1]EDIF!$A$1:$E$2656,5,0),(IF($B18="INFRA",VLOOKUP($C18,[1]INFRA!$A$1:$E$843,5,0),(IF($B18="SINAPI",VLOOKUP($C18,[1]SINAPI!$A$1:$G$7498,7,0),(IF($B18="FDE",VLOOKUP($C18,[1]FDE!$A$1:$E$3179,5,0),(IF($B18="CDHU",VLOOKUP($C18,[1]CDHU!$A$1:$G$4132,7,0),(IF($B18="SIEC",VLOOKUP($C18,[1]SIEC!$A$1:$E$4166,5,0),(IF($B18="DER",VLOOKUP($C18,[1]DER!$A$1:$D$2157,5,0),(IF($B18="SICRO",VLOOKUP($C18,[1]SICRO!$A$1:$E$6354,5,0))))))))))))))))) -> FALSO
B19: INFRA | C19: 101603 | D19: =UPPER(IF($B19="EDIF",VLOOKUP($C19,[1]EDIF!$A$1:$E$2656,2,0),(IF($B19="INFRA",VLOOKUP($C19,[1]INFRA!$A$1:$E$843,2,0),(IF($B19="SINAPI",VLOOKUP($C19,[1]SINAPI!$A$1:$G$7498,2,0),(IF($B19="FDE",VLOOKUP($C19,[1]FDE!$A$1:$E$3179,2,0),(IF($B19="CDHU",VLOOKUP($C19,[1]CDHU!$A$1:$F$4132,2,0),(IF($B19="SIEC",VLOOKUP($C19,[1]SIEC!$A$1:$E$4166,2,0),(IF($B19="DER",VLOOKUP($C19,[1]DER!$A$1:$D$2157,2,0),(IF($B19="SICRO",VLOOKUP($C19,[1]SICRO!$A$1:$E$6354,2,0))))))))))))))))) -> PLACA DE OBRA EM CHAPA DE AÇO GALVANIZADO | E19: =UPPER(IF($B19="EDIF",VLOOKUP($C19,[1]EDIF!$A$1:$E$2656,3,0),(IF($B19="INFRA",VLOOKUP($C19,[1]INFRA!$A$1:$E$843,3,0),(IF($B19="SINAPI",VLOOKUP($C19,[1]SINAPI!$A$1:$G$7498,3,0),(IF($B19="FDE",VLOOKUP($C19,[1]FDE!$A$1:$E$3179,3,0),(IF($B19="CDHU",VLOOKUP($C19,[1]CDHU!$A$1:$F$4132,3,0),(IF($B19="SIEC",VLOOKUP($C19,[1]SIEC!$A$1:$E$4166,3,0),(IF($B19="DER",VLOOKUP($C19,[1]DER!$A$1:$D$2157,3,0),(IF($B19="SICRO",VLOOKUP($C19,[1]SICRO!$A$1:$E$6354,3,0))))))))))))))))) -> M2 | F19: 3 | G19: =ORÇ!K21 -> 391.58 | H19: =TRUNC(F19*G19,2) -> 1174.74 | I19: =B19 -> INFRA | J19: =ROUND(G19*F19,2) -> 1174.74 | L19: =UPPER(IF($B19="EDIF",VLOOKUP($C19,[1]EDIF!$A$1:$E$2656,5,0),(IF($B19="INFRA",VLOOKUP($C19,[1]INFRA!$A$1:$E$843,5,0),(IF($B19="SINAPI",VLOOKUP($C19,[1]SINAPI!$A$1:$G$7498,7,0),(IF($B19="FDE",VLOOKUP($C19,[1]FDE!$A$1:$E$3179,5,0),(IF($B19="CDHU",VLOOKUP($C19,[1]CDHU!$A$1:$G$4132,7,0),(IF($B19="SIEC",VLOOKUP($C19,[1]SIEC!$A$1:$E$4166,5,0),(IF($B19="DER",VLOOKUP($C19,[1]DER!$A$1:$D$2157,5,0),(IF($B19="SICRO",VLOOKUP($C19,[1]SICRO!$A$1:$E$6354,5,0))))))))))))))))) -> INFRA JUL/23
B20: INFRA | C20: 62305 | D20: =UPPER(IF($B20="EDIF",VLOOKUP($C20,[1]EDIF!$A$1:$E$2656,2,0),(IF($B20="INFRA",VLOOKUP($C20,[1]INFRA!$A$1:$E$843,2,0),(IF($B20="SINAPI",VLOOKUP($C20,[1]SINAPI!$A$1:$G$7498,2,0),(IF($B20="FDE",VLOOKUP($C20,[1]FDE!$A$1:$E$3179,2,0),(IF($B20="CDHU",VLOOKUP($C20,[1]CDHU!$A$1:$F$4132,2,0),(IF($B20="SIEC",VLOOKUP($C20,[1]SIEC!$A$1:$E$4166,2,0),(IF($B20="DER",VLOOKUP($C20,[1]DER!$A$1:$D$2157,2,0),(IF($B20="SICRO",VLOOKUP($C20,[1]SICRO!$A$1:$E$6354,2,0))))))))))))))))) -> SUBSTITUIÇÃO DE TAMPA DE CONCRETO PARA BOCA DE LOBO | E20: =UPPER(IF($B20="EDIF",VLOOKUP($C20,[1]EDIF!$A$1:$E$2656,3,0),(IF($B20="INFRA",VLOOKUP($C20,[1]INFRA!$A$1:$E$843,3,0),(IF($B20="SINAPI",VLOOKUP($C20,[1]SINAPI!$A$1:$G$7498,3,0),(IF($B20="FDE",VLOOKUP($C20,[1]FDE!$A$1:$E$3179,3,0),(IF($B20="CDHU",VLOOKUP($C20,[1]CDHU!$A$1:$F$4132,3,0),(IF($B20="SIEC",VLOOKUP($C20,[1]SIEC!$A$1:$E$4166,3,0),(IF($B20="DER",VLOOKUP($C20,[1]DER!$A$1:$D$2157,3,0),(IF($B20="SICRO",VLOOKUP($C20,[1]SICRO!$A$1:$E$6354,3,0))))))))))))))))) -> UN | F20: 2 | G20: =ORÇ!K23 -> 351.98 | H20: =TRUNC(F20*G20,2) -> 703.96 | I20: =B20 -> INFRA | J20: =ROUND(G20*F20,2) -> 703.96 | L20: =UPPER(IF($B20="EDIF",VLOOKUP($C20,[1]EDIF!$A$1:$E$2656,5,0),(IF($B20="INFRA",VLOOKUP($C20,[1]INFRA!$A$1:$E$843,5,0),(IF($B20="SINAPI",VLOOKUP($C20,[1]SINAPI!$A$1:$G$7498,7,0),(IF($B20="FDE",VLOOKUP($C20,[1]FDE!$A$1:$E$3179,5,0),(IF($B20="CDHU",VLOOKUP($C20,[1]CDHU!$A$1:$G$4132,7,0),(IF($B20="SIEC",VLOOKUP($C20,[1]SIEC!$A$1:$E$4166,5,0),(IF($B20="DER",VLOOKUP($C20,[1]DER!$A$1:$D$2157,5,0),(IF($B20="SICRO",VLOOKUP($C20,[1]SICRO!$A$1:$E$6354,5,0))))))))))))))))) -> INFRA JUL/23
B21: EDIF | C21: 175020 | D21: =UPPER(IF($B21="EDIF",VLOOKUP($C21,[1]EDIF!$A$1:$E$2656,2,0),(IF($B21="INFRA",VLOOKUP($C21,[1]INFRA!$A$1:$E$843,2,0),(IF($B21="SINAPI",VLOOKUP($C21,[1]SINAPI!$A$1:$G$7498,2,0),(IF($B21="FDE",VLOOKUP($C21,[1]FDE!$A$1:$E$3179,2,0),(IF($B21="CDHU",VLOOKUP($C21,[1]CDHU!$A$1:$F$4132,2,0),(IF($B21="SIEC",VLOOKUP($C21,[1]SIEC!$A$1:$E$4166,2,0),(IF($B21="DER",VLOOKUP($C21,[1]DER!$A$1:$D$2157,2,0),(IF($B21="SICRO",VLOOKUP($C21,[1]SICRO!$A$1:$E$6354,2,0))))))))))))))))) -> DEMOLIÇÃO MANUAL DE CONCRETO SIMPLES | E21: =UPPER(IF($B21="EDIF",VLOOKUP($C21,[1]EDIF!$A$1:$E$2656,3,0),(IF($B21="INFRA",VLOOKUP($C21,[1]INFRA!$A$1:$E$843,3,0),(IF($B21="SINAPI",VLOOKUP($C21,[1]SINAPI!$A$1:$G$7498,3,0),(IF($B21="FDE",VLOOKUP($C21,[1]FDE!$A$1:$E$3179,3,0),(IF($B21="CDHU",VLOOKUP($C21,[1]CDHU!$A$1:$F$4132,3,0),(IF($B21="SIEC",VLOOKUP($C21,[1]SIEC!$A$1:$E$4166,3,0),(IF($B21="DER",VLOOKUP($C21,[1]DER!$A$1:$D$2157,3,0),(IF($B21="SICRO",VLOOKUP($C21,[1]SICRO!$A$1:$E$6354,3,0))))))))))))))))) -> M3 | F21: 0.6 | G21: =ORÇ!K25 -> 265.15 | H21: =TRUNC(F21*G21,2) -> 159.09 | I21: =B21 -> EDIF | J21: =ROUND(G21*F21,2) -> 159.09 | L21: =UPPER(IF($B21="EDIF",VLOOKUP($C21,[1]EDIF!$A$1:$E$2656,5,0),(IF($B21="INFRA",VLOOKUP($C21,[1]INFRA!$A$1:$E$843,5,0),(IF($B21="SINAPI",VLOOKUP($C21,[1]SINAPI!$A$1:$G$7498,7,0),(IF($B21="FDE",VLOOKUP($C21,[1]FDE!$A$1:$E$3179,5,0),(IF($B21="CDHU",VLOOKUP($C21,[1]CDHU!$A$1:$G$4132,7,0),(IF($B21="SIEC",VLOOKUP($C21,[1]SIEC!$A$1:$E$4166,5,0),(IF($B21="DER",VLOOKUP($C21,[1]DER!$A$1:$D$2157,5,0),(IF($B21="SICRO",VLOOKUP($C21,[1]SICRO!$A$1:$E$6354,5,0))))))))))))))))) -> EDIF JUL/23
B22: INFRA | C22: 43100 | D22: =UPPER(IF($B22="EDIF",VLOOKUP($C22,[1]EDIF!$A$1:$E$2656,2,0),(IF($B22="INFRA",VLOOKUP($C22,[1]INFRA!$A$1:$E$843,2,0),(IF($B22="SINAPI",VLOOKUP($C22,[1]SINAPI!$A$1:$G$7498,2,0),(IF($B22="FDE",VLOOKUP($C22,[1]FDE!$A$1:$E$3179,2,0),(IF($B22="CDHU",VLOOKUP($C22,[1]CDHU!$A$1:$F$4132,2,0),(IF($B22="SIEC",VLOOKUP($C22,[1]SIEC!$A$1:$E$4166,2,0),(IF($B22="DER",VLOOKUP($C22,[1]DER!$A$1:$D$2157,2,0),(IF($B22="SICRO",VLOOKUP($C22,[1]SICRO!$A$1:$E$6354,2,0))))))))))))))))) -> FORNECIMENTO DE TERRA, INCLUINDO ESCAVAÇÃO, CARGA E TRANSPORTE ATÉ A DISTÂNCIA MÉDIA DE 1,0KM, MEDIDO NO ATERRO COMPACTADO | E22: =UPPER(IF($B22="EDIF",VLOOKUP($C22,[1]EDIF!$A$1:$E$2656,3,0),(IF($B22="INFRA",VLOOKUP($C22,[1]INFRA!$A$1:$E$843,3,0),(IF($B22="SINAPI",VLOOKUP($C22,[1]SINAPI!$A$1:$G$7498,3,0),(IF($B22="FDE",VLOOKUP($C22,[1]FDE!$A$1:$E$3179,3,0),(IF($B22="CDHU",VLOOKUP($C22,[1]CDHU!$A$1:$F$4132,3,0),(IF($B22="SIEC",VLOOKUP($C22,[1]SIEC!$A$1:$E$4166,3,0),(IF($B22="DER",VLOOKUP($C22,[1]DER!$A$1:$D$2157,3,0),(IF($B22="SICRO",VLOOKUP($C22,[1]SICRO!$A$1:$E$6354,3,0))))))))))))))))) -> M3 | F22: 6 | G22: =ORÇ!K27 -> 31.72 | H22: =TRUNC(F22*G22,2) -> 190.32 | I22: =B22 -> INFRA | J22: =ROUND(G22*F22,2) -> 190.32 | L22: =UPPER(IF($B22="EDIF",VLOOKUP($C22,[1]EDIF!$A$1:$E$2656,5,0),(IF($B22="INFRA",VLOOKUP($C22,[1]INFRA!$A$1:$E$843,5,0),(IF($B22="SINAPI",VLOOKUP($C22,[1]SINAPI!$A$1:$G$7498,7,0),(IF($B22="FDE",VLOOKUP($C22,[1]FDE!$A$1:$E$3179,5,0),(IF($B22="CDHU",VLOOKUP($C22,[1]CDHU!$A$1:$G$4132,7,0),(IF($B22="SIEC",VLOOKUP($C22,[1]SIEC!$A$1:$E$4166,5,0),(IF($B22="DER",VLOOKUP($C22,[1]DER!$A$1:$D$2157,5,0),(IF($B22="SICRO",VLOOKUP($C22,[1]SICRO!$A$1:$E$6354,5,0))))))))))))))))) -> INFRA JUL/23
B23: INFRA | C23: 43200 | D23: =UPPER(IF($B23="EDIF",VLOOKUP($C23,[1]EDIF!$A$1:$E$2656,2,0),(IF($B23="INFRA",VLOOKUP($C23,[1]INFRA!$A$1:$E$843,2,0),(IF($B23="SINAPI",VLOOKUP($C23,[1]SINAPI!$A$1:$G$7498,2,0),(IF($B23="FDE",VLOOKUP($C23,[1]FDE!$A$1:$E$3179,2,0),(IF($B23="CDHU",VLOOKUP($C23,[1]CDHU!$A$1:$F$4132,2,0),(IF($B23="SIEC",VLOOKUP($C23,[1]SIEC!$A$1:$E$4166,2,0),(IF($B23="DER",VLOOKUP($C23,[1]DER!$A$1:$D$2157,2,0),(IF($B23="SICRO",VLOOKUP($C23,[1]SICRO!$A$1:$E$6354,2,0))))))))))))))))) -> COMPACTAÇÃO DE TERRA, MEDIDA NO ATERRO | E23: =UPPER(IF($B23="EDIF",VLOOKUP($C23,[1]EDIF!$A$1:$E$2656,3,0),(IF($B23="INFRA",VLOOKUP($C23,[1]INFRA!$A$1:$E$843,3,0),(IF($B23="SINAPI",VLOOKUP($C23,[1]SINAPI!$A$1:$G$7498,3,0),(IF($B23="FDE",VLOOKUP($C23,[1]FDE!$A$1:$E$3179,3,0),(IF($B23="CDHU",VLOOKUP($C23,[1]CDHU!$A$1:$F$4132,3,0),(IF($B23="SIEC",VLOOKUP($C23,[1]SIEC!$A$1:$E$4166,3,0),(IF($B23="DER",VLOOKUP($C23,[1]DER!$A$1:$D$2157,3,0),(IF($B23="SICRO",VLOOKUP($C23,[1]SICRO!$A$1:$E$6354,3,0))))))))))))))))) -> M3 | F23: 6 | G23: =ORÇ!K29 -> 8.58 | H23: =TRUNC(F23*G23,2) -> 51.48 | I23: =B23 -> INFRA | J23: =ROUND(G23*F23,2) -> 51.48 | L23: =UPPER(IF($B23="EDIF",VLOOKUP($C23,[1]EDIF!$A$1:$E$2656,5,0),(IF($B23="INFRA",VLOOKUP($C23,[1]INFRA!$A$1:$E$843,5,0),(IF($B23="SINAPI",VLOOKUP($C23,[1]SINAPI!$A$1:$G$7498,7,0),(IF($B23="FDE",VLOOKUP($C23,[1]FDE!$A$1:$E$3179,5,0),(IF($B23="CDHU",VLOOKUP($C23,[1]CDHU!$A$1:$G$4132,7,0),(IF($B23="SIEC",VLOOKUP($C23,[1]SIEC!$A$1:$E$4166,5,0),(IF($B23="DER",VLOOKUP($C23,[1]DER!$A$1:$D$2157,5,0),(IF($B23="SICRO",VLOOKUP($C23,[1]SICRO!$A$1:$E$6354,5,0))))))))))))))))) -> INFRA JUL/23
B24: INFRA | C24: 59201 | D24: =UPPER(IF($B24="EDIF",VLOOKUP($C24,[1]EDIF!$A$1:$E$2656,2,0),(IF($B24="INFRA",VLOOKUP($C24,[1]INFRA!$A$1:$E$843,2,0),(IF($B24="SINAPI",VLOOKUP($C24,[1]SINAPI!$A$1:$G$7498,2,0),(IF($B24="FDE",VLOOKUP($C24,[1]FDE!$A$1:$E$3179,2,0),(IF($B24="CDHU",VLOOKUP($C24,[1]CDHU!$A$1:$F$4132,2,0),(IF($B24="SIEC",VLOOKUP($C24,[1]SIEC!$A$1:$E$4166,2,0),(IF($B24="DER",VLOOKUP($C24,[1]DER!$A$1:$D$2157,2,0),(IF($B24="SICRO",VLOOKUP($C24,[1]SICRO!$A$1:$E$6354,2,0))))))))))))))))) -> PISO/ PASSEIO DE CONCRETO, INCLUINDO O PREPARO DA CAIXA, LASTRO DE BRITA E A MÃO DE OBRA REFERENTE AOS SERVIÇOS NO CONCRETO: LANÇAMENTO E ACABAMENTO (RIPADO E DESEMPENADO) EXCLUSIVE O FORNECIMENTO DO CONCRETO | E24: =UPPER(IF($B24="EDIF",VLOOKUP($C24,[1]EDIF!$A$1:$E$2656,3,0),(IF($B24="INFRA",VLOOKUP($C24,[1]INFRA!$A$1:$E$843,3,0),(IF($B24="SINAPI",VLOOKUP($C24,[1]SINAPI!$A$1:$G$7498,3,0),(IF($B24="FDE",VLOOKUP($C24,[1]FDE!$A$1:$E$3179,3,0),(IF($B24="CDHU",VLOOKUP($C24,[1]CDHU!$A$1:$F$4132,3,0),(IF($B24="SIEC",VLOOKUP($C24,[1]SIEC!$A$1:$E$4166,3,0),(IF($B24="DER",VLOOKUP($C24,[1]DER!$A$1:$D$2157,3,0),(IF($B24="SICRO",VLOOKUP($C24,[1]SICRO!$A$1:$E$6354,3,0))))))))))))))))) -> M3 | F24: 0.42 | G24: =ORÇ!K31 -> 347.96 | H24: =TRUNC(F24*G24,2) -> 146.14 | I24: =B24 -> INFRA | J24: =ROUND(G24*F24,2) -> 146.14 | L24: =UPPER(IF($B24="EDIF",VLOOKUP($C24,[1]EDIF!$A$1:$E$2656,5,0),(IF($B24="INFRA",VLOOKUP($C24,[1]INFRA!$A$1:$E$843,5,0),(IF($B24="SINAPI",VLOOKUP($C24,[1]SINAPI!$A$1:$G$7498,7,0),(IF($B24="FDE",VLOOKUP($C24,[1]FDE!$A$1:$E$3179,5,0),(IF($B24="CDHU",VLOOKUP($C24,[1]CDHU!$A$1:$G$4132,7,0),(IF($B24="SIEC",VLOOKUP($C24,[1]SIEC!$A$1:$E$4166,5,0),(IF($B24="DER",VLOOKUP($C24,[1]DER!$A$1:$D$2157,5,0),(IF($B24="SICRO",VLOOKUP($C24,[1]SICRO!$A$1:$E$6354,5,0))))))))))))))))) -> INFRA JUL/23
G25: SUB TOTAL | J25: =SUM(J19:J24) -> 2425.73 | L25: =UPPER(IF($B25="EDIF",VLOOKUP($C25,[1]EDIF!$A$1:$E$2656,5,0),(IF($B25="INFRA",VLOOKUP($C25,[1]INFRA!$A$1:$E$843,5,0),(IF($B25="SINAPI",VLOOKUP($C25,[1]SINAPI!$A$1:$G$7498,7,0),(IF($B25="FDE",VLOOKUP($C25,[1]FDE!$A$1:$E$3179,5,0),(IF($B25="CDHU",VLOOKUP($C25,[1]CDHU!$A$1:$G$4132,7,0),(IF($B25="SIEC",VLOOKUP($C25,[1]SIEC!$A$1:$E$4166,5,0),(IF($B25="DER",VLOOKUP($C25,[1]DER!$A$1:$D$2157,5,0),(IF($B25="SICRO",VLOOKUP($C25,[1]SICRO!$A$1:$E$6354,5,0))))))))))))))))) -> FALSO
D26: =ORÇ!D33 -> RUA: TOMIO KATAGUIRI -PROX.Nº100
B27: INFRA | C27: =ORÇ!C34 -> 101603 | D27: =UPPER(IF($B27="EDIF",VLOOKUP($C27,[1]EDIF!$A$1:$E$2656,2,0),(IF($B27="INFRA",VLOOKUP($C27,[1]INFRA!$A$1:$E$843,2,0),(IF($B27="SINAPI",VLOOKUP($C27,[1]SINAPI!$A$1:$G$7498,2,0),(IF($B27="FDE",VLOOKUP($C27,[1]FDE!$A$1:$E$3179,2,0),(IF($B27="CDHU",VLOOKUP($C27,[1]CDHU!$A$1:$F$4132,2,0),(IF($B27="SIEC",VLOOKUP($C27,[1]SIEC!$A$1:$E$4166,2,0),(IF($B27="DER",VLOOKUP($C27,[1]DER!$A$1:$D$2157,2,0),(IF($B27="SICRO",VLOOKUP($C27,[1]SICRO!$A$1:$E$6354,2,0))))))))))))))))) -> PLACA DE OBRA EM CHAPA DE AÇO GALVANIZADO | E27: =UPPER(IF($B27="EDIF",VLOOKUP($C27,[1]EDIF!$A$1:$E$2656,3,0),(IF($B27="INFRA",VLOOKUP($C27,[1]INFRA!$A$1:$E$843,3,0),(IF($B27="SINAPI",VLOOKUP($C27,[1]SINAPI!$A$1:$G$7498,3,0),(IF($B27="FDE",VLOOKUP($C27,[1]FDE!$A$1:$E$3179,3,0),(IF($B27="CDHU",VLOOKUP($C27,[1]CDHU!$A$1:$F$4132,3,0),(IF($B27="SIEC",VLOOKUP($C27,[1]SIEC!$A$1:$E$4166,3,0),(IF($B27="DER",VLOOKUP($C27,[1]DER!$A$1:$D$2157,3,0),(IF($B27="SICRO",VLOOKUP($C27,[1]SICRO!$A$1:$E$6354,3,0))))))))))))))))) -> M2 | F27: 3 | G27: =ORÇ!K34 -> 391.58 | H27: =TRUNC(F27*G27,2) -> 1174.74 | I27: =B27 -> INFRA | J27: =ROUND(G27*F27,2) -> 1174.74
B28: INFRA | C28: =ORÇ!C36 -> 62302 | D28: =UPPER(IF($B28="EDIF",VLOOKUP($C28,[1]EDIF!$A$1:$E$2656,2,0),(IF($B28="INFRA",VLOOKUP($C28,[1]INFRA!$A$1:$E$843,2,0),(IF($B28="SINAPI",VLOOKUP($C28,[1]SINAPI!$A$1:$G$7498,2,0),(IF($B28="FDE",VLOOKUP($C28,[1]FDE!$A$1:$E$3179,2,0),(IF($B28="CDHU",VLOOKUP($C28,[1]CDHU!$A$1:$F$4132,2,0),(IF($B28="SIEC",VLOOKUP($C28,[1]SIEC!$A$1:$E$4166,2,0),(IF($B28="DER",VLOOKUP($C28,[1]DER!$A$1:$D$2157,2,0),(IF($B28="SICRO",VLOOKUP($C28,[1]SICRO!$A$1:$E$6354,2,0))))))))))))))))) -> REFORMA DE BOCA DE LOBO DUPLA | E28: =UPPER(IF($B28="EDIF",VLOOKUP($C28,[1]EDIF!$A$1:$E$2656,3,0),(IF($B28="INFRA",VLOOKUP($C28,[1]INFRA!$A$1:$E$843,3,0),(IF($B28="SINAPI",VLOOKUP($C28,[1]SINAPI!$A$1:$G$7498,3,0),(IF($B28="FDE",VLOOKUP($C28,[1]FDE!$A$1:$E$3179,3,0),(IF($B28="CDHU",VLOOKUP($C28,[1]CDHU!$A$1:$F$4132,3,0),(IF($B28="SIEC",VLOOKUP($C28,[1]SIEC!$A$1:$E$4166,3,0),(IF($B28="DER",VLOOKUP($C28,[1]DER!$A$1:$D$2157,3,0),(IF($B28="SICRO",VLOOKUP($C28,[1]SICRO!$A$1:$E$6354,3,0))))))))))))))))) -> UN | F28: 1 | G28: =ORÇ!K36 -> 1080.42 | H28: =TRUNC(F28*G28,2) -> 1080.42 | I28: =B28 -> INFRA | J28: =ROUND(G28*F28,2) -> 1080.42 | L28: =UPPER(IF($B28="EDIF",VLOOKUP($C28,[1]EDIF!$A$1:$E$2656,5,0),(IF($B28="INFRA",VLOOKUP($C28,[1]INFRA!$A$1:$E$843,5,0),(IF($B28="SINAPI",VLOOKUP($C28,[1]SINAPI!$A$1:$G$7498,7,0),(IF($B28="FDE",VLOOKUP($C28,[1]FDE!$A$1:$E$3179,5,0),(IF($B28="CDHU",VLOOKUP($C28,[1]CDHU!$A$1:$G$4132,7,0),(IF($B28="SIEC",VLOOKUP($C28,[1]SIEC!$A$1:$E$4166,5,0),(IF($B28="DER",VLOOKUP($C28,[1]DER!$A$1:$D$2157,5,0),(IF($B28="SICRO",VLOOKUP($C28,[1]SICRO!$A$1:$E$6354,5,0))))))))))))))))) -> INFRA JUL/23
B29: EDIF | C29: 80276 | D29: =UPPER(IF($B29="EDIF",VLOOKUP($C29,[1]EDIF!$A$1:$E$2656,2,0),(IF($B29="INFRA",VLOOKUP($C29,[1]INFRA!$A$1:$E$843,2,0),(IF($B29="SINAPI",VLOOKUP($C29,[1]SINAPI!$A$1:$G$7498,2,0),(IF($B29="FDE",VLOOKUP($C29,[1]FDE!$A$1:$E$3179,2,0),(IF($B29="CDHU",VLOOKUP($C29,[1]CDHU!$A$1:$F$4132,2,0),(IF($B29="SIEC",VLOOKUP($C29,[1]SIEC!$A$1:$E$4166,2,0),(IF($B29="DER",VLOOKUP($C29,[1]DER!$A$1:$D$2157,2,0),(IF($B29="SICRO",VLOOKUP($C29,[1]SICRO!$A$1:$E$6354,2,0))))))))))))))))) -> GRADE DE PROTEÇÃO EM FERRO GALVANIZADO ELETROFUNDIDO - BARRA 25X2MM, MALHA 65X132MM | E29: =UPPER(IF($B29="EDIF",VLOOKUP($C29,[1]EDIF!$A$1:$E$2656,3,0),(IF($B29="INFRA",VLOOKUP($C29,[1]INFRA!$A$1:$E$843,3,0),(IF($B29="SINAPI",VLOOKUP($C29,[1]SINAPI!$A$1:$G$7498,3,0),(IF($B29="FDE",VLOOKUP($C29,[1]FDE!$A$1:$E$3179,3,0),(IF($B29="CDHU",VLOOKUP($C29,[1]CDHU!$A$1:$F$4132,3,0),(IF($B29="SIEC",VLOOKUP($C29,[1]SIEC!$A$1:$E$4166,3,0),(IF($B29="DER",VLOOKUP($C29,[1]DER!$A$1:$D$2157,3,0),(IF($B29="SICRO",VLOOKUP($C29,[1]SICRO!$A$1:$E$6354,3,0))))))))))))))))) -> M2 | F29: 3.36 | G29: =ORÇ!K38 -> 282.01 | H29: =TRUNC(F29*G29,2) -> 947.55 | I29: =B29 -> EDIF | J29: =ROUND(G29*F29,2) -> 947.55 | L29: =UPPER(IF($B29="EDIF",VLOOKUP($C29,[1]EDIF!$A$1:$E$2656,5,0),(IF($B29="INFRA",VLOOKUP($C29,[1]INFRA!$A$1:$E$843,5,0),(IF($B29="SINAPI",VLOOKUP($C29,[1]SINAPI!$A$1:$G$7498,7,0),(IF($B29="FDE",VLOOKUP($C29,[1]FDE!$A$1:$E$3179,5,0),(IF($B29="CDHU",VLOOKUP($C29,[1]CDHU!$A$1:$G$4132,7,0),(IF($B29="SIEC",VLOOKUP($C29,[1]SIEC!$A$1:$E$4166,5,0),(IF($B29="DER",VLOOKUP($C29,[1]DER!$A$1:$D$2157,5,0),(IF($B29="SICRO",VLOOKUP($C29,[1]SICRO!$A$1:$E$6354,5,0))))))))))))))))) -> EDIF JUL/23
B30: CDHU | C30: =ORÇ!C40 -> 29.01.210 | D30: =UPPER(IF($B30="EDIF",VLOOKUP($C30,[1]EDIF!$A$1:$E$2656,2,0),(IF($B30="INFRA",VLOOKUP($C30,[1]INFRA!$A$1:$E$843,2,0),(IF($B30="SINAPI",VLOOKUP($C30,[1]SINAPI!$A$1:$G$7498,2,0),(IF($B30="FDE",VLOOKUP($C30,[1]FDE!$A$1:$E$3179,2,0),(IF($B30="CDHU",VLOOKUP($C30,[1]CDHU!$A$1:$F$4132,2,0),(IF($B30="SIEC",VLOOKUP($C30,[1]SIEC!$A$1:$E$4166,2,0),(IF($B30="DER",VLOOKUP($C30,[1]DER!$A$1:$D$2157,2,0),(IF($B30="SICRO",VLOOKUP($C30,[1]SICRO!$A$1:$E$6354,2,0))))))))))))))))) -> CANTONEIRA EM AÇO GALVANIZADO | E30: =UPPER(IF($B30="EDIF",VLOOKUP($C30,[1]EDIF!$A$1:$E$2656,3,0),(IF($B30="INFRA",VLOOKUP($C30,[1]INFRA!$A$1:$E$843,3,0),(IF($B30="SINAPI",VLOOKUP($C30,[1]SINAPI!$A$1:$G$7498,3,0),(IF($B30="FDE",VLOOKUP($C30,[1]FDE!$A$1:$E$3179,3,0),(IF($B30="CDHU",VLOOKUP($C30,[1]CDHU!$A$1:$F$4132,3,0),(IF($B30="SIEC",VLOOKUP($C30,[1]SIEC!$A$1:$E$4166,3,0),(IF($B30="DER",VLOOKUP($C30,[1]DER!$A$1:$D$2157,3,0),(IF($B30="SICRO",VLOOKUP($C30,[1]SICRO!$A$1:$E$6354,3,0))))))))))))))))) -> KG | F30: 18 | G30: =ORÇ!K40 -> 29.08 | H30: =TRUNC(F30*G30,2) -> 523.44 | I30: =B30 -> CDHU | J30: =ROUND(G30*F30,2) -> 523.44 | L30: =UPPER(IF($B30="EDIF",VLOOKUP($C30,[1]EDIF!$A$1:$E$2656,5,0),(IF($B30="INFRA",VLOOKUP($C30,[1]INFRA!$A$1:$E$843,5,0),(IF($B30="SINAPI",VLOOKUP($C30,[1]SINAPI!$A$1:$G$7498,7,0),(IF($B30="FDE",VLOOKUP($C30,[1]FDE!$A$1:$E$3179,5,0),(IF($B30="CDHU",VLOOKUP($C30,[1]CDHU!$A$1:$G$4132,7,0),(IF($B30="SIEC",VLOOKUP($C30,[1]SIEC!$A$1:$E$4166,5,0),(IF($B30="DER",VLOOKUP($C30,[1]DER!$A$1:$D$2157,5,0),(IF($B30="SICRO",VLOOKUP($C30,[1]SICRO!$A$1:$E$6354,5,0))))))))))))))))) -> CDHU 192
G31: SUB TOTAL | J31: =SUM(J27:J30) -> 3726.15
D32: =ORÇ!D42 -> RUA: RYOSHIN HASEGAWA -PROX AO Nº122
B33: INFRA | C33: 101603 | D33: =UPPER(IF($B33="EDIF",VLOOKUP($C33,[1]EDIF!$A$1:$E$2656,2,0),(IF($B33="INFRA",VLOOKUP($C33,[1]INFRA!$A$1:$E$843,2,0),(IF($B33="SINAPI",VLOOKUP($C33,[1]SINAPI!$A$1:$G$7498,2,0),(IF($B33="FDE",VLOOKUP($C33,[1]FDE!$A$1:$E$3179,2,0),(IF($B33="CDHU",VLOOKUP($C33,[1]CDHU!$A$1:$F$4132,2,0),(IF($B33="SIEC",VLOOKUP($C33,[1]SIEC!$A$1:$E$4166,2,0),(IF($B33="DER",VLOOKUP($C33,[1]DER!$A$1:$D$2157,2,0),(IF($B33="SICRO",VLOOKUP($C33,[1]SICRO!$A$1:$E$6354,2,0))))))))))))))))) -> PLACA DE OBRA EM CHAPA DE AÇO GALVANIZADO | E33: =UPPER(IF($B33="EDIF",VLOOKUP($C33,[1]EDIF!$A$1:$E$2656,3,0),(IF($B33="INFRA",VLOOKUP($C33,[1]INFRA!$A$1:$E$843,3,0),(IF($B33="SINAPI",VLOOKUP($C33,[1]SINAPI!$A$1:$G$7498,3,0),(IF($B33="FDE",VLOOKUP($C33,[1]FDE!$A$1:$E$3179,3,0),(IF($B33="CDHU",VLOOKUP($C33,[1]CDHU!$A$1:$F$4132,3,0),(IF($B33="SIEC",VLOOKUP($C33,[1]SIEC!$A$1:$E$4166,3,0),(IF($B33="DER",VLOOKUP($C33,[1]DER!$A$1:$D$2157,3,0),(IF($B33="SICRO",VLOOKUP($C33,[1]SICRO!$A$1:$E$6354,3,0))))))))))))))))) -> M2 | F33: 3 | G33: =ORÇ!K43 -> 391.58 | H33: =TRUNC(F33*G33,2) -> 1174.74 | I33: =B33 -> INFRA | J33: =ROUND(G33*F33,2) -> 1174.74 | L33: =UPPER(IF($B33="EDIF",VLOOKUP($C33,[1]EDIF!$A$1:$E$2656,5,0),(IF($B33="INFRA",VLOOKUP($C33,[1]INFRA!$A$1:$E$843,5,0),(IF($B33="SINAPI",VLOOKUP($C33,[1]SINAPI!$A$1:$G$7498,7,0),(IF($B33="FDE",VLOOKUP($C33,[1]FDE!$A$1:$E$3179,5,0),(IF($B33="CDHU",VLOOKUP($C33,[1]CDHU!$A$1:$G$4132,7,0),(IF($B33="SIEC",VLOOKUP($C33,[1]SIEC!$A$1:$E$4166,5,0),(IF($B33="DER",VLOOKUP($C33,[1]DER!$A$1:$D$2157,5,0),(IF($B33="SICRO",VLOOKUP($C33,[1]SICRO!$A$1:$E$6354,5,0))))))))))))))))) -> INFRA JUL/23
B34: INFRA | C34: 50300 | D34: =UPPER(IF($B34="EDIF",VLOOKUP($C34,[1]EDIF!$A$1:$E$2656,2,0),(IF($B34="INFRA",VLOOKUP($C34,[1]INFRA!$A$1:$E$843,2,0),(IF($B34="SINAPI",VLOOKUP($C34,[1]SINAPI!$A$1:$G$7498,2,0),(IF($B34="FDE",VLOOKUP($C34,[1]FDE!$A$1:$E$3179,2,0),(IF($B34="CDHU",VLOOKUP($C34,[1]CDHU!$A$1:$F$4132,2,0),(IF($B34="SIEC",VLOOKUP($C34,[1]SIEC!$A$1:$E$4166,2,0),(IF($B34="DER",VLOOKUP($C34,[1]DER!$A$1:$D$2157,2,0),(IF($B34="SICRO",VLOOKUP($C34,[1]SICRO!$A$1:$E$6354,2,0))))))))))))))))) -> DEMOLIÇÃO DE PAVIMENTO DE CONCRETO, SARJETA OU SARJETÃO, INCLUI CARGA EM CAMINHÃO | E34: =UPPER(IF($B34="EDIF",VLOOKUP($C34,[1]EDIF!$A$1:$E$2656,3,0),(IF($B34="INFRA",VLOOKUP($C34,[1]INFRA!$A$1:$E$843,3,0),(IF($B34="SINAPI",VLOOKUP($C34,[1]SINAPI!$A$1:$G$7498,3,0),(IF($B34="FDE",VLOOKUP($C34,[1]FDE!$A$1:$E$3179,3,0),(IF($B34="CDHU",VLOOKUP($C34,[1]CDHU!$A$1:$F$4132,3,0),(IF($B34="SIEC",VLOOKUP($C34,[1]SIEC!$A$1:$E$4166,3,0),(IF($B34="DER",VLOOKUP($C34,[1]DER!$A$1:$D$2157,3,0),(IF($B34="SICRO",VLOOKUP($C34,[1]SICRO!$A$1:$E$6354,3,0))))))))))))))))) -> M2 | F34: 73.7 | G34: =ORÇ!K44 -> 27.67 | H34: =TRUNC(F34*G34,2) -> 2039.27 | I34: =B34 -> INFRA | J34: =ROUND(G34*F34,2) -> 2039.28 | L34: =UPPER(IF($B34="EDIF",VLOOKUP($C34,[1]EDIF!$A$1:$E$2656,5,0),(IF($B34="INFRA",VLOOKUP($C34,[1]INFRA!$A$1:$E$843,5,0),(IF($B34="SINAPI",VLOOKUP($C34,[1]SINAPI!$A$1:$G$7498,7,0),(IF($B34="FDE",VLOOKUP($C34,[1]FDE!$A$1:$E$3179,5,0),(IF($B34="CDHU",VLOOKUP($C34,[1]CDHU!$A$1:$G$4132,7,0),(IF($B34="SIEC",VLOOKUP($C34,[1]SIEC!$A$1:$E$4166,5,0),(IF($B34="DER",VLOOKUP($C34,[1]DER!$A$1:$D$2157,5,0),(IF($B34="SICRO",VLOOKUP($C34,[1]SICRO!$A$1:$E$6354,5,0))))))))))))))))) -> INFRA JUL/23
B35: EDIF | C35: 10106 | D35: =UPPER(IF($B35="EDIF",VLOOKUP($C35,[1]EDIF!$A$1:$E$2656,2,0),(IF($B35="INFRA",VLOOKUP($C35,[1]INFRA!$A$1:$E$843,2,0),(IF($B35="SINAPI",VLOOKUP($C35,[1]SINAPI!$A$1:$G$7498,2,0),(IF($B35="FDE",VLOOKUP($C35,[1]FDE!$A$1:$E$3179,2,0),(IF($B35="CDHU",VLOOKUP($C35,[1]CDHU!$A$1:$F$4132,2,0),(IF($B35="SIEC",VLOOKUP($C35,[1]SIEC!$A$1:$E$4166,2,0),(IF($B35="DER",VLOOKUP($C35,[1]DER!$A$1:$D$2157,2,0),(IF($B35="SICRO",VLOOKUP($C35,[1]SICRO!$A$1:$E$6354,2,0))))))))))))))))) -> CARGA MANUAL E REMOÇÃO DE ENTULHO, INCLUSIVE TRANSPORTE ATÉ 1 KM | E35: =UPPER(IF($B35="EDIF",VLOOKUP($C35,[1]EDIF!$A$1:$E$2656,3,0),(IF($B35="INFRA",VLOOKUP($C35,[1]INFRA!$A$1:$E$843,3,0),(IF($B35="SINAPI",VLOOKUP($C35,[1]SINAPI!$A$1:$G$7498,3,0),(IF($B35="FDE",VLOOKUP($C35,[1]FDE!$A$1:$E$3179,3,0),(IF($B35="CDHU",VLOOKUP($C35,[1]CDHU!$A$1:$F$4132,3,0),(IF($B35="SIEC",VLOOKUP($C35,[1]SIEC!$A$1:$E$4166,3,0),(IF($B35="DER",VLOOKUP($C35,[1]DER!$A$1:$D$2157,3,0),(IF($B35="SICRO",VLOOKUP($C35,[1]SICRO!$A$1:$E$6354,3,0))))))))))))))))) -> M3 | F35: 16.6 | G35: =ORÇ!K46 -> 51.66 | H35: =TRUNC(F35*G35,2) -> 857.55 | I35: =B35 -> EDIF | J35: =ROUND(G35*F35,2) -> 857.56 | L35: =UPPER(IF($B35="EDIF",VLOOKUP($C35,[1]EDIF!$A$1:$E$2656,5,0),(IF($B35="INFRA",VLOOKUP($C35,[1]INFRA!$A$1:$E$843,5,0),(IF($B35="SINAPI",VLOOKUP($C35,[1]SINAPI!$A$1:$G$7498,7,0),(IF($B35="FDE",VLOOKUP($C35,[1]FDE!$A$1:$E$3179,5,0),(IF($B35="CDHU",VLOOKUP($C35,[1]CDHU!$A$1:$G$4132,7,0),(IF($B35="SIEC",VLOOKUP($C35,[1]SIEC!$A$1:$E$4166,5,0),(IF($B35="DER",VLOOKUP($C35,[1]DER!$A$1:$D$2157,5,0),(IF($B35="SICRO",VLOOKUP($C35,[1]SICRO!$A$1:$E$6354,5,0))))))))))))))))) -> EDIF JUL/23
B36: EDIF | C36: 10110 | D36: =UPPER(IF($B36="EDIF",VLOOKUP($C36,[1]EDIF!$A$1:$E$2656,2,0),(IF($B36="INFRA",VLOOKUP($C36,[1]INFRA!$A$1:$E$843,2,0),(IF($B36="SINAPI",VLOOKUP($C36,[1]SINAPI!$A$1:$G$7498,2,0),(IF($B36="FDE",VLOOKUP($C36,[1]FDE!$A$1:$E$3179,2,0),(IF($B36="CDHU",VLOOKUP($C36,[1]CDHU!$A$1:$F$4132,2,0),(IF($B36="SIEC",VLOOKUP($C36,[1]SIEC!$A$1:$E$4166,2,0),(IF($B36="DER",VLOOKUP($C36,[1]DER!$A$1:$D$2157,2,0),(IF($B36="SICRO",VLOOKUP($C36,[1]SICRO!$A$1:$E$6354,2,0))))))))))))))))) -> TRANSPORTE DE ENTULHO POR CAMINHÃO BASCULANTE, A PARTIR DE 1KM | E36: =UPPER(IF($B36="EDIF",VLOOKUP($C36,[1]EDIF!$A$1:$E$2656,3,0),(IF($B36="INFRA",VLOOKUP($C36,[1]INFRA!$A$1:$E$843,3,0),(IF($B36="SINAPI",VLOOKUP($C36,[1]SINAPI!$A$1:$G$7498,3,0),(IF($B36="FDE",VLOOKUP($C36,[1]FDE!$A$1:$E$3179,3,0),(IF($B36="CDHU",VLOOKUP($C36,[1]CDHU!$A$1:$F$4132,3,0),(IF($B36="SIEC",VLOOKUP($C36,[1]SIEC!$A$1:$E$4166,3,0),(IF($B36="DER",VLOOKUP($C36,[1]DER!$A$1:$D$2157,3,0),(IF($B36="SICRO",VLOOKUP($C36,[1]SICRO!$A$1:$E$6354,3,0))))))))))))))))) -> M3XKM | F36: 294.8 | G36: =ORÇ!K48 -> 1.66 | H36: =TRUNC(F36*G36,2) -> 489.36 | I36: =B36 -> EDIF | J36: =ROUND(G36*F36,2) -> 489.37 | L36: =UPPER(IF($B36="EDIF",VLOOKUP($C36,[1]EDIF!$A$1:$E$2656,5,0),(IF($B36="INFRA",VLOOKUP($C36,[1]INFRA!$A$1:$E$843,5,0),(IF($B36="SINAPI",VLOOKUP($C36,[1]SINAPI!$A$1:$G$7498,7,0),(IF($B36="FDE",VLOOKUP($C36,[1]FDE!$A$1:$E$3179,5,0),(IF($B36="CDHU",VLOOKUP($C36,[1]CDHU!$A$1:$G$4132,7,0),(IF($B36="SIEC",VLOOKUP($C36,[1]SIEC!$A$1:$E$4166,5,0),(IF($B36="DER",VLOOKUP($C36,[1]DER!$A$1:$D$2157,5,0),(IF($B36="SICRO",VLOOKUP($C36,[1]SICRO!$A$1:$E$6354,5,0))))))))))))))))) -> EDIF JUL/23
B37: EDIF | C37: 175045 | D37: =UPPER(IF($B37="EDIF",VLOOKUP($C37,[1]EDIF!$A$1:$E$2656,2,0),(IF($B37="INFRA",VLOOKUP($C37,[1]INFRA!$A$1:$E$843,2,0),(IF($B37="SINAPI",VLOOKUP($C37,[1]SINAPI!$A$1:$G$7498,2,0),(IF($B37="FDE",VLOOKUP($C37,[1]FDE!$A$1:$E$3179,2,0),(IF($B37="CDHU",VLOOKUP($C37,[1]CDHU!$A$1:$F$4132,2,0),(IF($B37="SIEC",VLOOKUP($C37,[1]SIEC!$A$1:$E$4166,2,0),(IF($B37="DER",VLOOKUP($C37,[1]DER!$A$1:$D$2157,2,0),(IF($B37="SICRO",VLOOKUP($C37,[1]SICRO!$A$1:$E$6354,2,0))))))))))))))))) -> DEMOLIÇÃO DE GUIAS DE CONCRETO | E37: =UPPER(IF($B37="EDIF",VLOOKUP($C37,[1]EDIF!$A$1:$E$2656,3,0),(IF($B37="INFRA",VLOOKUP($C37,[1]INFRA!$A$1:$E$843,3,0),(IF($B37="SINAPI",VLOOKUP($C37,[1]SINAPI!$A$1:$G$7498,3,0),(IF($B37="FDE",VLOOKUP($C37,[1]FDE!$A$1:$E$3179,3,0),(IF($B37="CDHU",VLOOKUP($C37,[1]CDHU!$A$1:$F$4132,3,0),(IF($B37="SIEC",VLOOKUP($C37,[1]SIEC!$A$1:$E$4166,3,0),(IF($B37="DER",VLOOKUP($C37,[1]DER!$A$1:$D$2157,3,0),(IF($B37="SICRO",VLOOKUP($C37,[1]SICRO!$A$1:$E$6354,3,0))))))))))))))))) -> M | F37: 31 | G37: =ORÇ!K50 -> 9.64 | H37: =TRUNC(F37*G37,2) -> 298.84 | I37: =B37 -> EDIF | J37: =ROUND(G37*F37,2) -> 298.84 | L37: =UPPER(IF($B37="EDIF",VLOOKUP($C37,[1]EDIF!$A$1:$E$2656,5,0),(IF($B37="INFRA",VLOOKUP($C37,[1]INFRA!$A$1:$E$843,5,0),(IF($B37="SINAPI",VLOOKUP($C37,[1]SINAPI!$A$1:$G$7498,7,0),(IF($B37="FDE",VLOOKUP($C37,[1]FDE!$A$1:$E$3179,5,0),(IF($B37="CDHU",VLOOKUP($C37,[1]CDHU!$A$1:$G$4132,7,0),(IF($B37="SIEC",VLOOKUP($C37,[1]SIEC!$A$1:$E$4166,5,0),(IF($B37="DER",VLOOKUP($C37,[1]DER!$A$1:$D$2157,5,0),(IF($B37="SICRO",VLOOKUP($C37,[1]SICRO!$A$1:$E$6354,5,0))))))))))))))))) -> EDIF JUL/23
B38: INFRA | C38: 62203 | D38: =UPPER(IF($B38="EDIF",VLOOKUP($C38,[1]EDIF!$A$1:$E$2656,2,0),(IF($B38="INFRA",VLOOKUP($C38,[1]INFRA!$A$1:$E$843,2,0),(IF($B38="SINAPI",VLOOKUP($C38,[1]SINAPI!$A$1:$G$7498,2,0),(IF($B38="FDE",VLOOKUP($C38,[1]FDE!$A$1:$E$3179,2,0),(IF($B38="CDHU",VLOOKUP($C38,[1]CDHU!$A$1:$F$4132,2,0),(IF($B38="SIEC",VLOOKUP($C38,[1]SIEC!$A$1:$E$4166,2,0),(IF($B38="DER",VLOOKUP($C38,[1]DER!$A$1:$D$2157,2,0),(IF($B38="SICRO",VLOOKUP($C38,[1]SICRO!$A$1:$E$6354,2,0))))))))))))))))) -> BOCA DE LOBO SIMPLES | E38: =UPPER(IF($B38="EDIF",VLOOKUP($C38,[1]EDIF!$A$1:$E$2656,3,0),(IF($B38="INFRA",VLOOKUP($C38,[1]INFRA!$A$1:$E$843,3,0),(IF($B38="SINAPI",VLOOKUP($C38,[1]SINAPI!$A$1:$G$7498,3,0),(IF($B38="FDE",VLOOKUP($C38,[1]FDE!$A$1:$E$3179,3,0),(IF($B38="CDHU",VLOOKUP($C38,[1]CDHU!$A$1:$F$4132,3,0),(IF($B38="SIEC",VLOOKUP($C38,[1]SIEC!$A$1:$E$4166,3,0),(IF($B38="DER",VLOOKUP($C38,[1]DER!$A$1:$D$2157,3,0),(IF($B38="SICRO",VLOOKUP($C38,[1]SICRO!$A$1:$E$6354,3,0))))))))))))))))) -> UN | F38: 1 | G38: =ORÇ!K52 -> 2364.64 | I38: =B38 -> INFRA | J38: =ROUND(G38*F38,2) -> 2364.64
B39: EDIF | C39: 170252 | D39: =UPPER(IF($B39="EDIF",VLOOKUP($C39,[1]EDIF!$A$1:$E$2656,2,0),(IF($B39="INFRA",VLOOKUP($C39,[1]INFRA!$A$1:$E$843,2,0),(IF($B39="SINAPI",VLOOKUP($C39,[1]SINAPI!$A$1:$G$7498,2,0),(IF($B39="FDE",VLOOKUP($C39,[1]FDE!$A$1:$E$3179,2,0),(IF($B39="CDHU",VLOOKUP($C39,[1]CDHU!$A$1:$F$4132,2,0),(IF($B39="SIEC",VLOOKUP($C39,[1]SIEC!$A$1:$E$4166,2,0),(IF($B39="DER",VLOOKUP($C39,[1]DER!$A$1:$D$2157,2,0),(IF($B39="SICRO",VLOOKUP($C39,[1]SICRO!$A$1:$E$6354,2,0))))))))))))))))) -> SARJETA DE CONCRETO, INCLUSIVE PREPARO DE CAIXA | E39: =UPPER(IF($B39="EDIF",VLOOKUP($C39,[1]EDIF!$A$1:$E$2656,3,0),(IF($B39="INFRA",VLOOKUP($C39,[1]INFRA!$A$1:$E$843,3,0),(IF($B39="SINAPI",VLOOKUP($C39,[1]SINAPI!$A$1:$G$7498,3,0),(IF($B39="FDE",VLOOKUP($C39,[1]FDE!$A$1:$E$3179,3,0),(IF($B39="CDHU",VLOOKUP($C39,[1]CDHU!$A$1:$F$4132,3,0),(IF($B39="SIEC",VLOOKUP($C39,[1]SIEC!$A$1:$E$4166,3,0),(IF($B39="DER",VLOOKUP($C39,[1]DER!$A$1:$D$2157,3,0),(IF($B39="SICRO",VLOOKUP($C39,[1]SICRO!$A$1:$E$6354,3,0))))))))))))))))) -> M3 | F39: 2.94 | G39: =ORÇ!K54 -> 783.96 | I39: =B39 -> EDIF | J39: =ROUND(G39*F39,2) -> 2304.84
B40: EDIF | C40: 170250 | D40: =UPPER(IF($B40="EDIF",VLOOKUP($C40,[1]EDIF!$A$1:$E$2656,2,0),(IF($B40="INFRA",VLOOKUP($C40,[1]INFRA!$A$1:$E$843,2,0),(IF($B40="SINAPI",VLOOKUP($C40,[1]SINAPI!$A$1:$G$7498,2,0),(IF($B40="FDE",VLOOKUP($C40,[1]FDE!$A$1:$E$3179,2,0),(IF($B40="CDHU",VLOOKUP($C40,[1]CDHU!$A$1:$F$4132,2,0),(IF($B40="SIEC",VLOOKUP($C40,[1]SIEC!$A$1:$E$4166,2,0),(IF($B40="DER",VLOOKUP($C40,[1]DER!$A$1:$D$2157,2,0),(IF($B40="SICRO",VLOOKUP($C40,[1]SICRO!$A$1:$E$6354,2,0))))))))))))))))) -> GUIA DE CONCRETO RETA OU CURVA, TIPO PMSP | E40: =UPPER(IF($B40="EDIF",VLOOKUP($C40,[1]EDIF!$A$1:$E$2656,3,0),(IF($B40="INFRA",VLOOKUP($C40,[1]INFRA!$A$1:$E$843,3,0),(IF($B40="SINAPI",VLOOKUP($C40,[1]SINAPI!$A$1:$G$7498,3,0),(IF($B40="FDE",VLOOKUP($C40,[1]FDE!$A$1:$E$3179,3,0),(IF($B40="CDHU",VLOOKUP($C40,[1]CDHU!$A$1:$F$4132,3,0),(IF($B40="SIEC",VLOOKUP($C40,[1]SIEC!$A$1:$E$4166,3,0),(IF($B40="DER",VLOOKUP($C40,[1]DER!$A$1:$D$2157,3,0),(IF($B40="SICRO",VLOOKUP($C40,[1]SICRO!$A$1:$E$6354,3,0))))))))))))))))) -> M | F40: 31 | G40: =ORÇ!K56 -> 95.03 | I40: =B40 -> EDIF | J40: =ROUND(G40*F40,2) -> 2945.93
