Workbook
Name AreaTeste: #REF!
Name AreaTeste2: #REF!
Name CélulaInicioPlanilha: #REF!
Name CélulaResumo: #REF!
Name Excel_BuiltIn_Database: #REF!
Name Excel_BuiltIn_Database_2: #REF!
Name Print_Area: Planilha!$B$3:$K$55

Sheet Planilha
E5: PLANILHA ORÇAMENTÁRIA
E7: Obra: Pavimentação e drenagem - R.Durvalino prox. 103 x R. Particular prox.44
H8: Data-base: | I8: SIURB - JAN/25 -SINAPI-MAR/2025
J9: BDI Utilizado: | K9: 0.25
B10: Item | C10: Referência | D10: Código | E10: Descrição | F10: Unid | G10: Quantidade | H10: SEM BDI | J10: COM BDI
A11: - | H11: Preço Unit | I11: Total | J11: Preço Unit | K11: Total
A12: -
A13: - | B13: 1.1 | E13: 1 - SERVIÇOS PRELIMINARES
A14: - | B14: 1.1.1 | C14: INFRA | D14: 10016003 | E14: PLACA DE OBRA EM CHAPA DE AÇO GALVANIZADO | F14: M2 | G14: 6 | I14: =(G14*H14) -> 0 | J14: =H14*1.25 -> 0 | K14: =(G14*J14) -> 0
A15: - | H15: Subtotais: | I15: =SUM(I14:I14) -> 0 | K15: =SUM(K14:K14) -> 0
A16: - | B16: 1.2 | E16: 2 - GUIAS E SARJETAS
A17: - | B17: 1.2.1 | C17: INFRA | D17: 5013000 | E17: INC.27 - BASE DE CONCRETO FCK=15,00MPA PARA GUIAS, SARJETAS OU SARJETÕES | F17: M3 | G17: 19.82 | I17: =(G17*H17) -> 0 | J17: =H17*1.25 -> 0 | K17: =(G17*J17) -> 0
A18: - | B18: 1.2.2 | C18: INFRA | D18: 5014001 | E18: INC.27 - FORNECIMENTO E ASSENTAMENTO DE GUIAS TIPO PMSP 100, INCLUSIVE ENCOSTAMENTO DE TERRA - FCK=20,0MPA | F18: M | G18: 189 | I18: =(G18*H18) -> 0 | J18: =H18*1.25 -> 0 | K18: =(G18*J18) -> 0
A19: - | B19: 1.2.3 | C19: INFRA | D19: 5019002 | E19: INC.27 - CONSTRUÇÃO DE SARJETA OU SARJETÃO DE CONCRETO - FCK= 20,0MPA | F19: M3 | G19: 12.75 | I19: =(G19*H19) -> 0 | J19: =H19*1.25 -> 0 | K19: =(G19*J19) -> 0
A20: - | B20: 1.2.4 | C20: INFRA | D20: 6065024 | E20: FORNECIMENTO DE GRELHA TIPO "BOCA DE LEÃO" DE FERRO FUND. DÚCTIL CL. MÍN.D400 - 40T - DIM. APR=810X270MM - NBR 10160 - T. NÃO ARTICU. - P/ GAL. ÁGUAS PLUV. | F20: UN | G20: 4 | I20: =(G20*H20) -> 0 | J20: =H20*1.25 -> 0 | K20: =(G20*J20) -> 0
A21: - | B21: 1.2.5 | C21: INFRA | D21: 6065006 | E21: INC.27 - INSTALAÇÃO DE BOCA DE LEÃO SIMPLES COM GRELHA NÃO-ARTICULADA, EXCETO FORNECIMENTO DA GRELHA | F21: UN | G21: 4 | I21: =(G21*H21) -> 0 | J21: =H21*1.25 -> 0 | K21: =(G21*J21) -> 0
A22: - | B22: 1.2.6 | C22: INFRA | D22: 6022006 | E22: BOCA DE LOBO QUÁDRUPLA | F22: UN | G22: 1 | I22: =(G22*H22) -> 0 | J22: =H22*1.25 -> 0 | K22: =(G22*J22) -> 0
A23: - | H23: Subtotais: | I23: =SUM(I17:I22) -> 0 | K23: =SUM(K17:K22) -> 0
A24: - | B24: 1.3 | E24: 3- PAVIMENTAÇÃO
A25: - | B25: 1.3.1 | C25: INFRA | D25: 1013000 | E25: NIVELAMENTO DE SEÇÕES TRANSVERSAIS | F25: M/SEC | G25: 189 | I25: =(G25*H25) -> 0 | J25: =H25*1.25 -> 0 | K25: =(G25*J25) -> 0
A26: - | B26: 1.3.2 | C26: INFRA | D26: 1015000 | E26: NIVELAMENTO DO EIXO DE VIA PÚBLICA INCLUSIVE SOLEIRAS, GUIAS E TAMPÕES | F26: M | G26: 94 | I26: =(G26*H26) -> 0 | J26: =H26*1.25 -> 0 | K26: =(G26*J26) -> 0
A27: - | B27: 1.3.3 | C27: INFRA | D27: 4004000 | E27: ESCAVAÇÃO MECÂNICA PARA FUNDAÇÕES E VALAS COM PROFUNDIDADE MENOR OU IGUAL À 4,0M | F27: M3 | G27: 41.55 | I27: =(G27*H27) -> 0 | J27: =H27*1.25 -> 0 | K27: =(G27*J27) -> 0
A28: - | B28: 1.3.4 | C28: INFRA | D28: 5010000 | E28: ABERTURA DE CAIXA ATÉ 40CM, INCLUI ESCAVAÇÃO, COMPACTAÇÃO, TRANSPORTE E PREPARO DO SUB-LEITO | F28: M2 | G28: 276.97 | I28: =(G28*H28) -> 0 | J28: =H28*1.25 -> 0 | K28: =(G28*J28) -> 0
A29: - | B29: 1.3.5 | C29: SINAPI | D29: 96399 | E29: CONSTRUÇÃO DE BASE E SUB-BASE PARA PAVIMENTAÇÃO DE RACHÃO, COM ESPESSURA DE 40 CM - EXCLUSIVE CARGA E TRANSPORTE. AF_09/2024 | F29: M3 | G29: 138.49 | I29: =(G29*H29) -> 0 | J29: =H29*1.25 -> 0 | K29: =(G29*J29) -> 0
A30: - | B30: 1.3.6 | C30: INFRA | D30: 5047000 | E30: BASE DE BICA CORRIDA | F30: M3 | G30: 41.55 | I30: =(G30*H30) -> 0 | J30: =H30*1.25 -> 0 | K30: =(G30*J30) -> 0
A31: - | B31: 1.3.7 | C31: SINAPI | D31: 95996 | E31: EXECUÇÃO DE PAVIMENTO COM APLICAÇÃO DE CONCRETO ASFÁLTICO, CAMADA DE BINDER - EXCLUSIVE CARGA E TRANSPORTE. AF_11/2019 | F31: M3 | G31: 13.85 | I31: =(G31*H31) -> 0 | J31: =H31*1.25 -> 0 | K31: =(G31*J31) -> 0
A32: - | B32: 1.3.8 | C32: INFRA | D32: 5079001 | E32: CARGA, DESCARGA E TRANSPORTE DE BINDER ATÉ A DISTÂNCIA MÉDIA DE IDA E VOLTA DE 1KM | F32: M3 | G32: 13.85 | I32: =(G32*H32) -> 0 | J32: =H32*1.25 -> 0 | K32: =(G32*J32) -> 0
A33: - | B33: 1.3.9 | C33: INFRA | D33: 5079007 | E33: TRANSPORTE DE BINDER ALÉM DO PRIMEIRO KM | F33: M3XKM | G33: 346.25 | I33: =(G33*H33) -> 0 | J33: =H33*1.25 -> 0 | K33: =(G33*J33) -> 0
A34: - | B34: 1.3.10 | C34: EDIF | D34: 9064002 | E34: RETIRADA DE ISOLADOR TIPO CASTANHA INCLUSIVE GANCHO DE SUSTENTAÇÃO | F34: UN | G34: 553.94 | I34: =(G34*H34) -> 0 | J34: =H34*1.25 -> 0 | K34: =(G34*J34) -> 0
A35: - | B35: 1.3.11 | C35: INFRA | D35: 5027000 | E35: IMPRIMAÇÃO BETUMINOSA IMPERMEABILIZANTE | F35: M2 | G35: 276.97 | I35: =(G35*H35) -> 0 | J35: =H35*1.25 -> 0 | K35: =(G35*J35) -> 0
A36: - | B36: 1.3.12 | C36: INFRA | D36: 5028000 | E36: INA.01 - REVESTIMENTO DE CONCRETO ASFÁLTICO (SEM TRANSPORTE) | F36: M3 | G36: 13.85 | I36: =(G36*H36) -> 0 | J36: =H36*1.25 -> 0 | K36: =(G36*J36) -> 0
... A43: - | B43: 1.3.19 | C43: EDIF | D43: 4001031 | E43: VB.02 - ALVENARIA EM BLOCOS DE CONCRETO ESTRUTURAL 14 X 19 X 39CM - 8MPA | F43: M2 | G43: 42 | I43: =(G43*H43) -> 0 | J43: =H43*1.25 -> 0 | K43: =(G43*J43) -> 0
A44: - | H44: Subtotais: | I44: =SUM(I25:I43) -> 0 | K44: =SUM(K25:K43) -> 0
H45: TOTAIS: | I45: =SUM(I13:I44)/2 -> 0 | K45: =SUM(K13:K44)/2 -> 0
H46: TOTAL GERAL: | I46: =I45 -> 0 | K46: =K45 -> 0
B48: OBSERVAÇÕES:
B49: - Para confecção desta Planilha Orçamentária, foram utilizadas as seguintes tabelas: SINAPI 03/2025, SIURB-INFRA JAN/2025 e SIURB-EDIF JAN/2025, todas elas Sem Desoneração, sendo
B50: elas as mais adequadas para esta Administração Pública;
B52: - Coordenadas geográficas:
B53: Rua Particular : Lat. : 23° 33' 13.98" S - Long. : 46° 21" 50.77" O
...

Sheet CRONOGRAMA 
B5: CRONOGRAMA FÍSICO FINANCEIRO
B6: Obra: Pavimentação e drenagem - R.Durvalino prox. 103 x R. Particular prox.44
A7: Descrição | B7: MÊS | M7: %
B8: 1 | C8: 2 | D8: 3 | E8: 4 | F8: 5 | G8: 6 | H8: 7 | I8: 8 | J8: 9 | K8: 10
A9: =Planilha!E13 -> 1 - SERVIÇOS PRELIMINARES | L9: =Planilha!K15 -> 0 | M9: =L9/L18 -> #DIV/0!
B10: x
A12: =Planilha!E16 -> 2 - GUIAS E SARJETAS | L12: =Planilha!K23 -> 0 | M12: =L12/L18 -> #DIV/0!
B13: x
A15: =Planilha!E24 -> 3- PAVIMENTAÇÃO | L15: =Planilha!K44 -> 0 | M15: =L15/L18 -> #DIV/0!
B16: x | C16: x
L18: =SUM(L9+L12+L15) -> 0
A21: VICENTE NUNES DA EIRA CREASP560580945-O | M21: =SUM(M9:M20) -> #DIV/0!
A22: =Planilha!B48 -> OBSERVAÇÕES:
A23: =Planilha!B49 -> - Para confecção desta Planilha Orçamentária, foram utilizadas as seguintes tabelas: SINAPI 03/2025, SIURB-INFRA JAN/2025 e SIURB-EDIF JAN/2025, todas elas Sem Desoneração, sendo
A24: =Planilha!B50 -> elas as mais adequadas para esta Administração Pública;
A26: =Planilha!B52 -> - Coordenadas geográficas:
A27: =Planilha!B53 -> Rua Particular : Lat. : 23° 33' 13.98" S - Long. : 46° 21" 50.77" O
A28: =Planilha!B54 -> Rua Durvalino : Lat.: 23° 33' 13.58" S Long. : 46° 21' 52.81" O;
