Workbook
Name AreaTeste: #REF!
Name AreaTeste2: #REF!
Name CélulaInicioPlanilha: #REF!
Name CélulaResumo: #REF!
Name Excel_BuiltIn_Database: #REF!
Name Excel_BuiltIn_Database_2: #REF!

Sheet Planilha
E1: PLANILHA ORÇAMENTÁRIA
E3: Elaboração do Plano Diretor de Drenagem e Manejo de Águas Pluviais Urbana | P3: CRONOGRAMA FISICO DA
G4: Data base: | H4: EDIF Jan/2025; SABESP Mar/25
B5: Ref. | C5: Ordem | E5: Descrição | F5: Unid | G5: Quantidade | H5: Preço Unit | I5: Total | J5: =B5 -> Ref. | L5: Verificação de erro
C6: ='[1]Planilha Orçamentaria'!A3 -> 1 | E6: ='[2]Planilha Orçamentaria'!B6 -> Relatório 1: Plano de Trabalho | G6: ='[2]Planilha Orçamentaria'!D6 | J6: =B6 -> 0
B7: SABESP | C7: ='[1]Planilha Orçamentaria'!A4 -> 1.1 | D7: 74000002 | E7: ='[2]Planilha Orçamentaria'!B7 -> Coordenador | F7: HH | G7: ='[2]Planilha Orçamentaria'!D7 -> 96 | I7: =G7*H7 -> 0 | J7: =B7 -> SABESP | L7: =UPPER(IF($B7="EDIF",VLOOKUP($C7,[3]EDIF!$A$1:$E$2656,5,0),(IF($B7="INFRA",VLOOKUP($C7,[3]INFRA!$A$1:$E$843,5,0),(IF($B7="SINAPI",VLOOKUP($C7,[3]SINAPI!$A$1:$G$7498,7,0),(IF($B7="FDE",VLOOKUP($C7,[3]FDE!$A$1:$E$3179,5,0),(IF($B7="CDHU",VLOOKUP($C7,[3]CDHU!$A$1:$G$4132,7,0),(IF($B7="SIEC",VLOOKUP($C7,[3]SIEC!$A$1:$E$4166,5,0),(IF($B7="DER",VLOOKUP($C7,[3]DER!$A$1:$D$2157,5,0),(IF($B7="SICRO",VLOOKUP($C7,[3]SICRO!$A$1:$E$6354,5,0))))))))))))))))) -> FALSO | M7: 74000002 | N7: Coordenador | O7: 594.69 | P7: =VLOOKUP(D7,[4]EDIF!$A$1:$E$2781,4,0) -> #N/A
B8: SABESP | C8: ='[1]Planilha Orçamentaria'!A5 -> 1.2 | D8: 74000004 | E8: ='[2]Planilha Orçamentaria'!B8 -> Engenheiro | F8: HH | G8: ='[2]Planilha Orçamentaria'!D8 -> 25 | I8: =G8*H8 -> 0 | M8: 74000004 | N8: Engenheiro | O8: 230.19 | P8: =VLOOKUP(D8,[4]EDIF!$A$1:$E$2781,4,0) -> #N/A
B9: SABESP | C9: ='[1]Planilha Orçamentaria'!A6 -> 1.3 | D9: 74000033 | E9: ='[2]Planilha Orçamentaria'!B9 -> Analista de planejamento | F9: HH | G9: ='[2]Planilha Orçamentaria'!D9 -> 160 | I9: =G9*H9 -> 0 | M9: 74000033 | N9: Analista de planejamento | O9: 164.23 | P9: =VLOOKUP(D9,[4]EDIF!$A$1:$E$2781,4,0) -> #N/A
B10: EDIF | C10: ='[1]Planilha Orçamentaria'!A7 -> 1.4 | D10: 20003004 | E10: ='[2]Planilha Orçamentaria'!B10 -> Arquiteto | F10: HH | G10: ='[2]Planilha Orçamentaria'!D10 -> 9 | I10: =G10*H10 -> 0 | M10: 74000035 | N10: Analista de sistemas | O10: 259.44 | P10: =VLOOKUP(D10,[4]EDIF!$A$1:$E$2781,4,0) -> 179.29
B11: SABESP | C11: ='[1]Planilha Orçamentaria'!A8 -> 1.5 | D11: 74000035 | E11: Analista de sistemas sênior (SIG) | F11: HH | G11: ='[2]Planilha Orçamentaria'!D11 -> 8 | I11: =G11*H11 -> 0 | M11: 74000036 | N11: Analista de sistemas | O11: 181.15 | P11: =VLOOKUP(D11,[4]EDIF!$A$1:$E$2781,4,0) -> #N/A
B12: SABESP | C12: ='[1]Planilha Orçamentaria'!A9 -> 1.6 | D12: 74000036 | E12: Analista de sistemas pleno (INFRA) | F12: HH | G12: ='[2]Planilha Orçamentaria'!D12 -> 8 | I12: =G12*H12 -> 0 | P12: =VLOOKUP(D12,[4]EDIF!$A$1:$E$2781,4,0) -> #N/A
B13: EDIF | C13: ='[1]Planilha Orçamentaria'!A10 -> 1.7 | D13: 20003008 | E13: ='[2]Planilha Orçamentaria'!B13 -> Consultor | F13: HH | G13: ='[2]Planilha Orçamentaria'!D13 -> 24 | I13: =G13*H13 -> 0 | P13: =VLOOKUP(D13,[4]EDIF!$A$1:$E$2781,4,0) -> 500.26
B14: COT | C14: ='[1]Planilha Orçamentaria'!A11 -> 1.8 | D14: =B14 -> COT | E14: ='[2]Planilha Orçamentaria'!B14 -> Gastos com materiais de escritório | F14: UN | G14: ='[2]Planilha Orçamentaria'!D14 -> 18 | I14: =G14*H14 -> 0 | P14: =VLOOKUP(D14,[4]EDIF!$A$1:$E$2781,4,0) -> #N/A
B15: COT | C15: ='[1]Planilha Orçamentaria'!A12 -> 1.9 | D15: =B15 -> COT | E15: ='[2]Planilha Orçamentaria'!B15 -> Gasto com estadias | F15: UN | G15: ='[2]Planilha Orçamentaria'!D15 -> 16 | I15: =G15*H15 -> 0 | P15: =VLOOKUP(D15,[4]EDIF!$A$1:$E$2781,4,0) -> #N/A
H16: Subtotal: | I16: =SUM(I7:I15) -> 0 | P16: =VLOOKUP(D16,[4]EDIF!$A$1:$E$2781,4,0) -> #N/A
C17: ='[1]Planilha Orçamentaria'!A13 -> 2 | E17: ='[2]Planilha Orçamentaria'!B16 -> Relatório 2: Base de dados consolidada, informações coletadas e base cartográfica adotada | G17: ='[2]Planilha Orçamentaria'!D16 | P17: =VLOOKUP(D17,[4]EDIF!$A$1:$E$2781,4,0) -> #N/A
B18: SABESP | C18: ='[1]Planilha Orçamentaria'!A14 -> 2.1 | D18: 74000002 | E18: ='[2]Planilha Orçamentaria'!B17 -> Coordenador | F18: HH | G18: ='[2]Planilha Orçamentaria'!D17 -> 32 | I18: =G18*H18 -> 0 | P18: =VLOOKUP(D18,[4]EDIF!$A$1:$E$2781,4,0) -> #N/A
B19: SABESP | C19: ='[1]Planilha Orçamentaria'!A15 -> 2.2 | D19: 74000004 | E19: ='[2]Planilha Orçamentaria'!B18 -> Engenheiro | F19: HH | G19: ='[2]Planilha Orçamentaria'!D18 -> 104 | I19: =G19*H19 -> 0 | P19: =VLOOKUP(D19,[4]EDIF!$A$1:$E$2781,4,0) -> #N/A
B20: SABESP | C20: ='[1]Planilha Orçamentaria'!A16 -> 2.3 | D20: 74000033 | E20: ='[2]Planilha Orçamentaria'!B19 -> Analista de planejamento | F20: HH | G20: ='[2]Planilha Orçamentaria'!D19 -> 16 | I20: =G20*H20 -> 0 | P20: =VLOOKUP(D20,[4]EDIF!$A$1:$E$2781,4,0) -> #N/A
B21: SABESP | C21: ='[1]Planilha Orçamentaria'!A17 -> 2.4 | D21: 74000035 | E21: Analista de sistemas sênior (SIG) | F21: HH | G21: ='[2]Planilha Orçamentaria'!D21 -> 160 | I21: =G21*H21 -> 0 | P21: =VLOOKUP(D21,[4]EDIF!$A$1:$E$2781,4,0) -> #N/A
B22: SABESP | C22: ='[1]Planilha Orçamentaria'!A18 -> 2.5 | D22: 74000036 | E22: Analista de sistemas pleno (INFRA) | F22: HH | G22: ='[2]Planilha Orçamentaria'!D22 -> 40 | I22: =G22*H22 -> 0 | P22: =VLOOKUP(D22,[4]EDIF!$A$1:$E$2781,4,0) -> #N/A
B23: EDIF | C23: ='[1]Planilha Orçamentaria'!A19 -> 2.6 | D23: 20003008 | E23: ='[2]Planilha Orçamentaria'!B23 -> Consultor | F23: HH | G23: ='[2]Planilha Orçamentaria'!D23 -> 16 | I23: =G23*H23 -> 0 | P23: =VLOOKUP(D23,[4]EDIF!$A$1:$E$2781,4,0) -> 500.26
B24: COT | C24: ='[1]Planilha Orçamentaria'!A20 -> 2.7 | D24: =B24 -> COT | E24: ='[2]Planilha Orçamentaria'!B24 -> Aluguel de veículo | F24: UN | G24: ='[2]Planilha Orçamentaria'!D24 -> 10 | I24: =G24*H24 -> 0 | P24: =VLOOKUP(D24,[4]EDIF!$A$1:$E$2781,4,0) -> #N/A
B25: COT | C25: ='[1]Planilha Orçamentaria'!A21 -> 2.8 | D25: =B25 -> COT | E25: ='[2]Planilha Orçamentaria'!B25 -> Aluguel de equipamentos | F25: UN | G25: ='[2]Planilha Orçamentaria'!D25 -> 60 | I25: =G25*H25 -> 0 | P25: =VLOOKUP(D25,[4]EDIF!$A$1:$E$2781,4,0) -> #N/A
H26: Subtotal: | I26: =SUM(I18:I25) -> 0 | P26: =VLOOKUP(D26,[4]EDIF!$A$1:$E$2781,4,0) -> #N/A
C27: ='[1]Planilha Orçamentaria'!A23 -> 3 | E27: ='[2]Planilha Orçamentaria'!B26 -> Relatório 3: Cadastro da rede de macrodrenagem | G27: ='[2]Planilha Orçamentaria'!D26 | P27: =VLOOKUP(D27,[4]EDIF!$A$1:$E$2781,4,0) -> #N/A
B28: SABESP | C28: ='[1]Planilha Orçamentaria'!A24 -> 3.1 | D28: 74000002 | E28: ='[2]Planilha Orçamentaria'!B27 -> Coordenador | F28: HH | G28: ='[2]Planilha Orçamentaria'!D27 -> 32 | I28: =G28*H28 -> 0 | P28: =VLOOKUP(D28,[4]EDIF!$A$1:$E$2781,4,0) -> #N/A
B29: SABESP | C29: ='[1]Planilha Orçamentaria'!A25 -> 3.2 | D29: 74000004 | E29: ='[2]Planilha Orçamentaria'!B28 -> Engenheiro | F29: HH | G29: ='[2]Planilha Orçamentaria'!D28 -> 320 | I29: =G29*H29 -> 0 | P29: =VLOOKUP(D29,[4]EDIF!$A$1:$E$2781,4,0) -> #N/A
B30: SABESP | C30: ='[1]Planilha Orçamentaria'!A26 -> 3.3 | D30: 74000033 | E30: ='[2]Planilha Orçamentaria'!B29 -> Analista de planejamento | F30: HH | G30: ='[2]Planilha Orçamentaria'!D29 -> 16 | I30: =G30*H30 -> 0 | P30: =VLOOKUP(D30,[4]EDIF!$A$1:$E$2781,4,0) -> #N/A
B31: EDIF | C31: ='[1]Planilha Orçamentaria'!A27 -> 3.4 | D31: 20003004 | E31: ='[2]Planilha Orçamentaria'!B30 -> Arquiteto | F31: HH | G31: ='[2]Planilha Orçamentaria'!D30 -> 2172 | I31: =G31*H31 -> 0 | P31: =VLOOKUP(D31,[4]EDIF!$A$1:$E$2781,4,0) -> 179.29
B32: SABESP | C32: ='[1]Planilha Orçamentaria'!A28 -> 3.5 | D32: 74000035 | E32: Analista de sistemas sênior (SIG) | F32: HH | G32: ='[2]Planilha Orçamentaria'!D31 -> 320 | I32: =G32*H32 -> 0 | P32: =VLOOKUP(D32,[4]EDIF!$A$1:$E$2781,4,0) -> #N/A
B33: SABESP | C33: ='[1]Planilha Orçamentaria'!A29 -> 3.6 | D33: 74000036 | E33: Analista de sistemas pleno (INFRA) | F33: HH | G33: ='[2]Planilha Orçamentaria'!D32 -> 160 | I33: =G33*H33 -> 0 | P33: =VLOOKUP(D33,[4]EDIF!$A$1:$E$2781,4,0) -> #N/A
B34: EDIF | C34: ='[1]Planilha Orçamentaria'!A30 -> 3.7 | D34: 20003008 | E34: ='[2]Planilha Orçamentaria'!B33 -> Consultor | F34: HH | G34: ='[2]Planilha Orçamentaria'!D33 -> 160 | I34: =G34*H34 -> 0 | P34: =VLOOKUP(D34,[4]EDIF!$A$1:$E$2781,4,0) -> 500.26
H35: Subtotal: | I35: =SUM(I28:I34) -> 0 | P35: =VLOOKUP(D35,[4]EDIF!$A$1:$E$2781,4,0) -> #N/A
C36: ='[1]Planilha Orçamentaria'!A31 -> 4 | E36: ='[2]Planilha Orçamentaria'!B34 -> Relatório 4: Cenários propostos, diretrizes urbanísticas e Plano de Mobilização Social | G36: ='[2]Planilha Orçamentaria'!D34 | P36: =VLOOKUP(D36,[4]EDIF!$A$1:$E$2781,4,0) -> #N/A
B37: SABESP | C37: ='[1]Planilha Orçamentaria'!A32 -> 4.1 | D37: 74000002 | E37: ='[2]Planilha Orçamentaria'!B35 -> Coordenador | F37: HH | G37: ='[2]Planilha Orçamentaria'!D35 -> 32 | I37: =G37*H37 -> 0 | P37: =VLOOKUP(D37,[4]EDIF!$A$1:$E$2781,4,0) -> #N/A
B38: SABESP | C38: ='[1]Planilha Orçamentaria'!A33 -> 4.2 | D38: 74000004 | E38: ='[2]Planilha Orçamentaria'!B36 -> Engenheiro | F38: HH | G38: ='[2]Planilha Orçamentaria'!D36 -> 160 | I38: =G38*H38 -> 0 | P38: =VLOOKUP(D38,[4]EDIF!$A$1:$E$2781,4,0) -> #N/A
B39: SABESP | C39: ='[1]Planilha Orçamentaria'!A34 -> 4.3 | D39: 74000033 | E39: ='[2]Planilha Orçamentaria'!B37 -> Analista de planejamento | F39: HH | G39: ='[2]Planilha Orçamentaria'!D37 -> 16 | I39: =G39*H39 -> 0 | P39: =VLOOKUP(D39,[4]EDIF!$A$1:$E$2781,4,0) -> #N/A
B40: SABESP | C40: ='[1]Planilha Orçamentaria'!A35 -> 4.4 | D40: 74000035 | E40: Analista de sistemas sênior (SIG) | F40: HH | G40: ='[2]Planilha Orçamentaria'!D39 -> 80 | I40: =G40*H40 -> 0 | P40: =VLOOKUP(D40,[4]EDIF!$A$1:$E$2781,4,0) -> #N/A
B41: SABESP | C41: ='[1]Planilha Orçamentaria'!A36 -> 4.5 | D41: 74000036 | E41: Analista de sistemas pleno (INFRA) | F41: HH | G41: ='[2]Planilha Orçamentaria'!D40 -> 8 | I41: =G41*H41 -> 0 | P41: =VLOOKUP(D41,[4]EDIF!$A$1:$E$2781,4,0) -> #N/A
...

Sheet Cronograma
B3: PREFEITURA MUNICIPAL DE FERRAZ DE VASCONCELOS
B4: SECRETARIA MUNICIPAL DE OBRAS
B5: CRONOGRAMA FISICO-FINANCEIRO
B7: =Planilha!E3 -> Elaboração do Plano Diretor de Drenagem e Manejo de Águas Pluviais Urbana
B9: Descrição | C9: MESES | V9: Valor do Item | W9: %
C10: 1 | D10: 2 | E10: 3 | F10: 4 | G10: 5 | H10: 6 | I10: 7 | J10: 8 | K10: 9 | L10: 10 | M10: 11 | N10: 12 | O10: 13 | P10: 14 | Q10: 15 | R10: 16 | S10: 17 | T10: 18 | U10: 19
B11: =Planilha!E6 -> Relatório 1: Plano de Trabalho | V11: =Planilha!I16 -> 0 | W11: =V11/$V$56 -> #DIV/0!
C12: X
B14: =Planilha!E17 -> Relatório 2: Base de dados consolidada, informações coletadas e base cartográfica adotada | V14: =Planilha!I26 -> 0 | W14: =V14/$V$56 -> #DIV/0!
D15: X
B17: =Planilha!E27 -> Relatório 3: Cadastro da rede de macrodrenagem | V17: =Planilha!I35 -> 0 | W17: =V17/$V$56 -> #DIV/0!
E18: X | F18: X | G18: X | H18: X | I18: X | J18: X
B20: =Planilha!E36 -> Relatório 4: Cenários propostos, diretrizes urbanísticas e Plano de Mobilização Social | V20: =Planilha!I43 -> 0 | W20: =V20/$V$56 -> #DIV/0!
J21: X
B23: =Planilha!E44 -> Relatório 5: Modelagem Hidrológica e Hidráulica | V23: =Planilha!I51 -> 0 | W23: =V23/$V$56 -> #DIV/0!
K24: X
B26: =Planilha!E52 -> Relatório 6: Análise dos resultados das simulações e consolidação das informações | V26: =Planilha!I58 -> 0 | W26: =V26/$V$56 -> #DIV/0!
K27: X
B29: =Planilha!E59 -> Relatório 7: Análise crítica das obras executadas, em curso e programadas | V29: =Planilha!I65 -> 0 | W29: =V29/$V$56 -> #DIV/0!
L30: X
B32: =Planilha!E66 -> Relatório 8: Recomendações de intervenções imediatas | V32: =Planilha!I72 -> 0 | W32: =V32/$V$56 -> #DIV/0!
L33: X
B35: =Planilha!E73 -> Relatório 9: Anteprojetos das medidas estruturais e de controle | V35: =Planilha!I79 -> 0 | W35: =V35/$V$56 -> #DIV/0!
L36: X
B38: =Planilha!E80 -> Relatório 10: Proposições de medidas de controle não estruturais | V38: =Planilha!I86 -> 0 | W38: =V38/$V$56 -> #DIV/0!
M39: X
B41: =Planilha!E87 -> Relatório 11: Estimativa de custos das alternativas e análise multicritério | V41: =Planilha!I93 -> 0 | W41: =V41/$V$56 -> #DIV/0!
M42: X
B44: =Planilha!E94 -> Relatório 12: Programa Municipal de Manejo de Águas Pluviais | V44: =Planilha!I100 -> 0 | W44: =V44/$V$56 -> #DIV/0!
M45: X
B47: =Planilha!E101 -> Relatório 13: Manual de Drenagem Urbana | V47: =Planilha!I107 -> 0 | W47: =V47/$V$56 -> #DIV/0!
N48: X
B50: =Planilha!E108 -> Relatório 14: Relatório de treinamento e capacitação profissional | V50: =Planilha!I114 -> 0 | W50: =V50/$V$56 -> #DIV/0!
N51: X
B53: =Planilha!E115 -> Relatório 15: Base de dados geográfica | V53: =Planilha!I122 -> 0 | W53: =V53/$V$56 -> #DIV/0!
N54: X
N56: TOTAL GERAL: | V56: =SUM(V11:V55) -> 0 | W56: =SUM(W11:W55) -> #DIV/0!
