Workbook
Name AreaTeste: #REF!
Name AreaTeste2: #REF!
Name CélulaInicioPlanilha: #REF!
Name CélulaResumo: #REF!
Name Excel_BuiltIn_Database: #REF!
Name Excel_BuiltIn_Database_2: #REF!
Name Print_Area: 'jAN24'!$B$13:$L$155
Name Print_Area: Planilha!$B$10:$K$110

Sheet Planilha
F4: PLANILHA ORÇAMENTÁRIA
D6: Obra: | E6: Obra: | F6: RECAPEAMENTO ASFÁLTICO RUA DOM PEDRO I E RECAPEAMENTO ASFÁLTICO RUA CARMELITA DE ALMEIDA DA SILVA
D7: Referência: | E7: Referência: | F7: SIURB - INFRA (Jan/2025) sem desoneração; CDHU 197 FEV/25; DER Out/2024; SICRO/DNIT Jan/25
D8: BDI Utilizado: | E8: BDI Utilizado: | F8: 0.2423
E9: DER BDI: | F9: 0.35
B10: Item | C10: Referencia | D10: Código | E10: Código | F10: Descrição | G10: Quantidade | H10: Unid | I10: Valor Unit. | K10: Total
D11: Código | I11: Preço Unit s/ BDI | J11: Preço Unit c/ BDI
B12: 1 | F12: RECAPEAMENTO ASFÁLTICO RUA DOM PEDRO I
B13: 1.1 | F13: SERVIÇOS PRELIMINARES
B14: 1.1.1 | C14: =UPPER('[1]Sintética PMFV'!$C$16) -> CDHU | D14: =VLOOKUP(F14,#REF!,11,0) -> #REF! | E14: ='[1]Sintética PMFV'!$D$16 -> 02.08.020 | F14: =VLOOKUP(E14,[2]CDHU!$A$1:$G$4109,2,0) -> Placa de identificação para obra | G14: ='[1]Sintética PMFV'!$F$16 -> 6 | H14: =VLOOKUP(E14,[2]CDHU!$A$1:$G$4109,3,0) -> M2 | J14: =I14*(1+$F$8) -> 0 | K14: =G14*J14 -> 0
J15: Subtotal: | K15: =SUM(K14:K14) -> 0
B16: 1.2 | F16: FRESAGEM, DEMOLIÇÕES E RETIRADAS
B17: 1.2.1 | C17: =UPPER('[1]Sintética PMFV'!C19) -> DER | D17: =#REF! -> #REF! | E17: ='[1]Sintética PMFV'!$D$19 -> 23.10.01 | F17: =VLOOKUP(E17,[2]DER!$A$1:$F$1650,2,0) -> FRESAGEM CONTINUA DE PAV., INDEPENDENTE DA ESPESSURA | G17: ='[1]Sintética PMFV'!$F19 -> 220.61 | H17: =VLOOKUP(E17,[2]DER!$A$1:$F$1650,3,0) -> m3 | J17: =I17*(1+$F$8) -> 0 | K17: =G17*J17 -> 0
B18: 1.2.2 | C18: =UPPER('[1]Sintética PMFV'!C20) -> CDHU | D18: =VLOOKUP(F18,#REF!,11,0) -> #REF! | E18: ='[1]Sintética PMFV'!$D$20 -> 05.08.220 | F18: =VLOOKUP(E18,[2]CDHU!$A$1:$G$4109,2,0) -> Carregamento mecanizado de entulho fragmentado, com caminhão à disposição dentro da obra, até o raio de 1 km | G18: ='[1]Sintética PMFV'!$F20 -> 275.7625 | H18: =VLOOKUP(E18,[2]CDHU!$A$1:$G$4109,3,0) -> M3 | J18: =I18*(1+$F$8) -> 0 | K18: =G18*J18 -> 0
B19: 1.2.3 | C19: =UPPER('[1]Sintética PMFV'!C21) -> CDHU | D19: =VLOOKUP(F19,#REF!,11,0) -> #REF! | E19: ='[1]Sintética PMFV'!$D$21 -> 05.08.120 | F19: =VLOOKUP(E19,[2]CDHU!$A$1:$G$4109,2,0) -> Transporte de entulho, para distâncias superiores ao 15° km até o 20° km | G19: ='[1]Sintética PMFV'!$F21 -> 275.7625 | H19: =VLOOKUP(E19,[2]CDHU!$A$1:$G$4109,3,0) -> M3 | J19: =I19*(1+$F$8) -> 0 | K19: =G19*J19 -> 0
B20: 1.2.4 | C20: =UPPER('[1]Sintética PMFV'!C22) -> CDHU | D20: 05.09.006 | E20: ='[1]Sintética PMFV'!$D$22 -> 05.09.006 | F20: =VLOOKUP(E20,[2]CDHU!$A$1:$G$4109,2,0) -> Taxa de destinação de resíduo sólido em aterro, tipo inerte | G20: ='[1]Sintética PMFV'!$F22 -> 352.976 | H20: =VLOOKUP(E20,[2]CDHU!$A$1:$G$4109,3,0) -> T | J20: =I20*(1+$F$8) -> 0 | K20: =G20*J20 -> 0
J21: Subtotal: | K21: =SUM(K17:K20) -> 0
B22: 1.3 | F22: PAVIMENTAÇÃO
B23: 1.3.1 | C23: =UPPER('[1]Sintética PMFV'!C25) -> CDHU | D23: =UPPER('[1]Sintética PMFV'!D25) -> 54.01.410 | E23: ='[1]Sintética PMFV'!$D25 -> 54.01.410 | F23: =VLOOKUP(E23,[2]CDHU!$A$1:$G$4109,2,0) -> Varrição de pavimento para recapeamento | G23: ='[1]Sintética PMFV'!$F25 -> 4412.2 | H23: =VLOOKUP(E23,[2]CDHU!$A$1:$G$4109,3,0) -> M2 | J23: =I23*(1+$F$8) -> 0 | K23: =G23*J23 -> 0
B24: 1.3.2 | C24: =UPPER('[1]Sintética PMFV'!C26) -> CDHU | D24: =UPPER('[1]Sintética PMFV'!D26) -> 55.01.030 | E24: ='[1]Sintética PMFV'!$D26 -> 55.01.030 | F24: =VLOOKUP(E24,[2]CDHU!$A$1:$G$4109,2,0) -> Limpeza complementar com hidrojateamento | G24: ='[1]Sintética PMFV'!$F26 -> 4412.2 | H24: =VLOOKUP(E24,[2]CDHU!$A$1:$G$4109,3,0) -> M2 | J24: =I24*(1+$F$8) -> 0 | K24: =G24*J24 -> 0
B25: 1.3.3 | C25: SICRO/DNIT | D25: =UPPER('[1]Sintética PMFV'!D27) -> 4011562 | E25: ='[1]Sintética PMFV'!$D27 -> 4011562 | F25: =VLOOKUP(E25,[2]SICRO!$A$1:$E$6492,2,0) -> Geogrelha bidirecional com resistência à tração de 30 kN/m - deformação < 5% - malha de 36 x 34 mm - para reforço de base granular | G25: ='[1]Sintética PMFV'!$F27 -> 4412.2 | H25: =VLOOKUP(E25,[2]SICRO!$A$1:$E$6492,3,0) -> m² | J25: =I25*(1+$F$8) -> 0 | K25: =G25*J25 -> 0
B26: 1.3.4 | C26: =UPPER('[1]Sintética PMFV'!C28) -> CDHU | D26: =UPPER('[1]Sintética PMFV'!D28) -> 54.03.230 | E26: ='[1]Sintética PMFV'!$D28 -> 54.03.230 | F26: =VLOOKUP(E26,[2]CDHU!$A$1:$G$4109,2,0) -> Imprimação betuminosa ligante | G26: ='[1]Sintética PMFV'!$F28 -> 8824.4 | H26: =VLOOKUP(E26,[2]CDHU!$A$1:$G$4109,3,0) -> M2 | J26: =I26*(1+$F$8) -> 0 | K26: =G26*J26 -> 0
B27: 1.3.5 | C27: =UPPER('[1]Sintética PMFV'!C29) -> SIURB | D27: =UPPER('[1]Sintética PMFV'!D29) -> 5099002 | E27: ='[1]Sintética PMFV'!$D29 -> 5099002 | F27: =VLOOKUP(E27,[2]INFRA!$A$1:$E$885,2,0) -> BASE BETUMINOSA DE MATERIAIS PROVENIENTES DOS RESÍDUOS SÓLIDOS DA CONSTRUÇÃO CIVIL (RCC) E/OU DA FRESAGEM DE PAVIMENTOS ASFÁLTICOS (RAP) RECICLADO EM USINA MÓVEL COM ATÉ 3% DE CAP, FORNECIMENTO E APLICAÇÃO, NÃO INCLUI TRANSPORTE ATÉ O LOCAL DOS SERVIÇOS, | G27: ='[1]Sintética PMFV'!$F29 -> 264.732 | H27: =VLOOKUP(E27,[2]INFRA!$A$1:$E$885,3,0) -> M3 | J27: =I27*(1+$F$8) -> 0 | K27: =G27*J27 -> 0
B28: 1.3.6 | C28: =UPPER('[1]Sintética PMFV'!C30) -> SIURB | D28: =UPPER('[1]Sintética PMFV'!D30) -> 5079001 | E28: ='[1]Sintética PMFV'!$D30 -> 5079001 | F28: =VLOOKUP(E28,[2]INFRA!$A$1:$E$885,2,0) -> CARGA, DESCARGA E TRANSPORTE DE BINDER ATÉ A DISTÂNCIA MÉDIA DE IDA E VOLTA DE 1KM | G28: ='[1]Sintética PMFV'!$F30 -> 264.732 | H28: =VLOOKUP(E28,[2]INFRA!$A$1:$E$885,3,0) -> M3 | J28: =I28*(1+$F$8) -> 0 | K28: =G28*J28 -> 0
B29: 1.3.7 | C29: =UPPER('[1]Sintética PMFV'!C31) -> SIURB | D29: =UPPER('[1]Sintética PMFV'!D31) -> 5079007 | E29: ='[1]Sintética PMFV'!$D31 -> 5079007 | F29: =VLOOKUP(E29,[2]INFRA!$A$1:$E$885,2,0) -> TRANSPORTE DE BINDER ALÉM DO PRIMEIRO KM | G29: ='[1]Sintética PMFV'!$F31 -> 11965.886 | H29: =VLOOKUP(E29,[2]INFRA!$A$1:$E$885,3,0) -> M3XKM | J29: =I29*(1+$F$8) -> 0 | K29: =G29*J29 -> 0
B30: 1.3.8 | C30: =UPPER('[1]Sintética PMFV'!C32) -> SIURB | D30: =UPPER('[1]Sintética PMFV'!D32) -> 5096000 | E30: ='[1]Sintética PMFV'!$D32 -> 5096000 | F30: =VLOOKUP(E30,[2]INFRA!$A$1:$E$885,2,0) -> INA.01 - REVESTIMENTO DE MISTURA ASFÁLTICA TIPO "GAP GRADED" COM POLÍMERO (SEM TRANSPORTE) | G30: ='[1]Sintética PMFV'!$F32 -> 220.61 | H30: =VLOOKUP(E30,[2]INFRA!$A$1:$E$885,3,0) -> M3 | J30: =I30*(1+$F$8) -> 0 | K30: =G30*J30 -> 0
B31: 1.3.9 | C31: =UPPER('[1]Sintética PMFV'!C33) -> SIURB | D31: =UPPER('[1]Sintética PMFV'!D33) -> 5078001 | E31: ='[1]Sintética PMFV'!$D33 -> 5078001 | F31: =VLOOKUP(E31,[2]INFRA!$A$1:$E$885,2,0) -> CARGA, DESCARGA E TRANSPORTE DE CONCRETO ASFÁLTICO ATÉ A DISTÂNCIA MÉDIA DE IDA E VOLTA DE 1KM | G31: ='[1]Sintética PMFV'!$F33 -> 220.61 | H31: =VLOOKUP(E31,[2]INFRA!$A$1:$E$885,3,0) -> M3 | J31: =I31*(1+$F$8) -> 0 | K31: =G31*J31 -> 0
B32: 1.3.10 | C32: =UPPER('[1]Sintética PMFV'!C34) -> SIURB | D32: =UPPER('[1]Sintética PMFV'!D34) -> 5078007 | E32: ='[1]Sintética PMFV'!$D34 -> 5078007 | F32: =VLOOKUP(E32,[2]INFRA!$A$1:$E$885,2,0) -> TRANSPORTE DE CONCRETO ASFÁLTICO ALÉM DO PRIMEIRO KM | G32: ='[1]Sintética PMFV'!$F34 -> 9971.572 | H32: =VLOOKUP(E32,[2]INFRA!$A$1:$E$885,3,0) -> M3XKM | J32: =I32*(1+$F$8) -> 0 | K32: =G32*J32 -> 0
B33: 1.3.11 | C33: =UPPER('[1]Sintética PMFV'!C35) -> SIURB | D33: =UPPER('[1]Sintética PMFV'!D35) -> 6021000 | E33: ='[1]Sintética PMFV'!$D35 -> 6021000 | F33: =VLOOKUP(E33,[2]INFRA!$A$1:$E$885,2,0) -> LEVANTAMENTO OU REBAIXAMENTO DE TAMPÃO DE POÇO DE VISITA | G33: ='[1]Sintética PMFV'!$F35 -> 7 | H33: =VLOOKUP(E33,[2]INFRA!$A$1:$E$885,3,0) -> UN | J33: =I33*(1+$F$8) -> 0 | K33: =G33*J33 -> 0
J34: Subtotal: | K34: =SUM(K23:K33) -> 0
J35: TOTAL RECAPEAMENTO ASFÁLTICO RUA DOM PEDRO I: | K35: =SUM(K13:K34)/2 -> 0
B36: 2 | F36: RECAPEAMENTO ASFÁLTICO RUA CARMELITA DE ALMEIDA DA SILVA
B37: 2.1 | F37: SERVIÇOS PRELIMINARES
B38: 2.1.1 | C38: =UPPER('[1]Sintética PMFV'!$C$41) -> CDHU | D38: =VLOOKUP(F38,#REF!,11,0) -> #REF! | E38: ='[1]Sintética PMFV'!$D$41 -> 02.08.020 | F38: =VLOOKUP(E38,[2]CDHU!$A$1:$G$4109,2,0) -> Placa de identificação para obra | G38: ='[1]Sintética PMFV'!$F$41 -> 6 | H38: =VLOOKUP(E38,[2]CDHU!$A$1:$G$4109,3,0) -> M2 | J38: =I38*(1+$F$8) -> 0 | K38: =G38*J38 -> 0
J39: Subtotal: | K39: =SUM(K38:K38) -> 0
B40: 2.2 | F40: FRESAGEM, DEMOLIÇÕES E RETIRADAS
B41: 2.2.1 | C41: =UPPER('[1]Sintética PMFV'!$C44) -> DER | D41: =#REF! -> #REF! | E41: ='[1]Sintética PMFV'!$D44 -> 23.10.01 | F41: =VLOOKUP(E41,[2]DER!$A$1:$F$1650,2,0) -> FRESAGEM CONTINUA DE PAV., INDEPENDENTE DA ESPESSURA | G41: ='[1]Sintética PMFV'!$F44 -> 54.8575 | H41: =VLOOKUP(E41,[2]DER!$A$1:$F$1650,3,0) -> m3 | J41: =I41*(1+$F$8) -> 0 | K41: =G41*J41 -> 0
B42: 2.2.2 | C42: =UPPER('[1]Sintética PMFV'!$C45) -> CDHU | D42: =VLOOKUP(F42,#REF!,11,0) -> #REF! | E42: ='[1]Sintética PMFV'!$D45 -> 05.08.220 | F42: =VLOOKUP(E42,[2]CDHU!$A$1:$G$4109,2,0) -> Carregamento mecanizado de entulho fragmentado, com caminhão à disposição dentro da obra, até o raio de 1 km | G42: ='[1]Sintética PMFV'!$F45 -> 68.571875 | H42: =VLOOKUP(E42,[2]CDHU!$A$1:$G$4109,3,0) -> M3 | J42: =I42*(1+$F$8) -> 0 | K42: =G42*J42 -> 0
B43: 2.2.3 | C43: =UPPER('[1]Sintética PMFV'!$C46) -> CDHU | D43: =VLOOKUP(F43,#REF!,11,0) -> #REF! | E43: ='[1]Sintética PMFV'!$D46 -> 05.08.120 | F43: =VLOOKUP(E43,[2]CDHU!$A$1:$G$4109,2,0) -> Transporte de entulho, para distâncias superiores ao 15° km até o 20° km | G43: ='[1]Sintética PMFV'!$F46 -> 68.571875 | H43: =VLOOKUP(E43,[2]CDHU!$A$1:$G$4109,3,0) -> M3 | J43: =I43*(1+$F$8) -> 0 | K43: =G43*J43 -> 0
B44: 1.2.4 | C44: =UPPER('[1]Sintética PMFV'!$C47) -> CDHU | D44: 05.09.006 | E44: ='[1]Sintética PMFV'!$D47 -> 05.09.006 | F44: =VLOOKUP(E44,[2]CDHU!$A$1:$G$4109,2,0) -> Taxa de destinação de resíduo sólido em aterro, tipo inerte | G44: ='[1]Sintética PMFV'!$F47 -> 87.772 | H44: =VLOOKUP(E44,[2]CDHU!$A$1:$G$4109,3,0) -> T | J44: =I44*(1+$F$8) -> 0 | K44: =G44*J44 -> 0
...

Sheet jAN24
F3: PREFEITURA MUNICIPAL DE FERRAZ DE VASCONCELOS
F4: SECRETARIA MUNICIPAL DE OBRAS
F5: PLANILHA ORÇAMENTÁRIA
D9: Obra: | E9: Obra: | F9: RECAPEAMENTO ASFÁLTICO RUA DOM PEDRO I, RECAPEAMENTO ASFÁLTICO RUA CARMELITA DE ALMEIDA DA SILVA E RECAPEAMENTO ASFÁLTICO RUA JOÃO DEMETRIO DA SILVA
D10: Referência: | E10: Referência: | F10: INFRA (janeiro/2024) sem desoneração
D11: BDI Utilizado: | E11: BDI Utilizado: | F11: 0.2423
B13: Item | C13: Referencia | D13: Código | E13: Código | F13: Descrição | G13: Quantidade | H13: Unid | I13: Preço Unit | J13: Total | K13: Preço Unit | L13: Total
B14: 1 | F14: RECAPEAMENTO ASFÁLTICO RUA DOM PEDRO I
B15: 1.1 | F15: SERVIÇOS PRELIMINARES
B16: 1.1.1 | C16: INFRA | D16: =VLOOKUP(F16,#REF!,11,0) -> #REF! | E16: =VLOOKUP(D16,[3]INFRA!$A$1:$F$859,2,0) -> #REF! | F16: PLACA DE OBRA EM CHAPA DE AÇO GALVANIZADO | G16: =VLOOKUP(D16,#REF!,8,0) -> #REF! | H16: =VLOOKUP(F16,#REF!,6,0) -> #REF! | I16: =VLOOKUP(D16,[3]INFRA!$A$1:$F$859,5,0) -> #REF! | J16: =I16*G16 -> #REF! | K16: =I16*(1+$F$11) -> #REF! | L16: =G16*K16 -> #REF!
K17: Subtotal: | L17: =SUM(L16:L16) -> #REF!
B18: 1.2 | F18: FRESAGEM, DEMOLIÇÕES E RETIRADAS
B19: 1.2.1 | C19: INFRA | D19: =VLOOKUP(F19,#REF!,11,0) -> #REF! | E19: =VLOOKUP(D19,[3]INFRA!$A$1:$F$859,2,0) -> #REF! | F19: FRESAGEM DE PAVIMENTO ASFÁLTICO COM ESPESSURA ATÉ 5CM, EM VIAS EXPRESSAS, INCLUSIVE REMOÇÃO DO MATERIAL FRESADO ATÉ 10KM E VARRIÇÃO | G19: =VLOOKUP(D19,#REF!,8,0) -> #REF! | H19: =VLOOKUP(F19,#REF!,6,0) -> #REF! | I19: =VLOOKUP(D19,[3]INFRA!$A$1:$F$859,5,0) -> #REF! | J19: =I19*G19 -> #REF! | K19: =I19*(1+$F$11) -> #REF! | L19: =G19*K19 -> #REF!
B20: 1.2.2 | C20: INFRA | D20: =VLOOKUP(F20,#REF!,11,0) -> #REF! | E20: =VLOOKUP(D20,[3]INFRA!$A$1:$F$859,2,0) -> #REF! | F20: DEMOLIÇÃO DE PAVIMENTO DE CONCRETO, SARJETA OU SARJETÃO, INCLUI CARGA EM CAMINHÃO | G20: =VLOOKUP(D20,#REF!,8,0) -> #REF! | H20: =VLOOKUP(F20,#REF!,6,0) -> #REF! | I20: =VLOOKUP(D20,[3]INFRA!$A$1:$F$859,5,0) -> #REF! | J20: =I20*G20 -> #REF! | K20: =I20*(1+$F$11) -> #REF! | L20: =G20*K20 -> #REF!
B21: 1.2.3 | C21: INFRA | D21: =VLOOKUP(F21,#REF!,11,0) -> #REF! | E21: =VLOOKUP(D21,[3]INFRA!$A$1:$F$859,2,0) -> #REF! | F21: REMOÇÃO DE ENTULHO ALÉM DO PRIMEIRO KM | G21: =VLOOKUP(D21,#REF!,8,0) -> #REF! | H21: =VLOOKUP(F21,#REF!,6,0) -> #REF! | I21: =VLOOKUP(D21,[3]INFRA!$A$1:$F$859,5,0) -> #REF! | J21: =I21*G21 -> #REF! | K21: =I21*(1+$F$11) -> #REF! | L21: =G21*K21 -> #REF!
K22: Subtotal: | L22: =SUM(L19:L21) -> #REF!
B23: 1.3 | F23: PAVIMENTAÇÃO
B24: 1.3.1 | C24: INFRA | D24: =VLOOKUP(F24,#REF!,11,0) -> #REF! | E24: =VLOOKUP(D24,[3]INFRA!$A$1:$F$859,2,0) -> #REF! | F24: BASE DE BINDER DENSO (SEM TRANSPORTE) | G24: =VLOOKUP(D24,#REF!,8,0) -> #REF! | H24: =VLOOKUP(F24,#REF!,6,0) -> #REF! | I24: =VLOOKUP(D24,[3]INFRA!$A$1:$F$859,5,0) -> #REF! | J24: =I24*G24 -> #REF! | K24: =I24*(1+$F$11) -> #REF! | L24: =G24*K24 -> #REF!
B25: 1.3.2 | C25: INFRA | D25: =VLOOKUP(F25,#REF!,11,0) -> #REF! | E25: =VLOOKUP(D25,[3]INFRA!$A$1:$F$859,2,0) -> #REF! | F25: CARGA, DESCARGA E TRANSPORTE DE BINDER ATÉ A DISTÂNCIA MÉDIA DE IDA E VOLTA DE 1KM | G25: =VLOOKUP(D25,#REF!,8,0) -> #REF! | H25: =VLOOKUP(F25,#REF!,6,0) -> #REF! | I25: =VLOOKUP(D25,[3]INFRA!$A$1:$F$859,5,0) -> #REF! | J25: =I25*G25 -> #REF! | K25: =I25*(1+$F$11) -> #REF! | L25: =G25*K25 -> #REF!
B26: 1.3.3 | C26: INFRA | D26: =VLOOKUP(F26,#REF!,11,0) -> #REF! | E26: =VLOOKUP(D26,[3]INFRA!$A$1:$F$859,2,0) -> #REF! | F26: TRANSPORTE DE BINDER ALÉM DO PRIMEIRO KM | G26: =VLOOKUP(D26,#REF!,8,0) -> #REF! | H26: =VLOOKUP(F26,#REF!,6,0) -> #REF! | I26: =VLOOKUP(D26,[3]INFRA!$A$1:$F$859,5,0) -> #REF! | J26: =I26*G26 -> #REF! | K26: =I26*(1+$F$11) -> #REF! | L26: =G26*K26 -> #REF!
B27: 1.3.4 | C27: INFRA | D27: =VLOOKUP(F27,#REF!,11,0) -> #REF! | E27: =VLOOKUP(D27,[3]INFRA!$A$1:$F$859,2,0) -> #REF! | F27: IMPRIMAÇÃO BETUMINOSA LIGANTE | G27: =VLOOKUP(D27,#REF!,8,0) -> #REF! | H27: =VLOOKUP(F27,#REF!,6,0) -> #REF! | I27: =VLOOKUP(D27,[3]INFRA!$A$1:$F$859,5,0) -> #REF! | J27: =I27*G27 -> #REF! | K27: =I27*(1+$F$11) -> #REF! | L27: =G27*K27 -> #REF!
B28: 1.3.5 | C28: INFRA | D28: =VLOOKUP(F28,#REF!,11,0) -> #REF! | E28: =VLOOKUP(D28,[3]INFRA!$A$1:$F$859,2,0) -> #REF! | F28: REVESTIMENTO DE CONCRETO ASFÁLTICO (SEM TRANSPORTE) | G28: =VLOOKUP(D28,#REF!,8,0) -> #REF! | H28: =VLOOKUP(F28,#REF!,6,0) -> #REF! | I28: =VLOOKUP(D28,[3]INFRA!$A$1:$F$859,5,0) -> #REF! | J28: =I28*G28 -> #REF! | K28: =I28*(1+$F$11) -> #REF! | L28: =G28*K28 -> #REF!
B29: 1.3.6 | C29: INFRA | D29: =VLOOKUP(F29,#REF!,11,0) -> #REF! | E29: =VLOOKUP(D29,[3]INFRA!$A$1:$F$859,2,0) -> #REF! | F29: CARGA, DESCARGA E TRANSPORTE DE CONCRETO ASFÁLTICO ATÉ A DISTÂNCIA MÉDIA DE IDA E VOLTA DE 1KM | G29: =VLOOKUP(D29,#REF!,8,0) -> #REF! | H29: =VLOOKUP(F29,#REF!,6,0) -> #REF! | I29: =VLOOKUP(D29,[3]INFRA!$A$1:$F$859,5,0) -> #REF! | J29: =I29*G29 -> #REF! | K29: =I29*(1+$F$11) -> #REF! | L29: =G29*K29 -> #REF!
B30: 1.3.7 | C30: INFRA | D30: =VLOOKUP(F30,#REF!,11,0) -> #REF! | E30: =VLOOKUP(D30,[3]INFRA!$A$1:$F$859,2,0) -> #REF! | F30: TRANSPORTE DE CONCRETO ASFÁLTICO ALÉM DO PRIMEIRO KM | G30: =VLOOKUP(D30,#REF!,8,0) -> #REF! | H30: =VLOOKUP(F30,#REF!,6,0) -> #REF! | I30: =VLOOKUP(D30,[3]INFRA!$A$1:$F$859,5,0) -> #REF! | J30: =I30*G30 -> #REF! | K30: =I30*(1+$F$11) -> #REF! | L30: =G30*K30 -> #REF!
K31: Subtotal: | L31: =SUM(L24:L30) -> #REF!
B32: 1.4 | F32: SERVIÇOS COMPLEMENTARES
B33: 1.4.1 | C33: INFRA | D33: =VLOOKUP(F33,#REF!,11,0) -> #REF! | E33: =VLOOKUP(D33,[3]INFRA!$A$1:$F$859,2,0) -> #REF! | F33: LEVANTAMENTO OU REBAIXAMENTO DE TAMPÃO DE POÇO DE VISITA | G33: =VLOOKUP(D33,#REF!,8,0) -> #REF! | H33: =VLOOKUP(F33,#REF!,6,0) -> #REF! | I33: =VLOOKUP(D33,[3]INFRA!$A$1:$F$859,5,0) -> #REF! | J33: =I33*G33 -> #REF! | K33: =I33*(1+$F$11) -> #REF! | L33: =G33*K33 -> #REF!
K34: Subtotal: | L34: =SUM(L33:L33) -> #REF!
K35: TOTAL RECAPEAMENTO ASFÁLTICO RUA DOM PEDRO I: | L35: =SUM(L15:L34)/2 -> #REF!
B36: 2 | F36: RECAPEAMENTO ASFÁLTICO RUA CARMELITA DE ALMEIDA DA SILVA
B37: 2.1 | F37: SERVIÇOS PRELIMINARES
B38: 2.1.1 | C38: INFRA | D38: =VLOOKUP(F38,#REF!,11,0) -> #REF! | E38: =VLOOKUP(D38,[3]INFRA!$A$1:$F$859,2,0) -> #REF! | F38: PLACA DE OBRA EM CHAPA DE AÇO GALVANIZADO | G38: =VLOOKUP(D38,#REF!,8,0) -> #REF! | H38: =VLOOKUP(F38,#REF!,6,0) -> #REF! | I38: =VLOOKUP(D38,[3]INFRA!$A$1:$F$859,5,0) -> #REF! | J38: =I38*G38 -> #REF! | K38: =I38*(1+$F$11) -> #REF! | L38: =G38*K38 -> #REF!
K39: Subtotal: | L39: =SUM(L38:L38) -> #REF!
B40: 2.2 | F40: FRESAGEM, DEMOLIÇÕES E RETIRADAS
B41: 2.2.1 | C41: INFRA | D41: =VLOOKUP(F41,#REF!,11,0) -> #REF! | E41: =VLOOKUP(D41,[3]INFRA!$A$1:$F$859,2,0) -> #REF! | F41: FRESAGEM DE PAVIMENTO ASFÁLTICO COM ESPESSURA ATÉ 5CM, EM VIAS EXPRESSAS, INCLUSIVE REMOÇÃO DO MATERIAL FRESADO ATÉ 10KM E VARRIÇÃO | G41: =VLOOKUP(D41,#REF!,8,0) -> #REF! | H41: =VLOOKUP(F41,#REF!,6,0) -> #REF! | I41: =VLOOKUP(D41,[3]INFRA!$A$1:$F$859,5,0) -> #REF! | J41: =I41*G41 -> #REF! | K41: =I41*(1+$F$11) -> #REF! | L41: =G41*K41 -> #REF!
B42: 2.2.2 | C42: INFRA | D42: =VLOOKUP(F42,#REF!,11,0) -> #REF! | E42: =VLOOKUP(D42,[3]INFRA!$A$1:$F$859,2,0) -> #REF! | F42: DEMOLIÇÃO DE PAVIMENTO DE CONCRETO, SARJETA OU SARJETÃO, INCLUI CARGA EM CAMINHÃO | G42: =VLOOKUP(D42,#REF!,8,0) -> #REF! | H42: =VLOOKUP(F42,#REF!,6,0) -> #REF! | I42: =VLOOKUP(D42,[3]INFRA!$A$1:$F$859,5,0) -> #REF! | J42: =I42*G42 -> #REF! | K42: =I42*(1+$F$11) -> #REF! | L42: =G42*K42 -> #REF!
B43: 2.2.3 | C43: INFRA | D43: =VLOOKUP(F43,#REF!,11,0) -> #REF! | E43: =VLOOKUP(D43,[3]INFRA!$A$1:$F$859,2,0) -> #REF! | F43: REMOÇÃO DE ENTULHO ALÉM DO PRIMEIRO KM | G43: =VLOOKUP(D43,#REF!,8,0) -> #REF! | H43: =VLOOKUP(F43,#REF!,6,0) -> #REF! | I43: =VLOOKUP(D43,[3]INFRA!$A$1:$F$859,5,0) -> #REF! | J43: =I43*G43 -> #REF! | K43: =I43*(1+$F$11) -> #REF! | L43: =G43*K43 -> #REF!
K44: Subtotal: | L44: =SUM(L41:L43) -> #REF!
B45: 2.3 | F45: PAVIMENTAÇÃO
B46: 2.3.1 | C46: INFRA | D46: =VLOOKUP(F46,#REF!,11,0) -> #REF! | E46: =VLOOKUP(D46,[3]INFRA!$A$1:$F$859,2,0) -> #REF! | F46: BASE DE BINDER DENSO (SEM TRANSPORTE) | G46: =VLOOKUP(D46,#REF!,8,0) -> #REF! | H46: =VLOOKUP(F46,#REF!,6,0) -> #REF! | I46: =VLOOKUP(D46,[3]INFRA!$A$1:$F$859,5,0) -> #REF! | J46: =I46*G46 -> #REF! | K46: =I46*(1+$F$11) -> #REF! | L46: =G46*K46 -> #REF!
...

Sheet Cronograma estado
B2: GOVERNO DO ESTADO DE SÃO PAULO SECRETARIA DE GOVERNO E RELAÕES INSTITUCIONAIS | F2: MUNICÍPIO: FERRAZ DE VASCONCELOS | J2: DATA BASE: JULHO/23
B4: OBJETO: | I4: PRAZO PROPOSTO
B5: ='jAN24'!F9 -> RECAPEAMENTO ASFÁLTICO RUA DOM PEDRO I, RECAPEAMENTO ASFÁLTICO RUA CARMELITA DE ALMEIDA DA SILVA E RECAPEAMENTO ASFÁLTICO RUA JOÃO DEMETRIO DA SILVA | I5: INÍCIO: data da assinatura do convênio
I6: FINAL: 720 dias à partir da data da assinatura do convênio
B9: ITEM | C9: SERVIÇO | G9: UNIDADE | H9: 1ª ETAPA | J9: TOTAL
H10: PERIODO 720 DIAS
H11: Prazo de liberação: em 30 dias após a conclusão da etapa. | I11: PRAZO DE EXECUÇÃO
I12: 690 DIAS
B13: 1 | C13: ='jAN24'!F14 -> RECAPEAMENTO ASFÁLTICO RUA DOM PEDRO I | G13: M2 | H13: =J13 -> #REF! | J13: ='jAN24'!G19 -> #REF!
G14: R$ | H14: =J14 -> #REF! | J14: ='jAN24'!L35 -> #REF!
B15: ='jAN24'!B36 -> 2 | C15: ='jAN24'!F36 -> RECAPEAMENTO ASFÁLTICO RUA CARMELITA DE ALMEIDA DA SILVA | G15: M2 | H15: =J15 -> #REF! | J15: ='jAN24'!G41 -> #REF!
G16: R$ | H16: =J16 -> #REF! | J16: ='jAN24'!L57 -> #REF!
B17: ='jAN24'!B58 -> 3 | C17: ='jAN24'!F58 -> RECAPEAMENTO ASFÁLTICO RUA JOÃO DEMETRIO DA SILVA | G17: M2 | H17: =J17 -> #REF! | J17: ='jAN24'!G63 -> #REF!
G18: R$ | H18: =J18 -> #REF! | J18: ='jAN24'!L79 -> #REF!
J19: =SUM(H19:I19) -> 0
J20: =SUM(H20:I20) -> 0
J21: =SUM(H21:I21) -> 0
J22: =SUM(H22:I22) -> 0
J23: =SUM(H23:I23) -> 0
J24: =SUM(H24:I24) -> 0
B26: RECURSOS ESTADUAL | H26: =J26 -> 1000000 | J26: 1000000
B27: RECURSOS PRÓPRIO | H27: =H14+H16+H18-H26 -> #REF! | J27: =H27 -> #REF!
B28: TOTAL | H28: =H27+H26 -> #REF! | J28: =H28 -> #REF!
B32: ASSINATURA: | E32: CREA / CAU: A25097-0 | F32: CAU A25097-0
C33: Antônio Carlos dos Santos Ferreira | E33: ART / RRT:
