Workbook
Name AreaTeste: #REF!
Name AreaTeste: #REF!
Name AreaTeste: #REF!
Name AreaTeste2: #REF!
Name AreaTeste2: #REF!
Name AreaTeste2: #REF!
Name CélulaInicioPlanilha: #REF!
Name CélulaInicioPlanilha: #REF!
Name CélulaInicioPlanilha: #REF!
Name CélulaResumo: #REF!
Name CélulaResumo: #REF!
Name CélulaResumo: #REF!
Name Excel_BuiltIn_Database: #REF!
Name Excel_BuiltIn_Database: #REF!
Name Excel_BuiltIn_Database: #REF!
Name Excel_BuiltIn_Database_2: #REF!
Name Excel_BuiltIn_Database_2: #REF!
Name Excel_BuiltIn_Database_2: #REF!
Name Print_Area: ORÇ!$B$2:$I$67
Name Print_Area: Planilha!$B$13:$L$229
Name Print_Area: 'Planilha (2)'!$B$13:$E$112

Sheet ORÇ
D2: MEMÓRIA DE CÁLCULO
G3: Processo:
G4: Data-Base: jun/2021
E5: MEDIÇÃO:
B6: ="OBRA: "&Planilha!F9 -> OBRA: Fresagem e Recapeamento da Rua Alfredo Regner, Rua Borba Gato, Rua Marcelo Garcia, Rua Antonio Augusto Ferreira, Rua Marinalva dos Santos e Pavimentação da Rua Sandelia Andena | G6: LOCAL: Ferraz de Vasconcelos
B7: CÓDIGO: | G7: CONTRATO:
B9: CÓDIGO | C9: DESCRIÇÃO DOS SERVIÇOS | H9: UNID | I9: QUANT
C11: RUA ALFREDO REGNER
C12: 1 - SERVIÇOS PRELIMINARES | L12: =K12*I12 -> 0 | M12: =B12 -> 0
B13: 101603 | C13: =VLOOKUP(B13,'[1]INFRA SEM Des Jul21'!$A$1:$D$854,2,0) -> PLACA DE OBRA EM CHAPA DE AÇO GALVANIZADO | H13: =VLOOKUP(B13,'[1]INFRA SEM Des Jul21'!$A$1:$D$854,3,0) -> M2 | I13: 4.5 | K13: =VLOOKUP(B13,[2]INFRA!$A$1:$E$847,4,0)*1.2423 -> 490.39792 | L13: =ROUND(K13*I13,2) -> 2206.79 | M13: =B13 -> 101603
C14: Placa: 3,00x2,00= 6,00m² | L14: =ROUND(K14*I14,2) -> 0 | M14: =B14 -> 0
L15: =ROUND(K15*I15,2) -> 0 | M15: =B15 -> 0
C16: 2 - FRESAGEM, DEMOLIÇÕES E RETIRADAS | L16: =ROUND(K16*I16,2) -> 0 | M16: =B16 -> 0
B17: 90300 | C17: =VLOOKUP(B17,'[1]INFRA SEM Des Jul21'!$A$1:$D$854,2,0) -> FRESAGEM DE PAVIMENTO ASFÁLTICO COM ESPESSURA ATÉ 5CM, EM VIAS EXPRESSAS, INCLUSIVE REMOÇÃO DO MATERIAL FRESADO ATÉ 10KM E VARRIÇÃO | H17: =VLOOKUP(B17,'[1]INFRA SEM Des Jul21'!$A$1:$D$854,3,0) -> M2 | I17: =J18 -> 1201.49 | K17: =VLOOKUP(B17,[2]INFRA!$A$1:$E$847,4,0)*1.2423 -> 21.342714 | L17: =ROUND(K17*I17,2) -> 25643.06 | M17: =B17 -> 90300 | O17: =L13 -> 2206.79
C18: Ver projeto | J18: 1201.49 | L18: =ROUND(K18*I18,2) -> 0 | M18: =B18 -> 0
L19: =ROUND(K19*I19,2) -> 0 | M19: =B19 -> 0
B20: 50300 | C20: DEMOLIÇÃO DE PAVIMENTO DE CONCRETO, SARJETA OU SARJETÃO, INCLUI CARGA EM CAMINHÃO | H20: M2 | I20: =J21 -> 17 | K20: =VLOOKUP(B20,[2]INFRA!$A$1:$E$847,4,0)*1.2423 -> 32.597952 | L20: =ROUND(K20*I20,2) -> 554.17 | M20: =B20 -> 50300
C21: Sarjetão (ver tabela)= 24,90m² | J21: 17 | L21: =ROUND(K21*I21,2) -> 0 | M21: =B21 -> 0
L22: =ROUND(K22*I22,2) -> 0 | M22: =B22 -> 0
B23: 88600 | C23: REMOÇÃO DE ENTULHO ALÉM DO PRIMEIRO KM | H23: M3XKM | I23: =SUM(J24:J25) -> 101.439 | K23: =VLOOKUP(B23,[2]INFRA!$A$1:$E$847,4,0)*1.2423 -> 2.621253 | L23: =ROUND(K23*I23,2) -> 265.9 | M23: =B23 -> 88600
C24: Ver item 05.03.00 x 0,17 + 30% de empolamento x 10 km= 55,03m³xkm | J24: =(I20*0.17)*1.3*27 -> 101.439 | L24: =ROUND(K24*I24,2) -> 0 | M24: =B24 -> 0
L25: =ROUND(K25*I25,2) -> 0 | M25: =B25 -> 0 | O25: =SUM(L17:L23) -> 26463.13
C26: 3 - GUIAS, SARJETAS E SARJETÕES | L26: =ROUND(K26*I26,2) -> 0 | M26: =B26 -> 0
B27: 50100 | C27: =VLOOKUP(B27,'[1]INFRA SEM Des Jul21'!$A$1:$D$854,2,0) -> ARRANCAMENTO DE GUIAS, INCLUI CARGA EM CAMINHÃO | H27: =VLOOKUP(B27,'[1]INFRA SEM Des Jul21'!$A$1:$D$854,3,0) -> M | I27: 441.76 | K27: =VLOOKUP(B27,[2]INFRA!$A$1:$E$847,4,0)*1.2423 -> 12.348462 | L27: =ROUND(K27*I27,2) -> 5455.06 | M27: =B27 -> 50100
L28: =ROUND(K28*I28,2) -> 0
L29: =ROUND(K29*I29,2) -> 0
B30: 51402 | C30: =VLOOKUP(B30,'[1]INFRA SEM Des Jul21'!$A$1:$D$854,2,0) -> FORNECIMENTO E ASSENTAMENTO DE GUIAS TIPO PMSP 100, INCLUSIVE ENCOSTAMENTO DE TERRA - FCK=25,0MPA | H30: =VLOOKUP(B30,'[1]INFRA SEM Des Jul21'!$A$1:$D$854,3,0) -> M | I30: =SUM(J31:J32) -> 441.76 | K30: =VLOOKUP(B30,[2]INFRA!$A$1:$E$847,4,0)*1.2423 -> 63.742413 | L30: =ROUND(K30*I30,2) -> 28158.85 | M30: =B30 -> 51402
J31: =I27 -> 441.76 | L31: =ROUND(K31*I31,2) -> 0 | M31: =B31 -> 0
L32: =ROUND(K32*I32,2) -> 0 | M32: =B32 -> 0
B33: 51300 | C33: BASE DE CONCRETO FCK=15,00MPA PARA GUIAS, SARJETAS OU SARJETÕES | H33: M3 | I33: =SUM(J34:J35) -> 33.50672 | K33: =VLOOKUP(B33,[2]INFRA!$A$1:$E$847,4,0)*1.2423 -> 612.95082 | L33: =ROUND(K33*I33,2) -> 20537.97 | M33: =B33 -> 51300
J34: =(J21*0.1)+(I27*0.16*0.45) -> 33.50672 | L34: =ROUND(K34*I34,2) -> 0
L35: =ROUND(K35*I35,2) -> 0
B36: 51901 | C36: CONSTRUÇÃO DE SARJETA OU SARJETÃO DE CONCRETO - FCK=25,0MPA | H36: M3 | I36: =SUM(J37:J38) -> 24.09448 | K36: =VLOOKUP(B36,[2]INFRA!$A$1:$E$847,4,0)*1.2423 -> 759.03288 | L36: =ROUND(K36*I36,2) -> 18288.5 | M36: =B36 -> 51901
C37: Sarjetão: 24,90 x 0,17= 4,23m³ | J37: =(J21*0.17)+(I27*0.16*0.3) -> 24.09448 | L37: =ROUND(K37*I37,2) -> 0 | M37: =B37 -> 0
L38: =ROUND(K38*I38,2) -> 0 | M38: =B38 -> 0
B39: 82300 | C39: FORNECIMENTO E APLICAÇÃO DE TELA DE AÇO | H39: KG | I39: =J40 -> 152.32 | K39: =VLOOKUP(B39,[2]INFRA!$A$1:$E$847,4,0)*1.2423 -> 14.075259 | L39: =ROUND(K39*I39,2) -> 2143.94 | M39: =B39 -> 82300
C40: Sarjetão: 24,90m² x 4,48kg/m² x 2 (malha dupla)= 223,10kg | J40: =I20*4.48*2 -> 152.32 | L40: =ROUND(K40*I40,2) -> 0 | M40: =B40 -> 0 | O40: =SUM(L27:L39) -> 74584.32
L41: =ROUND(K41*I41,2) -> 0 | M41: =B41 -> 0
C42: 4 - PAVIMENTAÇÃO | L42: =ROUND(K42*I42,2) -> 0 | M42: =B42 -> 0
B43: 52502 | C43: BASE DE BINDER DENSO (SEM TRANSPORTE) | H43: M3 | I43: =J44 -> 12.0149 | K43: =VLOOKUP(B43,[2]INFRA!$A$1:$E$847,4,0)*1.2423 -> 1436.6206 | L43: =ROUND(K43*I43,2) -> 17260.85 | M43: =B43 -> 52502
C44: Preenchimento de buracos na àrea fresada: (2.124,27 x 10%) x 0,10 (espessura média)= 21,24m³ | J44: =(I17*0.1)*0.1 -> 12.0149 | L44: =ROUND(K44*I44,2) -> 0 | M44: =B44 -> 0
L45: =ROUND(K45*I45,2) -> 0 | M45: =B45 -> 0
B46: 57901 | C46: CARGA, DESCARGA E TRANSPORTE DE BINDER ATÉ A DISTÂNCIA MÉDIA DE IDA E VOLTA DE 1KM | H46: M3 | I46: =I43 -> 12.0149 | K46: =VLOOKUP(B46,[2]INFRA!$A$1:$E$847,4,0)*1.2423 -> 24.063351 | L46: =ROUND(K46*I46,2) -> 289.12 | M46: =B46 -> 57901
C47: Ver item 05.25.02= 21,54m³ | L47: =ROUND(K47*I47,2) -> 0 | M47: =B47 -> 0
L48: =ROUND(K48*I48,2) -> 0 | M48: =B48 -> 0
B49: 57907 | C49: TRANSPORTE DE BINDER ALÉM DO PRIMEIRO KM | H49: M3XKM | I49: =I46*27 -> 324.4023 | K49: =VLOOKUP(B49,[2]INFRA!$A$1:$E$847,4,0)*1.2423 -> 4.261089 | L49: =ROUND(K49*I49,2) -> 1382.31 | M49: =B49 -> 57907
C50: Ver item 05.79.01 x 20km= 424,80m³xkm | L50: =ROUND(K50*I50,2) -> 0 | M50: =B50 -> 0
L51: =ROUND(K51*I51,2) -> 0 | M51: =B51 -> 0
B52: 52600 | C52: IMPRIMAÇÃO BETUMINOSA LIGANTE | H52: M2 | I52: =SUM(J53:J54) -> 1201.49 | K52: =VLOOKUP(B52,[2]INFRA!$A$1:$E$847,4,0)*1.2423 -> 8.609139 | L52: =ROUND(K52*I52,2) -> 10343.79 | M52: =B52 -> 52600
C53: Área a ser recapeada (ver tabela)= 2.124,27m² | J53: =I17 -> 1201.49 | L53: =ROUND(K53*I53,2) -> 0 | M53: =B53 -> 0
L54: =ROUND(K54*I54,2) -> 0 | M54: =B54 -> 0
B55: 52800 | C55: REVESTIMENTO DE CONCRETO ASFÁLTICO (SEM TRANSPORTE) | H55: M3 | I55: =I52*0.05 -> 60.0745 | K55: =VLOOKUP(B55,[2]INFRA!$A$1:$E$847,4,0)*1.2423 -> 1713.082 | L55: =ROUND(K55*I55,2) -> 102912.55 | M55: =B55 -> 52800
C56: Ver item 05.26.00 x 0,05= 106,21m³ | J56: =J53*0.05 -> 60.0745 | L56: =ROUND(K56*I56,2) -> 0 | M56: =B56 -> 0
L57: =ROUND(K57*I57,2) -> 0 | M57: =B57 -> 0
B58: 57801 | C58: CARGA, DESCARGA E TRANSPORTE DE CONCRETO ASFÁLTICO ATÉ A DISTÂNCIA MÉDIA DE IDA E VOLTA DE 1KM | H58: M3 | I58: =I55 -> 60.0745 | K58: =VLOOKUP(B58,[2]INFRA!$A$1:$E$847,4,0)*1.2423 -> 24.063351 | L58: =ROUND(K58*I58,2) -> 1445.59 | M58: =B58 -> 57801
C59: Ver item 05.28.00= 106,21m³ | L59: =ROUND(K59*I59,2) -> 0 | M59: =B59 -> 0
L60: =ROUND(K60*I60,2) -> 0 | M60: =B60 -> 0
B61: 57807 | C61: TRANSPORTE DE CONCRETO ASFÁLTICO ALÉM DO PRIMEIRO KM | H61: M3XKM | I61: =I58*27 -> 1622.0115 | K61: =VLOOKUP(B61,[2]INFRA!$A$1:$E$847,4,0)*1.2423 -> 4.261089 | L61: =ROUND(K61*I61,2) -> 6911.54 | M61: =B61 -> 57807
C62: Ver item 05.78.01 x 20km= 2.368,90m³xkm | L62: =ROUND(K62*I62,2) -> 0 | M62: =B62 -> 0
L63: =ROUND(K63*I63,2) -> 0 | M63: =B63 -> 0
C64: 5 - SERVIÇOS COMPLEMENTARES | L64: =ROUND(K64*I64,2) -> 0 | M64: =B64 -> 0 | O64: =SUM(L43:L63) -> 140545.75
B65: 62100 | C65: LEVANTAMENTO OU REBAIXAMENTO DE TAMPÃO DE POÇO DE VISITA | H65: UNID | I65: 6 | K65: =VLOOKUP(B65,[2]INFRA!$A$1:$E$847,4,0)*1.2423 -> 214.55763 | L65: =ROUND(K65*I65,2) -> 1287.35 | M65: =B65 -> 62100
C66: Ver tabela: Tampão de poço de visita 16unid | J66: 4 | L66: =ROUND(K66*I66,2) -> 0 | M66: =B66 -> 0 | O66: =SUM(L63:L65) -> 1287.35
L67: =ROUND(K67*I67,2) -> 0 | M67: =B67 -> 0 | O67: =SUM(L13:L67) -> 245087.34
C68: RUA BORBA GATO
C69: 1 - SERVIÇOS PRELIMINARES | L69: =K69*I69 -> 0 | M69: =B69 -> 0
B70: 101603 | C70: =VLOOKUP(B70,'[1]INFRA SEM Des Jul21'!$A$1:$D$854,2,0) -> PLACA DE OBRA EM CHAPA DE AÇO GALVANIZADO | H70: =VLOOKUP(B70,'[1]INFRA SEM Des Jul21'!$A$1:$D$854,3,0) -> M2 | I70: 4.5 | K70: =VLOOKUP(B70,[2]INFRA!$A$1:$E$847,4,0)*1.2423 -> 490.39792 | L70: =ROUND(K70*I70,2) -> 2206.79 | M70: =B70 -> 101603
C71: Placa: 3,00x2,00= 6,00m² | L71: =ROUND(K71*I71,2) -> 0 | M71: =B71 -> 0
L72: =ROUND(K72*I72,2) -> 0 | M72: =B72 -> 0
C73: 2 - FRESAGEM, DEMOLIÇÕES E RETIRADAS | L73: =ROUND(K73*I73,2) -> 0 | M73: =B73 -> 0
B74: 90300 | C74: =VLOOKUP(B74,'[1]INFRA SEM Des Jul21'!$A$1:$D$854,2,0) -> FRESAGEM DE PAVIMENTO ASFÁLTICO COM ESPESSURA ATÉ 5CM, EM VIAS EXPRESSAS, INCLUSIVE REMOÇÃO DO MATERIAL FRESADO ATÉ 10KM E VARRIÇÃO | H74: =VLOOKUP(B74,'[1]INFRA SEM Des Jul21'!$A$1:$D$854,3,0) -> M2 | I74: =J75 -> 1073.1 | K74: =VLOOKUP(B74,[2]INFRA!$A$1:$E$847,4,0)*1.2423 -> 21.342714 | L74: =ROUND(K74*I74,2) -> 22902.87 | M74: =B74 -> 90300 | O74: =L70 -> 2206.79
C75: Ver projeto | J75: 1073.1 | L75: =ROUND(K75*I75,2) -> 0 | M75: =B75 -> 0
L76: =ROUND(K76*I76,2) -> 0 | M76: =B76 -> 0
B77: 50300 | C77: DEMOLIÇÃO DE PAVIMENTO DE CONCRETO, SARJETA OU SARJETÃO, INCLUI CARGA EM CAMINHÃO | H77: M2 | I77: =J78 -> 18 | K77: =VLOOKUP(B77,[2]INFRA!$A$1:$E$847,4,0)*1.2423 -> 32.597952 | L77: =ROUND(K77*I77,2) -> 586.76 | M77: =B77 -> 50300
C78: Sarjetão (ver tabela)= 24,90m² | J78: 18 | L78: =ROUND(K78*I78,2) -> 0 | M78: =B78 -> 0
L79: =ROUND(K79*I79,2) -> 0 | M79: =B79 -> 0
B80: 88600 | C80: REMOÇÃO DE ENTULHO ALÉM DO PRIMEIRO KM | H80: M3XKM | I80: =SUM(J81:J82) -> 107.406 | K80: =VLOOKUP(B80,[2]INFRA!$A$1:$E$847,4,0)*1.2423 -> 2.621253 | L80: =ROUND(K80*I80,2) -> 281.54 | M80: =B80 -> 88600
C81: Ver item 05.03.00 x 0,17 + 30% de empolamento x 10 km= 55,03m³xkm | J81: =(I77*0.17)*1.3*27 -> 107.406 | L81: =ROUND(K81*I81,2) -> 0 | M81: =B81 -> 0
L82: =ROUND(K82*I82,2) -> 0 | M82: =B82 -> 0 | O82: =SUM(L74:L80) -> 23771.17
C83: 3 - GUIAS, SARJETAS E SARJETÕES | L83: =ROUND(K83*I83,2) -> 0 | M83: =B83 -> 0
B84: 50100 | C84: =VLOOKUP(B84,'[1]INFRA SEM Des Jul21'!$A$1:$D$854,2,0) -> ARRANCAMENTO DE GUIAS, INCLUI CARGA EM CAMINHÃO | H84: =VLOOKUP(B84,'[1]INFRA SEM Des Jul21'!$A$1:$D$854,3,0) -> M | I84: =130.53+93.62 -> 224.15 | K84: =VLOOKUP(B84,[2]INFRA!$A$1:$E$847,4,0)*1.2423 -> 12.348462 | L84: =ROUND(K84*I84,2) -> 2767.91 | M84: =B84 -> 50100
L85: =ROUND(K85*I85,2) -> 0
L86: =ROUND(K86*I86,2) -> 0
B87: 51402 | C87: =VLOOKUP(B87,'[1]INFRA SEM Des Jul21'!$A$1:$D$854,2,0) -> FORNECIMENTO E ASSENTAMENTO DE GUIAS TIPO PMSP 100, INCLUSIVE ENCOSTAMENTO DE TERRA - FCK=25,0MPA | H87: =VLOOKUP(B87,'[1]INFRA SEM Des Jul21'!$A$1:$D$854,3,0) -> M | I87: =SUM(J88:J89) -> 224.15 | K87: =VLOOKUP(B87,[2]INFRA!$A$1:$E$847,4,0)*1.2423 -> 63.742413 | L87: =ROUND(K87*I87,2) -> 14287.86 | M87: =B87 -> 51402
J88: =I84 -> 224.15 | L88: =ROUND(K88*I88,2) -> 0 | M88: =B88 -> 0
L89: =ROUND(K89*I89,2) -> 0 | M89: =B89 -> 0
B90: 51300 | C90: BASE DE CONCRETO FCK=15,00MPA PARA GUIAS, SARJETAS OU SARJETÕES | H90: M3 | I90: =SUM(J91:J92) -> 17.9388 | K90: =VLOOKUP(B90,[2]INFRA!$A$1:$E$847,4,0)*1.2423 -> 612.95082 | L90: =ROUND(K90*I90,2) -> 10995.6 | M90: =B90 -> 51300
J91: =(J78*0.1)+(I84*0.16*0.45) -> 17.9388 | L91: =ROUND(K91*I91,2) -> 0
L92: =ROUND(K92*I92,2) -> 0
B93: 51901 | C93: CONSTRUÇÃO DE SARJETA OU SARJETÃO DE CONCRETO - FCK=25,0MPA | H93: M3 | I93: =SUM(J94:J95) -> 13.8192 | K93: =VLOOKUP(B93,[2]INFRA!$A$1:$E$847,4,0)*1.2423 -> 759.03288 | L93: =ROUND(K93*I93,2) -> 10489.23 | M93: =B93 -> 51901
C94: Sarjetão: 24,90 x 0,17= 4,23m³ | J94: =(J78*0.17)+(I84*0.16*0.3) -> 13.8192 | L94: =ROUND(K94*I94,2) -> 0 | M94: =B94 -> 0
L95: =ROUND(K95*I95,2) -> 0 | M95: =B95 -> 0
B96: 82300 | C96: FORNECIMENTO E APLICAÇÃO DE TELA DE AÇO | H96: KG | I96: =J97 -> 161.28 | K96: =VLOOKUP(B96,[2]INFRA!$A$1:$E$847,4,0)*1.2423 -> 14.075259 | L96: =ROUND(K96*I96,2) -> 2270.06 | M96: =B96 -> 82300
C97: Sarjetão: 24,90m² x 4,48kg/m² x 2 (malha dupla)= 223,10kg | J97: =I77*4.48*2 -> 161.28 | L97: =ROUND(K97*I97,2) -> 0 | M97: =B97 -> 0 | O97: =SUM(L84:L96) -> 40810.66
L98: =ROUND(K98*I98,2) -> 0 | M98: =B98 -> 0
C99: 4 - PAVIMENTAÇÃO | L99: =ROUND(K99*I99,2) -> 0 | M99: =B99 -> 0
B100: 52502 | C100: BASE DE BINDER DENSO (SEM TRANSPORTE) | H100: M3 | I100: =J101 -> 10.731 | K100: =VLOOKUP(B100,[2]INFRA!$A$1:$E$847,4,0)*1.2423 -> 1436.6206 | L100: =ROUND(K100*I100,2) -> 15416.38 | M100: =B100 -> 52502
C101: Preenchimento de buracos na àrea fresada: (2.124,27 x 10%) x 0,10 (espessura média)= 21,24m³ | J101: =(I74*0.1)*0.1 -> 10.731 | L101: =ROUND(K101*I101,2) -> 0 | M101: =B101 -> 0
L102: =ROUND(K102*I102,2) -> 0 | M102: =B102 -> 0
B103: 57901 | C103: CARGA, DESCARGA E TRANSPORTE DE BINDER ATÉ A DISTÂNCIA MÉDIA DE IDA E VOLTA DE 1KM | H103: M3 | I103: =I100 -> 10.731 | K103: =VLOOKUP(B103,[2]INFRA!$A$1:$E$847,4,0)*1.2423 -> 24.063351 | L103: =ROUND(K103*I103,2) -> 258.22 | M103: =B103 -> 57901
...

Sheet Planilha (2)
C3: PREFEITURA MUNICIPAL DE FERRAZ DE VASCONCELOS
C4: SECRETARIA MUNICIPAL DE OBRAS
C5: PLANILHA ORÇAMENTÁRIA
C9: Fresagem e Recapeamento da Rua Alfredo Regner, Rua Borba Gato, Rua Marcelo Garcia, Rua Antonio Augusto Ferreira, Rua Marinalva dos Santos e Pavimentação da Rua Sandelia Andena
C10: SIURB (Janeiro/2024) sem desoneração
C11: 0.2423
B13: Item | C13: Descrição | D13: Quantidade | E13: Total com BDI
B14: 7.3.8 | C14: REVESTIMENTO DE CONCRETO ASFÁLTICO (SEM TRANSPORTE) | D14: 347.05899 | E14: 598933.95
B15: 7.2.1 | C15: PASSEIO DE CONCRETO FCK=15,0MPA, INCLUSIVE PREPARO DE CAIXA E LASTRO DE BRITA | D15: 208.572 | E15: 198047.36
B16: 7.2.4 | C16: CONSTRUÇÃO DE SARJETA OU SARJETÃO DE CONCRETO - FCK=25,0MPA | D16: 240.07167 | E16: 189186.21
B17: 7.3.3 | C17: BASE DE BINDER DENSO (SEM TRANSPORTE) | D17: 130.0622 | E17: 187997.24 | G17: 240.07167 | H17: 189186.21
B18: 7.2.2 | C18: BASE DE CONCRETO FCK=15,00MPA PARA GUIAS, SARJETAS OU SARJETÕES | D18: 283.49953 | E18: 167914.33 | F18: =D18+#REF!+#REF!+#REF!+#REF!+#REF!+#REF! -> #REF! | G18: =E18+#REF!+#REF!+#REF!+#REF!+#REF!+#REF! -> #REF!
B19: 7.3.2 | C19: BASE DE BRITA GRADUADA | D19: 227.439 | E19: 66288.46
B20: 7.2.3 | C20: ASSENTAMENTO DE GUIAS TIPO PMSP 100, INCLUSIVE ENCOSTAMENTO DE TERRA | D20: 2336 | E20: 57633.97
B21: 7.3.1 | C21: ABERTURA DE CAIXA ATÉ 25CM, INCLUI ESCAVAÇÃO, COMPACTAÇÃO, TRANSPORTE E PREPARO DO SUB-LEITO | D21: 1516.26 | E21: 43926.71
B22: 7.3.6 | C22: IMPRIMAÇÃO BETUMINOSA LIGANTE | D22: 3032.52 | E22: 28782.17
B23: 7.3.7 | C23: IMPRIMAÇÃO BETUMINOSA IMPERMEABILIZANTE | D23: 1516.26 | E23: 27651.98
B24: 4.2.1 | C24: FRESAGEM DE PAVIMENTO ASFÁLTICO COM ESPESSURA ATÉ 5CM, EM VIAS EXPRESSAS, INCLUSIVE REMOÇÃO DO MATERIAL FRESADO ATÉ 10KM E VARRIÇÃO | D24: 1237.62 | E24: 27444.29
B25: 1.3.2 | C25: FORNECIMENTO E ASSENTAMENTO DE GUIAS TIPO PMSP 100, INCLUSIVE ENCOSTAMENTO DE TERRA - FCK=25,0MPA | D25: 441.76 | E25: 27412.48
B26: 7.1.3 | C26: TRANSPORTE DE TERRA POR CAMINHÃO BASCULANTE, A PARTIR DE 1KM | D26: 7369.0236 | E26: 27188.98
B27: 1.2.1 | C27: FRESAGEM DE PAVIMENTO ASFÁLTICO COM ESPESSURA ATÉ 5CM, EM VIAS EXPRESSAS, INCLUSIVE REMOÇÃO DO MATERIAL FRESADO ATÉ 10KM E VARRIÇÃO | D27: 1201.4896 | E27: 26643.1
B28: 5.2.1 | C28: FRESAGEM DE PAVIMENTO ASFÁLTICO COM ESPESSURA ATÉ 5CM, EM VIAS EXPRESSAS, INCLUSIVE REMOÇÃO DO MATERIAL FRESADO ATÉ 10KM E VARRIÇÃO | D28: 1169.76 | E28: 25939.49
B29: 2.2.1 | C29: FRESAGEM DE PAVIMENTO ASFÁLTICO COM ESPESSURA ATÉ 5CM, EM VIAS EXPRESSAS, INCLUSIVE REMOÇÃO DO MATERIAL FRESADO ATÉ 10KM E VARRIÇÃO | D29: 1073.1 | E29: 23796.05
B30: 7.1.1 | C30: CORTE E ATERRO COMPACTADO | D30: 909.756 | E30: 22649.01
... B106: 3.2.3 | C106: REMOÇÃO DE ENTULHO ALÉM DO PRIMEIRO KM | D106: 41.769 | E106: 85.1

Sheet Planilha
F3: PREFEITURA MUNICIPAL DE FERRAZ DE VASCONCELOS
F4: SECRETARIA MUNICIPAL DE OBRAS
F5: PLANILHA ORÇAMENTÁRIA
E9: Obra: | F9: Fresagem e Recapeamento da Rua Alfredo Regner, Rua Borba Gato, Rua Marcelo Garcia, Rua Antonio Augusto Ferreira, Rua Marinalva dos Santos e Pavimentação da Rua Sandelia Andena
E10: Referência: | F10: SIURB (Janeiro/2024) sem desoneração
E11: BDI Utilizado: | F11: 0.2423
B13: Item | C13: Referencia | D13: Código | F13: Descrição | G13: Quantidade | H13: Unid | I13: Preço Unit | J13: Total | K13: Preço Unit com BDI | L13: Total com BDI
B14: 1 | F14: =ORÇ!C11 -> RUA ALFREDO REGNER
B15: 1.1 | F15: SERVIÇOS PRELIMINARES
B16: 1.1.1 | C16: INFRA | D16: =ORÇ!B13 -> 101603 | E16: =VLOOKUP(D16,[3]INFRA!$A$1:$F$859,2,0) -> 10016003 | F16: =VLOOKUP(D16,[2]INFRA!$A$1:$E$847,2,0) -> PLACA DE OBRA EM CHAPA DE AÇO GALVANIZADO | G16: =VLOOKUP(D16,ORÇ!$B$12:$I$67,8,0) -> 4.5 | H16: =VLOOKUP(D16,[2]INFRA!$A$1:$E$847,3,0) -> M2 | I16: =VLOOKUP(E16,[4]INFRA!$A$1:$D$935,4,0) -> 391.58 | J16: =ROUND(I16*G16,2) -> 1762.11 | K16: =I16*(1+$F$11) -> 486.45983 | L16: =ROUND(G16*K16,2) -> 2189.07
K17: Subtotal: | L17: =SUM(L16:L16) -> 2189.07 | M17: =L17+L46+L75+L104 -> 8756.28 | N17: =[5]Planilha!$K$17 -> 8827.16
B18: 1.2 | F18: FRESAGEM, DEMOLIÇÕES E RETIRADAS
B19: 1.2.1 | C19: INFRA | D19: =ORÇ!B17 -> 90300 | E19: =VLOOKUP(D19,[3]INFRA!$A$1:$F$859,2,0) -> 9003000 | F19: =VLOOKUP(D19,[2]INFRA!$A$1:$E$847,2,0) -> FRESAGEM DE PAVIMENTO ASFÁLTICO COM ESPESSURA ATÉ 5CM, EM VIAS EXPRESSAS, INCLUSIVE REMOÇÃO DO MATERIAL FRESADO ATÉ 10KM E VARRIÇÃO | G19: =VLOOKUP(D19,ORÇ!$B$12:$I$67,8,0)-0.0004 -> 1201.4896 | H19: =VLOOKUP(D19,[2]INFRA!$A$1:$E$847,3,0) -> M2 | I19: =VLOOKUP(E19,[4]INFRA!$A$1:$D$935,4,0) -> 17.77 | J19: =ROUND(I19*G19,2) -> 21350.47 | K19: =I19*(1+$F$11) -> 22.075671 | L19: =ROUND(G19*K19,2) -> 26523.69
B20: 1.2.2 | C20: INFRA | D20: =ORÇ!B20 -> 50300 | E20: =VLOOKUP(D20,[3]INFRA!$A$1:$F$859,2,0) -> 5003000 | F20: =VLOOKUP(D20,[2]INFRA!$A$1:$E$847,2,0) -> DEMOLIÇÃO DE PAVIMENTO DE CONCRETO, SARJETA OU SARJETÃO, INCLUI CARGA EM CAMINHÃO | G20: =VLOOKUP(D20,ORÇ!$B$12:$I$67,8,0)-0.00001 -> 16.99999 | H20: =VLOOKUP(D20,[2]INFRA!$A$1:$E$847,3,0) -> M2 | I20: =VLOOKUP(E20,[4]INFRA!$A$1:$D$935,4,0) -> 27.67 | J20: =ROUND(I20*G20,2) -> 470.39 | K20: =I20*(1+$F$11) -> 34.374441 | L20: =ROUND(G20*K20,2) -> 584.37
B21: 1.2.3 | C21: INFRA | D21: =ORÇ!B23 -> 88600 | E21: =VLOOKUP(D21,[3]INFRA!$A$1:$F$859,2,0) -> 8086000 | F21: =VLOOKUP(D21,[2]INFRA!$A$1:$E$847,2,0) -> REMOÇÃO DE ENTULHO ALÉM DO PRIMEIRO KM | G21: =VLOOKUP(D21,ORÇ!$B$12:$I$67,8,0)-0.0009 -> 101.4381 | H21: =VLOOKUP(D21,[2]INFRA!$A$1:$E$847,3,0) -> M3XKM | I21: =VLOOKUP(E21,[4]INFRA!$A$1:$D$935,4,0) -> 1.65 | J21: =ROUND(I21*G21,2) -> 167.37 | K21: =I21*(1+$F$11) -> 2.049795 | L21: =ROUND(G21*K21,2) -> 207.93
K22: Subtotal: | L22: =SUM(L19:L21) -> 27315.99 | M22: =L22+L51+L80+L107 -> 87713.46 | N22: =[5]Planilha!$K$22 -> 84934.79
B23: 1.3 | F23: GUIAS, SARJETAS E SARJETÕES
B24: 1.3.1 | C24: INFRA | D24: =ORÇ!B27 -> 50100 | E24: =VLOOKUP(D24,[3]INFRA!$A$1:$F$859,2,0) -> 5001000 | F24: =VLOOKUP(D24,[2]INFRA!$A$1:$E$847,2,0) -> ARRANCAMENTO DE GUIAS, INCLUI CARGA EM CAMINHÃO | G24: =VLOOKUP(D24,ORÇ!$B$12:$I$67,8,0) -> 441.76 | H24: =VLOOKUP(D24,[2]INFRA!$A$1:$E$847,3,0) -> M | I24: =VLOOKUP(E24,[4]INFRA!$A$1:$D$935,4,0) -> 10.44 | J24: =ROUND(I24*G24,2) -> 4611.97 | K24: =I24*(1+$F$11) -> 12.969612 | L24: =ROUND(G24*K24,2) -> 5729.46
B25: 1.3.2 | C25: INFRA | D25: =ORÇ!B30 -> 51402 | E25: =VLOOKUP(D25,[3]INFRA!$A$1:$F$859,2,0) -> 5014002 | F25: =VLOOKUP(D25,[2]INFRA!$A$1:$E$847,2,0) -> FORNECIMENTO E ASSENTAMENTO DE GUIAS TIPO PMSP 100, INCLUSIVE ENCOSTAMENTO DE TERRA - FCK=25,0MPA | G25: =VLOOKUP(D25,ORÇ!$B$12:$I$67,8,0) -> 441.76 | H25: =VLOOKUP(D25,[2]INFRA!$A$1:$E$847,3,0) -> M | I25: =VLOOKUP(E25,[4]INFRA!$A$1:$D$935,4,0) -> 50.25 | J25: =ROUND(I25*G25,2) -> 22198.44 | K25: =I25*(1+$F$11) -> 62.425575 | L25: =ROUND(G25*K25,2) -> 27577.12
B26: 1.3.3 | C26: INFRA | D26: =ORÇ!B33 -> 51300 | E26: =VLOOKUP(D26,[3]INFRA!$A$1:$F$859,2,0) -> 5013000 | F26: =VLOOKUP(D26,[2]INFRA!$A$1:$E$847,2,0) -> BASE DE CONCRETO FCK=15,00MPA PARA GUIAS, SARJETAS OU SARJETÕES | G26: =VLOOKUP(D26,ORÇ!$B$12:$I$67,8,0)+0.00001 -> 33.50673 | H26: =VLOOKUP(D26,[2]INFRA!$A$1:$E$847,3,0) -> M3 | I26: =VLOOKUP(E26,[4]INFRA!$A$1:$D$935,4,0) -> 498.12 | J26: =ROUND(I26*G26,2) -> 16690.37 | K26: =I26*(1+$F$11) -> 618.81448 | L26: =ROUND(G26*K26,2) -> 20734.45
B27: 1.3.4 | C27: INFRA | D27: =ORÇ!B36 -> 51901 | E27: =VLOOKUP(D27,[3]INFRA!$A$1:$F$859,2,0) -> 5019001 | F27: =VLOOKUP(D27,[2]INFRA!$A$1:$E$847,2,0) -> CONSTRUÇÃO DE SARJETA OU SARJETÃO DE CONCRETO - FCK=25,0MPA | G27: =VLOOKUP(D27,ORÇ!$B$12:$I$67,8,0) -> 24.09448 | H27: =VLOOKUP(D27,[2]INFRA!$A$1:$E$847,3,0) -> M3 | I27: =VLOOKUP(E27,[4]INFRA!$A$1:$D$935,4,0) -> 632.77 | J27: =ROUND(I27*G27,2) -> 15246.26 | K27: =I27*(1+$F$11) -> 786.09017 | L27: =ROUND(G27*K27,2) -> 18940.43
B28: 1.3.5 | C28: INFRA | D28: =ORÇ!B39 -> 82300 | E28: =VLOOKUP(D28,[3]INFRA!$A$1:$F$859,2,0) -> 8023000 | F28: =VLOOKUP(D28,[2]INFRA!$A$1:$E$847,2,0) -> FORNECIMENTO E APLICAÇÃO DE TELA DE AÇO | G28: =VLOOKUP(D28,ORÇ!$B$12:$I$67,8,0) -> 152.32 | H28: =VLOOKUP(D28,[2]INFRA!$A$1:$E$847,3,0) -> KG | I28: =VLOOKUP(E28,[4]INFRA!$A$1:$D$935,4,0) -> 10.09 | J28: =ROUND(I28*G28,2) -> 1536.91 | K28: =I28*(1+$F$11) -> 12.534807 | L28: =ROUND(G28*K28,2) -> 1909.3
K29: Subtotal: | L29: =SUM(L24:L28) -> 74890.76 | M29: =L29+L58+L87+L113 -> 184701.43 | N29: =[5]Planilha!$K$29 -> 183946.47
B30: 1.4 | F30: PAVIMENTAÇÃO
B31: 1.4.1 | C31: INFRA | D31: =ORÇ!B43 -> 52502 | E31: =VLOOKUP(D31,[3]INFRA!$A$1:$F$859,2,0) -> 5025002 | F31: =VLOOKUP(D31,[2]INFRA!$A$1:$E$847,2,0) -> BASE DE BINDER DENSO (SEM TRANSPORTE) | G31: =VLOOKUP(D31,ORÇ!$B$12:$I$67,8,0) -> 12.0149 | H31: =VLOOKUP(D31,[2]INFRA!$A$1:$E$847,3,0) -> M3 | I31: =VLOOKUP(E31,[4]INFRA!$A$1:$D$935,4,0) -> 1238.18 | J31: =ROUND(I31*G31,2) -> 14876.61 | K31: =I31*(1+$F$11) -> 1538.191 | L31: =ROUND(G31*K31,2) -> 18481.21
B32: 1.4.2 | C32: INFRA | D32: =ORÇ!B46 -> 57901 | E32: =VLOOKUP(D32,[3]INFRA!$A$1:$F$859,2,0) -> 5079001 | F32: =VLOOKUP(D32,[2]INFRA!$A$1:$E$847,2,0) -> CARGA, DESCARGA E TRANSPORTE DE BINDER ATÉ A DISTÂNCIA MÉDIA DE IDA E VOLTA DE 1KM | G32: =VLOOKUP(D32,ORÇ!$B$12:$I$67,8,0) -> 12.0149 | H32: =VLOOKUP(D32,[2]INFRA!$A$1:$E$847,3,0) -> M3 | I32: =VLOOKUP(E32,[4]INFRA!$A$1:$D$935,4,0) -> 21.12 | J32: =ROUND(I32*G32,2) -> 253.75 | K32: =I32*(1+$F$11) -> 26.237376 | L32: =ROUND(G32*K32,2) -> 315.24
B33: 1.4.3 | C33: INFRA | D33: =ORÇ!B49 -> 57907 | E33: =VLOOKUP(D33,[3]INFRA!$A$1:$F$859,2,0) -> 5079007 | F33: =VLOOKUP(D33,[2]INFRA!$A$1:$E$847,2,0) -> TRANSPORTE DE BINDER ALÉM DO PRIMEIRO KM | G33: =VLOOKUP(D33,ORÇ!$B$12:$I$67,8,0) -> 324.4023 | H33: =VLOOKUP(D33,[2]INFRA!$A$1:$E$847,3,0) -> M3XKM | I33: =VLOOKUP(E33,[4]INFRA!$A$1:$D$935,4,0) -> 3.06 | J33: =ROUND(I33*G33,2) -> 992.67 | K33: =I33*(1+$F$11) -> 3.801438 | L33: =ROUND(G33*K33,2) -> 1233.2
B34: 1.4.4 | C34: INFRA | D34: =ORÇ!B52 -> 52600 | E34: =VLOOKUP(D34,[3]INFRA!$A$1:$F$859,2,0) -> 5026000 | F34: =VLOOKUP(D34,[2]INFRA!$A$1:$E$847,2,0) -> IMPRIMAÇÃO BETUMINOSA LIGANTE | G34: =VLOOKUP(D34,ORÇ!$B$12:$I$67,8,0)+0.0001 -> 1201.4901 | H34: =VLOOKUP(D34,[2]INFRA!$A$1:$E$847,3,0) -> M2 | I34: =VLOOKUP(E34,[4]INFRA!$A$1:$D$935,4,0) -> 6.48 | J34: =ROUND(I34*G34,2) -> 7785.66 | K34: =I34*(1+$F$11) -> 8.050104 | L34: =ROUND(G34*K34,2) -> 9672.12
B35: 1.4.5 | C35: INFRA | D35: =ORÇ!B55 -> 52800 | E35: =VLOOKUP(D35,[3]INFRA!$A$1:$F$859,2,0) -> 5028000 | F35: =VLOOKUP(D35,[2]INFRA!$A$1:$E$847,2,0) -> REVESTIMENTO DE CONCRETO ASFÁLTICO (SEM TRANSPORTE) | G35: =VLOOKUP(D35,ORÇ!$B$12:$I$67,8,0)-0.00001 -> 60.07449 | H35: =VLOOKUP(D35,[2]INFRA!$A$1:$E$847,3,0) -> M3 | I35: =VLOOKUP(E35,[4]INFRA!$A$1:$D$935,4,0) -> 1475.72 | J35: =ROUND(I35*G35,2) -> 88653.13 | K35: =I35*(1+$F$11) -> 1833.287 | L35: =ROUND(G35*K35,2) -> 110133.78
B36: 1.4.6 | C36: INFRA | D36: =ORÇ!B58 -> 57801 | E36: =VLOOKUP(D36,[3]INFRA!$A$1:$F$859,2,0) -> 5078001 | F36: =VLOOKUP(D36,[2]INFRA!$A$1:$E$847,2,0) -> CARGA, DESCARGA E TRANSPORTE DE CONCRETO ASFÁLTICO ATÉ A DISTÂNCIA MÉDIA DE IDA E VOLTA DE 1KM | G36: =VLOOKUP(D36,ORÇ!$B$12:$I$67,8,0) -> 60.0745 | H36: =VLOOKUP(D36,[2]INFRA!$A$1:$E$847,3,0) -> M3 | I36: =VLOOKUP(E36,[4]INFRA!$A$1:$D$935,4,0) -> 21.12 | J36: =ROUND(I36*G36,2) -> 1268.77 | K36: =I36*(1+$F$11) -> 26.237376 | L36: =ROUND(G36*K36,2) -> 1576.2
B37: 1.4.7 | C37: INFRA | D37: =ORÇ!B61 -> 57807 | E37: =VLOOKUP(D37,[3]INFRA!$A$1:$F$859,2,0) -> 5078007 | F37: =VLOOKUP(D37,[2]INFRA!$A$1:$E$847,2,0) -> TRANSPORTE DE CONCRETO ASFÁLTICO ALÉM DO PRIMEIRO KM | G37: =VLOOKUP(D37,ORÇ!$B$12:$I$67,8,0) -> 1622.0115 | H37: =VLOOKUP(D37,[2]INFRA!$A$1:$E$847,3,0) -> M3XKM | I37: =VLOOKUP(E37,[4]INFRA!$A$1:$D$935,4,0) -> 3.06 | J37: =ROUND(I37*G37,2) -> 4963.36 | K37: =I37*(1+$F$11) -> 3.801438 | L37: =ROUND(G37*K37,2) -> 6165.98
K38: Subtotal: | L38: =SUM(L31:L37) -> 147577.73 | M38: =L38+L96+L122+L67 -> 477146.2 | N38: =[5]Planilha!$K$38 -> 454410.47
B39: 1.5 | F39: SERVIÇOS COMPLEMENTARES
B40: 1.5.1 | C40: INFRA | D40: =ORÇ!B65 -> 62100 | E40: =VLOOKUP(D40,[3]INFRA!$A$1:$F$859,2,0) -> 6021000 | F40: =VLOOKUP(D40,[2]INFRA!$A$1:$E$847,2,0) -> LEVANTAMENTO OU REBAIXAMENTO DE TAMPÃO DE POÇO DE VISITA | G40: =VLOOKUP(D40,ORÇ!$B$12:$I$67,8,0) -> 6 | H40: =VLOOKUP(D40,[2]INFRA!$A$1:$E$847,3,0) -> UN | I40: =VLOOKUP(E40,[4]INFRA!$A$1:$D$935,4,0) -> 186.6 | J40: =ROUND(I40*G40,2) -> 1119.6 | K40: =I40*(1+$F$11) -> 231.81318 | L40: =ROUND(G40*K40,2) -> 1390.88
K41: Subtotal: | L41: =SUM(L39:L40) -> 1390.88 | M41: =L41+L70+L99+L125 -> 3709.01 | N41: =[5]Planilha!$K$41 -> 3432.92
B42: TOTAL RUA ALFREDO REGNER: | L42: =SUM(L14:L41)/2 -> 253364.43
B43: 2 | F43: =ORÇ!C68 -> RUA BORBA GATO
B44: 2.1 | F44: SERVIÇOS PRELIMINARES
B45: 2.1.1 | C45: INFRA | D45: 101603 | E45: =VLOOKUP(D45,[3]INFRA!$A$1:$F$859,2,0) -> 10016003 | F45: =VLOOKUP(D45,[2]INFRA!$A$1:$E$847,2,0) -> PLACA DE OBRA EM CHAPA DE AÇO GALVANIZADO | G45: =VLOOKUP(D45,ORÇ!$B$68:$I$123,8,0) -> 4.5 | H45: =VLOOKUP(D45,[2]INFRA!$A$1:$E$847,3,0) -> M2 | I45: =VLOOKUP(E45,[4]INFRA!$A$1:$D$935,4,0) -> 391.58 | J45: =ROUND(I45*G45,2) -> 1762.11 | K45: =I45*(1+$F$11) -> 486.45983 | L45: =ROUND(G45*K45,2) -> 2189.07
K46: Subtotal: | L46: =SUM(L45:L45) -> 2189.07
B47: 2.2 | F47: FRESAGEM, DEMOLIÇÕES E RETIRADAS
B48: 2.2.1 | C48: INFRA | D48: 90300 | E48: =VLOOKUP(D48,[3]INFRA!$A$1:$F$859,2,0) -> 9003000 | F48: =VLOOKUP(D48,[2]INFRA!$A$1:$E$847,2,0) -> FRESAGEM DE PAVIMENTO ASFÁLTICO COM ESPESSURA ATÉ 5CM, EM VIAS EXPRESSAS, INCLUSIVE REMOÇÃO DO MATERIAL FRESADO ATÉ 10KM E VARRIÇÃO | G48: =VLOOKUP(D48,ORÇ!$B$68:$I$123,8,0) -> 1073.1 | H48: =VLOOKUP(D48,[2]INFRA!$A$1:$E$847,3,0) -> M2 | I48: =VLOOKUP(E48,[4]INFRA!$A$1:$D$935,4,0) -> 17.77 | J48: =ROUND(I48*G48,2) -> 19068.99 | K48: =I48*(1+$F$11) -> 22.075671 | L48: =ROUND(G48*K48,2) -> 23689.4
B49: 2.2.2 | C49: INFRA | D49: 50300 | E49: =VLOOKUP(D49,[3]INFRA!$A$1:$F$859,2,0) -> 5003000 | F49: =VLOOKUP(D49,[2]INFRA!$A$1:$E$847,2,0) -> DEMOLIÇÃO DE PAVIMENTO DE CONCRETO, SARJETA OU SARJETÃO, INCLUI CARGA EM CAMINHÃO | G49: =VLOOKUP(D49,ORÇ!$B$68:$I$123,8,0) -> 18 | H49: =VLOOKUP(D49,[2]INFRA!$A$1:$E$847,3,0) -> M2 | I49: =VLOOKUP(E49,[4]INFRA!$A$1:$D$935,4,0) -> 27.67 | J49: =ROUND(I49*G49,2) -> 498.06 | K49: =I49*(1+$F$11) -> 34.374441 | L49: =ROUND(G49*K49,2) -> 618.74
B50: 2.2.3 | C50: INFRA | D50: 88600 | E50: =VLOOKUP(D50,[3]INFRA!$A$1:$F$859,2,0) -> 8086000 | F50: =VLOOKUP(D50,[2]INFRA!$A$1:$E$847,2,0) -> REMOÇÃO DE ENTULHO ALÉM DO PRIMEIRO KM | G50: =VLOOKUP(D50,ORÇ!$B$68:$I$123,8,0) -> 107.406 | H50: =VLOOKUP(D50,[2]INFRA!$A$1:$E$847,3,0) -> M3XKM | I50: =VLOOKUP(E50,[4]INFRA!$A$1:$D$935,4,0) -> 1.65 | J50: =ROUND(I50*G50,2) -> 177.22 | K50: =I50*(1+$F$11) -> 2.049795 | L50: =ROUND(G50*K50,2) -> 220.16
K51: Subtotal: | L51: =SUM(L48:L50) -> 24528.3
B52: 2.3 | F52: GUIAS, SARJETAS E SARJETÕES
B53: 2.3.1 | C53: INFRA | D53: 50100 | E53: =VLOOKUP(D53,[3]INFRA!$A$1:$F$859,2,0) -> 5001000 | F53: =VLOOKUP(D53,[2]INFRA!$A$1:$E$847,2,0) -> ARRANCAMENTO DE GUIAS, INCLUI CARGA EM CAMINHÃO | G53: =VLOOKUP(D53,ORÇ!$B$68:$I$123,8,0) -> 224.15 | H53: =VLOOKUP(D53,[2]INFRA!$A$1:$E$847,3,0) -> M | I53: =VLOOKUP(E53,[4]INFRA!$A$1:$D$935,4,0) -> 10.44 | J53: =ROUND(I53*G53,2) -> 2340.13 | K53: =I53*(1+$F$11) -> 12.969612 | L53: =ROUND(G53*K53,2) -> 2907.14
B54: 2.3.2 | C54: INFRA | D54: 51402 | E54: =VLOOKUP(D54,[3]INFRA!$A$1:$F$859,2,0) -> 5014002 | F54: =VLOOKUP(D54,[2]INFRA!$A$1:$E$847,2,0) -> FORNECIMENTO E ASSENTAMENTO DE GUIAS TIPO PMSP 100, INCLUSIVE ENCOSTAMENTO DE TERRA - FCK=25,0MPA | G54: =VLOOKUP(D54,ORÇ!$B$68:$I$123,8,0) -> 224.15 | H54: =VLOOKUP(D54,[2]INFRA!$A$1:$E$847,3,0) -> M | I54: =VLOOKUP(E54,[4]INFRA!$A$1:$D$935,4,0) -> 50.25 | J54: =ROUND(I54*G54,2) -> 11263.54 | K54: =I54*(1+$F$11) -> 62.425575 | L54: =ROUND(G54*K54,2) -> 13992.69
B55: 2.3.3 | C55: INFRA | D55: 51300 | E55: =VLOOKUP(D55,[3]INFRA!$A$1:$F$859,2,0) -> 5013000 | F55: =VLOOKUP(D55,[2]INFRA!$A$1:$E$847,2,0) -> BASE DE CONCRETO FCK=15,00MPA PARA GUIAS, SARJETAS OU SARJETÕES | G55: =VLOOKUP(D55,ORÇ!$B$68:$I$123,8,0) -> 17.9388 | H55: =VLOOKUP(D55,[2]INFRA!$A$1:$E$847,3,0) -> M3 | I55: =VLOOKUP(E55,[4]INFRA!$A$1:$D$935,4,0) -> 498.12 | J55: =ROUND(I55*G55,2) -> 8935.68 | K55: =I55*(1+$F$11) -> 618.81448 | L55: =ROUND(G55*K55,2) -> 11100.79
B56: 2.3.4 | C56: INFRA | D56: 51901 | E56: =VLOOKUP(D56,[3]INFRA!$A$1:$F$859,2,0) -> 5019001 | F56: =VLOOKUP(D56,[2]INFRA!$A$1:$E$847,2,0) -> CONSTRUÇÃO DE SARJETA OU SARJETÃO DE CONCRETO - FCK=25,0MPA | G56: =VLOOKUP(D56,ORÇ!$B$68:$I$123,8,0) -> 13.8192 | H56: =VLOOKUP(D56,[2]INFRA!$A$1:$E$847,3,0) -> M3 | I56: =VLOOKUP(E56,[4]INFRA!$A$1:$D$935,4,0) -> 632.77 | J56: =ROUND(I56*G56,2) -> 8744.38 | K56: =I56*(1+$F$11) -> 786.09017 | L56: =ROUND(G56*K56,2) -> 10863.14
B57: 2.3.5 | C57: INFRA | D57: 82300 | E57: =VLOOKUP(D57,[3]INFRA!$A$1:$F$859,2,0) -> 8023000 | F57: =VLOOKUP(D57,[2]INFRA!$A$1:$E$847,2,0) -> FORNECIMENTO E APLICAÇÃO DE TELA DE AÇO | G57: =VLOOKUP(D57,ORÇ!$B$68:$I$123,8,0) -> 161.28 | H57: =VLOOKUP(D57,[2]INFRA!$A$1:$E$847,3,0) -> KG | I57: =VLOOKUP(E57,[4]INFRA!$A$1:$D$935,4,0) -> 10.09 | J57: =ROUND(I57*G57,2) -> 1627.32 | K57: =I57*(1+$F$11) -> 12.534807 | L57: =ROUND(G57*K57,2) -> 2021.61
K58: Subtotal: | L58: =SUM(L53:L57) -> 40885.37
B59: 2.4 | F59: PAVIMENTAÇÃO
B60: 2.4.1 | C60: INFRA | D60: 52502 | E60: =VLOOKUP(D60,[3]INFRA!$A$1:$F$859,2,0) -> 5025002 | F60: =VLOOKUP(D60,[2]INFRA!$A$1:$E$847,2,0) -> BASE DE BINDER DENSO (SEM TRANSPORTE) | G60: =VLOOKUP(D60,ORÇ!$B$68:$I$123,8,0) -> 10.731 | H60: =VLOOKUP(D60,[2]INFRA!$A$1:$E$847,3,0) -> M3 | I60: =VLOOKUP(E60,[4]INFRA!$A$1:$D$935,4,0) -> 1238.18 | J60: =ROUND(I60*G60,2) -> 13286.91 | K60: =I60*(1+$F$11) -> 1538.191 | L60: =ROUND(G60*K60,2) -> 16506.33
B61: 2.4.2 | C61: INFRA | D61: 57901 | E61: =VLOOKUP(D61,[3]INFRA!$A$1:$F$859,2,0) -> 5079001 | F61: =VLOOKUP(D61,[2]INFRA!$A$1:$E$847,2,0) -> CARGA, DESCARGA E TRANSPORTE DE BINDER ATÉ A DISTÂNCIA MÉDIA DE IDA E VOLTA DE 1KM | G61: =VLOOKUP(D61,ORÇ!$B$68:$I$123,8,0) -> 10.731 | H61: =VLOOKUP(D61,[2]INFRA!$A$1:$E$847,3,0) -> M3 | I61: =VLOOKUP(E61,[4]INFRA!$A$1:$D$935,4,0) -> 21.12 | J61: =ROUND(I61*G61,2) -> 226.64 | K61: =I61*(1+$F$11) -> 26.237376 | L61: =ROUND(G61*K61,2) -> 281.55
B62: 2.4.3 | C62: INFRA | D62: 57907 | E62: =VLOOKUP(D62,[3]INFRA!$A$1:$F$859,2,0) -> 5079007 | F62: =VLOOKUP(D62,[2]INFRA!$A$1:$E$847,2,0) -> TRANSPORTE DE BINDER ALÉM DO PRIMEIRO KM | G62: =VLOOKUP(D62,ORÇ!$B$68:$I$123,8,0) -> 289.737 | H62: =VLOOKUP(D62,[2]INFRA!$A$1:$E$847,3,0) -> M3XKM | I62: =VLOOKUP(E62,[4]INFRA!$A$1:$D$935,4,0) -> 3.06 | J62: =ROUND(I62*G62,2) -> 886.6 | K62: =I62*(1+$F$11) -> 3.801438 | L62: =ROUND(G62*K62,2) -> 1101.42
B63: 2.4.4 | C63: INFRA | D63: 52600 | E63: =VLOOKUP(D63,[3]INFRA!$A$1:$F$859,2,0) -> 5026000 | F63: =VLOOKUP(D63,[2]INFRA!$A$1:$E$847,2,0) -> IMPRIMAÇÃO BETUMINOSA LIGANTE | G63: =VLOOKUP(D63,ORÇ!$B$68:$I$123,8,0) -> 1073.1 | H63: =VLOOKUP(D63,[2]INFRA!$A$1:$E$847,3,0) -> M2 | I63: =VLOOKUP(E63,[4]INFRA!$A$1:$D$935,4,0) -> 6.48 | J63: =ROUND(I63*G63,2) -> 6953.69 | K63: =I63*(1+$F$11) -> 8.050104 | L63: =ROUND(G63*K63,2) -> 8638.57
B64: 2.4.5 | C64: INFRA | D64: 52800 | E64: =VLOOKUP(D64,[3]INFRA!$A$1:$F$859,2,0) -> 5028000 | F64: =VLOOKUP(D64,[2]INFRA!$A$1:$E$847,2,0) -> REVESTIMENTO DE CONCRETO ASFÁLTICO (SEM TRANSPORTE) | G64: =VLOOKUP(D64,ORÇ!$B$68:$I$123,8,0) -> 53.655 | H64: =VLOOKUP(D64,[2]INFRA!$A$1:$E$847,3,0) -> M3 | I64: =VLOOKUP(E64,[4]INFRA!$A$1:$D$935,4,0) -> 1475.72 | J64: =ROUND(I64*G64,2) -> 79179.76 | K64: =I64*(1+$F$11) -> 1833.287 | L64: =ROUND(G64*K64,2) -> 98365.01
B65: 2.4.6 | C65: INFRA | D65: 57801 | E65: =VLOOKUP(D65,[3]INFRA!$A$1:$F$859,2,0) -> 5078001 | F65: =VLOOKUP(D65,[2]INFRA!$A$1:$E$847,2,0) -> CARGA, DESCARGA E TRANSPORTE DE CONCRETO ASFÁLTICO ATÉ A DISTÂNCIA MÉDIA DE IDA E VOLTA DE 1KM | G65: =VLOOKUP(D65,ORÇ!$B$68:$I$123,8,0) -> 53.655 | H65: =VLOOKUP(D65,[2]INFRA!$A$1:$E$847,3,0) -> M3 | I65: =VLOOKUP(E65,[4]INFRA!$A$1:$D$935,4,0) -> 21.12 | J65: =ROUND(I65*G65,2) -> 1133.19 | K65: =I65*(1+$F$11) -> 26.237376 | L65: =ROUND(G65*K65,2) -> 1407.77
B66: 2.4.7 | C66: INFRA | D66: 57807 | E66: =VLOOKUP(D66,[3]INFRA!$A$1:$F$859,2,0) -> 5078007 | F66: =VLOOKUP(D66,[2]INFRA!$A$1:$E$847,2,0) -> TRANSPORTE DE CONCRETO ASFÁLTICO ALÉM DO PRIMEIRO KM | G66: =VLOOKUP(D66,ORÇ!$B$68:$I$123,8,0) -> 1448.685 | H66: =VLOOKUP(D66,[2]INFRA!$A$1:$E$847,3,0) -> M3XKM | I66: =VLOOKUP(E66,[4]INFRA!$A$1:$D$935,4,0) -> 3.06 | J66: =ROUND(I66*G66,2) -> 4432.98 | K66: =I66*(1+$F$11) -> 3.801438 | L66: =ROUND(G66*K66,2) -> 5507.09
K67: Subtotal: | L67: =SUM(L60:L66) -> 131807.74
B68: 2.5 | F68: SERVIÇOS COMPLEMENTARES
B69: 2.5.1 | C69: INFRA | D69: 62100 | E69: =VLOOKUP(D69,[3]INFRA!$A$1:$F$859,2,0) -> 6021000 | F69: =VLOOKUP(D69,[2]INFRA!$A$1:$E$847,2,0) -> LEVANTAMENTO OU REBAIXAMENTO DE TAMPÃO DE POÇO DE VISITA | G69: =VLOOKUP(D69,ORÇ!$B$68:$I$123,8,0) -> 4 | H69: =VLOOKUP(D69,[2]INFRA!$A$1:$E$847,3,0) -> UN | I69: =VLOOKUP(E69,[4]INFRA!$A$1:$D$935,4,0) -> 186.6 | J69: =ROUND(I69*G69,2) -> 746.4 | K69: =I69*(1+$F$11) -> 231.81318 | L69: =ROUND(G69*K69,2) -> 927.25
K70: Subtotal: | L70: =SUM(L68:L69) -> 927.25
B71: TOTAL RUA BORBA GATO: | L71: =SUM(L43:L70)/2 -> 200337.73
B72: 3 | F72: =ORÇ!C124 -> RUA MARCELO GARCIA
B73: 3.1 | F73: SERVIÇOS PRELIMINARES
B74: 3.1.1 | C74: INFRA | D74: 101603 | E74: =VLOOKUP(D74,[3]INFRA!$A$1:$F$859,2,0) -> 10016003 | F74: =VLOOKUP(D74,[2]INFRA!$A$1:$E$847,2,0) -> PLACA DE OBRA EM CHAPA DE AÇO GALVANIZADO | G74: =VLOOKUP(D74,ORÇ!$B$124:$I$176,8,0) -> 4.5 | H74: =VLOOKUP(D74,[2]INFRA!$A$1:$E$847,3,0) -> M2 | I74: =VLOOKUP(E74,[4]INFRA!$A$1:$D$935,4,0) -> 391.58 | J74: =ROUND(I74*G74,2) -> 1762.11 | K74: =I74*(1+$F$11) -> 486.45983 | L74: =ROUND(G74*K74,2) -> 2189.07
K75: Subtotal: | L75: =SUM(L74:L74) -> 2189.07
B76: 3.2 | F76: FRESAGEM, DEMOLIÇÕES E RETIRADAS
B77: 3.2.1 | C77: INFRA | D77: 90300 | E77: =VLOOKUP(D77,[3]INFRA!$A$1:$F$859,2,0) -> 9003000 | F77: =VLOOKUP(D77,[2]INFRA!$A$1:$E$847,2,0) -> FRESAGEM DE PAVIMENTO ASFÁLTICO COM ESPESSURA ATÉ 5CM, EM VIAS EXPRESSAS, INCLUSIVE REMOÇÃO DO MATERIAL FRESADO ATÉ 10KM E VARRIÇÃO | G77: =VLOOKUP(D77,ORÇ!$B$124:$I$178,8,0) -> 372.43 | H77: =VLOOKUP(D77,[2]INFRA!$A$1:$E$847,3,0) -> M2 | I77: =VLOOKUP(E77,[4]INFRA!$A$1:$D$935,4,0) -> 17.77 | J77: =ROUND(I77*G77,2) -> 6618.08 | K77: =I77*(1+$F$11) -> 22.075671 | L77: =ROUND(G77*K77,2) -> 8221.64
B78: 3.2.2 | C78: INFRA | D78: 50300 | E78: =VLOOKUP(D78,[3]INFRA!$A$1:$F$859,2,0) -> 5003000 | F78: =VLOOKUP(D78,[2]INFRA!$A$1:$E$847,2,0) -> DEMOLIÇÃO DE PAVIMENTO DE CONCRETO, SARJETA OU SARJETÃO, INCLUI CARGA EM CAMINHÃO | G78: =VLOOKUP(D78,ORÇ!$B$124:$I$178,8,0) -> 7 | H78: =VLOOKUP(D78,[2]INFRA!$A$1:$E$847,3,0) -> M2 | I78: =VLOOKUP(E78,[4]INFRA!$A$1:$D$935,4,0) -> 27.67 | J78: =ROUND(I78*G78,2) -> 193.69 | K78: =I78*(1+$F$11) -> 34.374441 | L78: =ROUND(G78*K78,2) -> 240.62
B79: 3.2.3 | C79: INFRA | D79: 88600 | E79: =VLOOKUP(D79,[3]INFRA!$A$1:$F$859,2,0) -> 8086000 | F79: =VLOOKUP(D79,[2]INFRA!$A$1:$E$847,2,0) -> REMOÇÃO DE ENTULHO ALÉM DO PRIMEIRO KM | G79: =VLOOKUP(D79,ORÇ!$B$124:$I$178,8,0) -> 41.769 | H79: =VLOOKUP(D79,[2]INFRA!$A$1:$E$847,3,0) -> M3XKM | I79: =VLOOKUP(E79,[4]INFRA!$A$1:$D$935,4,0) -> 1.65 | J79: =ROUND(I79*G79,2) -> 68.92 | K79: =I79*(1+$F$11) -> 2.049795 | L79: =ROUND(G79*K79,2) -> 85.62
K80: Subtotal: | L80: =SUM(L77:L79) -> 8547.88
B81: 3.3 | F81: GUIAS, SARJETAS E SARJETÕES
B82: 3.3.1 | C82: INFRA | D82: 50100 | E82: =VLOOKUP(D82,[3]INFRA!$A$1:$F$859,2,0) -> 5001000 | F82: =VLOOKUP(D82,[2]INFRA!$A$1:$E$847,2,0) -> ARRANCAMENTO DE GUIAS, INCLUI CARGA EM CAMINHÃO | G82: =VLOOKUP(D82,ORÇ!$B$124:$I$178,8,0) -> 100.45 | H82: =VLOOKUP(D82,[2]INFRA!$A$1:$E$847,3,0) -> M | I82: =VLOOKUP(E82,[4]INFRA!$A$1:$D$935,4,0) -> 10.44 | J82: =ROUND(I82*G82,2) -> 1048.7 | K82: =I82*(1+$F$11) -> 12.969612 | L82: =ROUND(G82*K82,2) -> 1302.8
B83: 3.3.2 | C83: INFRA | D83: 51402 | E83: =VLOOKUP(D83,[3]INFRA!$A$1:$F$859,2,0) -> 5014002 | F83: =VLOOKUP(D83,[2]INFRA!$A$1:$E$847,2,0) -> FORNECIMENTO E ASSENTAMENTO DE GUIAS TIPO PMSP 100, INCLUSIVE ENCOSTAMENTO DE TERRA - FCK=25,0MPA | G83: =VLOOKUP(D83,ORÇ!$B$124:$I$178,8,0) -> 100.45 | H83: =VLOOKUP(D83,[2]INFRA!$A$1:$E$847,3,0) -> M | I83: =VLOOKUP(E83,[4]INFRA!$A$1:$D$935,4,0) -> 50.25 | J83: =ROUND(I83*G83,2) -> 5047.61 | K83: =I83*(1+$F$11) -> 62.425575 | L83: =ROUND(G83*K83,2) -> 6270.65
B84: 3.3.3 | C84: INFRA | D84: 51300 | E84: =VLOOKUP(D84,[3]INFRA!$A$1:$F$859,2,0) -> 5013000 | F84: =VLOOKUP(D84,[2]INFRA!$A$1:$E$847,2,0) -> BASE DE CONCRETO FCK=15,00MPA PARA GUIAS, SARJETAS OU SARJETÕES | G84: =VLOOKUP(D84,ORÇ!$B$124:$I$178,8,0) -> 7.9324 | H84: =VLOOKUP(D84,[2]INFRA!$A$1:$E$847,3,0) -> M3 | I84: =VLOOKUP(E84,[4]INFRA!$A$1:$D$935,4,0) -> 498.12 | J84: =ROUND(I84*G84,2) -> 3951.29 | K84: =I84*(1+$F$11) -> 618.81448 | L84: =ROUND(G84*K84,2) -> 4908.68
B85: 3.3.4 | C85: INFRA | D85: 51901 | E85: =VLOOKUP(D85,[3]INFRA!$A$1:$F$859,2,0) -> 5019001 | F85: =VLOOKUP(D85,[2]INFRA!$A$1:$E$847,2,0) -> CONSTRUÇÃO DE SARJETA OU SARJETÃO DE CONCRETO - FCK=25,0MPA | G85: =VLOOKUP(D85,ORÇ!$B$124:$I$178,8,0) -> 6.0116 | H85: =VLOOKUP(D85,[2]INFRA!$A$1:$E$847,3,0) -> M3 | I85: =VLOOKUP(E85,[4]INFRA!$A$1:$D$935,4,0) -> 632.77 | J85: =ROUND(I85*G85,2) -> 3803.96 | K85: =I85*(1+$F$11) -> 786.09017 | L85: =ROUND(G85*K85,2) -> 4725.66
B86: 3.3.5 | C86: INFRA | D86: 82300 | E86: =VLOOKUP(D86,[3]INFRA!$A$1:$F$859,2,0) -> 8023000 | F86: =VLOOKUP(D86,[2]INFRA!$A$1:$E$847,2,0) -> FORNECIMENTO E APLICAÇÃO DE TELA DE AÇO | G86: =VLOOKUP(D86,ORÇ!$B$124:$I$178,8,0) -> 62.72 | H86: =VLOOKUP(D86,[2]INFRA!$A$1:$E$847,3,0) -> KG | I86: =VLOOKUP(E86,[4]INFRA!$A$1:$D$935,4,0) -> 10.09 | J86: =ROUND(I86*G86,2) -> 632.84 | K86: =I86*(1+$F$11) -> 12.534807 | L86: =ROUND(G86*K86,2) -> 786.18
K87: Subtotal: | L87: =SUM(L82:L86) -> 17993.97
B88: 3.4 | F88: PAVIMENTAÇÃO
B89: 3.4.1 | C89: INFRA | D89: 52502 | E89: =VLOOKUP(D89,[3]INFRA!$A$1:$F$859,2,0) -> 5025002 | F89: =VLOOKUP(D89,[2]INFRA!$A$1:$E$847,2,0) -> BASE DE BINDER DENSO (SEM TRANSPORTE) | G89: =VLOOKUP(D89,ORÇ!$B$124:$I$178,8,0) -> 3.7243 | H89: =VLOOKUP(D89,[2]INFRA!$A$1:$E$847,3,0) -> M3 | I89: =VLOOKUP(E89,[4]INFRA!$A$1:$D$935,4,0) -> 1238.18 | J89: =ROUND(I89*G89,2) -> 4611.35 | K89: =I89*(1+$F$11) -> 1538.191 | L89: =ROUND(G89*K89,2) -> 5728.68
B90: 3.4.2 | C90: INFRA | D90: 57901 | E90: =VLOOKUP(D90,[3]INFRA!$A$1:$F$859,2,0) -> 5079001 | F90: =VLOOKUP(D90,[2]INFRA!$A$1:$E$847,2,0) -> CARGA, DESCARGA E TRANSPORTE DE BINDER ATÉ A DISTÂNCIA MÉDIA DE IDA E VOLTA DE 1KM | G90: =VLOOKUP(D90,ORÇ!$B$124:$I$178,8,0) -> 3.7243 | H90: =VLOOKUP(D90,[2]INFRA!$A$1:$E$847,3,0) -> M3 | I90: =VLOOKUP(E90,[4]INFRA!$A$1:$D$935,4,0) -> 21.12 | J90: =ROUND(I90*G90,2) -> 78.66 | K90: =I90*(1+$F$11) -> 26.237376 | L90: =ROUND(G90*K90,2) -> 97.72
B91: 3.4.3 | C91: INFRA | D91: 57907 | E91: =VLOOKUP(D91,[3]INFRA!$A$1:$F$859,2,0) -> 5079007 | F91: =VLOOKUP(D91,[2]INFRA!$A$1:$E$847,2,0) -> TRANSPORTE DE BINDER ALÉM DO PRIMEIRO KM | G91: =VLOOKUP(D91,ORÇ!$B$124:$I$178,8,0) -> 100.5561 | H91: =VLOOKUP(D91,[2]INFRA!$A$1:$E$847,3,0) -> M3XKM | I91: =VLOOKUP(E91,[4]INFRA!$A$1:$D$935,4,0) -> 3.06 | J91: =ROUND(I91*G91,2) -> 307.7 | K91: =I91*(1+$F$11) -> 3.801438 | L91: =ROUND(G91*K91,2) -> 382.26
B92: 3.4.4 | C92: INFRA | D92: 52600 | E92: =VLOOKUP(D92,[3]INFRA!$A$1:$F$859,2,0) -> 5026000 | F92: =VLOOKUP(D92,[2]INFRA!$A$1:$E$847,2,0) -> IMPRIMAÇÃO BETUMINOSA LIGANTE | G92: =VLOOKUP(D92,ORÇ!$B$124:$I$178,8,0) -> 372.43 | H92: =VLOOKUP(D92,[2]INFRA!$A$1:$E$847,3,0) -> M2 | I92: =VLOOKUP(E92,[4]INFRA!$A$1:$D$935,4,0) -> 6.48 | J92: =ROUND(I92*G92,2) -> 2413.35 | K92: =I92*(1+$F$11) -> 8.050104 | L92: =ROUND(G92*K92,2) -> 2998.1
B93: 3.4.5 | C93: INFRA | D93: 52800 | E93: =VLOOKUP(D93,[3]INFRA!$A$1:$F$859,2,0) -> 5028000 | F93: =VLOOKUP(D93,[2]INFRA!$A$1:$E$847,2,0) -> REVESTIMENTO DE CONCRETO ASFÁLTICO (SEM TRANSPORTE) | G93: =VLOOKUP(D93,ORÇ!$B$124:$I$178,8,0) -> 18.6215 | H93: =VLOOKUP(D93,[2]INFRA!$A$1:$E$847,3,0) -> M3 | I93: =VLOOKUP(E93,[4]INFRA!$A$1:$D$935,4,0) -> 1475.72 | J93: =ROUND(I93*G93,2) -> 27480.12 | K93: =I93*(1+$F$11) -> 1833.287 | L93: =ROUND(G93*K93,2) -> 34138.55
B94: 3.4.6 | C94: INFRA | D94: 57801 | E94: =VLOOKUP(D94,[3]INFRA!$A$1:$F$859,2,0) -> 5078001 | F94: =VLOOKUP(D94,[2]INFRA!$A$1:$E$847,2,0) -> CARGA, DESCARGA E TRANSPORTE DE CONCRETO ASFÁLTICO ATÉ A DISTÂNCIA MÉDIA DE IDA E VOLTA DE 1KM | G94: =VLOOKUP(D94,ORÇ!$B$124:$I$178,8,0) -> 18.6215 | H94: =VLOOKUP(D94,[2]INFRA!$A$1:$E$847,3,0) -> M3 | I94: =VLOOKUP(E94,[4]INFRA!$A$1:$D$935,4,0) -> 21.12 | J94: =ROUND(I94*G94,2) -> 393.29 | K94: =I94*(1+$F$11) -> 26.237376 | L94: =ROUND(G94*K94,2) -> 488.58
B95: 3.4.7 | C95: INFRA | D95: 57807 | E95: =VLOOKUP(D95,[3]INFRA!$A$1:$F$859,2,0) -> 5078007 | F95: =VLOOKUP(D95,[2]INFRA!$A$1:$E$847,2,0) -> TRANSPORTE DE CONCRETO ASFÁLTICO ALÉM DO PRIMEIRO KM | G95: =VLOOKUP(D95,ORÇ!$B$124:$I$178,8,0) -> 502.7805 | H95: =VLOOKUP(D95,[2]INFRA!$A$1:$E$847,3,0) -> M3XKM | I95: =VLOOKUP(E95,[4]INFRA!$A$1:$D$935,4,0) -> 3.06 | J95: =ROUND(I95*G95,2) -> 1538.51 | K95: =I95*(1+$F$11) -> 3.801438 | L95: =ROUND(G95*K95,2) -> 1911.29
K96: Subtotal: | L96: =SUM(L89:L95) -> 45745.18
B97: 4.5 | F97: SERVIÇOS COMPLEMENTARES
B98: 4.5.1 | C98: INFRA | D98: 62100 | E98: =VLOOKUP(D98,[3]INFRA!$A$1:$F$859,2,0) -> 6021000 | F98: =VLOOKUP(D98,[2]INFRA!$A$1:$E$847,2,0) -> LEVANTAMENTO OU REBAIXAMENTO DE TAMPÃO DE POÇO DE VISITA | G98: =VLOOKUP(D98,ORÇ!$B$124:$I$178,8,0) -> 1 | H98: =VLOOKUP(D98,[2]INFRA!$A$1:$E$847,3,0) -> UN | I98: =VLOOKUP(E98,[4]INFRA!$A$1:$D$935,4,0) -> 186.6 | J98: =ROUND(I98*G98,2) -> 186.6 | K98: =I98*(1+$F$11) -> 231.81318 | L98: =ROUND(G98*K98,2) -> 231.81
K99: Subtotal: | L99: =SUM(L97:L98) -> 231.81
B100: TOTAL RUA MARCELO GARCIA: | L100: =SUM(L72:L99)/2 -> 74707.91
B101: 4 | F101: =ORÇ!C183 -> RUA ANTÔNIO AUGUSTO FERREIRA
B102: 4.1 | F102: SERVIÇOS PRELIMINARES
B103: 4.1.1 | C103: INFRA | D103: 101603 | E103: =VLOOKUP(D103,[3]INFRA!$A$1:$F$859,2,0) -> 10016003 | F103: =VLOOKUP(D103,[2]INFRA!$A$1:$E$847,2,0) -> PLACA DE OBRA EM CHAPA DE AÇO GALVANIZADO | G103: =VLOOKUP(D103,ORÇ!$B$184:$I$230,8,0) -> 4.5 | H103: =VLOOKUP(D103,[2]INFRA!$A$1:$E$847,3,0) -> M2 | I103: =VLOOKUP(E103,[4]INFRA!$A$1:$D$935,4,0) -> 391.58 | J103: =ROUND(I103*G103,2) -> 1762.11 | K103: =I103*(1+$F$11) -> 486.45983 | L103: =ROUND(G103*K103,2) -> 2189.07
K104: Subtotal: | L104: =SUM(L103:L103) -> 2189.07
B105: 4.2 | F105: FRESAGEM, DEMOLIÇÕES E RETIRADAS
B106: 4.2.1 | C106: INFRA | D106: 90300 | E106: =VLOOKUP(D106,[3]INFRA!$A$1:$F$859,2,0) -> 9003000 | F106: =VLOOKUP(D106,[2]INFRA!$A$1:$E$847,2,0) -> FRESAGEM DE PAVIMENTO ASFÁLTICO COM ESPESSURA ATÉ 5CM, EM VIAS EXPRESSAS, INCLUSIVE REMOÇÃO DO MATERIAL FRESADO ATÉ 10KM E VARRIÇÃO | G106: =VLOOKUP(D106,ORÇ!$B$184:$I$230,8,0) -> 1237.62 | H106: =VLOOKUP(D106,[2]INFRA!$A$1:$E$847,3,0) -> M2 | I106: =VLOOKUP(E106,[4]INFRA!$A$1:$D$935,4,0) -> 17.77 | J106: =ROUND(I106*G106,2) -> 21992.51 | K106: =I106*(1+$F$11) -> 22.075671 | L106: =ROUND(G106*K106,2) -> 27321.29
...

Sheet Planilha2
A1: PREFEITURA MUNICIPAL DE FERRAZ DE VASCONCELOS
A2: SECRETARIA MUNICIPAL DE OBRAS
A3: ATUALIZAÇÃO DE COMPOSIÇÃO ATRAVES DE ATUALIZAÇÃO DOS INSUMOS
A5: Com a Nova atualização da SIURB o item 05-42-00 PASSEIO DE CONCRETO FCK=15,0MPA, INCLUSIVE PREPARO DE CAIXA E LASTRO DE BRITA deixou de existir, para a atualização de seu custo unitário foi realizado a atualização dos insumos utilizados para a composição do item utilizando a data-base mais recente publicada com versão Jan/24
A10: DATA BASE SIURB-I JUL/23
A11: 54200 | B11: PASSEIO DE CONCRETO FCK=15,0MPA, INCLUSIVE PREPARO DE CAIXA E LASTRO DE BRITA | H11: M3 | J11: 739.59
C12: 2020 | D12: PEDREIRO (SGSP) | E12: H | F12: 28.36 | G12: 3 | I12: 85.096
C13: 2099 | D13: SERVENTE (SGSP) | E13: H | F13: 23.05 | G13: 6 | I13: 138.3099
C14: 10522 | D14: CONCRETO USINADO, BRITA 1E2,SLUMP 5+OU-1cm / FCK= 15,0MPA | E14: M3 | F14: 399.25 | G14: 1.03 | I14: 411.2275
C15: 10555 | D15: PEDRA BRITADA NÚMERO 3 E 4 | E15: M3 | F15: 134.06 | G15: 0.4286 | I15: 57.4581
C16: 11044 | D16: PINUS - RIPA DE 1/2" X 3" - BRUTA | E16: M | F16: 1.9 | G16: 25 | I16: 47.5
A18: DATA BASE SIURB-I JAN/24
A19: 54200 | B19: PASSEIO DE CONCRETO FCK=15,0MPA, INCLUSIVE PREPARO DE CAIXA E LASTRO DE BRITA | H19: M3 | J19: =ROUND(SUM(I20:I24),2) -> 764.34
C20: 2020 | D20: PEDREIRO (SGSP) | E20: H | F20: 28.21 | G20: 3 | I20: =F20*G20 -> 84.63
C21: 2099 | D21: SERVENTE (SGSP) | E21: H | F21: 23.05 | G21: 6 | I21: =F21*G21 -> 138.3
C22: 10522 | D22: CONCRETO USINADO, BRITA 1E2,SLUMP 5+OU-1cm / FCK= 15,0MPA | E22: M3 | F22: 418.96 | G22: 1.03 | I22: =F22*G22 -> 431.5288
C23: 10555 | D23: PEDRA BRITADA NÚMERO 3 E 4 | E23: M3 | F23: 139.71 | G23: 0.4286 | I23: =F23*G23 -> 59.879706
C24: 11044 | D24: PINUS - RIPA DE 1/2" X 3" - BRUTA | E24: M | F24: 2 | G24: 25 | I24: =F24*G24 -> 50

Sheet Planilha1
B3: PREFEITURA MUNICIPAL DE FERRAZ DE VASCONCELOS
B4: SECRETARIA MUNICIPAL DE OBRAS
B5: CRONOGRAMA FISICO-FINANCEIRO
B8: =Planilha!D9&Planilha!F9 -> Fresagem e Recapeamento da Rua Alfredo Regner, Rua Borba Gato, Rua Marcelo Garcia, Rua Antonio Augusto Ferreira, Rua Marinalva dos Santos e Pavimentação da Rua Sandelia Andena
B10: Descrição | C10: MESES | V10: Valor do Item | W10: %
C11: 1 | D11: 2 | E11: 3 | F11: 4 | G11: 5 | H11: 6 | I11: 7 | J11: 8 | K11: 9 | L11: 10 | M11: 11 | N11: 12 | O11: 13 | P11: 14 | Q11: 15 | R11: 16 | S11: 17 | T11: 18 | U11: 19
B12: =Planilha!B14&" - "&Planilha!F14 -> 1 - RUA ALFREDO REGNER | V12: =Planilha!L42 -> 253364.43 | W12: =V12/$V$33 -> 0.12133759
C13: x | D13: x
C14: =V12/2 -> 126682.21 | D14: =C14 -> 126682.21
B15: =Planilha!B43&" - "&Planilha!F43 -> 2 - RUA BORBA GATO | V15: =Planilha!L71 -> 200337.73 | W15: =V15/$V$33 -> 0.095942816
C16: x | D16: x
C17: =V15/2 -> 100168.86 | D17: =C17 -> 100168.86
B18: =Planilha!B72&" - "&Planilha!F72 -> 3 - RUA MARCELO GARCIA | V18: =Planilha!L100 -> 74707.91 | W18: =V18/$V$33 -> 0.03577802
D19: x | E19: x
D20: =V18/2 -> 37353.955 | E20: =D20 -> 37353.955
B21: =Planilha!B101&" - "&Planilha!F101 -> 4 - RUA ANTÔNIO AUGUSTO FERREIRA | V21: =Planilha!L126 -> 233616.31 | W21: =V21/$V$33 -> 0.11188011
D22: x | E22: x
D23: =V21/2 -> 116808.15 | E23: =D23 -> 116808.15
B24: =Planilha!B127&" - "&Planilha!F127 -> 5 - RUA MARINALVA DOS SANTOS | V24: =Planilha!L155 -> 232599.58 | W24: =V24/$V$33 -> 0.11139319
E25: x | F25: x | G25: x
E26: =V24/3 -> 77533.193 | F26: =E26 -> 77533.193 | G26: =F26 -> 77533.193
B27: =Planilha!B156&" - "&Planilha!F156 -> 6 - RUA SANDELIA ANDENA TRECHO 1 | V27: =Planilha!L186 -> 113495.98 | W27: =V27/$V$33 -> 0.054353835
G28: x | H28: x
G29: =V27/2 -> 56747.99 | H29: =G29 -> 56747.99
B30: =Planilha!B187&" - "&Planilha!F187 -> 7 - RUA SANDELIA ANDENA TRECHO 2 | V30: =Planilha!L211 -> 979973.23 | W30: =V30/$V$33 -> 0.46931445
F31: x | G31: x | H31: x | I31: x | J31: x
F32: =G32 -> 195994.65 | G32: =V30/5 -> 195994.65 | H32: =G32 -> 195994.65 | I32: =H32 -> 195994.65 | J32: =I32 -> 195994.65
B33: TOTAL GERAL: | C33: =SUM(C12:C32) -> 226851.08 | D33: =SUM(D12:D32) -> 381013.19 | E33: =SUM(E12:E32) -> 231695.3 | F33: =SUM(F12:F32) -> 273527.84 | G33: =SUM(G12:G32) -> 330275.83 | H33: =SUM(H12:H32) -> 252742.64 | I33: =SUM(I12:I32) -> 195994.65 | J33: =SUM(J12:J32) -> 195994.65 | N33: TOTAL GERAL: | V33: =SUM(V12:V32) -> 2088095.2 | W33: =SUM(W12:W32) -> 1
C38: André Felipe Maia Alfonzo
C39: Engenheiro Civil
C40: CREA-SP 5070657923

Sheet Cronograma estado
C2: GOVERNO DO ESTADO DE SÃO PAULO SECRETARIA DE GOVERNO E RELAÕES INSTITUCIONAIS | I2: MUNICÍPIO: FERRAZ DE VASCONCELOS | K2: DATA BASE: JULHO/23
C4: OBJETO: | J4: PRAZO PROPOSTO
C5: =Planilha!F9 -> Fresagem e Recapeamento da Rua Alfredo Regner, Rua Borba Gato, Rua Marcelo Garcia, Rua Antonio Augusto Ferreira, Rua Marinalva dos Santos e Pavimentação da Rua Sandelia Andena | J5: INÍCIO: data da assinatura do convênio
J6: FINAL: 720 dias à partir da data da assinatura do convênio
B9: ITEM | C9: SERVIÇO | G9: UNIDADE | H9: 1ª ETAPA | J9: TOTAL
H10: PERIODO 720 DIAS
H11: Prazo de liberação: em 30 dias após a conclusão da etapa. | I11: PRAZO DE EXECUÇÃO
I12: 690 DIAS
B13: 1 | C13: =Planilha!F14 -> RUA ALFREDO REGNER | G13: M2 | H13: =J13 -> 1201.4896 | J13: =Planilha!G19 -> 1201.4896
G14: R$ | H14: =J14 -> 253364.43 | J14: =Planilha!L42 -> 253364.43
B15: =Planilha!B43 -> 2 | C15: =Planilha!F43 -> RUA BORBA GATO | G15: M2 | H15: =J15 -> 1073.1 | J15: =Planilha!G48 -> 1073.1
G16: R$ | H16: =J16 -> 200337.73 | J16: =Planilha!L71 -> 200337.73
B17: =Planilha!B72 -> 3 | C17: =Planilha!F72 -> RUA MARCELO GARCIA | G17: M2 | H17: =J17 -> 372.43 | J17: =Planilha!G77 -> 372.43
G18: R$ | H18: =J18 -> 74707.91 | J18: =Planilha!L100 -> 74707.91
B19: =Planilha!B101 -> 4 | C19: =Planilha!F101 -> RUA ANTÔNIO AUGUSTO FERREIRA | G19: M2 | H19: =J19 -> 1237.62 | J19: =Planilha!G106 -> 1237.62
G20: R$ | H20: =J20 -> 233616.31 | J20: =Planilha!L126 -> 233616.31
B21: =Planilha!B127 -> 5 | C21: =Planilha!F127 -> RUA MARINALVA DOS SANTOS | G21: M2 | H21: =J21 -> 1169.76 | J21: =Planilha!G132 -> 1169.76
G22: R$ | H22: =J22 -> 232599.58 | J22: =Planilha!L155 -> 232599.58
B23: =Planilha!B156 -> 6 | C23: =Planilha!F156 -> RUA SANDELIA ANDENA TRECHO 1 | G23: M2 | H23: =J23 -> 370.52 | J23: =Planilha!G170 -> 370.52
G24: R$ | H24: =J24 -> 113495.98 | J24: =Planilha!L186 -> 113495.98
B25: =Planilha!B187 -> 7 | C25: =Planilha!F187 -> RUA SANDELIA ANDENA TRECHO 2 | G25: M2 | H25: =J25 -> 1516.26 | J25: =Planilha!G200 -> 1516.26
G26: R$ | H26: =J26 -> 979973.23 | J26: =Planilha!L211 -> 979973.23
B28: RECURSOS ESTADUAL | H28: 2000000 | J28: 2000000
B29: RECURSOS PRÓPRIO | H29: =H14-H28+H16+H18+H20+H22+H24+H26 -> 88095.17 | J29: =J30-J28 -> 88095.17
B30: TOTAL | H30: =H29+H28 -> 2088095.2 | J30: =H30 -> 2088095.2
B34: ASSINATURA: | E34: CREA / CAU: A25097-0 | F34: 5070657923
C35: =[7]Planilha!E50 -> André Felipe Maia Alfonzo | E35: ART / RRT: 28027230231742390

Sheet Cronograma estado (2)
D2: GOVERNO DO ESTADO DE SÃO PAULO SECRETARIA DE GOVERNO E RELAÕES INSTITUCIONAIS | J2: MUNICÍPIO: FERRAZ DE VASCONCELOS | N2: DATA BASE: JULHO/23
D4: OBJETO: | M4: PRAZO PROPOSTO
D5: =Planilha!F9 -> Fresagem e Recapeamento da Rua Alfredo Regner, Rua Borba Gato, Rua Marcelo Garcia, Rua Antonio Augusto Ferreira, Rua Marinalva dos Santos e Pavimentação da Rua Sandelia Andena | M5: INÍCIO: data da assinatura do convênio
M6: FINAL: 720 dias à partir da data da assinatura do convênio
B9: ITEM | C9: SERVIÇO | G9: UNIDADE | H9: 1ª ETAPA | J9: 2ª ETAPA | L9: 3ª ETAPA | N9: TOTAL
H10: PERIODO 240 DIAS | J10: PERIODO 240 DIAS | L10: PERIODO 240 DIAS
H11: Prazo de liberação: em 30 dias após a expedição da ordem de serviço | I11: PRAZO DE EXECUÇÃO 210 DIAS | J11: Prazo de liberação: em 30 dias após a expedição da ordem de serviço | K11: PRAZO DE EXECUÇÃO 210 DIAS | L11: Prazo de liberação: em 30 dias após a expedição da ordem de serviço | M11: PRAZO DE EXECUÇÃO 210 DIAS
B13: 1 | C13: =D5 -> Fresagem e Recapeamento da Rua Alfredo Regner, Rua Borba Gato, Rua Marcelo Garcia, Rua Antonio Augusto Ferreira, Rua Marinalva dos Santos e Pavimentação da Rua Sandelia Andena | G13: M2 | H13: =N13/3 -> 2313.7265 | J13: =N13/3 -> 2313.7265 | L13: =N13/3 -> 2313.7265 | N13: ='Cronograma estado'!J13+'Cronograma estado'!J15+'Cronograma estado'!J17+'Cronograma estado'!J19+'Cronograma estado'!J21+'Cronograma estado'!J23+'Cronograma estado'!J25 -> 6941.1796
G14: R$ | H14: =N14/3 -> 696031.72 | J14: =N14/3 -> 696031.72 | L14: =N14/3 -> 696031.72 | N14: =Planilha!L212 -> 2088095.2
N15: =SUM(H15:I15) -> 0
N16: =SUM(H16:I16) -> 0
N17: =SUM(H17:I17) -> 0
N18: =SUM(H18:I18) -> 0
N19: =SUM(H19:I19) -> 0
N20: =SUM(H20:I20) -> 0
N21: =SUM(H21:I21) -> 0
N22: =SUM(H22:I22) -> 0
N23: =SUM(H23:I23) -> 0
N24: =SUM(H24:I24) -> 0
B26: RECURSOS ESTADUAL | H26: 666666.66 | J26: 666666.67 | L26: 666666.67 | N26: 2000000
B27: RECURSOS PRÓPRIO | H27: =H14-H26+H16+H18 -> 29365.063 | J27: =J14-J26+J16+J18 -> 29365.053 | L27: =L14-L26+L16+L18 -> 29365.053 | N27: =N28-N26 -> 88095.17
B28: TOTAL | H28: =H27+H26 -> 696031.72 | J28: =J27+J26 -> 696031.72 | L28: =L27+L26 -> 696031.72 | N28: =H28+J28+L28 -> 2088095.2
B32: ASSINATURA: | E32: CREA / CAU: A25097-0 | F32: 5070657923
C33: =[7]Planilha!E50 -> André Felipe Maia Alfonzo | E33: ART / RRT:
