Workbook
Name AreaTeste: #REF!
Name AreaTeste: #REF!
Name AreaTeste: #REF!
Name AreaTeste2: #REF!
Name AreaTeste2: #REF!
Name AreaTeste2: #REF!
Name CélulaInicioPlanilha: #REF!
Name CélulaInicioPlanilha: #REF!
Name CélulaInicioPlanilha: #REF!
Name CélulaResumo: #REF!
Name CélulaResumo: #REF!
Name CélulaResumo: #REF!
Name Excel_BuiltIn_Database: #REF!
Name Excel_BuiltIn_Database: #REF!
Name Excel_BuiltIn_Database: #REF!
Name Excel_BuiltIn_Database_2: #REF!
Name Excel_BuiltIn_Database_2: #REF!
Name Excel_BuiltIn_Database_2: #REF!
Name Print_Area: ORÇ!$B$2:$I$67
Name Print_Area: Planilha!$B$13:$L$229
Name Print_Area: 'Planilha (2)'!$B$13:$E$112

Sheet ORÇ
D2: MEMÓRIA DE CÁLCULO
G3: Processo:
G4: Data-Base: jun/2021
E5: MEDIÇÃO:
B6: ="OBRA: "&Planilha!F9 -> OBRA: Fresagem e Recapeamento da Rua Alfredo Regner, Rua Borba Gato, Rua Marcelo Garcia, Rua Antonio Augusto Ferreira, Rua Marinalva dos Santos e Pavimentação da Rua Sandelia Andena | G6: LOCAL: Ferraz de Vasconcelos
B7: CÓDIGO: | G7: CONTRATO:
B9: CÓDIGO | C9: DESCRIÇÃO DOS SERVIÇOS | H9: UNID | I9: QUANT
C11: RUA ALFREDO REGNER
C12: 1 - SERVIÇOS PRELIMINARES | L12: =K12*I12 -> 0 | M12: =B12 -> 0
B13: 101603 | C13: =VLOOKUP(B13,'[1]INFRA SEM Des Jul21'!$A$1:$D$854,2,0) -> PLACA DE OBRA EM CHAPA DE AÇO GALVANIZADO | H13: =VLOOKUP(B13,'[1]INFRA SEM Des Jul21'!$A$1:$D$854,3,0) -> M2 | I13: 4.5 | K13: =VLOOKUP(B13,[2]INFRA!$A$1:$E$847,4,0)*1.2423 -> 490.39792 | L13: =ROUND(K13*I13,2) -> 2206.79 | M13: =B13 -> 101603
C14: Placa: 3,00x2,00= 6,00m² | L14: =ROUND(K14*I14,2) -> 0 | M14: =B14 -> 0
L15: =ROUND(K15*I15,2) -> 0 | M15: =B15 -> 0
C16: 2 - FRESAGEM, DEMOLIÇÕES E RETIRADAS | L16: =ROUND(K16*I16,2) -> 0 | M16: =B16 -> 0
B17: 90300 | C17: =VLOOKUP(B17,'[1]INFRA SEM Des Jul21'!$A$1:$D$854,2,0) -> FRESAGEM DE PAVIMENTO ASFÁLTICO COM ESPESSURA ATÉ 5CM, EM VIAS EXPRESSAS, INCLUSIVE REMOÇÃO DO MATERIAL FRESADO ATÉ 10KM E VARRIÇÃO | H17: =VLOOKUP(B17,'[1]INFRA SEM Des Jul21'!$A$1:$D$854,3,0) -> M2 | I17: =J18 -> 1201.49 | K17: =VLOOKUP(B17,[2]INFRA!$A$1:$E$847,4,0)*1.2423 -> 21.342714 | L17: =ROUND(K17*I17,2) -> 25643.06 | M17: =B17 -> 90300 | O17: =L13 -> 2206.79
C18: Ver projeto | J18: 1201.49 | L18: =ROUND(K18*I18,2) -> 0 | M18: =B18 -> 0
L19: =ROUND(K19*I19,2) -> 0 | M19: =B19 -> 0
B20: 50300 | C20: DEMOLIÇÃO DE PAVIMENTO DE CONCRETO, SARJETA OU SARJETÃO, INCLUI CARGA EM CAMINHÃO | H20: M2 | I20: =J21 -> 17 | K20: =VLOOKUP(B20,[2]INFRA!$A$1:$E$847,4,0)*1.2423 -> 32.597952 | L20: =ROUND(K20*I20,2) -> 554.17 | M20: =B20 -> 50300
C21: Sarjetão (ver tabela)= 24,90m² | J21: 17 | L21: =ROUND(K21*I21,2) -> 0 | M21: =B21 -> 0
L22: =ROUND(K22*I22,2) -> 0 | M22: =B22 -> 0
B23: 88600 | C23: REMOÇÃO DE ENTULHO ALÉM DO PRIMEIRO KM | H23: M3XKM | I23: =SUM(J24:J25) -> 101.439 | K23: =VLOOKUP(B23,[2]INFRA!$A$1:$E$847,4,0)*1.2423 -> 2.621253 | L23: =ROUND(K23*I23,2) -> 265.9 | M23: =B23 -> 88600
C24: Ver item 05.03.00 x 0,17 + 30% de empolamento x 10 km= 55,03m³xkm | J24: =(I20*0.17)*1.3*27 -> 101.439 | L24: =ROUND(K24*I24,2) -> 0 | M24: =B24 -> 0
L25: =ROUND(K25*I25,2) -> 0 | M25: =B25 -> 0 | O25: =SUM(L17:L23) -> 26463.13
C26: 3 - GUIAS, SARJETAS E SARJETÕES | L26: =ROUND(K26*I26,2) -> 0 | M26: =B26 -> 0
B27: 50100 | C27: =VLOOKUP(B27,'[1]INFRA SEM Des Jul21'!$A$1:$D$854,2,0) -> ARRANCAMENTO DE GUIAS, INCLUI CARGA EM CAMINHÃO | H27: =VLOOKUP(B27,'[1]INFRA SEM Des Jul21'!$A$1:$D$854,3,0) -> M | I27: 441.76 | K27: =VLOOKUP(B27,[2]INFRA!$A$1:$E$847,4,0)*1.2423 -> 12.348462 | L27: =ROUND(K27*I27,2) -> 5455.06 | M27: =B27 -> 50100
L28: =ROUND(K28*I28,2) -> 0
L29: =ROUND(K29*I29,2) -> 0
B30: 51402 | C30: =VLOOKUP(B30,'[1]INFRA SEM Des Jul21'!$A$1:$D$854,2,0) -> FORNECIMENTO E ASSENTAMENTO DE GUIAS TIPO PMSP 100, INCLUSIVE ENCOSTAMENTO DE TERRA - FCK=25,0MPA | H30: =VLOOKUP(B30,'[1]INFRA SEM Des Jul21'!$A$1:$D$854,3,0) -> M | I30: =SUM(J31:J32) -> 441.76 | K30: =VLOOKUP(B30,[2]INFRA!$A$1:$E$847,4,0)*1.2423 -> 63.742413 | L30: =ROUND(K30*I30,2) -> 28158.85 | M30: =B30 -> 51402
J31: =I27 -> 441.76 | L31: =ROUND(K31*I31,2) -> 0 | M31: =B31 -> 0
L32: =ROUND(K32*I32,2) -> 0 | M32: =B32 -> 0
B33: 51300 | C33: BASE DE CONCRETO FCK=15,00MPA PARA GUIAS, SARJETAS OU SARJETÕES | H33: M3 | I33: =SUM(J34:J35) -> 33.50672 | K33: =VLOOKUP(B33,[2]INFRA!$A$1:$E$847,4,0)*1.2423 -> 612.95082 | L33: =ROUND(K33*I33,2) -> 20537.97 | M33: =B33 -> 51300
J34: =(J21*0.1)+(I27*0.16*0.45) -> 33.50672 | L34: =ROUND(K34*I34,2) -> 0
L35: =ROUND(K35*I35,2) -> 0
B36: 51901 | C36: CONSTRUÇÃO DE SARJETA OU SARJETÃO DE CONCRETO - FCK=25,0MPA | H36: M3 | I36: =SUM(J37:J38) -> 24.09448 | K36: =VLOOKUP(B36,[2]INFRA!$A$1:$E$847,4,0)*1.2423 -> 759.03288 | L36: =ROUND(K36*I36,2) -> 18288.5 | M36: =B36 -> 51901
C37: Sarjetão: 24,90 x 0,17= 4,23m³ | J37: =(J21*0.17)+(I27*0.16*0.3) -> 24.09448 | L37: =ROUND(K37*I37,2) -> 0 | M37: =B37 -> 0
L38: =ROUND(K38*I38,2) -> 0 | M38: =B38 -> 0
B39: 82300 | C39: FORNECIMENTO E APLICAÇÃO DE TELA DE AÇO | H39: KG | I39: =J40 -> 152.32 | K39: =VLOOKUP(B39,[2]INFRA!$A$1:$E$847,4,0)*1.2423 -> 14.075259 | L39: =ROUND(K39*I39,2) -> 2143.94 | M39: =B39 -> 82300
C40: Sarjetão: 24,90m² x 4,48kg/m² x 2 (malha dupla)= 223,10kg | J40: =I20*4.48*2 -> 152.32 | L40: =ROUND(K40*I40,2) -> 0 | M40: =B40 -> 0 | O40: =SUM(L27:L39) -> 74584.32
L41: =ROUND(K41*I41,2) -> 0 | M41: =B41 -> 0
C42: 4 - PAVIMENTAÇÃO | L42: =ROUND(K42*I42,2) -> 0 | M42: =B42 -> 0
B43: 52502 | C43: BASE DE BINDER DENSO (SEM TRANSPORTE) | H43: M3 | I43: =J44 -> 12.0149 | K43: =VLOOKUP(B43,[2]INFRA!$A$1:$E$847,4,0)*1.2423 -> 1436.6206 | L43: =ROUND(K43*I43,2) -> 17260.85 | M43: =B43 -> 52502
...

Sheet Planilha (2)
C3: PREFEITURA MUNICIPAL DE FERRAZ DE VASCONCELOS
C4: SECRETARIA MUNICIPAL DE OBRAS
C5: PLANILHA ORÇAMENTÁRIA
C9: Fresagem e Recapeamento da Rua Alfredo Regner, Rua Borba Gato, Rua Marcelo Garcia, Rua Antonio Augusto Ferreira, Rua Marinalva dos Santos e Pavimentação da Rua Sandelia Andena
C10: SIURB (Janeiro/2024) sem desoneração
C11: 0.2423
B13: Item | C13: Descrição | D13: Quantidade | E13: Total com BDI
B14: 7.3.8 | C14: REVESTIMENTO DE CONCRETO ASFÁLTICO (SEM TRANSPORTE) | D14: 347.05899 | E14: 598933.95
B15: 7.2.1 | C15: PASSEIO DE CONCRETO FCK=15,0MPA, INCLUSIVE PREPARO DE CAIXA E LASTRO DE BRITA | D15: 208.572 | E15: 198047.36
B16: 7.2.4 | C16: CONSTRUÇÃO DE SARJETA OU SARJETÃO DE CONCRETO - FCK=25,0MPA | D16: 240.07167 | E16: 189186.21
B17: 7.3.3 | C17: BASE DE BINDER DENSO (SEM TRANSPORTE) | D17: 130.0622 | E17: 187997.24 | G17: 240.07167 | H17: 189186.21
B18: 7.2.2 | C18: BASE DE CONCRETO FCK=15,00MPA PARA GUIAS, SARJETAS OU SARJETÕES | D18: 283.49953 | E18: 167914.33 | F18: =D18+#REF!+#REF!+#REF!+#REF!+#REF!+#REF! -> #REF! | G18: =E18+#REF!+#REF!+#REF!+#REF!+#REF!+#REF! -> #REF!
B19: 7.3.2 | C19: BASE DE BRITA GRADUADA | D19: 227.439 | E19: 66288.46
B20: 7.2.3 | C20: ASSENTAMENTO DE GUIAS TIPO PMSP 100, INCLUSIVE ENCOSTAMENTO DE TERRA | D20: 2336 | E20: 57633.97
B21: 7.3.1 | C21: ABERTURA DE CAIXA ATÉ 25CM, INCLUI ESCAVAÇÃO, COMPACTAÇÃO, TRANSPORTE E PREPARO DO SUB-LEITO | D21: 1516.26 | E21: 43926.71
B22: 7.3.6 | C22: IMPRIMAÇÃO BETUMINOSA LIGANTE | D22: 3032.52 | E22: 28782.17
B23: 7.3.7 | C23: IMPRIMAÇÃO BETUMINOSA IMPERMEABILIZANTE | D23: 1516.26 | E23: 27651.98
B24: 4.2.1 | C24: FRESAGEM DE PAVIMENTO ASFÁLTICO COM ESPESSURA ATÉ 5CM, EM VIAS EXPRESSAS, INCLUSIVE REMOÇÃO DO MATERIAL FRESADO ATÉ 10KM E VARRIÇÃO | D24: 1237.62 | E24: 27444.29
B25: 1.3.2 | C25: FORNECIMENTO E ASSENTAMENTO DE GUIAS TIPO PMSP 100, INCLUSIVE ENCOSTAMENTO DE TERRA - FCK=25,0MPA | D25: 441.76 | E25: 27412.48
B26: 7.1.3 | C26: TRANSPORTE DE TERRA POR CAMINHÃO BASCULANTE, A PARTIR DE 1KM | D26: 7369.0236 | E26: 27188.98
B27: 1.2.1 | C27: FRESAGEM DE PAVIMENTO ASFÁLTICO COM ESPESSURA ATÉ 5CM, EM VIAS EXPRESSAS, INCLUSIVE REMOÇÃO DO MATERIAL FRESADO ATÉ 10KM E VARRIÇÃO | D27: 1201.4896 | E27: 26643.1
B28: 5.2.1 | C28: FRESAGEM DE PAVIMENTO ASFÁLTICO COM ESPESSURA ATÉ 5CM, EM VIAS EXPRESSAS, INCLUSIVE REMOÇÃO DO MATERIAL FRESADO ATÉ 10KM E VARRIÇÃO | D28: 1169.76 | E28: 25939.49
B29: 2.2.1 | C29: FRESAGEM DE PAVIMENTO ASFÁLTICO COM ESPESSURA ATÉ 5CM, EM VIAS EXPRESSAS, INCLUSIVE REMOÇÃO DO MATERIAL FRESADO ATÉ 10KM E VARRIÇÃO | D29: 1073.1 | E29: 23796.05
B30: 7.1.1 | C30: CORTE E ATERRO COMPACTADO | D30: 909.756 | E30: 22649.01
... B106: 3.2.3 | C106: REMOÇÃO DE ENTULHO ALÉM DO PRIMEIRO KM | D106: 41.769 | E106: 85.1

Sheet Planilha
F3: PREFEITURA MUNICIPAL DE FERRAZ DE VASCONCELOS
F4: SECRETARIA MUNICIPAL DE OBRAS
F5: PLANILHA ORÇAMENTÁRIA
E9: Obra: | F9: Fresagem e Recapeamento da Rua Alfredo Regner, Rua Borba Gato, Rua Marcelo Garcia, Rua Antonio Augusto Ferreira, Rua Marinalva dos Santos e Pavimentação da Rua Sandelia Andena
E10: Referência: | F10: SIURB (Janeiro/2024) sem desoneração
E11: BDI Utilizado: | F11: 0.2423
B13: Item | C13: Referencia | D13: Código | F13: Descrição | G13: Quantidade | H13: Unid | I13: Preço Unit | J13: Total | K13: Preço Unit com BDI | L13: Total com BDI
B14: 1 | F14: =ORÇ!C11 -> RUA ALFREDO REGNER
B15: 1.1 | F15: SERVIÇOS PRELIMINARES
B16: 1.1.1 | C16: INFRA | D16: =ORÇ!B13 -> 101603 | E16: =VLOOKUP(D16,[3]INFRA!$A$1:$F$859,2,0) -> 10016003 | F16: =VLOOKUP(D16,[2]INFRA!$A$1:$E$847,2,0) -> PLACA DE OBRA EM CHAPA DE AÇO GALVANIZADO | G16: =VLOOKUP(D16,ORÇ!$B$12:$I$67,8,0) -> 4.5 | H16: =VLOOKUP(D16,[2]INFRA!$A$1:$E$847,3,0) -> M2 | I16: =VLOOKUP(E16,[4]INFRA!$A$1:$D$935,4,0) -> 391.58 | J16: =ROUND(I16*G16,2) -> 1762.11 | K16: =I16*(1+$F$11) -> 486.45983 | L16: =ROUND(G16*K16,2) -> 2189.07
K17: Subtotal: | L17: =SUM(L16:L16) -> 2189.07 | M17: =L17+L46+L75+L104 -> 8756.28 | N17: =[5]Planilha!$K$17 -> 8827.16
B18: 1.2 | F18: FRESAGEM, DEMOLIÇÕES E RETIRADAS
B19: 1.2.1 | C19: INFRA | D19: =ORÇ!B17 -> 90300 | E19: =VLOOKUP(D19,[3]INFRA!$A$1:$F$859,2,0) -> 9003000 | F19: =VLOOKUP(D19,[2]INFRA!$A$1:$E$847,2,0) -> FRESAGEM DE PAVIMENTO ASFÁLTICO COM ESPESSURA ATÉ 5CM, EM VIAS EXPRESSAS, INCLUSIVE REMOÇÃO DO MATERIAL FRESADO ATÉ 10KM E VARRIÇÃO | G19: =VLOOKUP(D19,ORÇ!$B$12:$I$67,8,0)-0.0004 -> 1201.4896 | H19: =VLOOKUP(D19,[2]INFRA!$A$1:$E$847,3,0) -> M2 | I19: =VLOOKUP(E19,[4]INFRA!$A$1:$D$935,4,0) -> 17.77 | J19: =ROUND(I19*G19,2) -> 21350.47 | K19: =I19*(1+$F$11) -> 22.075671 | L19: =ROUND(G19*K19,2) -> 26523.69
B20: 1.2.2 | C20: INFRA | D20: =ORÇ!B20 -> 50300 | E20: =VLOOKUP(D20,[3]INFRA!$A$1:$F$859,2,0) -> 5003000 | F20: =VLOOKUP(D20,[2]INFRA!$A$1:$E$847,2,0) -> DEMOLIÇÃO DE PAVIMENTO DE CONCRETO, SARJETA OU SARJETÃO, INCLUI CARGA EM CAMINHÃO | G20: =VLOOKUP(D20,ORÇ!$B$12:$I$67,8,0)-0.00001 -> 16.99999 | H20: =VLOOKUP(D20,[2]INFRA!$A$1:$E$847,3,0) -> M2 | I20: =VLOOKUP(E20,[4]INFRA!$A$1:$D$935,4,0) -> 27.67 | J20: =ROUND(I20*G20,2) -> 470.39 | K20: =I20*(1+$F$11) -> 34.374441 | L20: =ROUND(G20*K20,2) -> 584.37
B21: 1.2.3 | C21: INFRA | D21: =ORÇ!B23 -> 88600 | E21: =VLOOKUP(D21,[3]INFRA!$A$1:$F$859,2,0) -> 8086000 | F21: =VLOOKUP(D21,[2]INFRA!$A$1:$E$847,2,0) -> REMOÇÃO DE ENTULHO ALÉM DO PRIMEIRO KM | G21: =VLOOKUP(D21,ORÇ!$B$12:$I$67,8,0)-0.0009 -> 101.4381 | H21: =VLOOKUP(D21,[2]INFRA!$A$1:$E$847,3,0) -> M3XKM | I21: =VLOOKUP(E21,[4]INFRA!$A$1:$D$935,4,0) -> 1.65 | J21: =ROUND(I21*G21,2) -> 167.37 | K21: =I21*(1+$F$11) -> 2.049795 | L21: =ROUND(G21*K21,2) -> 207.93
K22: Subtotal: | L22: =SUM(L19:L21) -> 27315.99 | M22: =L22+L51+L80+L107 -> 87713.46 | N22: =[5]Planilha!$K$22 -> 84934.79
B23: 1.3 | F23: GUIAS, SARJETAS E SARJETÕES
B24: 1.3.1 | C24: INFRA | D24: =ORÇ!B27 -> 50100 | E24: =VLOOKUP(D24,[3]INFRA!$A$1:$F$859,2,0) -> 5001000 | F24: =VLOOKUP(D24,[2]INFRA!$A$1:$E$847,2,0) -> ARRANCAMENTO DE GUIAS, INCLUI CARGA EM CAMINHÃO | G24: =VLOOKUP(D24,ORÇ!$B$12:$I$67,8,0) -> 441.76 | H24: =VLOOKUP(D24,[2]INFRA!$A$1:$E$847,3,0) -> M | I24: =VLOOKUP(E24,[4]INFRA!$A$1:$D$935,4,0) -> 10.44 | J24: =ROUND(I24*G24,2) -> 4611.97 | K24: =I24*(1+$F$11) -> 12.969612 | L24: =ROUND(G24*K24,2) -> 5729.46
B25: 1.3.2 | C25: INFRA | D25: =ORÇ!B30 -> 51402 | E25: =VLOOKUP(D25,[3]INFRA!$A$1:$F$859,2,0) -> 5014002 | F25: =VLOOKUP(D25,[2]INFRA!$A$1:$E$847,2,0) -> FORNECIMENTO E ASSENTAMENTO DE GUIAS TIPO PMSP 100, INCLUSIVE ENCOSTAMENTO DE TERRA - FCK=25,0MPA | G25: =VLOOKUP(D25,ORÇ!$B$12:$I$67,8,0) -> 441.76 | H25: =VLOOKUP(D25,[2]INFRA!$A$1:$E$847,3,0) -> M | I25: =VLOOKUP(E25,[4]INFRA!$A$1:$D$935,4,0) -> 50.25 | J25: =ROUND(I25*G25,2) -> 22198.44 | K25: =I25*(1+$F$11) -> 62.425575 | L25: =ROUND(G25*K25,2) -> 27577.12
B26: 1.3.3 | C26: INFRA | D26: =ORÇ!B33 -> 51300 | E26: =VLOOKUP(D26,[3]INFRA!$A$1:$F$859,2,0) -> 5013000 | F26: =VLOOKUP(D26,[2]INFRA!$A$1:$E$847,2,0) -> BASE DE CONCRETO FCK=15,00MPA PARA GUIAS, SARJETAS OU SARJETÕES | G26: =VLOOKUP(D26,ORÇ!$B$12:$I$67,8,0)+0.00001 -> 33.50673 | H26: =VLOOKUP(D26,[2]INFRA!$A$1:$E$847,3,0) -> M3 | I26: =VLOOKUP(E26,[4]INFRA!$A$1:$D$935,4,0) -> 498.12 | J26: =ROUND(I26*G26,2) -> 16690.37 | K26: =I26*(1+$F$11) -> 618.81448 | L26: =ROUND(G26*K26,2) -> 20734.45
B27: 1.3.4 | C27: INFRA | D27: =ORÇ!B36 -> 51901 | E27: =VLOOKUP(D27,[3]INFRA!$A$1:$F$859,2,0) -> 5019001 | F27: =VLOOKUP(D27,[2]INFRA!$A$1:$E$847,2,0) -> CONSTRUÇÃO DE SARJETA OU SARJETÃO DE CONCRETO - FCK=25,0MPA | G27: =VLOOKUP(D27,ORÇ!$B$12:$I$67,8,0) -> 24.09448 | H27: =VLOOKUP(D27,[2]INFRA!$A$1:$E$847,3,0) -> M3 | I27: =VLOOKUP(E27,[4]INFRA!$A$1:$D$935,4,0) -> 632.77 | J27: =ROUND(I27*G27,2) -> 15246.26 | K27: =I27*(1+$F$11) -> 786.09017 | L27: =ROUND(G27*K27,2) -> 18940.43
B28: 1.3.5 | C28: INFRA | D28: =ORÇ!B39 -> 82300 | E28: =VLOOKUP(D28,[3]INFRA!$A$1:$F$859,2,0) -> 8023000 | F28: =VLOOKUP(D28,[2]INFRA!$A$1:$E$847,2,0) -> FORNECIMENTO E APLICAÇÃO DE TELA DE AÇO | G28: =VLOOKUP(D28,ORÇ!$B$12:$I$67,8,0) -> 152.32 | H28: =VLOOKUP(D28,[2]INFRA!$A$1:$E$847,3,0) -> KG | I28: =VLOOKUP(E28,[4]INFRA!$A$1:$D$935,4,0) -> 10.09 | J28: =ROUND(I28*G28,2) -> 1536.91 | K28: =I28*(1+$F$11) -> 12.534807 | L28: =ROUND(G28*K28,2) -> 1909.3
K29: Subtotal: | L29: =SUM(L24:L28) -> 74890.76 | M29: =L29+L58+L87+L113 -> 184701.43 | N29: =[5]Planilha!$K$29 -> 183946.47
B30: 1.4 | F30: PAVIMENTAÇÃO
B31: 1.4.1 | C31: INFRA | D31: =ORÇ!B43 -> 52502 | E31: =VLOOKUP(D31,[3]INFRA!$A$1:$F$859,2,0) -> 5025002 | F31: =VLOOKUP(D31,[2]INFRA!$A$1:$E$847,2,0) -> BASE DE BINDER DENSO (SEM TRANSPORTE) | G31: =VLOOKUP(D31,ORÇ!$B$12:$I$67,8,0) -> 12.0149 | H31: =VLOOKUP(D31,[2]INFRA!$A$1:$E$847,3,0) -> M3 | I31: =VLOOKUP(E31,[4]INFRA!$A$1:$D$935,4,0) -> 1238.18 | J31: =ROUND(I31*G31,2) -> 14876.61 | K31: =I31*(1+$F$11) -> 1538.191 | L31: =ROUND(G31*K31,2) -> 18481.21
B32: 1.4.2 | C32: INFRA | D32: =ORÇ!B46 -> 57901 | E32: =VLOOKUP(D32,[3]INFRA!$A$1:$F$859,2,0) -> 5079001 | F32: =VLOOKUP(D32,[2]INFRA!$A$1:$E$847,2,0) -> CARGA, DESCARGA E TRANSPORTE DE BINDER ATÉ A DISTÂNCIA MÉDIA DE IDA E VOLTA DE 1KM | G32: =VLOOKUP(D32,ORÇ!$B$12:$I$67,8,0) -> 12.0149 | H32: =VLOOKUP(D32,[2]INFRA!$A$1:$E$847,3,0) -> M3 | I32: =VLOOKUP(E32,[4]INFRA!$A$1:$D$935,4,0) -> 21.12 | J32: =ROUND(I32*G32,2) -> 253.75 | K32: =I32*(1+$F$11) -> 26.237376 | L32: =ROUND(G32*K32,2) -> 315.24
B33: 1.4.3 | C33: INFRA | D33: =ORÇ!B49 -> 57907 | E33: =VLOOKUP(D33,[3]INFRA!$A$1:$F$859,2,0) -> 5079007 | F33: =VLOOKUP(D33,[2]INFRA!$A$1:$E$847,2,0) -> TRANSPORTE DE BINDER ALÉM DO PRIMEIRO KM | G33: =VLOOKUP(D33,ORÇ!$B$12:$I$67,8,0) -> 324.4023 | H33: =VLOOKUP(D33,[2]INFRA!$A$1:$E$847,3,0) -> M3XKM | I33: =VLOOKUP(E33,[4]INFRA!$A$1:$D$935,4,0) -> 3.06 | J33: =ROUND(I33*G33,2) -> 992.67 | K33: =I33*(1+$F$11) -> 3.801438 | L33: =ROUND(G33*K33,2) -> 1233.2
B34: 1.4.4 | C34: INFRA | D34: =ORÇ!B52 -> 52600 | E34: =VLOOKUP(D34,[3]INFRA!$A$1:$F$859,2,0) -> 5026000 | F34: =VLOOKUP(D34,[2]INFRA!$A$1:$E$847,2,0) -> IMPRIMAÇÃO BETUMINOSA LIGANTE | G34: =VLOOKUP(D34,ORÇ!$B$12:$I$67,8,0)+0.0001 -> 1201.4901 | H34: =VLOOKUP(D34,[2]INFRA!$A$1:$E$847,3,0) -> M2 | I34: =VLOOKUP(E34,[4]INFRA!$A$1:$D$935,4,0) -> 6.48 | J34: =ROUND(I34*G34,2) -> 7785.66 | K34: =I34*(1+$F$11) -> 8.050104 | L34: =ROUND(G34*K34,2) -> 9672.12
B35: 1.4.5 | C35: INFRA | D35: =ORÇ!B55 -> 52800 | E35: =VLOOKUP(D35,[3]INFRA!$A$1:$F$859,2,0) -> 5028000 | F35: =VLOOKUP(D35,[2]INFRA!$A$1:$E$847,2,0) -> REVESTIMENTO DE CONCRETO ASFÁLTICO (SEM TRANSPORTE) | G35: =VLOOKUP(D35,ORÇ!$B$12:$I$67,8,0)-0.00001 -> 60.07449 | H35: =VLOOKUP(D35,[2]INFRA!$A$1:$E$847,3,0) -> M3 | I35: =VLOOKUP(E35,[4]INFRA!$A$1:$D$935,4,0) -> 1475.72 | J35: =ROUND(I35*G35,2) -> 88653.13 | K35: =I35*(1+$F$11) -> 1833.287 | L35: =ROUND(G35*K35,2) -> 110133.78
B36: 1.4.6 | C36: INFRA | D36: =ORÇ!B58 -> 57801 | E36: =VLOOKUP(D36,[3]INFRA!$A$1:$F$859,2,0) -> 5078001 | F36: =VLOOKUP(D36,[2]INFRA!$A$1:$E$847,2,0) -> CARGA, DESCARGA E TRANSPORTE DE CONCRETO ASFÁLTICO ATÉ A DISTÂNCIA MÉDIA DE IDA E VOLTA DE 1KM | G36: =VLOOKUP(D36,ORÇ!$B$12:$I$67,8,0) -> 60.0745 | H36: =VLOOKUP(D36,[2]INFRA!$A$1:$E$847,3,0) -> M3 | I36: =VLOOKUP(E36,[4]INFRA!$A$1:$D$935,4,0) -> 21.12 | J36: =ROUND(I36*G36,2) -> 1268.77 | K36: =I36*(1+$F$11) -> 26.237376 | L36: =ROUND(G36*K36,2) -> 1576.2
B37: 1.4.7 | C37: INFRA | D37: =ORÇ!B61 -> 57807 | E37: =VLOOKUP(D37,[3]INFRA!$A$1:$F$859,2,0) -> 5078007 | F37: =VLOOKUP(D37,[2]INFRA!$A$1:$E$847,2,0) -> TRANSPORTE DE CONCRETO ASFÁLTICO ALÉM DO PRIMEIRO KM | G37: =VLOOKUP(D37,ORÇ!$B$12:$I$67,8,0) -> 1622.0115 | H37: =VLOOKUP(D37,[2]INFRA!$A$1:$E$847,3,0) -> M3XKM | I37: =VLOOKUP(E37,[4]INFRA!$A$1:$D$935,4,0) -> 3.06 | J37: =ROUND(I37*G37,2) -> 4963.36 | K37: =I37*(1+$F$11) -> 3.801438 | L37: =ROUND(G37*K37,2) -> 6165.98
K38: Subtotal: | L38: =SUM(L31:L37) -> 147577.73 | M38: =L38+L96+L122+L67 -> 477146.2 | N38: =[5]Planilha!$K$38 -> 454410.47
B39: 1.5 | F39: SERVIÇOS COMPLEMENTARES
B40: 1.5.1 | C40: INFRA | D40: =ORÇ!B65 -> 62100 | E40: =VLOOKUP(D40,[3]INFRA!$A$1:$F$859,2,0) -> 6021000 | F40: =VLOOKUP(D40,[2]INFRA!$A$1:$E$847,2,0) -> LEVANTAMENTO OU REBAIXAMENTO DE TAMPÃO DE POÇO DE VISITA | G40: =VLOOKUP(D40,ORÇ!$B$12:$I$67,8,0) -> 6 | H40: =VLOOKUP(D40,[2]INFRA!$A$1:$E$847,3,0) -> UN | I40: =VLOOKUP(E40,[4]INFRA!$A$1:$D$935,4,0) -> 186.6 | J40: =ROUND(I40*G40,2) -> 1119.6 | K40: =I40*(1+$F$11) -> 231.81318 | L40: =ROUND(G40*K40,2) -> 1390.88
K41: Subtotal: | L41: =SUM(L39:L40) -> 1390.88 | M41: =L41+L70+L99+L125 -> 3709.01 | N41: =[5]Planilha!$K$41 -> 3432.92
B42: TOTAL RUA ALFREDO REGNER: | L42: =SUM(L14:L41)/2 -> 253364.43
B43: 2 | F43: =ORÇ!C68 -> RUA BORBA GATO
B44: 2.1 | F44: SERVIÇOS PRELIMINARES
B45: 2.1.1 | C45: INFRA | D45: 101603 | E45: =VLOOKUP(D45,[3]INFRA!$A$1:$F$859,2,0) -> 10016003 | F45: =VLOOKUP(D45,[2]INFRA!$A$1:$E$847,2,0) -> PLACA DE OBRA EM CHAPA DE AÇO GALVANIZADO | G45: =VLOOKUP(D45,ORÇ!$B$68:$I$123,8,0) -> 4.5 | H45: =VLOOKUP(D45,[2]INFRA!$A$1:$E$847,3,0) -> M2 | I45: =VLOOKUP(E45,[4]INFRA!$A$1:$D$935,4,0) -> 391.58 | J45: =ROUND(I45*G45,2) -> 1762.11 | K45: =I45*(1+$F$11) -> 486.45983 | L45: =ROUND(G45*K45,2) -> 2189.07
K46: Subtotal: | L46: =SUM(L45:L45) -> 2189.07
...

Sheet Planilha2
A1: PREFEITURA MUNICIPAL DE FERRAZ DE VASCONCELOS
A2: SECRETARIA MUNICIPAL DE OBRAS
A3: ATUALIZAÇÃO DE COMPOSIÇÃO ATRAVES DE ATUALIZAÇÃO DOS INSUMOS
A5: Com a Nova atualização da SIURB o item 05-42-00 PASSEIO DE CONCRETO FCK=15,0MPA, INCLUSIVE PREPARO DE CAIXA E LASTRO DE BRITA deixou de existir, para a atualização de seu custo unitário foi realizado a atualização dos insumos utilizados para a composição do item utilizando a data-base mais recente publicada com versão Jan/24
A10: DATA BASE SIURB-I JUL/23
A11: 54200 | B11: PASSEIO DE CONCRETO FCK=15,0MPA, INCLUSIVE PREPARO DE CAIXA E LASTRO DE BRITA | H11: M3 | J11: 739.59
C12: 2020 | D12: PEDREIRO (SGSP) | E12: H | F12: 28.36 | G12: 3 | I12: 85.096
C13: 2099 | D13: SERVENTE (SGSP) | E13: H | F13: 23.05 | G13: 6 | I13: 138.3099
C14: 10522 | D14: CONCRETO USINADO, BRITA 1E2,SLUMP 5+OU-1cm / FCK= 15,0MPA | E14: M3 | F14: 399.25 | G14: 1.03 | I14: 411.2275
C15: 10555 | D15: PEDRA BRITADA NÚMERO 3 E 4 | E15: M3 | F15: 134.06 | G15: 0.4286 | I15: 57.4581
C16: 11044 | D16: PINUS - RIPA DE 1/2" X 3" - BRUTA | E16: M | F16: 1.9 | G16: 25 | I16: 47.5
A18: DATA BASE SIURB-I JAN/24
A19: 54200 | B19: PASSEIO DE CONCRETO FCK=15,0MPA, INCLUSIVE PREPARO DE CAIXA E LASTRO DE BRITA | H19: M3 | J19: =ROUND(SUM(I20:I24),2) -> 764.34
C20: 2020 | D20: PEDREIRO (SGSP) | E20: H | F20: 28.21 | G20: 3 | I20: =F20*G20 -> 84.63
C21: 2099 | D21: SERVENTE (SGSP) | E21: H | F21: 23.05 | G21: 6 | I21: =F21*G21 -> 138.3
C22: 10522 | D22: CONCRETO USINADO, BRITA 1E2,SLUMP 5+OU-1cm / FCK= 15,0MPA | E22: M3 | F22: 418.96 | G22: 1.03 | I22: =F22*G22 -> 431.5288
C23: 10555 | D23: PEDRA BRITADA NÚMERO 3 E 4 | E23: M3 | F23: 139.71 | G23: 0.4286 | I23: =F23*G23 -> 59.879706
C24: 11044 | D24: PINUS - RIPA DE 1/2" X 3" - BRUTA | E24: M | F24: 2 | G24: 25 | I24: =F24*G24 -> 50

Sheet Planilha1
B3: PREFEITURA MUNICIPAL DE FERRAZ DE VASCONCELOS
B4: SECRETARIA MUNICIPAL DE OBRAS
B5: CRONOGRAMA FISICO-FINANCEIRO
B8: =Planilha!D9&Planilha!F9 -> Fresagem e Recapeamento da Rua Alfredo Regner, Rua Borba Gato, Rua Marcelo Garcia, Rua Antonio Augusto Ferreira, Rua Marinalva dos Santos e Pavimentação da Rua Sandelia Andena
B10: Descrição | C10: MESES | V10: Valor do Item | W10: %
C11: 1 | D11: 2 | E11: 3 | F11: 4 | G11: 5 | H11: 6 | I11: 7 | J11: 8 | K11: 9 | L11: 10 | M11: 11 | N11: 12 | O11: 13 | P11: 14 | Q11: 15 | R11: 16 | S11: 17 | T11: 18 | U11: 19
B12: =Planilha!B14&" - "&Planilha!F14 -> 1 - RUA ALFREDO REGNER | V12: =Planilha!L42 -> 253364.43 | W12: =V12/$V$33 -> 0.12133759
C13: x | D13: x
C14: =V12/2 -> 126682.21 | D14: =C14 -> 126682.21
B15: =Planilha!B43&" - "&Planilha!F43 -> 2 - RUA BORBA GATO | V15: =Planilha!L71 -> 200337.73 | W15: =V15/$V$33 -> 0.095942816
C16: x | D16: x
C17: =V15/2 -> 100168.86 | D17: =C17 -> 100168.86
B18: =Planilha!B72&" - "&Planilha!F72 -> 3 - RUA MARCELO GARCIA | V18: =Planilha!L100 -> 74707.91 | W18: =V18/$V$33 -> 0.03577802
D19: x | E19: x
D20: =V18/2 -> 37353.955 | E20: =D20 -> 37353.955
B21: =Planilha!B101&" - "&Planilha!F101 -> 4 - RUA ANTÔNIO AUGUSTO FERREIRA | V21: =Planilha!L126 -> 233616.31 | W21: =V21/$V$33 -> 0.11188011
D22: x | E22: x
D23: =V21/2 -> 116808.15 | E23: =D23 -> 116808.15
B24: =Planilha!B127&" - "&Planilha!F127 -> 5 - RUA MARINALVA DOS SANTOS | V24: =Planilha!L155 -> 232599.58 | W24: =V24/$V$33 -> 0.11139319
E25: x | F25: x | G25: x
E26: =V24/3 -> 77533.193 | F26: =E26 -> 77533.193 | G26: =F26 -> 77533.193
B27: =Planilha!B156&" - "&Planilha!F156 -> 6 - RUA SANDELIA ANDENA TRECHO 1 | V27: =Planilha!L186 -> 113495.98 | W27: =V27/$V$33 -> 0.054353835
G28: x | H28: x
G29: =V27/2 -> 56747.99 | H29: =G29 -> 56747.99
B30: =Planilha!B187&" - "&Planilha!F187 -> 7 - RUA SANDELIA ANDENA TRECHO 2 | V30: =Planilha!L211 -> 979973.23 | W30: =V30/$V$33 -> 0.46931445
F31: x | G31: x | H31: x | I31: x | J31: x
F32: =G32 -> 195994.65 | G32: =V30/5 -> 195994.65 | H32: =G32 -> 195994.65 | I32: =H32 -> 195994.65 | J32: =I32 -> 195994.65
B33: TOTAL GERAL: | C33: =SUM(C12:C32) -> 226851.08 | D33: =SUM(D12:D32) -> 381013.19 | E33: =SUM(E12:E32) -> 231695.3 | F33: =SUM(F12:F32) -> 273527.84 | G33: =SUM(G12:G32) -> 330275.83 | H33: =SUM(H12:H32) -> 252742.64 | I33: =SUM(I12:I32) -> 195994.65 | J33: =SUM(J12:J32) -> 195994.65 | N33: TOTAL GERAL: | V33: =SUM(V12:V32) -> 2088095.2 | W33: =SUM(W12:W32) -> 1
C38: André Felipe Maia Alfonzo
C39: Engenheiro Civil
C40: CREA-SP 5070657923

Sheet Cronograma estado
C2: GOVERNO DO ESTADO DE SÃO PAULO SECRETARIA DE GOVERNO E RELAÕES INSTITUCIONAIS | I2: MUNICÍPIO: FERRAZ DE VASCONCELOS | K2: DATA BASE: JULHO/23
C4: OBJETO: | J4: PRAZO PROPOSTO
C5: =Planilha!F9 -> Fresagem e Recapeamento da Rua Alfredo Regner, Rua Borba Gato, Rua Marcelo Garcia, Rua Antonio Augusto Ferreira, Rua Marinalva dos Santos e Pavimentação da Rua Sandelia Andena | J5: INÍCIO: data da assinatura do convênio
J6: FINAL: 720 dias à partir da data da assinatura do convênio
B9: ITEM | C9: SERVIÇO | G9: UNIDADE | H9: 1ª ETAPA | J9: TOTAL
H10: PERIODO 720 DIAS
H11: Prazo de liberação: em 30 dias após a conclusão da etapa. | I11: PRAZO DE EXECUÇÃO
I12: 690 DIAS
B13: 1 | C13: =Planilha!F14 -> RUA ALFREDO REGNER | G13: M2 | H13: =J13 -> 1201.4896 | J13: =Planilha!G19 -> 1201.4896
G14: R$ | H14: =J14 -> 253364.43 | J14: =Planilha!L42 -> 253364.43
B15: =Planilha!B43 -> 2 | C15: =Planilha!F43 -> RUA BORBA GATO | G15: M2 | H15: =J15 -> 1073.1 | J15: =Planilha!G48 -> 1073.1
G16: R$ | H16: =J16 -> 200337.73 | J16: =Planilha!L71 -> 200337.73
B17: =Planilha!B72 -> 3 | C17: =Planilha!F72 -> RUA MARCELO GARCIA | G17: M2 | H17: =J17 -> 372.43 | J17: =Planilha!G77 -> 372.43
G18: R$ | H18: =J18 -> 74707.91 | J18: =Planilha!L100 -> 74707.91
B19: =Planilha!B101 -> 4 | C19: =Planilha!F101 -> RUA ANTÔNIO AUGUSTO FERREIRA | G19: M2 | H19: =J19 -> 1237.62 | J19: =Planilha!G106 -> 1237.62
G20: R$ | H20: =J20 -> 233616.31 | J20: =Planilha!L126 -> 233616.31
B21: =Planilha!B127 -> 5 | C21: =Planilha!F127 -> RUA MARINALVA DOS SANTOS | G21: M2 | H21: =J21 -> 1169.76 | J21: =Planilha!G132 -> 1169.76
G22: R$ | H22: =J22 -> 232599.58 | J22: =Planilha!L155 -> 232599.58
B23: =Planilha!B156 -> 6 | C23: =Planilha!F156 -> RUA SANDELIA ANDENA TRECHO 1 | G23: M2 | H23: =J23 -> 370.52 | J23: =Planilha!G170 -> 370.52
G24: R$ | H24: =J24 -> 113495.98 | J24: =Planilha!L186 -> 113495.98
B25: =Planilha!B187 -> 7 | C25: =Planilha!F187 -> RUA SANDELIA ANDENA TRECHO 2 | G25: M2 | H25: =J25 -> 1516.26 | J25: =Planilha!G200 -> 1516.26
G26: R$ | H26: =J26 -> 979973.23 | J26: =Planilha!L211 -> 979973.23
B28: RECURSOS ESTADUAL | H28: 2000000 | J28: 2000000
B29: RECURSOS PRÓPRIO | H29: =H14-H28+H16+H18+H20+H22+H24+H26 -> 88095.17 | J29: =J30-J28 -> 88095.17
B30: TOTAL | H30: =H29+H28 -> 2088095.2 | J30: =H30 -> 2088095.2
B34: ASSINATURA: | E34: CREA / CAU: A25097-0 | F34: 5070657923
C35: =[7]Planilha!E50 -> André Felipe Maia Alfonzo | E35: ART / RRT: 28027230231742390

Sheet Cronograma estado (2)
D2: GOVERNO DO ESTADO DE SÃO PAULO SECRETARIA DE GOVERNO E RELAÕES INSTITUCIONAIS | J2: MUNICÍPIO: FERRAZ DE VASCONCELOS | N2: DATA BASE: JULHO/23
D4: OBJETO: | M4: PRAZO PROPOSTO
D5: =Planilha!F9 -> Fresagem e Recapeamento da Rua Alfredo Regner, Rua Borba Gato, Rua Marcelo Garcia, Rua Antonio Augusto Ferreira, Rua Marinalva dos Santos e Pavimentação da Rua Sandelia Andena | M5: INÍCIO: data da assinatura do convênio
M6: FINAL: 720 dias à partir da data da assinatura do convênio
B9: ITEM | C9: SERVIÇO | G9: UNIDADE | H9: 1ª ETAPA | J9: 2ª ETAPA | L9: 3ª ETAPA | N9: TOTAL
H10: PERIODO 240 DIAS | J10: PERIODO 240 DIAS | L10: PERIODO 240 DIAS
H11: Prazo de liberação: em 30 dias após a expedição da ordem de serviço | I11: PRAZO DE EXECUÇÃO 210 DIAS | J11: Prazo de liberação: em 30 dias após a expedição da ordem de serviço | K11: PRAZO DE EXECUÇÃO 210 DIAS | L11: Prazo de liberação: em 30 dias após a expedição da ordem de serviço | M11: PRAZO DE EXECUÇÃO 210 DIAS
B13: 1 | C13: =D5 -> Fresagem e Recapeamento da Rua Alfredo Regner, Rua Borba Gato, Rua Marcelo Garcia, Rua Antonio Augusto Ferreira, Rua Marinalva dos Santos e Pavimentação da Rua Sandelia Andena | G13: M2 | H13: =N13/3 -> 2313.7265 | J13: =N13/3 -> 2313.7265 | L13: =N13/3 -> 2313.7265 | N13: ='Cronograma estado'!J13+'Cronograma estado'!J15+'Cronograma estado'!J17+'Cronograma estado'!J19+'Cronograma estado'!J21+'Cronograma estado'!J23+'Cronograma estado'!J25 -> 6941.1796
G14: R$ | H14: =N14/3 -> 696031.72 | J14: =N14/3 -> 696031.72 | L14: =N14/3 -> 696031.72 | N14: =Planilha!L212 -> 2088095.2
N15: =SUM(H15:I15) -> 0
N16: =SUM(H16:I16) -> 0
N17: =SUM(H17:I17) -> 0
N18: =SUM(H18:I18) -> 0
N19: =SUM(H19:I19) -> 0
N20: =SUM(H20:I20) -> 0
N21: =SUM(H21:I21) -> 0
N22: =SUM(H22:I22) -> 0
N23: =SUM(H23:I23) -> 0
N24: =SUM(H24:I24) -> 0
B26: RECURSOS ESTADUAL | H26: 666666.66 | J26: 666666.67 | L26: 666666.67 | N26: 2000000
B27: RECURSOS PRÓPRIO | H27: =H14-H26+H16+H18 -> 29365.063 | J27: =J14-J26+J16+J18 -> 29365.053 | L27: =L14-L26+L16+L18 -> 29365.053 | N27: =N28-N26 -> 88095.17
B28: TOTAL | H28: =H27+H26 -> 696031.72 | J28: =J27+J26 -> 696031.72 | L28: =L27+L26 -> 696031.72 | N28: =H28+J28+L28 -> 2088095.2
B32: ASSINATURA: | E32: CREA / CAU: A25097-0 | F32: 5070657923
C33: =[7]Planilha!E50 -> André Felipe Maia Alfonzo | E33: ART / RRT:
