Workbook
Name AreaTeste: #REF!
Name AreaTeste2: #REF!
Name CélulaInicioPlanilha: #REF!
Name CélulaResumo: #REF!
Name Excel_BuiltIn_Database: #REF!
Name Excel_BuiltIn_Database_2: #REF!

Sheet Planilha
E1: PLANILHA ORÇAMENTÁRIA
E3: OBRA: Pavimentação no Perímetro Urbano na Rua Manoel de Abreu, Vila Santa Margarida
G4: Data base: | H4: SINAPI Ago/25
B5: Item | C5: Fonte | D5: Código | E5: Descrição | F5: Unid | G5: Quantidade | H5: Preço Unit sem BDI | I5: Preço Unit com BDI | J5: Total
B6: 1. | E6: RUA MANOEL DE ABREU
B7: 1.1. | E7: SERVIÇOS PRELIMINARES | I7: Subtotal: | J7: =SUM(J8) -> 0
B8: 1.1.1. | C8: SINAPI | D8: 103689 | E8: FORNECIMENTO E INSTALAÇÃO DE PLACA DE OBRA COM CHAPA GALVANIZADA E ESTRUTURA DE MADEIRA. AF_03/2022_PS | F8: M2 | I8: =ROUND(H8*1.2423,2) -> 0 | J8: =TRUNC(G8*I8,2) -> 0
B9: 1.2. | E9: DEMOLIÇÃO DE GUIAS, SARJETAS E SARJETÕES | I9: Subtotal: | J9: =SUM(J10:J12) -> 0.01
B10: 1.2.1. | C10: SINAPI | D10: 104796 | E10: DEMOLIÇÃO DE GUIAS, SARJETAS OU SARJETÕES, DE FORMA MECANIZADA, SEM REAPROVEITAMENTO. AF_09/2023 | F10: M | I10: =ROUND(H10*1.2423,2) -> 0 | J10: =TRUNC(G10*I10,2) -> 0
B11: 1.2.2. | C11: SINAPI | D11: 100983 | E11: CARGA, MANOBRA E DESCARGA DE ENTULHO EM CAMINHÃO BASCULANTE 14 M³ - CARGA COM ESCAVADEIRA HIDRÁULICA (CAÇAMBA DE 0,80 M³ / 111 HP) E DESCARGA LIVRE (UNIDADE: M3). AF_07/2020 | F11: M3 | I11: =ROUND(H11*1.2423,2) -> 0 | J11: =TRUNC(G11*I11,2)+0.01 -> 0.01
B12: 1.2.3. | C12: SINAPI | D12: 93592 | E12: TRANSPORTE COM CAMINHÃO BASCULANTE DE 14 M³, EM VIA URBANA EM REVESTIMENTO PRIMÁRIO (UNIDADE: M3XKM). AF_07/2020 | F12: M3XKM | I12: =ROUND(H12*1.2423,2) -> 0 | J12: =TRUNC(G12*I12,2) -> 0
B13: 1.3. | E13: RECONSTRUÇÃO / CONSTRUÇÃO DE GUIAS, SARJETAS E SARJETÕES | I13: Subtotal: | J13: =SUM(J14:J17) -> -0.01
B14: 1.3.1. | C14: SINAPI | D14: 94273 | E14: ASSENTAMENTO DE GUIA (MEIO-FIO) EM TRECHO RETO, CONFECCIONADA EM CONCRETO PRÉ-FABRICADO, DIMENSÕES 100X15X13X30 CM (COMPRIMENTO X BASE INFERIOR X BASE SUPERIOR X ALTURA). AF_01/2024 | F14: M | I14: =ROUND(H14*1.2423,2) -> 0 | J14: =TRUNC(G14*I14,2)-0.01 -> -0.01
B15: 1.3.2. | C15: SINAPI | D15: 94283 | E15: EXECUÇÃO DE SARJETA DE CONCRETO USINADO, MOLDADA IN LOCO EM TRECHO RETO, 45 CM BASE X 15 CM ALTURA. AF_01/2024 | F15: M | I15: =ROUND(H15*1.2423,2) -> 0 | J15: =TRUNC(G15*I15,2) -> 0
B16: 1.3.3. | C16: SINAPI | D16: 94293 | E16: EXECUÇÃO DE SARJETÃO DE CONCRETO USINADO, MOLDADA IN LOCO EM TRECHO RETO, 100 CM BASE X 20 CM ALTURA. AF_01/2024 | F16: M | I16: =ROUND(H16*1.2423,2) -> 0 | J16: =TRUNC(G16*I16,2) -> 0
B17: 1.3.4. | C17: SINAPI | D17: 94971 | E17: CONCRETO FCK = 25MPA, TRAÇO 1:2,3:2,7 (EM MASSA SECA DE CIMENTO/ AREIA MÉDIA/ BRITA 1) - PREPARO MECÂNICO COM BETONEIRA 600 L. AF_05/2021 | F17: M3 | I17: =ROUND(H17*1.2423,2) -> 0 | J17: =TRUNC(G17*I17,2) -> 0
B18: 1.4. | E18: FRESAGEM / DEMOLIÇÃO E REMOÇÃO DE PAVIMENTOS | I18: Subtotal: | J18: =SUM(J19:J21) -> 0.01
B19: 1.4.1. | C19: SINAPI | D19: 96001 | E19: FRESAGEM DE PAVIMENTO ASFÁLTICO (PROFUNDIDADE ATÉ 5,0 CM) - EXCLUSIVE TRANSPORTE. AF_11/2019 | F19: M2 | I19: =ROUND(H19*1.2423,2) -> 0 | J19: =TRUNC(G19*I19,2) -> 0
B20: 1.4.2. | C20: SINAPI | D20: 100983 | E20: CARGA, MANOBRA E DESCARGA DE ENTULHO EM CAMINHÃO BASCULANTE 14 M³ - CARGA COM ESCAVADEIRA HIDRÁULICA (CAÇAMBA DE 0,80 M³ / 111 HP) E DESCARGA LIVRE (UNIDADE: M3). AF_07/2020 | F20: M3 | I20: =ROUND(H20*1.2423,2) -> 0 | J20: =TRUNC(G20*I20,2)+0.01 -> 0.01
B21: 1.4.3. | C21: SINAPI | D21: 93592 | E21: TRANSPORTE COM CAMINHÃO BASCULANTE DE 14 M³, EM VIA URBANA EM REVESTIMENTO PRIMÁRIO (UNIDADE: M3XKM). AF_07/2020 | F21: M3XKM | I21: =ROUND(H21*1.2423,2) -> 0 | J21: =TRUNC(G21*I21,2) -> 0
B22: 1.5. | E22: RECAPEAMENTO / CAPEAMENTO / RECONSTRUÇÃO DO PAVIMENTO | I22: Subtotal: | J22: =SUM(J23:J26) -> -0.01
B23: 1.5.1. | C23: Composição | D23: 104375 | E23: EXECUÇÃO DE PINTURA DE LIGAÇÃO COM EMULSÃO ASFÁLTICA RR-2C. AF_11/2019 (IMPRIMAÇÃO LIGANTE) | F23: M2 | I23: =ROUND(H23*1.2423,2) -> 0 | J23: =TRUNC(G23*I23,2)-0.01 -> -0.01
B24: 1.5.2. | C24: SINAPI | D24: 95995 | E24: EXECUÇÃO DE PAVIMENTO COM APLICAÇÃO DE CONCRETO ASFÁLTICO, CAMADA DE ROLAMENTO - EXCLUSIVE CARGA E TRANSPORTE. AF_11/2019 | F24: M3 | I24: =ROUND(H24*1.2423,2) -> 0 | J24: =TRUNC(G24*I24,2) -> 0
B25: 1.5.3. | C25: SINAPI | D25: 100987 | E25: CARGA DE MISTURA ASFÁLTICA EM CAMINHÃO BASCULANTE 14 M³ (UNIDADE: M3). AF_07/2020 | F25: M3 | I25: =ROUND(H25*1.2423,2) -> 0 | J25: =TRUNC(G25*I25,2) -> 0
B26: 1.5.4. | C26: SINAPI | D26: 93592 | E26: TRANSPORTE COM CAMINHÃO BASCULANTE DE 14 M³, EM VIA URBANA EM REVESTIMENTO PRIMÁRIO (UNIDADE: M3XKM). AF_07/2020 | F26: M3XKM | I26: =ROUND(H26*1.2423,2) -> 0 | J26: =TRUNC(G26*I26,2) -> 0
B27: 1.6. | E27: SINALIZAÇÃO VIÁRIA | I27: Subtotal: | J27: =SUM(J28:J32) -> 0
B28: 1.6.1. | C28: SINAPI | D28: 102512 | E28: PINTURA DE EIXO VIÁRIO SOBRE ASFALTO COM TINTA RETRORREFLETIVA A BASE DE RESINA ACRÍLICA COM MICROESFERAS DE VIDRO, E = 10 CM, APLICAÇÃO MECÂNICA COM DEMARCADORA AUTOPROPELIDA. AF_05/2021 | F28: M | I28: =ROUND(H28*1.2423,2) -> 0 | J28: =TRUNC(G28*I28,2) -> 0
B29: 1.6.2. | C29: SINAPI | D29: 102509 | E29: PINTURA DE FAIXA DE PEDESTRE OU ZEBRADA TINTA RETRORREFLETIVA A BASE DE RESINA ACRÍLICA COM MICROESFERAS DE VIDRO, E = 30 CM, APLICAÇÃO MANUAL. AF_05/2021 | F29: M2 | I29: =ROUND(H29*1.2423,2) -> 0 | J29: =TRUNC(G29*I29,2) -> 0
B30: 1.6.3. | C30: Composição (SINAPI) | D30: 103699-45x20 | E30: PLACA DE IDENTIFICACAO DE LOGRADOURO / RUA 45 CM X 20 CM - FORNECIMENTO E INSTALAÇÃO DE PLACA DE SINALIZAÇÃO EM CHAPA DE AÇO NUM 16 COM PINTURA REFLETIVA EM SUPORTE METÁLICO. AF_03/2022 (CÓD REF SINAPI 103699) | F30: UN | I30: =ROUND(H30*1.2423,2) -> 0 | J30: =TRUNC(G30*I30,2) -> 0
B31: 1.6.4. | C31: Composição (SINAPI) | D31: 103699-45X45 | E31: PLACA DE SINALIZACAO DE ADVERTÊNCIA QUADRADA LADO 0,45M - FORNECIMENTO E INSTALAÇÃO DE PLACA DE SINALIZAÇÃO EM CHAPA DE AÇO NUM 16 COM PINTURA REFLETIVA EM SUPORTE METÁLICO. AF_03/2022 (CÓD REF SINAPI 103699) | F31: UN | I31: =ROUND(H31*1.2423,2) -> 0 | J31: =TRUNC(G31*I31,2) -> 0
B32: 1.6.5. | C32: Composição (SINAPI) | D32: 103690 | E32: FORNECIMENTO E INSTALAÇÃO DE SUPORTE METÁLICO GALVANIZADO PARA PLACAS DE SINALIZAÇÃO EM SOLO, COM H= DE 2,5 M E DIÂMETRO DE 2''. AF_03/2022 | F32: UN | I32: =ROUND(H32*1.2423,2) -> 0 | J32: =TRUNC(G32*I32,2) -> 0
I33: TOTAL GERAL: | J33: =J27+J22+J18+J13+J9+J7 -> 0

Sheet Cronograma
B1: CRONOGRAMA FISICO-FINANCEIRO
B4: =Planilha!E3 -> OBRA: Pavimentação no Perímetro Urbano na Rua Manoel de Abreu, Vila Santa Margarida
B6: Descrição | C6: MESES | V6: Valor do Item | W6: %
C7: 1 | D7: 2 | E7: 3 | F7: 4 | G7: 5 | H7: 6 | I7: 7 | J7: 8 | K7: 9 | L7: 10 | M7: 11 | N7: 12 | O7: 13 | P7: 14 | Q7: 15 | R7: 16 | S7: 17 | T7: 18 | U7: 19
B8: =Planilha!B7&" "&Planilha!E7 -> 1.1. SERVIÇOS PRELIMINARES | V8: =Planilha!J7 -> 0 | W8: =V8/$V$26 -> #DIV/0!
C9: x
C10: =IF(C9="x", $V8/COUNTIF($C9:$U9,"x"), "") -> 0 | D10: =IF(D9="x", $V8/COUNTIF($C9:$U9,"x"), "") | E10: =IF(E9="x", $V8/COUNTIF($C9:$U9,"x"), "") | F10: =IF(F9="x", $V8/COUNTIF($C9:$U9,"x"), "") | G10: =IF(G9="x", $V8/COUNTIF($C9:$U9,"x"), "") | H10: =IF(H9="x", $V8/COUNTIF($C9:$U9,"x"), "") | I10: =IF(I9="x", $V8/COUNTIF($C9:$U9,"x"), "") | J10: =IF(J9="x", $V8/COUNTIF($C9:$U9,"x"), "") | ... U10: =IF(U9="x", $V8/COUNTIF($C9:$U9,"x"), "")
B11: =Planilha!B9&" "&Planilha!E9 -> 1.2. DEMOLIÇÃO DE GUIAS, SARJETAS E SARJETÕES | V11: =Planilha!J9 -> 0.01 | W11: =V11/$V$26 -> #DIV/0!
C12: x
C13: =IF(C12="x", $V11/COUNTIF($C12:$U12,"x"), "") -> 0.01 | D13: =IF(D12="x", $V11/COUNTIF($C12:$U12,"x"), "") | E13: =IF(E12="x", $V11/COUNTIF($C12:$U12,"x"), "") | F13: =IF(F12="x", $V11/COUNTIF($C12:$U12,"x"), "") | G13: =IF(G12="x", $V11/COUNTIF($C12:$U12,"x"), "") | H13: =IF(H12="x", $V11/COUNTIF($C12:$U12,"x"), "") | I13: =IF(I12="x", $V11/COUNTIF($C12:$U12,"x"), "") | J13: =IF(J12="x", $V11/COUNTIF($C12:$U12,"x"), "") | ... U13: =IF(U12="x", $V11/COUNTIF($C12:$U12,"x"), "")
B14: =Planilha!B13&" "&Planilha!E13 -> 1.3. RECONSTRUÇÃO / CONSTRUÇÃO DE GUIAS, SARJETAS E SARJETÕES | V14: =Planilha!J13 -> -0.01 | W14: =V14/$V$26 -> #DIV/0!
E15: x | F15: x
C16: =IF(C15="x", $V14/COUNTIF($C15:$U15,"x"), "") | D16: =IF(D15="x", $V14/COUNTIF($C15:$U15,"x"), "") | E16: =IF(E15="x", $V14/COUNTIF($C15:$U15,"x"), "") -> -0.005 | F16: =IF(F15="x", $V14/COUNTIF($C15:$U15,"x"), "") -> -0.005 | G16: =IF(G15="x", $V14/COUNTIF($C15:$U15,"x"), "") | H16: =IF(H15="x", $V14/COUNTIF($C15:$U15,"x"), "") | I16: =IF(I15="x", $V14/COUNTIF($C15:$U15,"x"), "") | J16: =IF(J15="x", $V14/COUNTIF($C15:$U15,"x"), "") | ... U16: =IF(U15="x", $V14/COUNTIF($C15:$U15,"x"), "")
B17: =Planilha!B18&" "&Planilha!E18 -> 1.4. FRESAGEM / DEMOLIÇÃO E REMOÇÃO DE PAVIMENTOS | V17: =Planilha!J18 -> 0.01 | W17: =V17/$V$26 -> #DIV/0!
C18: x | D18: x
C19: 34974.88 | D19: =V17-C19 -> -34974.87 | E19: =IF(E18="x", $V17/COUNTIF($C18:$U18,"x"), "") | F19: =IF(F18="x", $V17/COUNTIF($C18:$U18,"x"), "") | G19: =IF(G18="x", $V17/COUNTIF($C18:$U18,"x"), "") | H19: =IF(H18="x", $V17/COUNTIF($C18:$U18,"x"), "") | I19: =IF(I18="x", $V17/COUNTIF($C18:$U18,"x"), "") | J19: =IF(J18="x", $V17/COUNTIF($C18:$U18,"x"), "") | K19: =IF(K18="x", $V17/COUNTIF($C18:$U18,"x"), "") | L19: =IF(L18="x", $V17/COUNTIF($C18:$U18,"x"), "") | ... U19: =IF(U18="x", $V17/COUNTIF($C18:$U18,"x"), "")
B20: =Planilha!B22&" "&Planilha!E22 -> 1.5. RECAPEAMENTO / CAPEAMENTO / RECONSTRUÇÃO DO PAVIMENTO | V20: =Planilha!J22 -> -0.01 | W20: =V20/$V$26 -> #DIV/0!
G21: x | H21: x
C22: =IF(C21="x", $V20/COUNTIF($C21:$U21,"x"), "") | D22: =IF(D21="x", $V20/COUNTIF($C21:$U21,"x"), "") | E22: =IF(E21="x", $V20/COUNTIF($C21:$U21,"x"), "") | F22: =IF(F21="x", $V20/COUNTIF($C21:$U21,"x"), "") | G22: =IF(G21="x", $V20/COUNTIF($C21:$U21,"x"), "") -> -0.005 | H22: =IF(H21="x", $V20/COUNTIF($C21:$U21,"x"), "") -> -0.005 | I22: =IF(I21="x", $V20/COUNTIF($C21:$U21,"x"), "") | J22: =IF(J21="x", $V20/COUNTIF($C21:$U21,"x"), "") | ... U22: =IF(U21="x", $V20/COUNTIF($C21:$U21,"x"), "")
B23: =Planilha!B27&" "&Planilha!E27 -> 1.6. SINALIZAÇÃO VIÁRIA | V23: =Planilha!J27 -> 0 | W23: =V23/$V$26 -> #DIV/0!
H24: x
C25: =IF(C24="x", $V23/COUNTIF($C24:$U24,"x"), "") | D25: =IF(D24="x", $V23/COUNTIF($C24:$U24,"x"), "") | E25: =IF(E24="x", $V23/COUNTIF($C24:$U24,"x"), "") | F25: =IF(F24="x", $V23/COUNTIF($C24:$U24,"x"), "") | G25: =IF(G24="x", $V23/COUNTIF($C24:$U24,"x"), "") | H25: =IF(H24="x", $V23/COUNTIF($C24:$U24,"x"), "") -> 0 | I25: =IF(I24="x", $V23/COUNTIF($C24:$U24,"x"), "") | J25: =IF(J24="x", $V23/COUNTIF($C24:$U24,"x"), "") | ... U25: =IF(U24="x", $V23/COUNTIF($C24:$U24,"x"), "")
B26: TOTAL GERAL: | C26: =SUM(C8:C25) -> 34974.89 | D26: =SUM(D8:D25) -> -34974.87 | E26: =SUM(E8:E25) -> -0.005 | F26: =SUM(F8:F25) -> -0.005 | G26: =SUM(G8:G25) -> -0.005 | H26: =SUM(H8:H25) -> -0.005 | I26: =SUM(I8:I10) -> 0 | J26: =SUM(J8:J10) -> 0 | K26: =SUM(K8:K10) -> 0 | L26: =SUM(L8:L10) -> 0 | M26: =SUM(M8:M10) -> 0 | N26: =SUM(N8:N10) -> 0 | O26: =SUM(O8:O10) -> 0 | P26: =SUM(P8:P10) -> 0 | ... U26: =SUM(U8:U10) -> 0 | V26: =SUM(V8:V25) -> 0 | W26: =SUM(W8:W25) -> #DIV/0!
