Workbook
Name AreaTeste: #REF!
Name AreaTeste2: #REF!
Name CélulaInicioPlanilha: #REF!
Name CélulaResumo: #REF!
Name Excel_BuiltIn_Database: #REF!
Name Excel_BuiltIn_Database_2: #REF!

Sheet Planilha
D3: PLANILHA ORÇAMENTÁRIA
D5: OBRA: Construção de Centro Poliesportivo na Rua Americo Trufelli, Pq. São Francisco
D6: BDI: 24,23% | F6: Data base:
A7: Item | B7: Referência | C7: Código | D7: Descrição | E7: Unid | F7: Quantidade | G7: Preço Unit sem BDI | H7: Preço Unit com BDI | I7: Total
A8: 1. | D8: CENTRO POLIESPORTIVO
A9: 1.1. | D9: IMPLANTAÇÃO GERAL | H9: TOTAL IMPLANTAÇÃO GERAL: | I9: =I10+I17+I22+I37+I47+I55+I71+I89+I93 -> 0
A10: 1.1.1. | D10: SERVIÇOS PRELIMINARES E DEMOLIÇÕES | H10: Subtotal: | I10: =SUM(I11:I16) -> 0
A11: 1.1.1.1. | B11: SINAPI | C11: 103689 | D11: FORNECIMENTO E INSTALAÇÃO DE PLACA DE OBRA COM CHAPA GALVANIZADA E ESTRUTURA DE MADEIRA. AF_03/2022_PS | E11: M2 | H11: =ROUND(G11*1.2423,2) -> 0 | I11: =ROUND(H11*F11,2) -> 0
A12: 1.1.1.2. | B12: SINAPI | C12: 97629 | D12: DEMOLIÇÃO DE LAJES, EM CONCRETO ARMADO, DE FORMA MECANIZADA COM MARTELETE, SEM REAPROVEITAMENTO. AF_09/2023 | E12: M3 | H12: =ROUND(G12*1.2423,2) -> 0 | I12: =ROUND(H12*F12,2) -> 0
A13: 1.1.1.3. | B13: SINAPI | C13: 97625 | D13: DEMOLIÇÃO DE ALVENARIA PARA QUALQUER TIPO DE BLOCO, DE FORMA MECANIZADA, SEM REAPROVEITAMENTO. AF_09/2023 | E13: M3 | H13: =ROUND(G13*1.2423,2) -> 0 | I13: =ROUND(H13*F13,2) -> 0
A14: 1.1.1.4. | B14: SINAPI | C14: 97627 | D14: DEMOLIÇÃO DE PILARES E VIGAS EM CONCRETO ARMADO, DE FORMA MECANIZADA COM MARTELETE, SEM REAPROVEITAMENTO. AF_09/2023 | E14: M3 | H14: =ROUND(G14*1.2423,2) -> 0 | I14: =ROUND(H14*F14,2) -> 0
A15: 1.1.1.5. | B15: SINAPI | C15: 100981 | D15: CARGA, MANOBRA E DESCARGA DE ENTULHO EM CAMINHÃO BASCULANTE 6 M³ - CARGA COM ESCAVADEIRA HIDRÁULICA (CAÇAMBA DE 0,80 M³ / 111 HP) E DESCARGA LIVRE (UNIDADE: M3). AF_07/2020 | E15: M3 | H15: =ROUND(G15*1.2423,2) -> 0 | I15: =ROUND(H15*F15,2) -> 0
A16: 1.1.1.6. | B16: SINAPI | C16: 97913 | D16: TRANSPORTE COM CAMINHÃO BASCULANTE DE 6 M³, EM VIA URBANA EM REVESTIMENTO PRIMÁRIO (UNIDADE: M3XKM). AF_07/2020 | E16: M3XKM | H16: =ROUND(G16*1.2423,2) -> 0 | I16: =ROUND(H16*F16,2) -> 0
A17: 1.1.2. | D17: TERRAPLANAGEM | H17: Subtotal: | I17: =SUM(I18:I21) -> 0
A18: 1.1.2.1. | B18: SINAPI | C18: 101114 | D18: ESCAVAÇÃO HORIZONTAL EM SOLO DE 1A CATEGORIA COM TRATOR DE ESTEIRAS (100HP/LÂMINA: 2,19M3). AF_07/2020 | E18: M3 | H18: =ROUND(G18*1.2423,2) -> 0 | I18: =ROUND(H18*F18,2) -> 0
A19: 1.1.2.2. | B19: SINAPI | C19: 100576 | D19: REGULARIZAÇÃO E COMPACTAÇÃO DE SUBLEITO DE SOLO PREDOMINANTEMENTE ARGILOSO, PARA OBRAS DE CONSTRUÇÃO DE PAVIMENTOS. AF_09/2024 | E19: M2 | H19: =ROUND(G19*1.2423,2) -> 0 | I19: =ROUND(H19*F19,2) -> 0
A20: 1.1.2.3. | B20: SINAPI | C20: 100978 | D20: CARGA, MANOBRA E DESCARGA DE SOLOS E MATERIAIS GRANULARES EM CAMINHÃO BASCULANTE 10 M³ - CARGA COM ESCAVADEIRA HIDRÁULICA (CAÇAMBA DE 1,20 M³ / 155 HP) E DESCARGA LIVRE (UNIDADE: M3). AF_07/2020 | E20: M3 | H20: =ROUND(G20*1.2423,2) -> 0 | I20: =ROUND(H20*F20,2) -> 0
A21: 1.1.2.4. | B21: SINAPI | C21: 95878 | D21: TRANSPORTE COM CAMINHÃO BASCULANTE DE 10 M³, EM VIA URBANA PAVIMENTADA, DMT ATÉ 30 KM (UNIDADE: TXKM). AF_07/2020 | E21: TXKM | H21: =ROUND(G21*1.2423,2) -> 0 | I21: =ROUND(H21*F21,2) -> 0
A22: 1.1.3. | D22: INSTALAÇÃO ELÉTRICA | H22: Subtotal: | I22: =SUM(I23:I36) -> 0
A23: 1.1.3.1. | B23: SINAPI | C23: 101499 | D23: ENTRADA DE ENERGIA ELÉTRICA, AÉREA, BIFÁSICA, COM CAIXA DE SOBREPOR, CABO DE 25 MM2 E DISJUNTOR DIN 50A (NÃO INCLUSO O POSTE DE CONCRETO). AF_07/2020_PS | E23: UN | H23: =ROUND(G23*1.2423,2) -> 0 | I23: =ROUND(H23*F23,2) -> 0
A24: 1.1.3.2. | B24: SINAPI-I | C24: 41198 | D24: POSTE DE CONCRETO ARMADO DE SECAO DUPLO T, EXTENSAO DE 9,00 M, RESISTENCIA DE 1000 DAN, TIPO B-1,5 | E24: UN | H24: =ROUND(G24*1.2423,2) -> 0 | I24: =ROUND(H24*F24,2) -> 0
A25: 1.1.3.3. | B25: SINAPI | C25: 100603 | D25: ASSENTAMENTO DE POSTE DE CONCRETO COM COMPRIMENTO NOMINAL DE 9 M, CARGA NOMINAL DE 1000 DAN, ENGASTAMENTO BASE CONCRETADA COM 1 M DE CONCRETO E 0,5 M DE SOLO (NÃO INCLUI FORNECIMENTO). AF_04/2025 | E25: UN | H25: =ROUND(G25*1.2423,2) -> 0 | I25: =ROUND(H25*F25,2) -> 0
A26: 1.1.3.4. | B26: SINAPI | C26: 93008 | D26: ELETRODUTO RÍGIDO ROSCÁVEL, PVC, DN 50 MM (1 1/2"), PARA REDE ENTERRADA DE DISTRIBUIÇÃO DE ENERGIA ELÉTRICA - FORNECIMENTO E INSTALAÇÃO. AF_12/2021 | E26: M | H26: =ROUND(G26*1.2423,2) -> 0 | I26: =ROUND(H26*F26,2) -> 0
A27: 1.1.3.5. | B27: SINAPI | C27: 92982 | D27: CABO DE COBRE FLEXÍVEL ISOLADO, 16 MM², ANTI-CHAMA 0,6/1,0 KV, PARA DISTRIBUIÇÃO - FORNECIMENTO E INSTALAÇÃO. AF_10/2020 | E27: M | H27: =ROUND(G27*1.2423,2) -> 0 | I27: =ROUND(H27*F27,2) -> 0
A28: 1.1.3.6. | B28: SINAPI | C28: 101562 | D28: CABO DE COBRE FLEXÍVEL ISOLADO, 25 MM², 0,6/1,0 KV, PARA REDE AÉREA DE DISTRIBUIÇÃO DE ENERGIA ELÉTRICA DE BAIXA TENSÃO - FORNECIMENTO E INSTALAÇÃO. AF_07/2020 | E28: M | H28: =ROUND(G28*1.2423,2) -> 0 | I28: =ROUND(H28*F28,2) -> 0
A29: 1.1.3.7. | B29: SINAPI | C29: 91871 | D29: ELETRODUTO RÍGIDO ROSCÁVEL, PVC, DN 25 MM (3/4"), PARA CIRCUITOS TERMINAIS, INSTALADO EM PAREDE - FORNECIMENTO E INSTALAÇÃO. AF_03/2023 | E29: M | H29: =ROUND(G29*1.2423,2) -> 0 | I29: =ROUND(H29*F29,2) -> 0
A30: 1.1.3.8. | B30: SINAPI | C30: 91929 | D30: CABO DE COBRE FLEXÍVEL ISOLADO, 4 MM², ANTI-CHAMA 0,6/1,0 KV, PARA CIRCUITOS TERMINAIS - FORNECIMENTO E INSTALAÇÃO. AF_03/2023 | E30: M | H30: =ROUND(G30*1.2423,2) -> 0 | I30: =ROUND(H30*F30,2) -> 0
A31: 1.1.3.9. | B31: SINAPI | C31: 100622 | D31: POSTE DE AÇO CÔNICO CONTÍNUO CURVO SIMPLES, ENGASTAMENTO SIMPLES COM 1 M DE SOLO, H=9M - FORNECIMENTO E INSTALAÇÃO. AF_04/2025 | E31: UN | H31: =ROUND(G31*1.2423,2) -> 0 | I31: =ROUND(H31*F31,2) -> 0
A32: 1.1.3.10. | B32: SINAPI | C32: 101657 | D32: LUMINÁRIA DE LED PARA ILUMINAÇÃO PÚBLICA, DE 98 W ATÉ 137 W - FORNECIMENTO E INSTALAÇÃO. AF_02/2025_PS | E32: UN | H32: =ROUND(G32*1.2423,2) -> 0 | I32: =ROUND(H32*F32,2) -> 0
A33: 1.1.3.11. | B33: SINAPI | C33: 93358 | D33: ESCAVAÇÃO MANUAL DE VALA. AF_09/2024 | E33: M3 | H33: =ROUND(G33*1.2423,2) -> 0 | I33: =ROUND(H33*F33,2) -> 0
A34: 1.1.3.12. | B34: SINAPI | C34: 93382 | D34: REATERRO MANUAL DE VALAS, COM COMPACTADOR DE SOLOS DE PERCUSSÃO. AF_08/2023 | E34: M3 | H34: =ROUND(G34*1.2423,2) -> 0 | I34: =ROUND(H34*F34,2) -> 0
... A36: 1.1.3.14. | B36: SINAPI | C36: 97913 | D36: TRANSPORTE COM CAMINHÃO BASCULANTE DE 6 M³, EM VIA URBANA EM REVESTIMENTO PRIMÁRIO (UNIDADE: M3XKM). AF_07/2020 | E36: M3XKM | H36: =ROUND(G36*1.2423,2) -> 0 | I36: =ROUND(H36*F36,2) -> 0
A37: 1.1.4. | D37: INSTALAÇÕES HIDRO-SANITÁRIAS | H37: Subtotal: | I37: =SUM(I38:I46) -> 0
A38: 1.1.4.1. | B38: CDHU | C38: 45.01.020 | D38: Entrada completa de água com abrigo e registro de gaveta, DN= 3/4´ | E38: UN | H38: =ROUND(G38*1.2423,2) -> 0 | I38: =ROUND(H38*F38,2) -> 0
A39: 1.1.4.2. | B39: SINAPI | C39: 89402 | D39: TUBO, PVC, SOLDÁVEL, DE 25MM, INSTALADO EM RAMAL DE DISTRIBUIÇÃO DE ÁGUA - FORNECIMENTO E INSTALAÇÃO. AF_06/2022 | E39: M | H39: =ROUND(G39*1.2423,2) -> 0 | I39: =ROUND(H39*F39,2) -> 0
A40: 1.1.4.3. | B40: SINAPI | C40: 97908 | D40: CAIXA ENTERRADA HIDRÁULICA RETANGULAR, EM ALVENARIA COM BLOCOS DE CONCRETO, DIMENSÕES INTERNAS: 1X1X0,6 M PARA REDE DE ESGOTO. AF_12/2020 | E40: UN | H40: =ROUND(G40*1.2423,2) -> 0 | I40: =ROUND(H40*F40,2) -> 0
A41: 1.1.4.4. | B41: SINAPI | C41: 93358 | D41: ESCAVAÇÃO MANUAL DE VALA. AF_09/2024 | E41: M3 | H41: =ROUND(G41*1.2423,2) -> 0 | I41: =ROUND(H41*F41,2) -> 0
A42: 1.1.4.5. | B42: SINAPI | C42: 93382 | D42: REATERRO MANUAL DE VALAS, COM COMPACTADOR DE SOLOS DE PERCUSSÃO. AF_08/2023 | E42: M3 | H42: =ROUND(G42*1.2423,2) -> 0 | I42: =ROUND(H42*F42,2) -> 0
A43: 1.1.4.6. | B43: SINAPI | C43: 100981 | D43: CARGA, MANOBRA E DESCARGA DE ENTULHO EM CAMINHÃO BASCULANTE 6 M³ - CARGA COM ESCAVADEIRA HIDRÁULICA (CAÇAMBA DE 0,80 M³ / 111 HP) E DESCARGA LIVRE (UNIDADE: M3). AF_07/2020 | E43: M3 | H43: =ROUND(G43*1.2423,2) -> 0 | I43: =ROUND(H43*F43,2) -> 0
A44: 1.1.4.7. | B44: SINAPI | C44: 97913 | D44: TRANSPORTE COM CAMINHÃO BASCULANTE DE 6 M³, EM VIA URBANA EM REVESTIMENTO PRIMÁRIO (UNIDADE: M3XKM). AF_07/2020 | E44: M3XKM | H44: =ROUND(G44*1.2423,2) -> 0 | I44: =ROUND(H44*F44,2) -> 0
...

Sheet Planilha2
A1: TOTAL IMPLANTAÇÃO GERAL: | B1: 752459.77
A4: Subtotal: | B4: 39492.26
A7: Subtotal: | B7: 51126.76
A10: Subtotal: | B10: 80982.89
A13: Subtotal: | B13: 19539.76
A16: Subtotal: | B16: 5719.94
A19: Subtotal: | B19: 86542.55
A22: Subtotal: | B22: 289531.67
A25: Subtotal: | B25: 122106.2
A28: Subtotal: | B28: 57417.74
A31: TOTAL QUADRA POLIESPORTIVA: | B31: 816438.12
A34: Subtotal: | B34: 493563.26
... A76: Subtotal: | B76: 2711.4

Sheet Cronograma
B5: CRONOGRAMA FISICO-FINANCEIRO
B8: =Planilha!D5 -> OBRA: Construção de Centro Poliesportivo na Rua Americo Trufelli, Pq. São Francisco
B10: Descrição | C10: MESES | V10: Valor do Item | W10: %
C11: 1 | D11: 2 | E11: 3 | F11: 4 | G11: 5 | H11: 6 | I11: 7 | J11: 8 | K11: 9 | L11: 10 | M11: 11 | N11: 12 | O11: 13 | P11: 14 | Q11: 15 | R11: 16 | S11: 17 | T11: 18 | U11: 19
B12: =Planilha1!A10&" "&Planilha1!D10 -> 1. CENTRO POLIESPORTIVO
B13: =Planilha1!A11&" "&Planilha1!D11
B14: =Planilha1!A12&" "&Planilha1!D12 | C14: =IF(C13="x", $V12/COUNTIF($C13:$U13,"x"), "") | D14: =IF(D13="x", $V12/COUNTIF($C13:$U13,"x"), "") | E14: =IF(E13="x", $V12/COUNTIF($C13:$U13,"x"), "") | F14: =IF(F13="x", $V12/COUNTIF($C13:$U13,"x"), "") | G14: =IF(G13="x", $V12/COUNTIF($C13:$U13,"x"), "") | H14: =IF(H13="x", $V12/COUNTIF($C13:$U13,"x"), "") | I14: =IF(I13="x", $V12/COUNTIF($C13:$U13,"x"), "") | J14: =IF(J13="x", $V12/COUNTIF($C13:$U13,"x"), "") | ... U14: =IF(U13="x", $V12/COUNTIF($C13:$U13,"x"), "")
B15: =Planilha1!A13&" "&Planilha1!D13 -> 1.1. IMPLANTAÇÃO GERAL
B16: =Planilha1!A14&" "&Planilha1!D14
B17: =Planilha1!A15&" "&Planilha1!D15 | C17: =IF(C16="x", $V15/COUNTIF($C16:$U16,"x"), "") | D17: =IF(D16="x", $V15/COUNTIF($C16:$U16,"x"), "") | E17: =IF(E16="x", $V15/COUNTIF($C16:$U16,"x"), "") | F17: =IF(F16="x", $V15/COUNTIF($C16:$U16,"x"), "") | G17: =IF(G16="x", $V15/COUNTIF($C16:$U16,"x"), "") | H17: =IF(H16="x", $V15/COUNTIF($C16:$U16,"x"), "") | I17: =IF(I16="x", $V15/COUNTIF($C16:$U16,"x"), "") | J17: =IF(J16="x", $V15/COUNTIF($C16:$U16,"x"), "") | ... U17: =IF(U16="x", $V15/COUNTIF($C16:$U16,"x"), "")
B18: =Planilha1!A16&" "&Planilha1!D16 -> 1.1.1. SERVIÇOS PRELIMINARES E DEMOLIÇÕES | W18: =V18/$V$93 -> #DIV/0!
B19: =Planilha1!A17&" "&Planilha1!D17 | C19: x
B20: =Planilha1!A18&" "&Planilha1!D18
B21: =Planilha1!A19&" "&Planilha1!D19 -> 1.1.2. TERRAPLANAGEM | W21: =V21/$V$93 -> #DIV/0!
B22: =Planilha1!A20&" "&Planilha1!D20 | C22: x
B23: =Planilha1!A21&" "&Planilha1!D21
B24: =Planilha1!A22&" "&Planilha1!D22 -> 1.1.3. INSTALAÇÃO ELÉTRICA | W24: =V24/$V$93 -> #DIV/0!
B25: =Planilha1!A23&" "&Planilha1!D23 | C25: x
B26: =Planilha1!A24&" "&Planilha1!D24
B27: =Planilha1!A25&" "&Planilha1!D25 -> 1.1.4. INSTALAÇÕES HIDRO-SANITÁRIAS | W27: =V27/$V$93 -> #DIV/0!
B28: =Planilha1!A26&" "&Planilha1!D26 | C28: x
B29: =Planilha1!A27&" "&Planilha1!D27
B30: =Planilha1!A28&" "&Planilha1!D28 -> 1.1.5. REVITALIZAÇÃO DE ESCADA | W30: =V30/$V$93 -> #DIV/0!
B31: =Planilha1!A29&" "&Planilha1!D29 | C31: x
B32: =Planilha1!A30&" "&Planilha1!D30
B33: =Planilha1!A31&" "&Planilha1!D31 -> 1.1.6. ARQUIBANCADA | W33: =V33/$V$93 -> #DIV/0!
B34: =Planilha1!A32&" "&Planilha1!D32 | D34: x
B35: =Planilha1!A33&" "&Planilha1!D33
B36: =Planilha1!A34&" "&Planilha1!D34 -> 1.1.7. RAMPA DE ACESSIBILIDADE | W36: =V36/$V$93 -> #DIV/0!
B37: =Planilha1!A35&" "&Planilha1!D35 | E37: x
B38: =Planilha1!A36&" "&Planilha1!D36
B39: =Planilha1!A37&" "&Planilha1!D37 -> 1.1.8. PISO | W39: =V39/$V$93 -> #DIV/0!
B40: =Planilha1!A38&" "&Planilha1!D38 | D40: x
B41: =Planilha1!A39&" "&Planilha1!D39
B42: =Planilha1!A40&" "&Planilha1!D40 -> 1.1.9. PLAYGROUND | W42: =V42/$V$93 -> #DIV/0!
B43: =Planilha1!A41&" "&Planilha1!D41 | J43: x
B44: =Planilha1!A42&" "&Planilha1!D42
B45: =Planilha1!A43&" "&Planilha1!D43 -> 1.2. QUADRA POLIESPORTIVA
B46: =Planilha1!A44&" "&Planilha1!D44
B47: =Planilha1!A45&" "&Planilha1!D45
...

Sheet Planilha1
A1: 1.1.8.1. | B1: SINAPI | C1: 92398 | D1: EXECUÇÃO DE PAVIMENTO EM PISO INTERTRAVADO, COM BLOCO RETANGULAR COR NATURAL DE 20 X 10 CM, ESPESSURA 8 CM. AF_10/2022 | E1: M2 | F1: 552.79 | G1: 106.18 | H1: 131.91 | I1: 72918.53
A2: 1.2.1.2. | B2: SINAPI | C2: 95996 | D2: EXECUÇÃO DE PAVIMENTO COM APLICAÇÃO DE CONCRETO ASFÁLTICO, CAMADA DE BINDER - EXCLUSIVE CARGA E TRANSPORTE. AF_11/2019 | E2: M3 | F2: 72.15 | G2: 1285.44 | H2: 1596.9 | I2: 115216.34
A3: 1.2.1.5. | B3: SCO | C3: PJ 05.20.0055 (/) | D3: Piso de grama sintética, em rolo, com fios de 50mm de altura, na cor verde, demarcação de linhas com grama na cor branca, sistema de amortecimento composto com as seguintes características mínimas: Camada de areia especial com 1cm de espessura (20 Kg/m2) e grânulos de borracha de granulometria de 0,6 a 2mm (9 Kg/m2) e mão de obra especializada para instalação; exclusive base asfáltica, mureta perimetral para contenção da base, canaleta perimetral para coleta e escoamento da água e preparo de terreno. Fornecimento e colocação. | E3: M2 | F3: 1442.92 | G3: 213.35 | H3: 265.04 | I3: 382431.52
A4: 1.2.2.1. | B4: SINAPI | C4: 102363 | D4: ALAMBRADO PARA QUADRA POLIESPORTIVA, ESTRUTURADO POR TUBOS DE ACO GALVANIZADO, (MONTANTES COM DIAMETRO 2", TRAVESSAS E ESCORAS COM DIÂMETRO 1 ¼"), COM TELA DE ARAME GALVANIZADO, FIO 12 BWG E MALHA QUADRADA 5X5CM (EXCETO MURETA). AF_03/2021 | E4: M2 | F4: 792.76 | G4: 189.91 | H4: 235.93 | I4: 187035.87
A9: Item | B9: Referência | C9: Código | D9: Descrição | E9: Unid | F9: Quantidade | G9: Preço Unit sem BDI | H9: Preço Unit com BDI | I9: Total
A10: 1. | D10: CENTRO POLIESPORTIVO
A13: 1.1. | D13: IMPLANTAÇÃO GERAL | H13: TOTAL IMPLANTAÇÃO GERAL: | I13: 731933.47
A16: 1.1.1. | D16: SERVIÇOS PRELIMINARES E DEMOLIÇÕES | H16: Subtotal: | I16: 37573.8
A19: 1.1.2. | D19: TERRAPLANAGEM | H19: Subtotal: | I19: 47493.51
A22: 1.1.3. | D22: INSTALAÇÃO ELÉTRICA | H22: Subtotal: | I22: 81714.48
A25: 1.1.4. | D25: INSTALAÇÕES HIDRO-SANITÁRIAS | H25: Subtotal: | I25: 18954.27
A28: 1.1.5. | D28: REVITALIZAÇÃO DE ESCADA | H28: Subtotal: | I28: 5472.39
A31: 1.1.6. | D31: ARQUIBANCADA | H31: Subtotal: | I31: 83170.34
A34: 1.1.7. | D34: RAMPA DE ACESSIBILIDADE | H34: Subtotal: | I34: 281028.31
A37: 1.1.8. | D37: PISO | H37: Subtotal: | I37: 119300.51
A40: 1.1.9. | D40: PLAYGROUND | H40: Subtotal: | I40: 57225.86
A43: 1.2. | D43: QUADRA POLIESPORTIVA | H43: TOTAL QUADRA POLIESPORTIVA: | I43: 840422.17
A46: 1.2.1. | D46: PISO | H46: Subtotal: | I46: 517000.01
... A88: 1.3.9. | D88: SERVIÇOS COMPLEMENTARES | H88: Subtotal: | I88: 2728.56
