Workbook
Name AreaTeste: #REF!
Name AreaTeste2: #REF!
Name CélulaInicioPlanilha: #REF!
Name CélulaResumo: #REF!
Name Excel_BuiltIn_Database: #REF!
Name Excel_BuiltIn_Database_2: #REF!

Sheet Planilha
D3: PLANILHA ORÇAMENTÁRIA
D5: OBRA: Construção de Centro Poliesportivo na Rua Americo Trufelli, Pq. São Francisco
D6: BDI: 24,23% | F6: Data base:
A7: Item | B7: Referência | C7: Código | D7: Descrição | E7: Unid | F7: Quantidade | G7: Preço Unit sem BDI | H7: Preço Unit com BDI | I7: Total
A8: 1. | D8: CENTRO POLIESPORTIVO
A9: 1.1. | D9: IMPLANTAÇÃO GERAL | H9: TOTAL IMPLANTAÇÃO GERAL: | I9: =I10+I17+I22+I37+I47+I55+I71+I89+I93 -> 0
A10: 1.1.1. | D10: SERVIÇOS PRELIMINARES E DEMOLIÇÕES | H10: Subtotal: | I10: =SUM(I11:I16) -> 0
A11: 1.1.1.1. | B11: SINAPI | C11: 103689 | D11: FORNECIMENTO E INSTALAÇÃO DE PLACA DE OBRA COM CHAPA GALVANIZADA E ESTRUTURA DE MADEIRA. AF_03/2022_PS | E11: M2 | H11: =ROUND(G11*1.2423,2) -> 0 | I11: =ROUND(H11*F11,2) -> 0
A12: 1.1.1.2. | B12: SINAPI | C12: 97629 | D12: DEMOLIÇÃO DE LAJES, EM CONCRETO ARMADO, DE FORMA MECANIZADA COM MARTELETE, SEM REAPROVEITAMENTO. AF_09/2023 | E12: M3 | H12: =ROUND(G12*1.2423,2) -> 0 | I12: =ROUND(H12*F12,2) -> 0
A13: 1.1.1.3. | B13: SINAPI | C13: 97625 | D13: DEMOLIÇÃO DE ALVENARIA PARA QUALQUER TIPO DE BLOCO, DE FORMA MECANIZADA, SEM REAPROVEITAMENTO. AF_09/2023 | E13: M3 | H13: =ROUND(G13*1.2423,2) -> 0 | I13: =ROUND(H13*F13,2) -> 0
A14: 1.1.1.4. | B14: SINAPI | C14: 97627 | D14: DEMOLIÇÃO DE PILARES E VIGAS EM CONCRETO ARMADO, DE FORMA MECANIZADA COM MARTELETE, SEM REAPROVEITAMENTO. AF_09/2023 | E14: M3 | H14: =ROUND(G14*1.2423,2) -> 0 | I14: =ROUND(H14*F14,2) -> 0
A15: 1.1.1.5. | B15: SINAPI | C15: 100981 | D15: CARGA, MANOBRA E DESCARGA DE ENTULHO EM CAMINHÃO BASCULANTE 6 M³ - CARGA COM ESCAVADEIRA HIDRÁULICA (CAÇAMBA DE 0,80 M³ / 111 HP) E DESCARGA LIVRE (UNIDADE: M3). AF_07/2020 | E15: M3 | H15: =ROUND(G15*1.2423,2) -> 0 | I15: =ROUND(H15*F15,2) -> 0
A16: 1.1.1.6. | B16: SINAPI | C16: 97913 | D16: TRANSPORTE COM CAMINHÃO BASCULANTE DE 6 M³, EM VIA URBANA EM REVESTIMENTO PRIMÁRIO (UNIDADE: M3XKM). AF_07/2020 | E16: M3XKM | H16: =ROUND(G16*1.2423,2) -> 0 | I16: =ROUND(H16*F16,2) -> 0
A17: 1.1.2. | D17: TERRAPLANAGEM | H17: Subtotal: | I17: =SUM(I18:I21) -> 0
A18: 1.1.2.1. | B18: SINAPI | C18: 101114 | D18: ESCAVAÇÃO HORIZONTAL EM SOLO DE 1A CATEGORIA COM TRATOR DE ESTEIRAS (100HP/LÂMINA: 2,19M3). AF_07/2020 | E18: M3 | H18: =ROUND(G18*1.2423,2) -> 0 | I18: =ROUND(H18*F18,2) -> 0
A19: 1.1.2.2. | B19: SINAPI | C19: 100576 | D19: REGULARIZAÇÃO E COMPACTAÇÃO DE SUBLEITO DE SOLO PREDOMINANTEMENTE ARGILOSO, PARA OBRAS DE CONSTRUÇÃO DE PAVIMENTOS. AF_09/2024 | E19: M2 | H19: =ROUND(G19*1.2423,2) -> 0 | I19: =ROUND(H19*F19,2) -> 0
A20: 1.1.2.3. | B20: SINAPI | C20: 100978 | D20: CARGA, MANOBRA E DESCARGA DE SOLOS E MATERIAIS GRANULARES EM CAMINHÃO BASCULANTE 10 M³ - CARGA COM ESCAVADEIRA HIDRÁULICA (CAÇAMBA DE 1,20 M³ / 155 HP) E DESCARGA LIVRE (UNIDADE: M3). AF_07/2020 | E20: M3 | H20: =ROUND(G20*1.2423,2) -> 0 | I20: =ROUND(H20*F20,2) -> 0
A21: 1.1.2.4. | B21: SINAPI | C21: 95878 | D21: TRANSPORTE COM CAMINHÃO BASCULANTE DE 10 M³, EM VIA URBANA PAVIMENTADA, DMT ATÉ 30 KM (UNIDADE: TXKM). AF_07/2020 | E21: TXKM | H21: =ROUND(G21*1.2423,2) -> 0 | I21: =ROUND(H21*F21,2) -> 0
A22: 1.1.3. | D22: INSTALAÇÃO ELÉTRICA | H22: Subtotal: | I22: =SUM(I23:I36) -> 0
A23: 1.1.3.1. | B23: SINAPI | C23: 101499 | D23: ENTRADA DE ENERGIA ELÉTRICA, AÉREA, BIFÁSICA, COM CAIXA DE SOBREPOR, CABO DE 25 MM2 E DISJUNTOR DIN 50A (NÃO INCLUSO O POSTE DE CONCRETO). AF_07/2020_PS | E23: UN | H23: =ROUND(G23*1.2423,2) -> 0 | I23: =ROUND(H23*F23,2) -> 0
A24: 1.1.3.2. | B24: SINAPI-I | C24: 41198 | D24: POSTE DE CONCRETO ARMADO DE SECAO DUPLO T, EXTENSAO DE 9,00 M, RESISTENCIA DE 1000 DAN, TIPO B-1,5 | E24: UN | H24: =ROUND(G24*1.2423,2) -> 0 | I24: =ROUND(H24*F24,2) -> 0
A25: 1.1.3.3. | B25: SINAPI | C25: 100603 | D25: ASSENTAMENTO DE POSTE DE CONCRETO COM COMPRIMENTO NOMINAL DE 9 M, CARGA NOMINAL DE 1000 DAN, ENGASTAMENTO BASE CONCRETADA COM 1 M DE CONCRETO E 0,5 M DE SOLO (NÃO INCLUI FORNECIMENTO). AF_04/2025 | E25: UN | H25: =ROUND(G25*1.2423,2) -> 0 | I25: =ROUND(H25*F25,2) -> 0
A26: 1.1.3.4. | B26: SINAPI | C26: 93008 | D26: ELETRODUTO RÍGIDO ROSCÁVEL, PVC, DN 50 MM (1 1/2"), PARA REDE ENTERRADA DE DISTRIBUIÇÃO DE ENERGIA ELÉTRICA - FORNECIMENTO E INSTALAÇÃO. AF_12/2021 | E26: M | H26: =ROUND(G26*1.2423,2) -> 0 | I26: =ROUND(H26*F26,2) -> 0
A27: 1.1.3.5. | B27: SINAPI | C27: 92982 | D27: CABO DE COBRE FLEXÍVEL ISOLADO, 16 MM², ANTI-CHAMA 0,6/1,0 KV, PARA DISTRIBUIÇÃO - FORNECIMENTO E INSTALAÇÃO. AF_10/2020 | E27: M | H27: =ROUND(G27*1.2423,2) -> 0 | I27: =ROUND(H27*F27,2) -> 0
A28: 1.1.3.6. | B28: SINAPI | C28: 101562 | D28: CABO DE COBRE FLEXÍVEL ISOLADO, 25 MM², 0,6/1,0 KV, PARA REDE AÉREA DE DISTRIBUIÇÃO DE ENERGIA ELÉTRICA DE BAIXA TENSÃO - FORNECIMENTO E INSTALAÇÃO. AF_07/2020 | E28: M | H28: =ROUND(G28*1.2423,2) -> 0 | I28: =ROUND(H28*F28,2) -> 0
A29: 1.1.3.7. | B29: SINAPI | C29: 91871 | D29: ELETRODUTO RÍGIDO ROSCÁVEL, PVC, DN 25 MM (3/4"), PARA CIRCUITOS TERMINAIS, INSTALADO EM PAREDE - FORNECIMENTO E INSTALAÇÃO. AF_03/2023 | E29: M | H29: =ROUND(G29*1.2423,2) -> 0 | I29: =ROUND(H29*F29,2) -> 0
A30: 1.1.3.8. | B30: SINAPI | C30: 91929 | D30: CABO DE COBRE FLEXÍVEL ISOLADO, 4 MM², ANTI-CHAMA 0,6/1,0 KV, PARA CIRCUITOS TERMINAIS - FORNECIMENTO E INSTALAÇÃO. AF_03/2023 | E30: M | H30: =ROUND(G30*1.2423,2) -> 0 | I30: =ROUND(H30*F30,2) -> 0
A31: 1.1.3.9. | B31: SINAPI | C31: 100622 | D31: POSTE DE AÇO CÔNICO CONTÍNUO CURVO SIMPLES, ENGASTAMENTO SIMPLES COM 1 M DE SOLO, H=9M - FORNECIMENTO E INSTALAÇÃO. AF_04/2025 | E31: UN | H31: =ROUND(G31*1.2423,2) -> 0 | I31: =ROUND(H31*F31,2) -> 0
A32: 1.1.3.10. | B32: SINAPI | C32: 101657 | D32: LUMINÁRIA DE LED PARA ILUMINAÇÃO PÚBLICA, DE 98 W ATÉ 137 W - FORNECIMENTO E INSTALAÇÃO. AF_02/2025_PS | E32: UN | H32: =ROUND(G32*1.2423,2) -> 0 | I32: =ROUND(H32*F32,2) -> 0
A33: 1.1.3.11. | B33: SINAPI | C33: 93358 | D33: ESCAVAÇÃO MANUAL DE VALA. AF_09/2024 | E33: M3 | H33: =ROUND(G33*1.2423,2) -> 0 | I33: =ROUND(H33*F33,2) -> 0
A34: 1.1.3.12. | B34: SINAPI | C34: 93382 | D34: REATERRO MANUAL DE VALAS, COM COMPACTADOR DE SOLOS DE PERCUSSÃO. AF_08/2023 | E34: M3 | H34: =ROUND(G34*1.2423,2) -> 0 | I34: =ROUND(H34*F34,2) -> 0
... A36: 1.1.3.14. | B36: SINAPI | C36: 97913 | D36: TRANSPORTE COM CAMINHÃO BASCULANTE DE 6 M³, EM VIA URBANA EM REVESTIMENTO PRIMÁRIO (UNIDADE: M3XKM). AF_07/2020 | E36: M3XKM | H36: =ROUND(G36*1.2423,2) -> 0 | I36: =ROUND(H36*F36,2) -> 0
A37: 1.1.4. | D37: INSTALAÇÕES HIDRO-SANITÁRIAS | H37: Subtotal: | I37: =SUM(I38:I46) -> 0
A38: 1.1.4.1. | B38: CDHU | C38: 45.01.020 | D38: Entrada completa de água com abrigo e registro de gaveta, DN= 3/4´ | E38: UN | H38: =ROUND(G38*1.2423,2) -> 0 | I38: =ROUND(H38*F38,2) -> 0
A39: 1.1.4.2. | B39: SINAPI | C39: 89402 | D39: TUBO, PVC, SOLDÁVEL, DE 25MM, INSTALADO EM RAMAL DE DISTRIBUIÇÃO DE ÁGUA - FORNECIMENTO E INSTALAÇÃO. AF_06/2022 | E39: M | H39: =ROUND(G39*1.2423,2) -> 0 | I39: =ROUND(H39*F39,2) -> 0
A40: 1.1.4.3. | B40: SINAPI | C40: 97908 | D40: CAIXA ENTERRADA HIDRÁULICA RETANGULAR, EM ALVENARIA COM BLOCOS DE CONCRETO, DIMENSÕES INTERNAS: 1X1X0,6 M PARA REDE DE ESGOTO. AF_12/2020 | E40: UN | H40: =ROUND(G40*1.2423,2) -> 0 | I40: =ROUND(H40*F40,2) -> 0
A41: 1.1.4.4. | B41: SINAPI | C41: 93358 | D41: ESCAVAÇÃO MANUAL DE VALA. AF_09/2024 | E41: M3 | H41: =ROUND(G41*1.2423,2) -> 0 | I41: =ROUND(H41*F41,2) -> 0
A42: 1.1.4.5. | B42: SINAPI | C42: 93382 | D42: REATERRO MANUAL DE VALAS, COM COMPACTADOR DE SOLOS DE PERCUSSÃO. AF_08/2023 | E42: M3 | H42: =ROUND(G42*1.2423,2) -> 0 | I42: =ROUND(H42*F42,2) -> 0
A43: 1.1.4.6. | B43: SINAPI | C43: 100981 | D43: CARGA, MANOBRA E DESCARGA DE ENTULHO EM CAMINHÃO BASCULANTE 6 M³ - CARGA COM ESCAVADEIRA HIDRÁULICA (CAÇAMBA DE 0,80 M³ / 111 HP) E DESCARGA LIVRE (UNIDADE: M3). AF_07/2020 | E43: M3 | H43: =ROUND(G43*1.2423,2) -> 0 | I43: =ROUND(H43*F43,2) -> 0
A44: 1.1.4.7. | B44: SINAPI | C44: 97913 | D44: TRANSPORTE COM CAMINHÃO BASCULANTE DE 6 M³, EM VIA URBANA EM REVESTIMENTO PRIMÁRIO (UNIDADE: M3XKM). AF_07/2020 | E44: M3XKM | H44: =ROUND(G44*1.2423,2) -> 0 | I44: =ROUND(H44*F44,2) -> 0
A45: 1.1.4.8. | B45: SINAPI | C45: 92808 | D45: ASSENTAMENTO DE TUBO DE CONCRETO PARA REDES COLETORAS DE ÁGUAS PLUVIAIS, DIÂMETRO DE 300 MM, JUNTA RÍGIDA, INSTALADO EM LOCAL COM BAIXO NÍVEL DE INTERFERÊNCIAS (NÃO INCLUI FORNECIMENTO). AF_03/2024 | E45: M | H45: =ROUND(G45*1.2423,2) -> 0 | I45: =ROUND(H45*F45,2) -> 0
A46: 1.1.4.9. | B46: SINAPI | C46: 95567 | D46: TUBO DE CONCRETO (SIMPLES) PARA REDES COLETORAS DE ÁGUAS PLUVIAIS, DIÂMETRO DE 300 MM, JUNTA RÍGIDA, INSTALADO EM LOCAL COM BAIXO NÍVEL DE INTERFERÊNCIAS - FORNECIMENTO E ASSENTAMENTO. AF_03/2024 | E46: M | H46: =ROUND(G46*1.2423,2) -> 0 | I46: =ROUND(H46*F46,2) -> 0
A47: 1.1.5. | D47: REVITALIZAÇÃO DE ESCADA | H47: Subtotal: | I47: =SUM(I48:I54) -> 0
A48: 1.1.5.1. | B48: SINAPI | C48: 104789 | D48: DEMOLIÇÃO DE PISO DE CONCRETO SIMPLES, DE FORMA MANUAL, SEM REAPROVEITAMENTO. AF_09/2023 | E48: M3 | H48: =ROUND(G48*1.2423,2) -> 0 | I48: =ROUND(H48*F48,2) -> 0
A49: 1.1.5.2. | B49: SINAPI | C49: 100981 | D49: CARGA, MANOBRA E DESCARGA DE ENTULHO EM CAMINHÃO BASCULANTE 6 M³ - CARGA COM ESCAVADEIRA HIDRÁULICA (CAÇAMBA DE 0,80 M³ / 111 HP) E DESCARGA LIVRE (UNIDADE: M3). AF_07/2020 | E49: M3 | H49: =ROUND(G49*1.2423,2) -> 0 | I49: =ROUND(H49*F49,2) -> 0
A50: 1.1.5.3. | B50: SINAPI | C50: 97913 | D50: TRANSPORTE COM CAMINHÃO BASCULANTE DE 6 M³, EM VIA URBANA EM REVESTIMENTO PRIMÁRIO (UNIDADE: M3XKM). AF_07/2020 | E50: M3XKM | H50: =ROUND(G50*1.2423,2) -> 0 | I50: =ROUND(H50*F50,2) -> 0
A51: 1.1.5.4. | B51: SINAPI | C51: 98679 | D51: PISO CIMENTADO, TRAÇO 1:3 (CIMENTO E AREIA), ACABAMENTO LISO, ESPESSURA 2,0 CM, PREPARO MECÂNICO DA ARGAMASSA. AF_09/2020 | E51: M2 | H51: =ROUND(G51*1.2423,2) -> 0 | I51: =ROUND(H51*F51,2) -> 0
A52: 1.1.5.5. | B52: SINAPI | C52: 87904 | D52: CHAPISCO APLICADO EM ALVENARIA (COM PRESENÇA DE VÃOS) E ESTRUTURAS DE CONCRETO DE FACHADA, COM COLHER DE PEDREIRO. ARGAMASSA TRAÇO 1:3 COM PREPARO MANUAL. AF_10/2022 | E52: M2 | H52: =ROUND(G52*1.2423,2) -> 0 | I52: =ROUND(H52*F52,2) -> 0
A53: 1.1.5.6. | B53: SINAPI | C53: 87792 | D53: EMBOÇO OU MASSA ÚNICA EM ARGAMASSA TRAÇO 1:2:8, PREPARO MECÂNICO COM BETONEIRA 400 L, APLICADA MANUALMENTE EM PANOS CEGOS DE FACHADA (SEM PRESENÇA DE VÃOS), ESPESSURA DE 25 MM. AF_08/2022 | E53: M2 | H53: =ROUND(G53*1.2423,2) -> 0 | I53: =ROUND(H53*F53,2) -> 0
A54: 1.1.5.7. | B54: SINAPI | C54: 104641 | D54: PINTURA LÁTEX ACRÍLICA ECONÔMICA, APLICAÇÃO MANUAL EM PAREDES, DUAS DEMÃOS. AF_04/2023 | E54: M2 | H54: =ROUND(G54*1.2423,2) -> 0 | I54: =ROUND(H54*F54,2) -> 0
A55: 1.1.6. | D55: ARQUIBANCADA | H55: Subtotal: | I55: =SUM(I56:I70) -> 0
A56: 1.1.6.1. | B56: SINAPI | C56: 93358 | D56: ESCAVAÇÃO MANUAL DE VALA. AF_09/2024 | E56: M3 | H56: =ROUND(G56*1.2423,2) -> 0 | I56: =ROUND(H56*F56,2) -> 0
A57: 1.1.6.2. | B57: SINAPI | C57: 100981 | D57: CARGA, MANOBRA E DESCARGA DE ENTULHO EM CAMINHÃO BASCULANTE 6 M³ - CARGA COM ESCAVADEIRA HIDRÁULICA (CAÇAMBA DE 0,80 M³ / 111 HP) E DESCARGA LIVRE (UNIDADE: M3). AF_07/2020 | E57: M3 | H57: =ROUND(G57*1.2423,2) -> 0 | I57: =ROUND(H57*F57,2) -> 0
A58: 1.1.6.3. | B58: SINAPI | C58: 97913 | D58: TRANSPORTE COM CAMINHÃO BASCULANTE DE 6 M³, EM VIA URBANA EM REVESTIMENTO PRIMÁRIO (UNIDADE: M3XKM). AF_07/2020 | E58: M3XKM | H58: =ROUND(G58*1.2423,2) -> 0 | I58: =ROUND(H58*F58,2) -> 0
A59: 1.1.6.4. | B59: SINAPI | C59: 95241 | D59: LASTRO DE CONCRETO MAGRO, APLICADO EM PISOS, LAJES SOBRE SOLO OU RADIERS, ESPESSURA DE 5 CM. AF_01/2024 | E59: M2 | H59: =ROUND(G59*1.2423,2) -> 0 | I59: =ROUND(H59*F59,2) -> 0
A60: 1.1.6.5. | B60: SINAPI | C60: 96536 | D60: FABRICAÇÃO, MONTAGEM E DESMONTAGEM DE FÔRMA PARA VIGA BALDRAME, EM MADEIRA SERRADA, E=25 MM, 4 UTILIZAÇÕES. AF_01/2024 | E60: M2 | H60: =ROUND(G60*1.2423,2) -> 0 | I60: =ROUND(H60*F60,2) -> 0
A61: 1.1.6.6. | B61: SINAPI | C61: 96544 | D61: ARMAÇÃO DE BLOCO UTILIZANDO AÇO CA-50 DE 6,3 MM - MONTAGEM. AF_01/2024 | E61: KG | H61: =ROUND(G61*1.2423,2) -> 0 | I61: =ROUND(H61*F61,2) -> 0
A62: 1.1.6.7. | B62: SINAPI | C62: 96545 | D62: ARMAÇÃO DE BLOCO UTILIZANDO AÇO CA-50 DE 8 MM - MONTAGEM. AF_01/2024 | E62: KG | H62: =ROUND(G62*1.2423,2) -> 0 | I62: =ROUND(H62*F62,2) -> 0
A63: 1.1.6.8. | B63: SINAPI | C63: 103670 | D63: LANÇAMENTO COM USO DE BALDES, ADENSAMENTO E ACABAMENTO DE CONCRETO EM ESTRUTURAS. AF_02/2022 | E63: M3 | H63: =ROUND(G63*1.2423,2) -> 0 | I63: =ROUND(H63*F63,2) -> 0
A64: 1.1.6.9. | B64: SINAPI | C64: 94971 | D64: CONCRETO FCK = 25MPA, TRAÇO 1:2,3:2,7 (EM MASSA SECA DE CIMENTO/ AREIA MÉDIA/ BRITA 1) - PREPARO MECÂNICO COM BETONEIRA 600 L. AF_05/2021 | E64: M3 | H64: =ROUND(G64*1.2423,2) -> 0 | I64: =ROUND(H64*F64,2) -> 0
A65: 1.1.6.10. | B65: SINAPI | C65: 103318 | D65: ALVENARIA DE VEDAÇÃO DE BLOCOS VAZADOS DE CONCRETO DE 14X19X39 CM (ESPESSURA 14 CM) E ARGAMASSA DE ASSENTAMENTO COM PREPARO EM BETONEIRA. AF_12/2021 | E65: M2 | H65: =ROUND(G65*1.2423,2) -> 0 | I65: =ROUND(H65*F65,2) -> 0
A66: 1.1.6.11. | B66: SINAPI | C66: 101963 | D66: LAJE PRÉ-MOLDADA UNIDIRECIONAL, BIAPOIADA, PARA PISO, ENCHIMENTO EM CERÂMICA, VIGOTA CONVENCIONAL, ALTURA TOTAL DA LAJE (ENCHIMENTO+CAPA) = (8+4). AF_11/2020 | E66: M2 | H66: =ROUND(G66*1.2423,2) -> 0 | I66: =ROUND(H66*F66,2) -> 0
A67: 1.1.6.12. | B67: SINAPI | C67: 98679 | D67: PISO CIMENTADO, TRAÇO 1:3 (CIMENTO E AREIA), ACABAMENTO LISO, ESPESSURA 2,0 CM, PREPARO MECÂNICO DA ARGAMASSA. AF_09/2020 | E67: M2 | H67: =ROUND(G67*1.2423,2) -> 0 | I67: =ROUND(H67*F67,2) -> 0
... A70: 1.1.6.15. | B70: SINAPI | C70: 104641 | D70: PINTURA LÁTEX ACRÍLICA ECONÔMICA, APLICAÇÃO MANUAL EM PAREDES, DUAS DEMÃOS. AF_04/2023 | E70: M2 | H70: =ROUND(G70*1.2423,2) -> 0 | I70: =ROUND(H70*F70,2) -> 0
A71: 1.1.7. | D71: RAMPA DE ACESSIBILIDADE | H71: Subtotal: | I71: =SUM(I72:I88) -> 0
A72: 1.1.7.1. | B72: SINAPI | C72: 93358 | D72: ESCAVAÇÃO MANUAL DE VALA. AF_09/2024 | E72: M3 | H72: =ROUND(G72*1.2423,2) -> 0 | I72: =ROUND(H72*F72,2) -> 0
A73: 1.1.7.2. | B73: SINAPI | C73: 100981 | D73: CARGA, MANOBRA E DESCARGA DE ENTULHO EM CAMINHÃO BASCULANTE 6 M³ - CARGA COM ESCAVADEIRA HIDRÁULICA (CAÇAMBA DE 0,80 M³ / 111 HP) E DESCARGA LIVRE (UNIDADE: M3). AF_07/2020 | E73: M3 | H73: =ROUND(G73*1.2423,2) -> 0 | I73: =ROUND(H73*F73,2) -> 0
A74: 1.1.7.3. | B74: SINAPI | C74: 97913 | D74: TRANSPORTE COM CAMINHÃO BASCULANTE DE 6 M³, EM VIA URBANA EM REVESTIMENTO PRIMÁRIO (UNIDADE: M3XKM). AF_07/2020 | E74: M3XKM | H74: =ROUND(G74*1.2423,2) -> 0 | I74: =ROUND(H74*F74,2) -> 0
A75: 1.1.7.4. | B75: SINAPI | C75: 95241 | D75: LASTRO DE CONCRETO MAGRO, APLICADO EM PISOS, LAJES SOBRE SOLO OU RADIERS, ESPESSURA DE 5 CM. AF_01/2024 | E75: M2 | H75: =ROUND(G75*1.2423,2) -> 0 | I75: =ROUND(H75*F75,2) -> 0
A76: 1.1.7.5. | B76: SINAPI | C76: 96536 | D76: FABRICAÇÃO, MONTAGEM E DESMONTAGEM DE FÔRMA PARA VIGA BALDRAME, EM MADEIRA SERRADA, E=25 MM, 4 UTILIZAÇÕES. AF_01/2024 | E76: M2 | H76: =ROUND(G76*1.2423,2) -> 0 | I76: =ROUND(H76*F76,2) -> 0
A77: 1.1.7.6. | B77: SINAPI | C77: 96544 | D77: ARMAÇÃO DE BLOCO UTILIZANDO AÇO CA-50 DE 6,3 MM - MONTAGEM. AF_01/2024 | E77: KG | H77: =ROUND(G77*1.2423,2) -> 0 | I77: =ROUND(H77*F77,2) -> 0
A78: 1.1.7.7. | B78: SINAPI | C78: 96545 | D78: ARMAÇÃO DE BLOCO UTILIZANDO AÇO CA-50 DE 8 MM - MONTAGEM. AF_01/2024 | E78: KG | H78: =ROUND(G78*1.2423,2) -> 0 | I78: =ROUND(H78*F78,2) -> 0
A79: 1.1.7.8. | B79: SINAPI | C79: 103670 | D79: LANÇAMENTO COM USO DE BALDES, ADENSAMENTO E ACABAMENTO DE CONCRETO EM ESTRUTURAS. AF_02/2022 | E79: M3 | H79: =ROUND(G79*1.2423,2) -> 0 | I79: =ROUND(H79*F79,2) -> 0
A80: 1.1.7.9. | B80: SINAPI | C80: 94971 | D80: CONCRETO FCK = 25MPA, TRAÇO 1:2,3:2,7 (EM MASSA SECA DE CIMENTO/ AREIA MÉDIA/ BRITA 1) - PREPARO MECÂNICO COM BETONEIRA 600 L. AF_05/2021 | E80: M3 | H80: =ROUND(G80*1.2423,2) -> 0 | I80: =ROUND(H80*F80,2) -> 0
A81: 1.1.7.10. | B81: SINAPI | C81: 103318 | D81: ALVENARIA DE VEDAÇÃO DE BLOCOS VAZADOS DE CONCRETO DE 14X19X39 CM (ESPESSURA 14 CM) E ARGAMASSA DE ASSENTAMENTO COM PREPARO EM BETONEIRA. AF_12/2021 | E81: M2 | H81: =ROUND(G81*1.2423,2) -> 0 | I81: =ROUND(H81*F81,2) -> 0
A82: 1.1.7.11. | B82: SINAPI | C82: 101963 | D82: LAJE PRÉ-MOLDADA UNIDIRECIONAL, BIAPOIADA, PARA PISO, ENCHIMENTO EM CERÂMICA, VIGOTA CONVENCIONAL, ALTURA TOTAL DA LAJE (ENCHIMENTO+CAPA) = (8+4). AF_11/2020 | E82: M2 | H82: =ROUND(G82*1.2423,2) -> 0 | I82: =ROUND(H82*F82,2) -> 0
A83: 1.1.7.12. | B83: SINAPI | C83: 98679 | D83: PISO CIMENTADO, TRAÇO 1:3 (CIMENTO E AREIA), ACABAMENTO LISO, ESPESSURA 2,0 CM, PREPARO MECÂNICO DA ARGAMASSA. AF_09/2020 | E83: M2 | H83: =ROUND(G83*1.2423,2) -> 0 | I83: =ROUND(H83*F83,2) -> 0
... A88: 1.1.7.17. | B88: SINAPI | C88: 99857 | D88: CORRIMÃO SIMPLES, DIÂMETRO EXTERNO = 1 1/2", EM ALUMÍNIO. AF_04/2019_PS | E88: M | H88: =ROUND(G88*1.2423,2) -> 0 | I88: =ROUND(H88*F88,2) -> 0
A89: 1.1.8. | D89: PISO | H89: Subtotal: | I89: =SUM(I90:I92) -> 0
A90: 1.1.8.1. | B90: SINAPI | C90: 92398 | D90: EXECUÇÃO DE PAVIMENTO EM PISO INTERTRAVADO, COM BLOCO RETANGULAR COR NATURAL DE 20 X 10 CM, ESPESSURA 8 CM. AF_10/2022 | E90: M2 | H90: =ROUND(G90*1.2423,2) -> 0 | I90: =ROUND(H90*F90,2) -> 0
A91: 1.1.8.2. | B91: SINAPI | C91: 94994 | D91: EXECUÇÃO DE PASSEIO (CALÇADA) OU PISO DE CONCRETO COM CONCRETO MOLDADO IN LOCO, FEITO EM OBRA, ACABAMENTO CONVENCIONAL, ESPESSURA 8 CM, ARMADO. AF_08/2022 | E91: M2 | H91: =ROUND(G91*1.2423,2) -> 0 | I91: =ROUND(H91*F91,2) -> 0
A92: 1.1.8.3. | B92: SINAPI | C92: 103946 | D92: PLANTIO DE GRAMA ESMERALDA OU SÃO CARLOS OU CURITIBANA, EM PLACAS. AF_07/2024 | E92: M2 | H92: =ROUND(G92*1.2423,2) -> 0 | I92: =ROUND(H92*F92,2) -> 0
A93: 1.1.9. | D93: PLAYGROUND | H93: Subtotal: | I93: =SUM(I94:I99) -> 0
A94: 1.1.9.1. | B94: SINAPI | C94: 92398 | D94: EXECUÇÃO DE PAVIMENTO EM PISO INTERTRAVADO, COM BLOCO RETANGULAR COR NATURAL DE 20 X 10 CM, ESPESSURA 8 CM. AF_10/2022 | E94: M2 | H94: =ROUND(G94*1.2423,2) -> 0 | I94: =ROUND(H94*F94,2) -> 0
A95: 1.1.9.2. | B95: CDHU | C95: 35.04.120 | D95: Banco em concreto pré-moldado, comprimento 150 cm | E95: UN | H95: =ROUND(G95*1.2423,2) -> 0 | I95: =ROUND(H95*F95,2) -> 0
A96: 1.1.9.3. | B96: SINAPI | C96: 103946 | D96: PLANTIO DE GRAMA ESMERALDA OU SÃO CARLOS OU CURITIBANA, EM PLACAS. AF_07/2024 | E96: M2 | H96: =ROUND(G96*1.2423,2) -> 0 | I96: =ROUND(H96*F96,2) -> 0
A97: 1.1.9.4. | B97: CDHU | C97: 35.05.200 | D97: Centro de atividades em madeira rústica | E97: CJ | H97: =ROUND(G97*1.2423,2) -> 0 | I97: =ROUND(H97*F97,2) -> 0
A98: 1.1.9.5. | B98: CDHU | C98: 35.05.210 | D98: Balanço duplo em madeira rústica | E98: CJ | H98: =ROUND(G98*1.2423,2) -> 0 | I98: =ROUND(H98*F98,2) -> 0
A99: 1.1.9.6. | B99: CDHU | C99: 35.05.220 | D99: Gangorra dupla em madeira rústica | E99: CJ | H99: =ROUND(G99*1.2423,2) -> 0 | I99: =ROUND(H99*F99,2) -> 0
A101: 1.2. | D101: QUADRA POLIESPORTIVA | H101: TOTAL QUADRA POLIESPORTIVA: | I101: =I102+I108+I121+I126+I135 -> 0
A102: 1.2.1. | D102: PISO | H102: Subtotal: | I102: =SUM(I103:I107) -> 0
A103: 1.2.1.1. | B103: SINAPI | C103: 100322 | D103: LASTRO COM MATERIAL GRANULAR (PEDRA BRITADA N.3), APLICADO EM PISOS OU LAJES SOBRE SOLO, ESPESSURA DE *10 CM*. AF_01/2024 | E103: M3 | H103: =ROUND(G103*1.2423,2) -> 0 | I103: =ROUND(H103*F103,2) -> 0
A104: 1.2.1.2. | B104: SINAPI | C104: 95996 | D104: EXECUÇÃO DE PAVIMENTO COM APLICAÇÃO DE CONCRETO ASFÁLTICO, CAMADA DE BINDER - EXCLUSIVE CARGA E TRANSPORTE. AF_11/2019 | E104: M3 | H104: =ROUND(G104*1.2423,2) -> 0 | I104: =ROUND(H104*F104,2) -> 0
A105: 1.2.1.3. | B105: SINAPI | C105: 100986 | D105: CARGA DE MISTURA ASFÁLTICA EM CAMINHÃO BASCULANTE 10 M³ (UNIDADE: M3). AF_07/2020 | E105: M3 | H105: =ROUND(G105*1.2423,2) -> 0 | I105: =ROUND(H105*F105,2) -> 0
A106: 1.2.1.4. | B106: SINAPI | C106: 95878 | D106: TRANSPORTE COM CAMINHÃO BASCULANTE DE 10 M³, EM VIA URBANA PAVIMENTADA, DMT ATÉ 30 KM (UNIDADE: TXKM). AF_07/2020 | E106: TXKM | H106: =ROUND(G106*1.2423,2) -> 0 | I106: =ROUND(H106*F106,2) -> 0
A107: 1.2.1.5. | B107: SCO | C107: PJ 05.20.0055 (/) | D107: Piso de grama sintética, em rolo, com fios de 50mm de altura, na cor verde, demarcação de linhas com grama na cor branca, sistema de amortecimento composto com as seguintes características mínimas: Camada de areia especial com 1cm de espessura (20 Kg/m2) e grânulos de borracha de granulometria de 0,6 a 2mm (9 Kg/m2) e mão de obra especializada para instalação; exclusive base asfáltica, mureta perimetral para contenção da base, canaleta perimetral para coleta e escoamento da água e preparo de terreno. Fornecimento e colocação. | E107: M2 | H107: =ROUND(G107*1.2423,2) -> 0 | I107: =ROUND(H107*F107,2) -> 0
A108: 1.2.2. | D108: MURETA E ALAMBRADO | H108: Subtotal: | I108: =SUM(I109:I120) -> 0
A109: 1.2.2.1. | B109: SINAPI | C109: 102363 | D109: ALAMBRADO PARA QUADRA POLIESPORTIVA, ESTRUTURADO POR TUBOS DE ACO GALVANIZADO, (MONTANTES COM DIAMETRO 2", TRAVESSAS E ESCORAS COM DIÂMETRO 1 ¼"), COM TELA DE ARAME GALVANIZADO, FIO 12 BWG E MALHA QUADRADA 5X5CM (EXCETO MURETA). AF_03/2021 | E109: M2 | H109: =ROUND(G109*1.2423,2) -> 0 | I109: =ROUND(H109*F109,2) -> 0
A110: 1.2.2.2. | B110: SINAPI | C110: 93358 | D110: ESCAVAÇÃO MANUAL DE VALA. AF_09/2024 | E110: M3 | H110: =ROUND(G110*1.2423,2) -> 0 | I110: =ROUND(H110*F110,2) -> 0
A111: 1.2.2.3. | B111: SINAPI | C111: 100981 | D111: CARGA, MANOBRA E DESCARGA DE ENTULHO EM CAMINHÃO BASCULANTE 6 M³ - CARGA COM ESCAVADEIRA HIDRÁULICA (CAÇAMBA DE 0,80 M³ / 111 HP) E DESCARGA LIVRE (UNIDADE: M3). AF_07/2020 | E111: M3 | H111: =ROUND(G111*1.2423,2) -> 0 | I111: =ROUND(H111*F111,2) -> 0
...

Sheet Planilha2
A1: TOTAL IMPLANTAÇÃO GERAL: | B1: 752459.77
A4: Subtotal: | B4: 39492.26
A7: Subtotal: | B7: 51126.76
A10: Subtotal: | B10: 80982.89
A13: Subtotal: | B13: 19539.76
A16: Subtotal: | B16: 5719.94
A19: Subtotal: | B19: 86542.55
A22: Subtotal: | B22: 289531.67
A25: Subtotal: | B25: 122106.2
A28: Subtotal: | B28: 57417.74
A31: TOTAL QUADRA POLIESPORTIVA: | B31: 816438.12
A34: Subtotal: | B34: 493563.26
... A76: Subtotal: | B76: 2711.4

Sheet Cronograma
B5: CRONOGRAMA FISICO-FINANCEIRO
B8: =Planilha!D5 -> OBRA: Construção de Centro Poliesportivo na Rua Americo Trufelli, Pq. São Francisco
B10: Descrição | C10: MESES | V10: Valor do Item | W10: %
C11: 1 | D11: 2 | E11: 3 | F11: 4 | G11: 5 | H11: 6 | I11: 7 | J11: 8 | K11: 9 | L11: 10 | M11: 11 | N11: 12 | O11: 13 | P11: 14 | Q11: 15 | R11: 16 | S11: 17 | T11: 18 | U11: 19
B12: =Planilha1!A10&" "&Planilha1!D10 -> 1. CENTRO POLIESPORTIVO
B13: =Planilha1!A11&" "&Planilha1!D11
B14: =Planilha1!A12&" "&Planilha1!D12 | C14: =IF(C13="x", $V12/COUNTIF($C13:$U13,"x"), "") | D14: =IF(D13="x", $V12/COUNTIF($C13:$U13,"x"), "") | E14: =IF(E13="x", $V12/COUNTIF($C13:$U13,"x"), "") | F14: =IF(F13="x", $V12/COUNTIF($C13:$U13,"x"), "") | G14: =IF(G13="x", $V12/COUNTIF($C13:$U13,"x"), "") | H14: =IF(H13="x", $V12/COUNTIF($C13:$U13,"x"), "") | I14: =IF(I13="x", $V12/COUNTIF($C13:$U13,"x"), "") | J14: =IF(J13="x", $V12/COUNTIF($C13:$U13,"x"), "") | ... U14: =IF(U13="x", $V12/COUNTIF($C13:$U13,"x"), "")
B15: =Planilha1!A13&" "&Planilha1!D13 -> 1.1. IMPLANTAÇÃO GERAL
B16: =Planilha1!A14&" "&Planilha1!D14
B17: =Planilha1!A15&" "&Planilha1!D15 | C17: =IF(C16="x", $V15/COUNTIF($C16:$U16,"x"), "") | D17: =IF(D16="x", $V15/COUNTIF($C16:$U16,"x"), "") | E17: =IF(E16="x", $V15/COUNTIF($C16:$U16,"x"), "") | F17: =IF(F16="x", $V15/COUNTIF($C16:$U16,"x"), "") | G17: =IF(G16="x", $V15/COUNTIF($C16:$U16,"x"), "") | H17: =IF(H16="x", $V15/COUNTIF($C16:$U16,"x"), "") | I17: =IF(I16="x", $V15/COUNTIF($C16:$U16,"x"), "") | J17: =IF(J16="x", $V15/COUNTIF($C16:$U16,"x"), "") | ... U17: =IF(U16="x", $V15/COUNTIF($C16:$U16,"x"), "")
B18: =Planilha1!A16&" "&Planilha1!D16 -> 1.1.1. SERVIÇOS PRELIMINARES E DEMOLIÇÕES | W18: =V18/$V$93 -> #DIV/0!
B19: =Planilha1!A17&" "&Planilha1!D17 | C19: x
B20: =Planilha1!A18&" "&Planilha1!D18
B21: =Planilha1!A19&" "&Planilha1!D19 -> 1.1.2. TERRAPLANAGEM | W21: =V21/$V$93 -> #DIV/0!
B22: =Planilha1!A20&" "&Planilha1!D20 | C22: x
B23: =Planilha1!A21&" "&Planilha1!D21
B24: =Planilha1!A22&" "&Planilha1!D22 -> 1.1.3. INSTALAÇÃO ELÉTRICA | W24: =V24/$V$93 -> #DIV/0!
B25: =Planilha1!A23&" "&Planilha1!D23 | C25: x
B26: =Planilha1!A24&" "&Planilha1!D24
B27: =Planilha1!A25&" "&Planilha1!D25 -> 1.1.4. INSTALAÇÕES HIDRO-SANITÁRIAS | W27: =V27/$V$93 -> #DIV/0!
B28: =Planilha1!A26&" "&Planilha1!D26 | C28: x
B29: =Planilha1!A27&" "&Planilha1!D27
B30: =Planilha1!A28&" "&Planilha1!D28 -> 1.1.5. REVITALIZAÇÃO DE ESCADA | W30: =V30/$V$93 -> #DIV/0!
B31: =Planilha1!A29&" "&Planilha1!D29 | C31: x
B32: =Planilha1!A30&" "&Planilha1!D30
B33: =Planilha1!A31&" "&Planilha1!D31 -> 1.1.6. ARQUIBANCADA | W33: =V33/$V$93 -> #DIV/0!
B34: =Planilha1!A32&" "&Planilha1!D32 | D34: x
B35: =Planilha1!A33&" "&Planilha1!D33
B36: =Planilha1!A34&" "&Planilha1!D34 -> 1.1.7. RAMPA DE ACESSIBILIDADE | W36: =V36/$V$93 -> #DIV/0!
B37: =Planilha1!A35&" "&Planilha1!D35 | E37: x
B38: =Planilha1!A36&" "&Planilha1!D36
B39: =Planilha1!A37&" "&Planilha1!D37 -> 1.1.8. PISO | W39: =V39/$V$93 -> #DIV/0!
B40: =Planilha1!A38&" "&Planilha1!D38 | D40: x
B41: =Planilha1!A39&" "&Planilha1!D39
B42: =Planilha1!A40&" "&Planilha1!D40 -> 1.1.9. PLAYGROUND | W42: =V42/$V$93 -> #DIV/0!
B43: =Planilha1!A41&" "&Planilha1!D41 | J43: x
B44: =Planilha1!A42&" "&Planilha1!D42
B45: =Planilha1!A43&" "&Planilha1!D43 -> 1.2. QUADRA POLIESPORTIVA
B46: =Planilha1!A44&" "&Planilha1!D44
B47: =Planilha1!A45&" "&Planilha1!D45
B48: =Planilha1!A46&" "&Planilha1!D46 -> 1.2.1. PISO | W48: =V48/$V$93 -> #DIV/0!
B49: =Planilha1!A47&" "&Planilha1!D47 | F49: x | J49: x
B50: =Planilha1!A48&" "&Planilha1!D48
B51: =Planilha1!A49&" "&Planilha1!D49 -> 1.2.2. MURETA E ALAMBRADO | W51: =V51/$V$93 -> #DIV/0!
B52: =Planilha1!A50&" "&Planilha1!D50 | G52: x | H52: x
B53: =Planilha1!A51&" "&Planilha1!D51
B54: =Planilha1!A52&" "&Planilha1!D52 -> 1.2.3. INSTALAÇÃO ELÉTRICA | W54: =V54/$V$93 -> #DIV/0!
B55: =Planilha1!A53&" "&Planilha1!D53 | G55: x
B56: =Planilha1!A54&" "&Planilha1!D54
B57: =Planilha1!A55&" "&Planilha1!D55 -> 1.2.4. INSTALAÇÃO HIDRAULICA | W57: =V57/$V$93 -> #DIV/0!
B58: =Planilha1!A56&" "&Planilha1!D56 | G58: x
B59: =Planilha1!A57&" "&Planilha1!D57
B60: =Planilha1!A58&" "&Planilha1!D58 -> 1.2.5. SERVIÇOS COMPLEMENTARES | W60: =V60/$V$93 -> #DIV/0!
B61: =Planilha1!A59&" "&Planilha1!D59 | J61: x
B62: =Planilha1!A60&" "&Planilha1!D60
B63: =Planilha1!A61&" "&Planilha1!D61 -> 1.3. VESTIARIO
B64: =Planilha1!A62&" "&Planilha1!D62
B65: =Planilha1!A63&" "&Planilha1!D63
B66: =Planilha1!A64&" "&Planilha1!D64 -> 1.3.1. INFRA-ESTRUTURA | W66: =V66/$V$93 -> #DIV/0!
B67: =Planilha1!A65&" "&Planilha1!D65 | F67: x
B68: =Planilha1!A66&" "&Planilha1!D66
B69: =Planilha1!A67&" "&Planilha1!D67 -> 1.3.2. SUPRA ESTRUTURA | W69: =V69/$V$93 -> #DIV/0!
B70: =Planilha1!A68&" "&Planilha1!D68 | G70: x
B71: =Planilha1!A69&" "&Planilha1!D69
B72: =Planilha1!A70&" "&Planilha1!D70 -> 1.3.3. COBERTURA | W72: =V72/$V$93 -> #DIV/0!
B73: =Planilha1!A71&" "&Planilha1!D71 | H73: x
B74: =Planilha1!A72&" "&Planilha1!D72
B75: =Planilha1!A73&" "&Planilha1!D73 -> 1.3.4. ESQUADRIAS | W75: =V75/$V$93 -> #DIV/0!
B76: =Planilha1!A74&" "&Planilha1!D74 | G76: x
B77: =Planilha1!A75&" "&Planilha1!D75
B78: =Planilha1!A76&" "&Planilha1!D76 -> 1.3.5. INSTALAÇÕES ELETRICAS | W78: =V78/$V$93 -> #DIV/0!
B79: =Planilha1!A77&" "&Planilha1!D77 | H79: x
B80: =Planilha1!A78&" "&Planilha1!D78
B81: =Planilha1!A79&" "&Planilha1!D79 -> 1.3.6. INSTALAÇÕES HIDRO-SANITÁRIAS | W81: =V81/$V$93 -> #DIV/0!
B82: =Planilha1!A80&" "&Planilha1!D80 | H82: x
B83: =Planilha1!A81&" "&Planilha1!D81
B84: =Planilha1!A82&" "&Planilha1!D82 -> 1.3.7. REVESTIMENTOS | W84: =V84/$V$93 -> #DIV/0!
B85: =Planilha1!A83&" "&Planilha1!D83 | I85: x
B86: =Planilha1!A84&" "&Planilha1!D84
B87: =Planilha1!A85&" "&Planilha1!D85 -> 1.3.8. PINTURA | W87: =V87/$V$93 -> #DIV/0!
B88: =Planilha1!A86&" "&Planilha1!D86 | I88: x
B89: =Planilha1!A87&" "&Planilha1!D87
B90: =Planilha1!A88&" "&Planilha1!D88 -> 1.3.9. SERVIÇOS COMPLEMENTARES | W90: =V90/$V$93 -> #DIV/0!
B91: =Planilha1!A89&" "&Planilha1!D89 | J91: x
B92: =Planilha1!A90&" "&Planilha1!D90
B93: TOTAL GERAL: | K93: =SUM(K12:K14) -> 0 | L93: =SUM(L12:L14) -> 0 | M93: =SUM(M12:M14) -> 0 | N93: =SUM(N12:N14) -> 0 | O93: =SUM(O12:O14) -> 0 | P93: =SUM(P12:P14) -> 0 | Q93: =SUM(Q12:Q14) -> 0 | R93: =SUM(R12:R14) -> 0 | ... U93: =SUM(U12:U14) -> 0 | V93: =SUM(V12:V92) -> 0 | W93: =SUM(W12:W92) -> #DIV/0!

Sheet Planilha1
A1: 1.1.8.1. | B1: SINAPI | C1: 92398 | D1: EXECUÇÃO DE PAVIMENTO EM PISO INTERTRAVADO, COM BLOCO RETANGULAR COR NATURAL DE 20 X 10 CM, ESPESSURA 8 CM. AF_10/2022 | E1: M2 | F1: 552.79 | G1: 106.18 | H1: 131.91 | I1: 72918.53
A2: 1.2.1.2. | B2: SINAPI | C2: 95996 | D2: EXECUÇÃO DE PAVIMENTO COM APLICAÇÃO DE CONCRETO ASFÁLTICO, CAMADA DE BINDER - EXCLUSIVE CARGA E TRANSPORTE. AF_11/2019 | E2: M3 | F2: 72.15 | G2: 1285.44 | H2: 1596.9 | I2: 115216.34
A3: 1.2.1.5. | B3: SCO | C3: PJ 05.20.0055 (/) | D3: Piso de grama sintética, em rolo, com fios de 50mm de altura, na cor verde, demarcação de linhas com grama na cor branca, sistema de amortecimento composto com as seguintes características mínimas: Camada de areia especial com 1cm de espessura (20 Kg/m2) e grânulos de borracha de granulometria de 0,6 a 2mm (9 Kg/m2) e mão de obra especializada para instalação; exclusive base asfáltica, mureta perimetral para contenção da base, canaleta perimetral para coleta e escoamento da água e preparo de terreno. Fornecimento e colocação. | E3: M2 | F3: 1442.92 | G3: 213.35 | H3: 265.04 | I3: 382431.52
A4: 1.2.2.1. | B4: SINAPI | C4: 102363 | D4: ALAMBRADO PARA QUADRA POLIESPORTIVA, ESTRUTURADO POR TUBOS DE ACO GALVANIZADO, (MONTANTES COM DIAMETRO 2", TRAVESSAS E ESCORAS COM DIÂMETRO 1 ¼"), COM TELA DE ARAME GALVANIZADO, FIO 12 BWG E MALHA QUADRADA 5X5CM (EXCETO MURETA). AF_03/2021 | E4: M2 | F4: 792.76 | G4: 189.91 | H4: 235.93 | I4: 187035.87
A9: Item | B9: Referência | C9: Código | D9: Descrição | E9: Unid | F9: Quantidade | G9: Preço Unit sem BDI | H9: Preço Unit com BDI | I9: Total
A10: 1. | D10: CENTRO POLIESPORTIVO
A13: 1.1. | D13: IMPLANTAÇÃO GERAL | H13: TOTAL IMPLANTAÇÃO GERAL: | I13: 731933.47
A16: 1.1.1. | D16: SERVIÇOS PRELIMINARES E DEMOLIÇÕES | H16: Subtotal: | I16: 37573.8
A19: 1.1.2. | D19: TERRAPLANAGEM | H19: Subtotal: | I19: 47493.51
A22: 1.1.3. | D22: INSTALAÇÃO ELÉTRICA | H22: Subtotal: | I22: 81714.48
A25: 1.1.4. | D25: INSTALAÇÕES HIDRO-SANITÁRIAS | H25: Subtotal: | I25: 18954.27
A28: 1.1.5. | D28: REVITALIZAÇÃO DE ESCADA | H28: Subtotal: | I28: 5472.39
A31: 1.1.6. | D31: ARQUIBANCADA | H31: Subtotal: | I31: 83170.34
A34: 1.1.7. | D34: RAMPA DE ACESSIBILIDADE | H34: Subtotal: | I34: 281028.31
A37: 1.1.8. | D37: PISO | H37: Subtotal: | I37: 119300.51
A40: 1.1.9. | D40: PLAYGROUND | H40: Subtotal: | I40: 57225.86
A43: 1.2. | D43: QUADRA POLIESPORTIVA | H43: TOTAL QUADRA POLIESPORTIVA: | I43: 840422.17
A46: 1.2.1. | D46: PISO | H46: Subtotal: | I46: 517000.01
... A88: 1.3.9. | D88: SERVIÇOS COMPLEMENTARES | H88: Subtotal: | I88: 2728.56
