Workbook

Sheet Planilha1
A1: Item | B1: Referência | C1: Código | D1: Descrição | E1: Unid | F1: Quantidade | G1: Preço Unit sem BDI | H1: Preço Unit com BDI | I1: Total
A2: =[1]ORÇAMENTO!O16 -> 1. | D2: =[1]ORÇAMENTO!R16 -> REFORMA DE QUADRA POLIESPORTIVA BISPA MARLENE AMANCIO ASSAD
A3: =[1]ORÇAMENTO!O17 -> 1.1. | D3: =[1]ORÇAMENTO!R17 -> SERVIÇOS PRELIMINARES, DEMOLIÇÕES E RETIRADAS | H3: Subtotal: | I3: =SUM(I4:I15) -> 57909.56
A4: =[1]ORÇAMENTO!O18 -> 1.1.1. | B4: =[1]ORÇAMENTO!P18 -> SINAPI | C4: =[1]ORÇAMENTO!Q18 -> 103689 | D4: =[1]ORÇAMENTO!R18 -> FORNECIMENTO E INSTALAÇÃO DE PLACA DE OBRA COM CHAPA GALVANIZADA E ESTRUTURA DE MADEIRA. AF_03/2022_PS | E4: =[1]ORÇAMENTO!S18 -> M2 | F4: =[1]ORÇAMENTO!T18 -> 12 | G4: =[1]ORÇAMENTO!U18 -> 470.88 | H4: =[1]ORÇAMENTO!W18 -> 588.6 | I4: =ROUND(H4*F4,2) -> 7063.2
A5: =[1]ORÇAMENTO!O19 -> 1.1.2. | B5: =[1]ORÇAMENTO!P19 -> SINAPI | C5: =[1]ORÇAMENTO!Q19 -> 100982 | D5: =[1]ORÇAMENTO!R19 -> CARGA, MANOBRA E DESCARGA DE ENTULHO EM CAMINHÃO BASCULANTE 10 M³ - CARGA COM ESCAVADEIRA HIDRÁULICA (CAÇAMBA DE 0,80 M³ / 111 HP) E DESCARGA LIVRE (UNIDADE: M3). AF_07/2020 | E5: =[1]ORÇAMENTO!S19 -> M3 | F5: =[1]ORÇAMENTO!T19 -> 105.22 | G5: =[1]ORÇAMENTO!U19 -> 9.51 | H5: =[1]ORÇAMENTO!W19 -> 11.89 | I5: =ROUND(H5*F5,2) -> 1251.07
A6: =[1]ORÇAMENTO!O20 -> 1.1.3. | B6: =[1]ORÇAMENTO!P20 -> SINAPI | C6: =[1]ORÇAMENTO!Q20 -> 93589 | D6: =[1]ORÇAMENTO!R20 -> TRANSPORTE COM CAMINHÃO BASCULANTE DE 10 M³, EM VIA URBANA EM REVESTIMENTO PRIMÁRIO (UNIDADE: M3XKM). AF_07/2020 | E6: =[1]ORÇAMENTO!S20 -> M3XKM | F6: =[1]ORÇAMENTO!T20 -> 1578.25 | G6: =[1]ORÇAMENTO!U20 -> 2.82 | H6: =[1]ORÇAMENTO!W20 -> 3.53 | I6: =ROUND(H6*F6,2) -> 5571.22
A7: =[1]ORÇAMENTO!O21 -> 1.1.4. | B7: =[1]ORÇAMENTO!P21 -> SINAPI | C7: =[1]ORÇAMENTO!Q21 -> 98461 | D7: =[1]ORÇAMENTO!R21 -> ESTRUTURA DE MADEIRA PROVISÓRIA PARA SUPORTE DE CAIXA DÁGUA ELEVADA DE 1000 LITROS. AF_03/2024 | E7: =[1]ORÇAMENTO!S21 -> UN | F7: =[1]ORÇAMENTO!T21 -> 1 | G7: =[1]ORÇAMENTO!U21 -> 5913.86 | H7: =[1]ORÇAMENTO!W21 -> 7392.33 | I7: =ROUND(H7*F7,2) -> 7392.33
A8: =[1]ORÇAMENTO!O22 -> 1.1.5. | B8: =[1]ORÇAMENTO!P22 -> SINAPI | C8: =[1]ORÇAMENTO!Q22 -> 105116 | D8: =[1]ORÇAMENTO!R22 -> INSTALAÇÃO E DESINSTALAÇÃO MANUAL DE CONTÊINER OU MÓDULO HABITÁVEL PEQUENO. AF_03/2024 | E8: =[1]ORÇAMENTO!S22 -> UN | F8: =[1]ORÇAMENTO!T22 -> 1 | G8: =[1]ORÇAMENTO!U22 -> 14.77 | H8: =[1]ORÇAMENTO!W22 -> 18.46 | I8: =ROUND(H8*F8,2) -> 18.46
A9: =[1]ORÇAMENTO!O23 -> 1.1.6. | B9: =[1]ORÇAMENTO!P23 -> SINAPI | C9: =[1]ORÇAMENTO!Q23 -> 98453 | D9: =[1]ORÇAMENTO!R23 -> PAREDE DE MADEIRA COMPENSADA PARA CONSTRUÇÃO TEMPORÁRIA EM CHAPA DUPLA, EXTERNA, COM ÁREA LÍQUIDA MAIOR OU IGUAL A QUE 6 M², COM VÃO. AF_03/2024 | E9: =[1]ORÇAMENTO!S23 -> M2 | F9: =[1]ORÇAMENTO!T23 -> 60 | G9: =[1]ORÇAMENTO!U23 -> 146.86 | H9: =[1]ORÇAMENTO!W23 -> 183.58 | I9: =ROUND(H9*F9,2) -> 11014.8
A10: =[1]ORÇAMENTO!O24 -> 1.1.7. | B10: =[1]ORÇAMENTO!P24 -> SINAPI | C10: =[1]ORÇAMENTO!Q24 -> 98460 | D10: =[1]ORÇAMENTO!R24 -> PISO PARA CONSTRUÇÃO TEMPORÁRIA EM MADEIRA, SEM REAPROVEITAMENTO. AF_03/2024 | E10: =[1]ORÇAMENTO!S24 -> M2 | F10: =[1]ORÇAMENTO!T24 -> 24 | G10: =[1]ORÇAMENTO!U24 -> 66.59 | H10: =[1]ORÇAMENTO!W24 -> 83.24 | I10: =ROUND(H10*F10,2) -> 1997.76
A11: =[1]ORÇAMENTO!O25 -> 1.1.8. | B11: =[1]ORÇAMENTO!P25 -> SINAPI | C11: =[1]ORÇAMENTO!Q25 -> 101118 | D11: =[1]ORÇAMENTO!R25 -> ESCAVAÇÃO HORIZONTAL EM SOLO DE 1A CATEGORIA COM TRATOR DE ESTEIRAS (125HP/LÂMINA: 2,70M3). AF_07/2020 | E11: =[1]ORÇAMENTO!S25 -> M3 | F11: =[1]ORÇAMENTO!T25 -> 10.32 | G11: =[1]ORÇAMENTO!U25 -> 4.14 | H11: =[1]ORÇAMENTO!W25 -> 5.18 | I11: =ROUND(H11*F11,2) -> 53.46
A12: =[1]ORÇAMENTO!O26 -> 1.1.9. | B12: =[1]ORÇAMENTO!P26 -> SINAPI | C12: =[1]ORÇAMENTO!Q26 -> 97626 | D12: =[1]ORÇAMENTO!R26 -> DEMOLIÇÃO DE PILARES E VIGAS EM CONCRETO ARMADO, DE FORMA MANUAL, SEM REAPROVEITAMENTO. AF_09/2023 | E12: =[1]ORÇAMENTO!S26 -> M3 | F12: =[1]ORÇAMENTO!T26 -> 1.96 | G12: =[1]ORÇAMENTO!U26 -> 778.1 | H12: =[1]ORÇAMENTO!W26 -> 972.63 | I12: =ROUND(H12*F12,2) -> 1906.35
A13: =[1]ORÇAMENTO!O27 -> 1.1.10. | B13: =[1]ORÇAMENTO!P27 -> SINAPI | C13: =[1]ORÇAMENTO!Q27 -> 97628 | D13: =[1]ORÇAMENTO!R27 -> DEMOLIÇÃO DE LAJES, EM CONCRETO ARMADO, DE FORMA MANUAL, SEM REAPROVEITAMENTO. AF_09/2023 | E13: =[1]ORÇAMENTO!S27 -> M3 | F13: =[1]ORÇAMENTO!T27 -> 25.63 | G13: =[1]ORÇAMENTO!U27 -> 362.39 | H13: =[1]ORÇAMENTO!W27 -> 452.99 | I13: =ROUND(H13*F13,2) -> 11610.13
A14: =[1]ORÇAMENTO!O28 -> 1.1.11. | B14: =[1]ORÇAMENTO!P28 -> SINAPI | C14: =[1]ORÇAMENTO!Q28 -> 97625 | D14: =[1]ORÇAMENTO!R28 -> DEMOLIÇÃO DE ALVENARIA PARA QUALQUER TIPO DE BLOCO, DE FORMA MECANIZADA, SEM REAPROVEITAMENTO. AF_09/2023 | E14: =[1]ORÇAMENTO!S28 -> M3 | F14: =[1]ORÇAMENTO!T28 -> 2.83 | G14: =[1]ORÇAMENTO!U28 -> 51.81 | H14: =[1]ORÇAMENTO!W28 -> 64.76 | I14: =ROUND(H14*F14,2) -> 183.27
A15: =[1]ORÇAMENTO!O29 -> 1.1.12. | B15: =[1]ORÇAMENTO!P29 -> SINAPI | C15: =[1]ORÇAMENTO!Q29 -> 104801 | D15: =[1]ORÇAMENTO!R29 -> REMOÇÃO DE ALAMBRADOS PARA QUADRAS POLIESPORTIVAS, ESTRUTURADO POR TUBOS DE AÇO GALVANIZADO, COM TELA DE ARAME GALVANIZADO, DE FORMA MANUAL, SEM REAPROVEITAMENTO. AF_09/2023 | E15: =[1]ORÇAMENTO!S29 -> M2 | F15: =[1]ORÇAMENTO!T29 -> 419.4 | G15: =[1]ORÇAMENTO!U29 -> 18.78 | H15: =[1]ORÇAMENTO!W29 -> 23.48 | I15: =ROUND(H15*F15,2) -> 9847.51
A16: =[1]ORÇAMENTO!O30 -> 1.2. | D16: =[1]ORÇAMENTO!R30 -> ESTRUTURA | H16: Subtotal: | I16: =SUM(I17:I20) -> 9784.34
A17: =[1]ORÇAMENTO!O31 -> 1.2.1. | B17: =[1]ORÇAMENTO!P31 -> SINAPI | C17: =[1]ORÇAMENTO!Q31 -> 92417 | D17: =[1]ORÇAMENTO!R31 -> MONTAGEM E DESMONTAGEM DE FÔRMA DE PILARES RETANGULARES E ESTRUTURAS SIMILARES, PÉ-DIREITO DUPLO, EM CHAPA DE MADEIRA COMPENSADA RESINADA, 2 UTILIZAÇÕES. AF_09/2020 | E17: =[1]ORÇAMENTO!S31 -> M2 | F17: =[1]ORÇAMENTO!T31 -> 25.48 | G17: =[1]ORÇAMENTO!U31 -> 173.78 | H17: =[1]ORÇAMENTO!W31 -> 217.23 | I17: =ROUND(H17*F17,2) -> 5535.02
A18: =[1]ORÇAMENTO!O32 -> 1.2.2. | B18: =[1]ORÇAMENTO!P32 -> SINAPI | C18: =[1]ORÇAMENTO!Q32 -> 92762 | D18: =[1]ORÇAMENTO!R32 -> ARMAÇÃO DE PILAR OU VIGA DE ESTRUTURA CONVENCIONAL DE CONCRETO ARMADO UTILIZANDO AÇO CA-50 DE 10,0 MM - MONTAGEM. AF_06/2022 | E18: =[1]ORÇAMENTO!S32 -> KG | F18: =[1]ORÇAMENTO!T32 -> 156.8 | G18: =[1]ORÇAMENTO!U32 -> 10.83 | H18: =[1]ORÇAMENTO!W32 -> 13.54 | I18: =ROUND(H18*F18,2)+0.01 -> 2123.08
A19: =[1]ORÇAMENTO!O33 -> 1.2.3. | B19: =[1]ORÇAMENTO!P33 -> SINAPI | C19: =[1]ORÇAMENTO!Q33 -> 92759 | D19: =[1]ORÇAMENTO!R33 -> ARMAÇÃO DE PILAR OU VIGA DE ESTRUTURA CONVENCIONAL DE CONCRETO ARMADO UTILIZANDO AÇO CA-60 DE 5,0 MM - MONTAGEM. AF_06/2022 | E19: =[1]ORÇAMENTO!S33 -> KG | F19: =[1]ORÇAMENTO!T33 -> 39.2 | G19: =[1]ORÇAMENTO!U33 -> 14.82 | H19: =[1]ORÇAMENTO!W33 -> 18.53 | I19: =ROUND(H19*F19,2) -> 726.38
A20: =[1]ORÇAMENTO!O34 -> 1.2.4. | B20: =[1]ORÇAMENTO!P34 -> SINAPI | C20: =[1]ORÇAMENTO!Q34 -> 103672 | D20: =[1]ORÇAMENTO!R34 -> CONCRETAGEM DE PILARES, FCK = 25 MPA, COM USO DE BOMBA - LANÇAMENTO, ADENSAMENTO E ACABAMENTO. AF_02/2022_PS | E20: =[1]ORÇAMENTO!S34 -> M3 | F20: =[1]ORÇAMENTO!T34 -> 1.96 | G20: =[1]ORÇAMENTO!U34 -> 571.37 | H20: =[1]ORÇAMENTO!W34 -> 714.21 | I20: =ROUND(H20*F20,2)+0.01 -> 1399.86
A21: =[1]ORÇAMENTO!O35 -> 1.3. | D21: =[1]ORÇAMENTO!R35 -> COBERTURAS | H21: Subtotal: | I21: =SUM(I22:I26) -> 67659.88
A22: =[1]ORÇAMENTO!O36 -> 1.3.1. | B22: =[1]ORÇAMENTO!P36 -> SINAPI | C22: =[1]ORÇAMENTO!Q36 -> 94213 | D22: =[1]ORÇAMENTO!R36 -> TELHAMENTO COM TELHA DE AÇO/ALUMÍNIO E = 0,5 MM, COM ATÉ 2 ÁGUAS, INCLUSO IÇAMENTO. AF_07/2019 | E22: =[1]ORÇAMENTO!S36 -> M2 | F22: =[1]ORÇAMENTO!T36 -> 170.1 | G22: =[1]ORÇAMENTO!U36 -> 72.76 | H22: =[1]ORÇAMENTO!W36 -> 90.95 | I22: =ROUND(H22*F22,2) -> 15470.6
A23: =[1]ORÇAMENTO!O37 -> 1.3.2. | B23: =[1]ORÇAMENTO!P37 -> SINAPI | C23: =[1]ORÇAMENTO!Q37 -> 94229 | D23: =[1]ORÇAMENTO!R37 -> CALHA EM CHAPA DE AÇO GALVANIZADO NÚMERO 24, DESENVOLVIMENTO DE 100 CM, INCLUSO TRANSPORTE VERTICAL. AF_07/2019 | E23: =[1]ORÇAMENTO!S37 -> M | F23: =[1]ORÇAMENTO!T37 -> 63.24 | G23: =[1]ORÇAMENTO!U37 -> 176.48 | H23: =[1]ORÇAMENTO!W37 -> 220.6 | I23: =ROUND(H23*F23,2) -> 13950.74
A24: =[1]ORÇAMENTO!O38 -> 1.3.3. | B24: =[1]ORÇAMENTO!P38 -> SINAPI | C24: =[1]ORÇAMENTO!Q38 -> 89578 | D24: =[1]ORÇAMENTO!R38 -> TUBO PVC, SÉRIE R, ÁGUA PLUVIAL, DN 100 MM, FORNECIDO E INSTALADO EM CONDUTORES VERTICAIS DE ÁGUAS PLUVIAIS. AF_06/2022 | E24: =[1]ORÇAMENTO!S38 -> M | F24: =[1]ORÇAMENTO!T38 -> 208 | G24: =[1]ORÇAMENTO!U38 -> 36.74 | H24: =[1]ORÇAMENTO!W38 -> 45.93 | I24: =ROUND(H24*F24,2) -> 9553.44
A25: =[1]ORÇAMENTO!O39 -> 1.3.4. | B25: =[1]ORÇAMENTO!P39 -> SINAPI | C25: =[1]ORÇAMENTO!Q39 -> 100377 | D25: =[1]ORÇAMENTO!R39 -> FABRICAÇÃO E INSTALAÇÃO DE TESOURA (INTEIRA OU MEIA) EM AÇO, VÃOS MAIORES OU IGUAIS A 3,0 M E MENORES OU IGUAL A 6,0 M, INCLUSO IÇAMENTO. AF_07/2019 | E25: =[1]ORÇAMENTO!S39 -> KG | F25: =[1]ORÇAMENTO!T39 -> 850.5 | G25: =[1]ORÇAMENTO!U39 -> 11.94 | H25: =[1]ORÇAMENTO!W39 -> 14.93 | I25: =ROUND(H25*F25,2) -> 12697.97
A26: =[1]ORÇAMENTO!O40 -> 1.3.5. | B26: =[1]ORÇAMENTO!P40 -> SIURB-E | C26: =[1]ORÇAMENTO!Q40 -> 6080003 | D26: =[1]ORÇAMENTO!R40 -> REVISÃO, ESCOVAÇÃO, INCLUSIVE TOMADA DE GOTEIRAS DE TELHADOS EM GERAL, EXCLUSIVE PARA TELHAS DE BARRO COZIDO OU VIDRO | E26: =[1]ORÇAMENTO!S40 -> M2 | F26: =[1]ORÇAMENTO!T40 -> 396.9 | G26: =[1]ORÇAMENTO!U40 -> 32.22 | H26: =[1]ORÇAMENTO!W40 -> 40.28 | I26: =ROUND(H26*F26,2) -> 15987.13
A27: =[1]ORÇAMENTO!O41 -> 1.4. | D27: =[1]ORÇAMENTO!R41 -> INSTALACOES ELETRICAS | H27: Subtotal: | I27: =SUM(I28:I41) -> 42582.19
A28: =[1]ORÇAMENTO!O42 -> 1.4.1. | B28: =[1]ORÇAMENTO!P42 -> SINAPI | C28: =[1]ORÇAMENTO!Q42 -> 101502 | D28: =[1]ORÇAMENTO!R42 -> ENTRADA DE ENERGIA ELÉTRICA, AÉREA, BIFÁSICA, COM CAIXA DE EMBUTIR, CABO DE 16 MM2 E DISJUNTOR DIN 50A (NÃO INCLUSO O POSTE DE CONCRETO). AF_07/2020_PS | E28: =[1]ORÇAMENTO!S42 -> UN | F28: =[1]ORÇAMENTO!T42 -> 1 | G28: =[1]ORÇAMENTO!U42 -> 2168.57 | H28: =[1]ORÇAMENTO!W42 -> 2710.71 | I28: =ROUND(H28*F28,2) -> 2710.71
A29: =[1]ORÇAMENTO!O43 -> 1.4.2. | B29: =[1]ORÇAMENTO!P43 -> SINAPI-I | C29: =[1]ORÇAMENTO!Q43 -> 41196 | D29: =[1]ORÇAMENTO!R43 -> POSTE DE CONCRETO ARMADO DE SECAO DUPLO T, EXTENSAO DE 9,00 M, RESISTENCIA DE 150 DAN, TIPO D | E29: =[1]ORÇAMENTO!S43 -> UN | F29: =[1]ORÇAMENTO!T43 -> 1 | G29: =[1]ORÇAMENTO!U43 -> 623.02 | H29: =[1]ORÇAMENTO!W43 -> 778.78 | I29: =ROUND(H29*F29,2) -> 778.78
A30: =[1]ORÇAMENTO!O44 -> 1.4.3. | B30: =[1]ORÇAMENTO!P44 -> SINAPI | C30: =[1]ORÇAMENTO!Q44 -> 100599 | D30: =[1]ORÇAMENTO!R44 -> ASSENTAMENTO DE POSTE DE CONCRETO COM COMPRIMENTO NOMINAL DE 9 M, CARGA NOMINAL DE 150 DAN, ENGASTAMENTO BASE CONCRETADA COM 1 M DE CONCRETO E 0,5 M DE SOLO (NÃO INCLUI FORNECIMENTO). AF_04/2025 | E30: =[1]ORÇAMENTO!S44 -> UN | F30: =[1]ORÇAMENTO!T44 -> 1 | G30: =[1]ORÇAMENTO!U44 -> 672.63 | H30: =[1]ORÇAMENTO!W44 -> 840.79 | I30: =ROUND(H30*F30,2) -> 840.79
A31: =[1]ORÇAMENTO!O45 -> 1.4.4. | B31: =[1]ORÇAMENTO!P45 -> SINAPI-I | C31: =[1]ORÇAMENTO!Q45 -> 2680 | D31: =[1]ORÇAMENTO!R45 -> ELETRODUTO DE PVC RIGIDO ROSCAVEL DE 1 1/2 ", SEM LUVA | E31: =[1]ORÇAMENTO!S45 -> M | F31: =[1]ORÇAMENTO!T45 -> 2 | G31: =[1]ORÇAMENTO!U45 -> 9.85 | H31: =[1]ORÇAMENTO!W45 -> 12.31 | I31: =ROUND(H31*F31,2) -> 24.62
A32: =[1]ORÇAMENTO!O46 -> 1.4.5. | B32: =[1]ORÇAMENTO!P46 -> SINAPI | C32: =[1]ORÇAMENTO!Q46 -> 92982 | D32: =[1]ORÇAMENTO!R46 -> CABO DE COBRE FLEXÍVEL ISOLADO, 16 MM², ANTI-CHAMA 0,6/1,0 KV, PARA DISTRIBUIÇÃO - FORNECIMENTO E INSTALAÇÃO. AF_10/2020 | E32: =[1]ORÇAMENTO!S46 -> M | F32: =[1]ORÇAMENTO!T46 -> 9.6 | G32: =[1]ORÇAMENTO!U46 -> 17.98 | H32: =[1]ORÇAMENTO!W46 -> 22.48 | I32: =ROUND(H32*F32,2) -> 215.81
A33: =[1]ORÇAMENTO!O47 -> 1.4.6. | B33: =[1]ORÇAMENTO!P47 -> SINAPI | C33: =[1]ORÇAMENTO!Q47 -> 91845 | D33: =[1]ORÇAMENTO!R47 -> ELETRODUTO FLEXÍVEL CORRUGADO REFORÇADO, PVC, DN 25 MM (3/4"), PARA CIRCUITOS TERMINAIS, INSTALADO EM LAJE - FORNECIMENTO E INSTALAÇÃO. AF_03/2023 | E33: =[1]ORÇAMENTO!S47 -> M | F33: =[1]ORÇAMENTO!T47 -> 123.6 | G33: =[1]ORÇAMENTO!U47 -> 9.25 | H33: =[1]ORÇAMENTO!W47 -> 11.56 | I33: =ROUND(H33*F33,2) -> 1428.82
A34: =[1]ORÇAMENTO!O48 -> 1.4.7. | B34: =[1]ORÇAMENTO!P48 -> SINAPI | C34: =[1]ORÇAMENTO!Q48 -> 91926 | D34: =[1]ORÇAMENTO!R48 -> CABO DE COBRE FLEXÍVEL ISOLADO, 2,5 MM², ANTI-CHAMA 450/750 V, PARA CIRCUITOS TERMINAIS - FORNECIMENTO E INSTALAÇÃO. AF_03/2023 | E34: =[1]ORÇAMENTO!S48 -> M | F34: =[1]ORÇAMENTO!T48 -> 482.04 | G34: =[1]ORÇAMENTO!U48 -> 5.23 | H34: =[1]ORÇAMENTO!W48 -> 6.54 | I34: =ROUND(H34*F34,2) -> 3152.54
A35: =[1]ORÇAMENTO!O49 -> 1.4.8. | B35: =[1]ORÇAMENTO!P49 -> SINAPI | C35: =[1]ORÇAMENTO!Q49 -> 93655 | D35: =[1]ORÇAMENTO!R49 -> DISJUNTOR MONOPOLAR TIPO DIN, CORRENTE NOMINAL DE 20A - FORNECIMENTO E INSTALAÇÃO. AF_10/2020 | E35: =[1]ORÇAMENTO!S49 -> UN | F35: =[1]ORÇAMENTO!T49 -> 1 | G35: =[1]ORÇAMENTO!U49 -> 14.83 | H35: =[1]ORÇAMENTO!W49 -> 18.54 | I35: =ROUND(H35*F35,2) -> 18.54
A36: =[1]ORÇAMENTO!O50 -> 1.4.9. | B36: =[1]ORÇAMENTO!P50 -> SINAPI | C36: =[1]ORÇAMENTO!Q50 -> 93662 | D36: =[1]ORÇAMENTO!R50 -> DISJUNTOR BIPOLAR TIPO DIN, CORRENTE NOMINAL DE 20A - FORNECIMENTO E INSTALAÇÃO. AF_10/2020 | E36: =[1]ORÇAMENTO!S50 -> UN | F36: =[1]ORÇAMENTO!T50 -> 6 | G36: =[1]ORÇAMENTO!U50 -> 61.09 | H36: =[1]ORÇAMENTO!W50 -> 76.36 | I36: =ROUND(H36*F36,2) -> 458.16
A37: =[1]ORÇAMENTO!O51 -> 1.4.10. | B37: =[1]ORÇAMENTO!P51 -> SINAPI | C37: =[1]ORÇAMENTO!Q51 -> 93666 | D37: =[1]ORÇAMENTO!R51 -> DISJUNTOR BIPOLAR TIPO DIN, CORRENTE NOMINAL DE 50A - FORNECIMENTO E INSTALAÇÃO. AF_10/2020 | E37: =[1]ORÇAMENTO!S51 -> UN | F37: =[1]ORÇAMENTO!T51 -> 1 | G37: =[1]ORÇAMENTO!U51 -> 80.62 | H37: =[1]ORÇAMENTO!W51 -> 100.78 | I37: =ROUND(H37*F37,2) -> 100.78
A38: =[1]ORÇAMENTO!O52 -> 1.4.11. | B38: =[1]ORÇAMENTO!P52 -> SINAPI | C38: =[1]ORÇAMENTO!Q52 -> 101660 | D38: =[1]ORÇAMENTO!R52 -> LUMINÁRIA DE LED PARA ILUMINAÇÃO PÚBLICA, DE 240 W ATÉ 350 W - FORNECIMENTO E INSTALAÇÃO. AF_02/2025_PS | E38: =[1]ORÇAMENTO!S52 -> UN | F38: =[1]ORÇAMENTO!T52 -> 12 | G38: =[1]ORÇAMENTO!U52 -> 785.93 | H38: =[1]ORÇAMENTO!W52 -> 982.41 | I38: =ROUND(H38*F38,2) -> 11788.92
A39: =[1]ORÇAMENTO!O53 -> 1.4.12. | B39: =[1]ORÇAMENTO!P53 -> SINAPI | C39: =[1]ORÇAMENTO!Q53 -> 100620 | D39: =[1]ORÇAMENTO!R53 -> POSTE DE AÇO CÔNICO CONTÍNUO CURVO SIMPLES, FLANGEADO, H=9M - FORNECIMENTO E INSTALAÇÃO. AF_04/2025 | E39: =[1]ORÇAMENTO!S53 -> UN | F39: =[1]ORÇAMENTO!T53 -> 4 | G39: =[1]ORÇAMENTO!U53 -> 2568 | H39: =[1]ORÇAMENTO!W53 -> 3210 | I39: =ROUND(H39*F39,2) -> 12840
... A41: =[1]ORÇAMENTO!O55 -> 1.4.14. | B41: =[1]ORÇAMENTO!P55 -> SINAPI | C41: =[1]ORÇAMENTO!Q55 -> 101658 | D41: =[1]ORÇAMENTO!R55 -> LUMINÁRIA DE LED PARA ILUMINAÇÃO PÚBLICA, DE 138 W ATÉ 180 W - FORNECIMENTO E INSTALAÇÃO. AF_02/2025_PS | E41: =[1]ORÇAMENTO!S55 -> UN | F41: =[1]ORÇAMENTO!T55 -> 12 | G41: =[1]ORÇAMENTO!U55 -> 445.91 | H41: =[1]ORÇAMENTO!W55 -> 557.39 | I41: =ROUND(H41*F41,2) -> 6688.68
...
