Workbook
Name AreaTeste: #REF!
Name AreaTeste2: #REF!
Name CélulaInicioPlanilha: #REF!
Name CélulaResumo: #REF!
Name Excel_BuiltIn_Database: #REF!
Name Excel_BuiltIn_Database_2: #REF!

Sheet Planilha
D2: PLANILHA ORÇAMENTÁRIA
D4: OBRA: Implantação de Quadra Esportiva de Areia - Raspadão
D5: BDI: 24,23% | F5: Data base: | G5: SIURB JAN/25; SINAPI SET/25
A6: Item | B6: Referência | C6: Código | D6: Descrição | E6: Unid | F6: Quantidade | G6: Preço Unit sem BDI | H6: Preço Unit com BDI | I6: Total
A7: =[1]ORÇAMENTO!O16 -> 1. | D7: =[1]ORÇAMENTO!R16 -> SERVIÇOS PRELIMINARES
A8: =[1]ORÇAMENTO!O17 -> 1.1. | D8: =[1]ORÇAMENTO!R17 -> SERVIÇOS PRELIMINARES | H8: Subtotal: | I8: =SUM(I9:I17) -> 0
A9: =[1]ORÇAMENTO!O18 -> 1.1.1. | B9: =[1]ORÇAMENTO!P18 -> SINAPI | C9: =[1]ORÇAMENTO!Q18 -> 103689 | D9: =[1]ORÇAMENTO!R18 -> FORNECIMENTO E INSTALAÇÃO DE PLACA DE OBRA COM CHAPA GALVANIZADA E ESTRUTURA DE MADEIRA. AF_03/2022_PS | E9: =[1]ORÇAMENTO!S18 -> M2 | F9: =[1]ORÇAMENTO!T18 -> 18 | H9: =ROUND(G9*1.2423,2) -> 0 | I9: =ROUND(H9*F9,2) -> 0
A10: =[1]ORÇAMENTO!O19 -> 1.1.2. | B10: =[1]ORÇAMENTO!P19 -> SINAPI | C10: =[1]ORÇAMENTO!Q19 -> 101114 | D10: =[1]ORÇAMENTO!R19 -> ESCAVAÇÃO HORIZONTAL EM SOLO DE 1A CATEGORIA COM TRATOR DE ESTEIRAS (100HP/LÂMINA: 2,19M3). AF_07/2020 | E10: =[1]ORÇAMENTO!S19 -> M3 | F10: =[1]ORÇAMENTO!T19 -> 384.92 | H10: =ROUND(G10*1.2423,2) -> 0 | I10: =ROUND(H10*F10,2) -> 0
A11: =[1]ORÇAMENTO!O20 -> 1.1.3. | B11: =[1]ORÇAMENTO!P20 -> SINAPI | C11: =[1]ORÇAMENTO!Q20 -> 100576 | D11: =[1]ORÇAMENTO!R20 -> REGULARIZAÇÃO E COMPACTAÇÃO DE SUBLEITO DE SOLO PREDOMINANTEMENTE ARGILOSO, PARA OBRAS DE CONSTRUÇÃO DE PAVIMENTOS. AF_09/2024 | E11: =[1]ORÇAMENTO!S20 -> M2 | F11: =[1]ORÇAMENTO!T20 -> 275.28 | H11: =ROUND(G11*1.2423,2) -> 0 | I11: =ROUND(H11*F11,2) -> 0
A12: =[1]ORÇAMENTO!O21 -> 1.1.4. | B12: =[1]ORÇAMENTO!P21 -> SINAPI | C12: =[1]ORÇAMENTO!Q21 -> 100978 | D12: =[1]ORÇAMENTO!R21 -> CARGA, MANOBRA E DESCARGA DE SOLOS E MATERIAIS GRANULARES EM CAMINHÃO BASCULANTE 10 M³ - CARGA COM ESCAVADEIRA HIDRÁULICA (CAÇAMBA DE 1,20 M³ / 155 HP) E DESCARGA LIVRE (UNIDADE: M3). AF_07/2020 | E12: =[1]ORÇAMENTO!S21 -> M3 | F12: =[1]ORÇAMENTO!T21 -> 500.4 | H12: =ROUND(G12*1.2423,2) -> 0 | I12: =ROUND(H12*F12,2) -> 0
A13: =[1]ORÇAMENTO!O22 -> 1.1.5. | B13: =[1]ORÇAMENTO!P22 -> SINAPI | C13: =[1]ORÇAMENTO!Q22 -> 95878 | D13: =[1]ORÇAMENTO!R22 -> TRANSPORTE COM CAMINHÃO BASCULANTE DE 10 M³, EM VIA URBANA PAVIMENTADA, DMT ATÉ 30 KM (UNIDADE: TXKM). AF_07/2020 | E13: =[1]ORÇAMENTO!S22 -> TXKM | F13: =[1]ORÇAMENTO!T22 -> 9098.18 | H13: =ROUND(G13*1.2423,2) -> 0 | I13: =ROUND(H13*F13,2) -> 0
A14: =[1]ORÇAMENTO!O23 -> 1.1.6. | B14: =[1]ORÇAMENTO!P23 -> SINAPI | C14: =[1]ORÇAMENTO!Q23 -> 104790 | D14: =[1]ORÇAMENTO!R23 -> DEMOLIÇÃO DE PISO DE CONCRETO SIMPLES, DE FORMA MECANIZADA COM MARTELETE, SEM REAPROVEITAMENTO. AF_09/2023 | E14: =[1]ORÇAMENTO!S23 -> M3 | F14: =[1]ORÇAMENTO!T23 -> 16.13 | H14: =ROUND(G14*1.2423,2) -> 0 | I14: =ROUND(H14*F14,2) -> 0
A15: =[1]ORÇAMENTO!O24 -> 1.1.7. | B15: =[1]ORÇAMENTO!P24 -> SINAPI | C15: =[1]ORÇAMENTO!Q24 -> 104796 | D15: =[1]ORÇAMENTO!R24 -> DEMOLIÇÃO DE GUIAS, SARJETAS OU SARJETÕES, DE FORMA MECANIZADA, SEM REAPROVEITAMENTO. AF_09/2023 | E15: =[1]ORÇAMENTO!S24 -> M | F15: =[1]ORÇAMENTO!T24 -> 215 | H15: =ROUND(G15*1.2423,2) -> 0 | I15: =ROUND(H15*F15,2) -> 0
A16: =[1]ORÇAMENTO!O25 -> 1.1.8. | B16: =[1]ORÇAMENTO!P25 -> SINAPI | C16: =[1]ORÇAMENTO!Q25 -> 100981 | D16: =[1]ORÇAMENTO!R25 -> CARGA, MANOBRA E DESCARGA DE ENTULHO EM CAMINHÃO BASCULANTE 6 M³ - CARGA COM ESCAVADEIRA HIDRÁULICA (CAÇAMBA DE 0,80 M³ / 111 HP) E DESCARGA LIVRE (UNIDADE: M3). AF_07/2020 | E16: =[1]ORÇAMENTO!S25 -> M3 | F16: =[1]ORÇAMENTO!T25 -> 33.52 | H16: =ROUND(G16*1.2423,2) -> 0 | I16: =ROUND(H16*F16,2) -> 0
A17: =[1]ORÇAMENTO!O26 -> 1.1.9. | B17: =[1]ORÇAMENTO!P26 -> SINAPI | C17: =[1]ORÇAMENTO!Q26 -> 97914 | D17: =[1]ORÇAMENTO!R26 -> TRANSPORTE COM CAMINHÃO BASCULANTE DE 6 M³, EM VIA URBANA PAVIMENTADA, DMT ATÉ 30 KM (UNIDADE: M3XKM). AF_07/2020 | E17: =[1]ORÇAMENTO!S26 -> M3XKM | F17: =[1]ORÇAMENTO!T26 -> 469.28 | H17: =ROUND(G17*1.2423,2) -> 0 | I17: =ROUND(H17*F17,2) -> 0
A18: =[1]ORÇAMENTO!O27 -> 2. | D18: =[1]ORÇAMENTO!R27 -> MURETA E ALAMBRADO
A19: =[1]ORÇAMENTO!O28 -> 2.1. | D19: =[1]ORÇAMENTO!R28 -> MURETA E ALAMBRADO | H19: Subtotal: | I19: =SUM(I20:I34) -> 0
A20: =[1]ORÇAMENTO!O29 -> 2.1.1. | B20: =[1]ORÇAMENTO!P29 -> SINAPI | C20: =[1]ORÇAMENTO!Q29 -> 102363 | D20: =[1]ORÇAMENTO!R29 -> ALAMBRADO PARA QUADRA POLIESPORTIVA, ESTRUTURADO POR TUBOS DE ACO GALVANIZADO, (MONTANTES COM DIAMETRO 2", TRAVESSAS E ESCORAS COM DIÂMETRO 1 ¼"), COM TELA DE ARAME GALVANIZADO, FIO 12 BWG E MALHA QUADRADA 5X5CM (EXCETO MURETA). AF_03/2021 | E20: =[1]ORÇAMENTO!S29 -> M2 | F20: =[1]ORÇAMENTO!T29 -> 276.8 | H20: =ROUND(G20*1.2423,2) -> 0 | I20: =ROUND(H20*F20,2) -> 0
A21: =[1]ORÇAMENTO!O30 -> 2.1.2. | B21: =[1]ORÇAMENTO!P30 -> SINAPI | C21: =[1]ORÇAMENTO!Q30 -> 100701 | D21: =[1]ORÇAMENTO!R30 -> PORTA DE FERRO, DE ABRIR, TIPO GRADE COM CHAPA, COM GUARNIÇÕES. AF_12/2019 | E21: =[1]ORÇAMENTO!S30 -> M2 | F21: =[1]ORÇAMENTO!T30 -> 5.04 | H21: =ROUND(G21*1.2423,2) -> 0 | I21: =ROUND(H21*F21,2) -> 0
A22: =[1]ORÇAMENTO!O31 -> 2.1.3. | B22: =[1]ORÇAMENTO!P31 -> SINAPI | C22: =[1]ORÇAMENTO!Q31 -> 93358 | D22: =[1]ORÇAMENTO!R31 -> ESCAVAÇÃO MANUAL DE VALA. AF_09/2024 | E22: =[1]ORÇAMENTO!S31 -> M3 | F22: =[1]ORÇAMENTO!T31 -> 2.77 | H22: =ROUND(G22*1.2423,2) -> 0 | I22: =ROUND(H22*F22,2) -> 0
A23: =[1]ORÇAMENTO!O32 -> 2.1.4. | B23: =[1]ORÇAMENTO!P32 -> SINAPI | C23: =[1]ORÇAMENTO!Q32 -> 100981 | D23: =[1]ORÇAMENTO!R32 -> CARGA, MANOBRA E DESCARGA DE ENTULHO EM CAMINHÃO BASCULANTE 6 M³ - CARGA COM ESCAVADEIRA HIDRÁULICA (CAÇAMBA DE 0,80 M³ / 111 HP) E DESCARGA LIVRE (UNIDADE: M3). AF_07/2020 | E23: =[1]ORÇAMENTO!S32 -> M3 | F23: =[1]ORÇAMENTO!T32 -> 6.37 | H23: =ROUND(G23*1.2423,2) -> 0 | I23: =ROUND(H23*F23,2) -> 0
A24: =[1]ORÇAMENTO!O33 -> 2.1.5. | B24: =[1]ORÇAMENTO!P33 -> SINAPI | C24: =[1]ORÇAMENTO!Q33 -> 97913 | D24: =[1]ORÇAMENTO!R33 -> TRANSPORTE COM CAMINHÃO BASCULANTE DE 6 M³, EM VIA URBANA EM REVESTIMENTO PRIMÁRIO (UNIDADE: M3XKM). AF_07/2020 | E24: =[1]ORÇAMENTO!S33 -> M3XKM | F24: =[1]ORÇAMENTO!T33 -> 71.97 | H24: =ROUND(G24*1.2423,2) -> 0 | I24: =ROUND(H24*F24,2) -> 0
A25: =[1]ORÇAMENTO!O34 -> 2.1.6. | B25: =[1]ORÇAMENTO!P34 -> SINAPI | C25: =[1]ORÇAMENTO!Q34 -> 95241 | D25: =[1]ORÇAMENTO!R34 -> LASTRO DE CONCRETO MAGRO, APLICADO EM PISOS, LAJES SOBRE SOLO OU RADIERS, ESPESSURA DE 5 CM. AF_01/2024 | E25: =[1]ORÇAMENTO!S34 -> M2 | F25: =[1]ORÇAMENTO!T34 -> 17.3 | H25: =ROUND(G25*1.2423,2) -> 0 | I25: =ROUND(H25*F25,2) -> 0
A26: =[1]ORÇAMENTO!O35 -> 2.1.7. | B26: =[1]ORÇAMENTO!P35 -> SINAPI | C26: =[1]ORÇAMENTO!Q35 -> 96536 | D26: =[1]ORÇAMENTO!R35 -> FABRICAÇÃO, MONTAGEM E DESMONTAGEM DE FÔRMA PARA VIGA BALDRAME, EM MADEIRA SERRADA, E=25 MM, 4 UTILIZAÇÕES. AF_01/2024 | E26: =[1]ORÇAMENTO!S35 -> M2 | F26: =[1]ORÇAMENTO!T35 -> 37.45 | H26: =ROUND(G26*1.2423,2) -> 0 | I26: =ROUND(H26*F26,2) -> 0
A27: =[1]ORÇAMENTO!O36 -> 2.1.8. | B27: =[1]ORÇAMENTO!P36 -> SINAPI | C27: =[1]ORÇAMENTO!Q36 -> 96544 | D27: =[1]ORÇAMENTO!R36 -> ARMAÇÃO DE BLOCO UTILIZANDO AÇO CA-50 DE 6,3 MM - MONTAGEM. AF_01/2024 | E27: =[1]ORÇAMENTO!S36 -> KG | F27: =[1]ORÇAMENTO!T36 -> 133.76 | H27: =ROUND(G27*1.2423,2) -> 0 | I27: =ROUND(H27*F27,2) -> 0
A28: =[1]ORÇAMENTO!O37 -> 2.1.9. | B28: =[1]ORÇAMENTO!P37 -> SINAPI | C28: =[1]ORÇAMENTO!Q37 -> 96545 | D28: =[1]ORÇAMENTO!R37 -> ARMAÇÃO DE BLOCO UTILIZANDO AÇO CA-50 DE 8 MM - MONTAGEM. AF_01/2024 | E28: =[1]ORÇAMENTO!S37 -> KG | F28: =[1]ORÇAMENTO!T37 -> 535.04 | H28: =ROUND(G28*1.2423,2) -> 0 | I28: =ROUND(H28*F28,2) -> 0
A29: =[1]ORÇAMENTO!O38 -> 2.1.10. | B29: =[1]ORÇAMENTO!P38 -> SINAPI | C29: =[1]ORÇAMENTO!Q38 -> 103670 | D29: =[1]ORÇAMENTO!R38 -> LANÇAMENTO COM USO DE BALDES, ADENSAMENTO E ACABAMENTO DE CONCRETO EM ESTRUTURAS. AF_02/2022 | E29: =[1]ORÇAMENTO!S38 -> M3 | F29: =[1]ORÇAMENTO!T38 -> 6.69 | H29: =ROUND(G29*1.2423,2) -> 0 | I29: =ROUND(H29*F29,2) -> 0
A30: =[1]ORÇAMENTO!O39 -> 2.1.11. | B30: =[1]ORÇAMENTO!P39 -> SINAPI | C30: =[1]ORÇAMENTO!Q39 -> 94971 | D30: =[1]ORÇAMENTO!R39 -> CONCRETO FCK = 25MPA, TRAÇO 1:2,3:2,7 (EM MASSA SECA DE CIMENTO/ AREIA MÉDIA/ BRITA 1) - PREPARO MECÂNICO COM BETONEIRA 600 L. AF_05/2021 | E30: =[1]ORÇAMENTO!S39 -> M3 | F30: =[1]ORÇAMENTO!T39 -> 6.69 | H30: =ROUND(G30*1.2423,2) -> 0 | I30: =ROUND(H30*F30,2) -> 0
A31: =[1]ORÇAMENTO!O40 -> 2.1.12. | B31: =[1]ORÇAMENTO!P40 -> SINAPI | C31: =[1]ORÇAMENTO!Q40 -> 103318 | D31: =[1]ORÇAMENTO!R40 -> ALVENARIA DE VEDAÇÃO DE BLOCOS VAZADOS DE CONCRETO DE 14X19X39 CM (ESPESSURA 14 CM) E ARGAMASSA DE ASSENTAMENTO COM PREPARO EM BETONEIRA. AF_12/2021 | E31: =[1]ORÇAMENTO!S40 -> M2 | F31: =[1]ORÇAMENTO!T40 -> 27.68 | H31: =ROUND(G31*1.2423,2) -> 0 | I31: =ROUND(H31*F31,2) -> 0
... A34: =[1]ORÇAMENTO!O43 -> 2.1.15. | B34: =[1]ORÇAMENTO!P43 -> SINAPI | C34: =[1]ORÇAMENTO!Q43 -> 104641 | D34: =[1]ORÇAMENTO!R43 -> PINTURA LÁTEX ACRÍLICA ECONÔMICA, APLICAÇÃO MANUAL EM PAREDES, DUAS DEMÃOS. AF_04/2023 | E34: =[1]ORÇAMENTO!S43 -> M2 | F34: =[1]ORÇAMENTO!T43 -> 55 | H34: =ROUND(G34*1.2423,2) -> 0 | I34: =ROUND(H34*F34,2) -> 0
A35: =[1]ORÇAMENTO!O44 -> 3. | D35: =[1]ORÇAMENTO!R44 -> PISO
A36: =[1]ORÇAMENTO!O45 -> 3.1. | D36: =[1]ORÇAMENTO!R45 -> PISO | H36: Subtotal: | I36: =SUM(I37:I40) -> 0
A37: =[1]ORÇAMENTO!O46 -> 3.1.1. | B37: =[1]ORÇAMENTO!P46 -> SINAPI | C37: =[1]ORÇAMENTO!Q46 -> 94339 | D37: =[1]ORÇAMENTO!R46 -> ATERRO MECANIZADO DE VALA COM RETROESCAVADEIRA (CAPACIDADE DA CAÇAMBA DA RETRO: 0,26 M³/POTÊNCIA: 88 HP), LARGURA ATÉ 1,5 M, PROFUNDIDADE ATÉ 1,5 M, COM AREIA PARA ATERRO. AF_08/2023 | E37: =[1]ORÇAMENTO!S46 -> M3 | F37: =[1]ORÇAMENTO!T46 -> 55.06 | H37: =ROUND(G37*1.2423,2) -> 0 | I37: =ROUND(H37*F37,2) -> 0
A38: =[1]ORÇAMENTO!O47 -> 3.1.2. | B38: =[1]ORÇAMENTO!P47 -> SINAPI | C38: =[1]ORÇAMENTO!Q47 -> 102703 | D38: =[1]ORÇAMENTO!R47 -> DRENO ESPINHA DE PEIXE (SEÇÃO 0,50 X 0,80 M), COM TUBO DE PVC CORRUGADO RÍGIDO PERFURADO, DN 100 MM, ENCHIMENTO COM BRITA, ENVOLVIDO COM MANTA GEOTÊXTIL, INCLUSIVE CONEXÕES. AF_07/2021 | E38: =[1]ORÇAMENTO!S47 -> M | F38: =[1]ORÇAMENTO!T47 -> 171.1 | H38: =ROUND(G38*1.2423,2) -> 0 | I38: =ROUND(H38*F38,2) -> 0
A39: =[1]ORÇAMENTO!O48 -> 3.1.3. | B39: =[1]ORÇAMENTO!P48 -> SINAPI | C39: =[1]ORÇAMENTO!Q48 -> 95241 | D39: =[1]ORÇAMENTO!R48 -> LASTRO DE CONCRETO MAGRO, APLICADO EM PISOS, LAJES SOBRE SOLO OU RADIERS, ESPESSURA DE 5 CM. AF_01/2024 | E39: =[1]ORÇAMENTO!S48 -> M2 | F39: =[1]ORÇAMENTO!T48 -> 275.28 | H39: =ROUND(G39*1.2423,2) -> 0 | I39: =ROUND(H39*F39,2) -> 0
A40: =[1]ORÇAMENTO!O49 -> 3.1.4. | B40: =[1]ORÇAMENTO!P49 -> SINAPI | C40: =[1]ORÇAMENTO!Q49 -> 98504 | D40: =[1]ORÇAMENTO!R49 -> PLANTIO DE GRAMA BATATAIS EM PLACAS. AF_07/2024 | E40: =[1]ORÇAMENTO!S49 -> M2 | F40: =[1]ORÇAMENTO!T49 -> 436.13 | H40: =ROUND(G40*1.2423,2) -> 0 | I40: =ROUND(H40*F40,2) -> 0
A41: =[1]ORÇAMENTO!O50 -> 4. | D41: =[1]ORÇAMENTO!R50 -> ARQUIBANCADA
A42: =[1]ORÇAMENTO!O51 -> 4.1. | D42: =[1]ORÇAMENTO!R51 -> ARQUIBANCADA | H42: Subtotal: | I42: =SUM(I43:I59) -> 0
A43: =[1]ORÇAMENTO!O52 -> 4.1.1. | B43: =[1]ORÇAMENTO!P52 -> SINAPI | C43: =[1]ORÇAMENTO!Q52 -> 96523 | D43: =[1]ORÇAMENTO!R52 -> ESCAVAÇÃO MANUAL PARA BLOCO DE COROAMENTO OU SAPATA (INCLUINDO ESCAVAÇÃO PARA COLOCAÇÃO DE FÔRMAS). AF_01/2024 | E43: =[1]ORÇAMENTO!S52 -> M3 | F43: =[1]ORÇAMENTO!T52 -> 3.3 | H43: =ROUND(G43*1.2423,2) -> 0 | I43: =ROUND(H43*F43,2) -> 0
A44: =[1]ORÇAMENTO!O53 -> 4.1.2. | B44: =[1]ORÇAMENTO!P53 -> SINAPI | C44: =[1]ORÇAMENTO!Q53 -> 96527 | D44: =[1]ORÇAMENTO!R53 -> ESCAVAÇÃO MANUAL PARA VIGA BALDRAME OU SAPATA CORRIDA (INCLUINDO ESCAVAÇÃO PARA COLOCAÇÃO DE FÔRMAS). AF_01/2024 | E44: =[1]ORÇAMENTO!S53 -> M3 | F44: =[1]ORÇAMENTO!T53 -> 3 | H44: =ROUND(G44*1.2423,2) -> 0 | I44: =ROUND(H44*F44,2) -> 0
A45: =[1]ORÇAMENTO!O54 -> 4.1.3. | B45: =[1]ORÇAMENTO!P54 -> SINAPI | C45: =[1]ORÇAMENTO!Q54 -> 101174 | D45: =[1]ORÇAMENTO!R54 -> ESTACA BROCA DE CONCRETO, DIÂMETRO DE 25CM, ESCAVAÇÃO MANUAL COM TRADO CONCHA, COM ARMADURA DE ARRANQUE. AF_05/2020 | E45: =[1]ORÇAMENTO!S54 -> M | F45: =[1]ORÇAMENTO!T54 -> 69 | H45: =ROUND(G45*1.2423,2) -> 0 | I45: =ROUND(H45*F45,2) -> 0
A46: =[1]ORÇAMENTO!O55 -> 4.1.4. | B46: =[1]ORÇAMENTO!P55 -> SINAPI | C46: =[1]ORÇAMENTO!Q55 -> 96545 | D46: =[1]ORÇAMENTO!R55 -> ARMAÇÃO DE BLOCO UTILIZANDO AÇO CA-50 DE 8 MM - MONTAGEM. AF_01/2024 | E46: =[1]ORÇAMENTO!S55 -> KG | F46: =[1]ORÇAMENTO!T55 -> 300.43 | H46: =ROUND(G46*1.2423,2) -> 0 | I46: =ROUND(H46*F46,2) -> 0
A47: =[1]ORÇAMENTO!O56 -> 4.1.5. | B47: =[1]ORÇAMENTO!P56 -> SINAPI | C47: =[1]ORÇAMENTO!Q56 -> 104919 | D47: =[1]ORÇAMENTO!R56 -> ARMAÇÃO DE SAPATA ISOLADA, VIGA BALDRAME E SAPATA CORRIDA UTILIZANDO AÇO CA-50 DE 10 MM - MONTAGEM. AF_01/2024 | E47: =[1]ORÇAMENTO!S56 -> KG | F47: =[1]ORÇAMENTO!T56 -> 270.36 | H47: =ROUND(G47*1.2423,2) -> 0 | I47: =ROUND(H47*F47,2) -> 0
A48: =[1]ORÇAMENTO!O57 -> 4.1.6. | B48: =[1]ORÇAMENTO!P57 -> SINAPI | C48: =[1]ORÇAMENTO!Q57 -> 92762 | D48: =[1]ORÇAMENTO!R57 -> ARMAÇÃO DE PILAR OU VIGA DE ESTRUTURA CONVENCIONAL DE CONCRETO ARMADO UTILIZANDO AÇO CA-50 DE 10,0 MM - MONTAGEM. AF_06/2022 | E48: =[1]ORÇAMENTO!S57 -> KG | F48: =[1]ORÇAMENTO!T57 -> 382.5 | H48: =ROUND(G48*1.2423,2) -> 0 | I48: =ROUND(H48*F48,2) -> 0
A49: =[1]ORÇAMENTO!O58 -> 4.1.7. | B49: =[1]ORÇAMENTO!P58 -> SINAPI | C49: =[1]ORÇAMENTO!Q58 -> 96535 | D49: =[1]ORÇAMENTO!R58 -> FABRICAÇÃO, MONTAGEM E DESMONTAGEM DE FÔRMA PARA SAPATA, EM MADEIRA SERRADA, E=25 MM, 4 UTILIZAÇÕES. AF_01/2024 | E49: =[1]ORÇAMENTO!S58 -> M2 | F49: =[1]ORÇAMENTO!T58 -> 18.48 | H49: =ROUND(G49*1.2423,2) -> 0 | I49: =ROUND(H49*F49,2) -> 0
A50: =[1]ORÇAMENTO!O59 -> 4.1.8. | B50: =[1]ORÇAMENTO!P59 -> SINAPI | C50: =[1]ORÇAMENTO!Q59 -> 96542 | D50: =[1]ORÇAMENTO!R59 -> FABRICAÇÃO, MONTAGEM E DESMONTAGEM DE FÔRMA PARA VIGA BALDRAME, EM CHAPA DE MADEIRA COMPENSADA RESINADA, E=17 MM, 4 UTILIZAÇÕES. AF_01/2024 | E50: =[1]ORÇAMENTO!S59 -> M2 | F50: =[1]ORÇAMENTO!T59 -> 16.82 | H50: =ROUND(G50*1.2423,2) -> 0 | I50: =ROUND(H50*F50,2) -> 0
A51: =[1]ORÇAMENTO!O60 -> 4.1.9. | B51: =[1]ORÇAMENTO!P60 -> SINAPI | C51: =[1]ORÇAMENTO!Q60 -> 92269 | D51: =[1]ORÇAMENTO!R60 -> FABRICAÇÃO DE FÔRMA PARA PILARES E ESTRUTURAS SIMILARES, EM MADEIRA SERRADA, E=25 MM. AF_09/2020 | E51: =[1]ORÇAMENTO!S60 -> M2 | F51: =[1]ORÇAMENTO!T60 -> 23.8 | H51: =ROUND(G51*1.2423,2) -> 0 | I51: =ROUND(H51*F51,2) -> 0
A52: =[1]ORÇAMENTO!O61 -> 4.1.10. | B52: =[1]ORÇAMENTO!P61 -> SINAPI | C52: =[1]ORÇAMENTO!Q61 -> 97101 | D52: =[1]ORÇAMENTO!R61 -> EXECUÇÃO DE RADIER, ESPESSURA DE 10 CM, FCK = 30 MPA, COM USO DE FORMAS EM MADEIRA SERRADA. AF_09/2021 | E52: =[1]ORÇAMENTO!S61 -> M2 | F52: =[1]ORÇAMENTO!T61 -> 136.98 | H52: =ROUND(G52*1.2423,2) -> 0 | I52: =ROUND(H52*F52,2) -> 0
A53: =[1]ORÇAMENTO!O62 -> 4.1.11. | B53: =[1]ORÇAMENTO!P62 -> SINAPI | C53: =[1]ORÇAMENTO!Q62 -> 94965 | D53: =[1]ORÇAMENTO!R62 -> CONCRETO FCK = 25MPA, TRAÇO 1:2,3:2,7 (EM MASSA SECA DE CIMENTO/ AREIA MÉDIA/ BRITA 1) - PREPARO MECÂNICO COM BETONEIRA 400 L. AF_05/2021 | E53: =[1]ORÇAMENTO!S62 -> M3 | F53: =[1]ORÇAMENTO!T62 -> 10.55 | H53: =ROUND(G53*1.2423,2) -> 0 | I53: =ROUND(H53*F53,2) -> 0
A54: =[1]ORÇAMENTO!O63 -> 4.1.12. | B54: =[1]ORÇAMENTO!P63 -> SINAPI | C54: =[1]ORÇAMENTO!Q63 -> 103670 | D54: =[1]ORÇAMENTO!R63 -> LANÇAMENTO COM USO DE BALDES, ADENSAMENTO E ACABAMENTO DE CONCRETO EM ESTRUTURAS. AF_02/2022 | E54: =[1]ORÇAMENTO!S63 -> M3 | F54: =[1]ORÇAMENTO!T63 -> 10.55 | H54: =ROUND(G54*1.2423,2) -> 0 | I54: =ROUND(H54*F54,2) -> 0
... A59: =[1]ORÇAMENTO!O68 -> 4.1.17. | B59: =[1]ORÇAMENTO!P68 -> SINAPI | C59: =[1]ORÇAMENTO!Q68 -> 87289 | D59: =[1]ORÇAMENTO!R68 -> ARGAMASSA TRAÇO 1:1,5:7,5 (EM VOLUME DE CIMENTO, CAL E AREIA MÉDIA ÚMIDA) PARA EMBOÇO/MASSA ÚNICA/ASSENTAMENTO DE ALVENARIA DE VEDAÇÃO, PREPARO MECÂNICO COM BETONEIRA 400 L. AF_08/2019 | E59: =[1]ORÇAMENTO!S68 -> M3 | F59: =[1]ORÇAMENTO!T68 -> 6.25 | H59: =ROUND(G59*1.2423,2) -> 0 | I59: =ROUND(H59*F59,2) -> 0
A60: =[1]ORÇAMENTO!O69 -> 5. | D60: =[1]ORÇAMENTO!R69 -> PASSEIO, GUIAS, SARJETA E MURETA
A61: =[1]ORÇAMENTO!O70 -> 5.1. | D61: =[1]ORÇAMENTO!R70 -> PASSEIO, GUIAS, SARJETA E MURETA | H61: Subtotal: | I61: =SUM(I62:I67) -> 0
A62: =[1]ORÇAMENTO!O71 -> 5.1.1. | B62: =[1]ORÇAMENTO!P71 -> SIURB-E | C62: =[1]ORÇAMENTO!Q71 -> 17001076 | D62: =[1]ORÇAMENTO!R71 -> FV.08 - MURETA DE BLOCOS DE CONCRETO | E62: =[1]ORÇAMENTO!S71 -> M | F62: =[1]ORÇAMENTO!T71 -> 63.91 | H62: =ROUND(G62*1.2423,2) -> 0 | I62: =ROUND(H62*F62,2) -> 0
A63: =[1]ORÇAMENTO!O72 -> 5.1.2. | B63: =[1]ORÇAMENTO!P72 -> SINAPI | C63: =[1]ORÇAMENTO!Q72 -> 97083 | D63: =[1]ORÇAMENTO!R72 -> COMPACTAÇÃO MECÂNICA DE SOLO PARA EXECUÇÃO DE RADIER, PISO DE CONCRETO OU LAJE SOBRE SOLO, COM COMPACTADOR DE SOLOS A PERCUSSÃO. AF_09/2021 | E63: =[1]ORÇAMENTO!S72 -> M2 | F63: =[1]ORÇAMENTO!T72 -> 152.47 | H63: =ROUND(G63*1.2423,2) -> 0 | I63: =ROUND(H63*F63,2) -> 0
A64: =[1]ORÇAMENTO!O73 -> 5.1.3. | B64: =[1]ORÇAMENTO!P73 -> SINAPI | C64: =[1]ORÇAMENTO!Q73 -> 94994 | D64: =[1]ORÇAMENTO!R73 -> EXECUÇÃO DE PASSEIO (CALÇADA) OU PISO DE CONCRETO COM CONCRETO MOLDADO IN LOCO, FEITO EM OBRA, ACABAMENTO CONVENCIONAL, ESPESSURA 8 CM, ARMADO. AF_08/2022 | E64: =[1]ORÇAMENTO!S73 -> M2 | F64: =[1]ORÇAMENTO!T73 -> 313.72 | H64: =ROUND(G64*1.2423,2) -> 0 | I64: =ROUND(H64*F64,2) -> 0
A65: =[1]ORÇAMENTO!O74 -> 5.1.4. | B65: =[1]ORÇAMENTO!P74 -> SINAPI-I | C65: =[1]ORÇAMENTO!Q74 -> 4062 | D65: =[1]ORÇAMENTO!R74 -> MEIO-FIO OU GUIA DE CONCRETO, PRE-MOLDADO, COMP 1 M, *30 X 15* CM (H X L) | E65: =[1]ORÇAMENTO!S74 -> UN | F65: =[1]ORÇAMENTO!T74 -> 108 | H65: =ROUND(G65*1.2423,2) -> 0 | I65: =ROUND(H65*F65,2) -> 0
A66: =[1]ORÇAMENTO!O75 -> 5.1.5. | B66: =[1]ORÇAMENTO!P75 -> SINAPI | C66: =[1]ORÇAMENTO!Q75 -> 94273 | D66: =[1]ORÇAMENTO!R75 -> ASSENTAMENTO DE GUIA (MEIO-FIO) EM TRECHO RETO, CONFECCIONADA EM CONCRETO PRÉ-FABRICADO, DIMENSÕES 100X15X13X30 CM (COMPRIMENTO X BASE INFERIOR X BASE SUPERIOR X ALTURA). AF_01/2024 | E66: =[1]ORÇAMENTO!S75 -> M | F66: =[1]ORÇAMENTO!T75 -> 107.5 | H66: =ROUND(G66*1.2423,2) -> 0 | I66: =ROUND(H66*F66,2) -> 0
A67: =[1]ORÇAMENTO!O76 -> 5.1.6. | B67: =[1]ORÇAMENTO!P76 -> SINAPI | C67: =[1]ORÇAMENTO!Q76 -> 94281 | D67: =[1]ORÇAMENTO!R76 -> EXECUÇÃO DE SARJETA DE CONCRETO USINADO, MOLDADA IN LOCO EM TRECHO RETO, 30 CM BASE X 15 CM ALTURA. AF_01/2024 | E67: =[1]ORÇAMENTO!S76 -> M | F67: =[1]ORÇAMENTO!T76 -> 107.5 | H67: =ROUND(G67*1.2423,2) -> 0 | I67: =ROUND(H67*F67,2) -> 0
A68: =[1]ORÇAMENTO!O77 -> 6. | D68: =[1]ORÇAMENTO!R77 -> BEBEDOURO
A69: =[1]ORÇAMENTO!O78 -> 6.1. | D69: =[1]ORÇAMENTO!R78 -> BEBEDOURO | H69: Subtotal: | I69: =SUM(I70:I86) -> 0
A70: =[1]ORÇAMENTO!O79 -> 6.1.1. | B70: =[1]ORÇAMENTO!P79 -> SINAPI | C70: =[1]ORÇAMENTO!Q79 -> 97741 | D70: =[1]ORÇAMENTO!R79 -> KIT CAVALETE PARA MEDIÇÃO DE ÁGUA - ENTRADA INDIVIDUALIZADA, EM PVC 25 MM (3/4"), PARA 1 MEDIDOR - FORNECIMENTO E INSTALAÇÃO (EXCLUSIVE HIDRÔMETRO). AF_03/2024 | E70: =[1]ORÇAMENTO!S79 -> UN | F70: =[1]ORÇAMENTO!T79 -> 1 | H70: =ROUND(G70*1.2423,2) -> 0 | I70: =ROUND(H70*F70,2) -> 0
A71: =[1]ORÇAMENTO!O80 -> 6.1.2. | B71: =[1]ORÇAMENTO!P80 -> SINAPI | C71: =[1]ORÇAMENTO!Q80 -> 95727 | D71: =[1]ORÇAMENTO!R80 -> ELETRODUTO RÍGIDO SOLDÁVEL, PVC, DN 25 MM (3/4"), APARENTE - FORNECIMENTO E INSTALAÇÃO. AF_10/2022 | E71: =[1]ORÇAMENTO!S80 -> M | F71: =[1]ORÇAMENTO!T80 -> 14 | H71: =ROUND(G71*1.2423,2) -> 0 | I71: =ROUND(H71*F71,2) -> 0
A72: =[1]ORÇAMENTO!O81 -> 6.1.3. | B72: =[1]ORÇAMENTO!P81 -> SINAPI | C72: =[1]ORÇAMENTO!Q81 -> 97908 | D72: =[1]ORÇAMENTO!R81 -> CAIXA ENTERRADA HIDRÁULICA RETANGULAR, EM ALVENARIA COM BLOCOS DE CONCRETO, DIMENSÕES INTERNAS: 1X1X0,6 M PARA REDE DE ESGOTO. AF_12/2020 | E72: =[1]ORÇAMENTO!S81 -> UN | F72: =[1]ORÇAMENTO!T81 -> 1 | H72: =ROUND(G72*1.2423,2) -> 0 | I72: =ROUND(H72*F72,2) -> 0
A73: =[1]ORÇAMENTO!O82 -> 6.1.4. | B73: =[1]ORÇAMENTO!P82 -> SINAPI | C73: =[1]ORÇAMENTO!Q82 -> 93358 | D73: =[1]ORÇAMENTO!R82 -> ESCAVAÇÃO MANUAL DE VALA. AF_09/2024 | E73: =[1]ORÇAMENTO!S82 -> M3 | F73: =[1]ORÇAMENTO!T82 -> 8.64 | H73: =ROUND(G73*1.2423,2) -> 0 | I73: =ROUND(H73*F73,2) -> 0
A74: =[1]ORÇAMENTO!O83 -> 6.1.5. | B74: =[1]ORÇAMENTO!P83 -> SINAPI | C74: =[1]ORÇAMENTO!Q83 -> 93382 | D74: =[1]ORÇAMENTO!R83 -> REATERRO MANUAL DE VALAS, COM COMPACTADOR DE SOLOS DE PERCUSSÃO. AF_08/2023 | E74: =[1]ORÇAMENTO!S83 -> M3 | F74: =[1]ORÇAMENTO!T83 -> 6.48 | H74: =ROUND(G74*1.2423,2) -> 0 | I74: =ROUND(H74*F74,2) -> 0
A75: =[1]ORÇAMENTO!O84 -> 6.1.6. | B75: =[1]ORÇAMENTO!P84 -> SINAPI | C75: =[1]ORÇAMENTO!Q84 -> 90696 | D75: =[1]ORÇAMENTO!R84 -> TUBO DE PVC PARA REDE COLETORA DE ESGOTO DE PAREDE MACIÇA, DN 200 MM, JUNTA ELÁSTICA - FORNECIMENTO E ASSENTAMENTO. AF_01/2021 | E75: =[1]ORÇAMENTO!S84 -> M | F75: =[1]ORÇAMENTO!T84 -> 12 | H75: =ROUND(G75*1.2423,2) -> 0 | I75: =ROUND(H75*F75,2) -> 0
A76: =[1]ORÇAMENTO!O85 -> 6.1.7. | B76: =[1]ORÇAMENTO!P85 -> SINAPI | C76: =[1]ORÇAMENTO!Q85 -> 96544 | D76: =[1]ORÇAMENTO!R85 -> ARMAÇÃO DE BLOCO UTILIZANDO AÇO CA-50 DE 6,3 MM - MONTAGEM. AF_01/2024 | E76: =[1]ORÇAMENTO!S85 -> KG | F76: =[1]ORÇAMENTO!T85 -> 12.72 | H76: =ROUND(G76*1.2423,2) -> 0 | I76: =ROUND(H76*F76,2) -> 0
A77: =[1]ORÇAMENTO!O86 -> 6.1.8. | B77: =[1]ORÇAMENTO!P86 -> SINAPI | C77: =[1]ORÇAMENTO!Q86 -> 96545 | D77: =[1]ORÇAMENTO!R86 -> ARMAÇÃO DE BLOCO UTILIZANDO AÇO CA-50 DE 8 MM - MONTAGEM. AF_01/2024 | E77: =[1]ORÇAMENTO!S86 -> KG | F77: =[1]ORÇAMENTO!T86 -> 50.88 | H77: =ROUND(G77*1.2423,2) -> 0 | I77: =ROUND(H77*F77,2) -> 0
A78: =[1]ORÇAMENTO!O87 -> 6.1.9. | B78: =[1]ORÇAMENTO!P87 -> SINAPI | C78: =[1]ORÇAMENTO!Q87 -> 103670 | D78: =[1]ORÇAMENTO!R87 -> LANÇAMENTO COM USO DE BALDES, ADENSAMENTO E ACABAMENTO DE CONCRETO EM ESTRUTURAS. AF_02/2022 | E78: =[1]ORÇAMENTO!S87 -> M3 | F78: =[1]ORÇAMENTO!T87 -> 0.64 | H78: =ROUND(G78*1.2423,2) -> 0 | I78: =ROUND(H78*F78,2) -> 0
A79: =[1]ORÇAMENTO!O88 -> 6.1.10. | B79: =[1]ORÇAMENTO!P88 -> SINAPI | C79: =[1]ORÇAMENTO!Q88 -> 94971 | D79: =[1]ORÇAMENTO!R88 -> CONCRETO FCK = 25MPA, TRAÇO 1:2,3:2,7 (EM MASSA SECA DE CIMENTO/ AREIA MÉDIA/ BRITA 1) - PREPARO MECÂNICO COM BETONEIRA 600 L. AF_05/2021 | E79: =[1]ORÇAMENTO!S88 -> M3 | F79: =[1]ORÇAMENTO!T88 -> 0.64 | H79: =ROUND(G79*1.2423,2) -> 0 | I79: =ROUND(H79*F79,2) -> 0
A80: =[1]ORÇAMENTO!O89 -> 6.1.11. | B80: =[1]ORÇAMENTO!P89 -> SINAPI | C80: =[1]ORÇAMENTO!Q89 -> 103318 | D80: =[1]ORÇAMENTO!R89 -> ALVENARIA DE VEDAÇÃO DE BLOCOS VAZADOS DE CONCRETO DE 14X19X39 CM (ESPESSURA 14 CM) E ARGAMASSA DE ASSENTAMENTO COM PREPARO EM BETONEIRA. AF_12/2021 | E80: =[1]ORÇAMENTO!S89 -> M2 | F80: =[1]ORÇAMENTO!T89 -> 3.24 | H80: =ROUND(G80*1.2423,2) -> 0 | I80: =ROUND(H80*F80,2) -> 0
A81: =[1]ORÇAMENTO!O90 -> 6.1.12. | B81: =[1]ORÇAMENTO!P90 -> SINAPI | C81: =[1]ORÇAMENTO!Q90 -> 87904 | D81: =[1]ORÇAMENTO!R90 -> CHAPISCO APLICADO EM ALVENARIA (COM PRESENÇA DE VÃOS) E ESTRUTURAS DE CONCRETO DE FACHADA, COM COLHER DE PEDREIRO. ARGAMASSA TRAÇO 1:3 COM PREPARO MANUAL. AF_10/2022 | E81: =[1]ORÇAMENTO!S90 -> M2 | F81: =[1]ORÇAMENTO!T90 -> 6.48 | H81: =ROUND(G81*1.2423,2) -> 0 | I81: =ROUND(H81*F81,2) -> 0
... A86: =[1]ORÇAMENTO!O95 -> 6.1.17. | B86: =[1]ORÇAMENTO!P95 -> SINAPI-I | C86: =[1]ORÇAMENTO!Q95 -> 11762 | D86: =[1]ORÇAMENTO!R95 -> TORNEIRA METALICA CROMADA PARA JARDIM / TANQUE, COM BICO PLASTICO, CANO LONGO, DE PAREDE, PADRAO POPULAR / USO GERAL, 1/2" OU 3/4" | E86: =[1]ORÇAMENTO!S95 -> UN | F86: =[1]ORÇAMENTO!T95 -> 3 | H86: =ROUND(G86*1.2423,2) -> 0 | I86: =ROUND(H86*F86,2) -> 0
A87: =[1]ORÇAMENTO!O96 -> 7. | D87: =[1]ORÇAMENTO!R96 -> EQUIPAMENTOS DE ACADEMIA E PLAYGROUND
A88: =[1]ORÇAMENTO!O97 -> 7.1. | D88: =[1]ORÇAMENTO!R97 -> EQUIPAMENTOS DE ACADEMIA E PLAYGROUND | H88: Subtotal: | I88: =SUM(I89:I99) -> 0
A89: =[1]ORÇAMENTO!O98 -> 7.1.1. | B89: =[1]ORÇAMENTO!P98 -> SIURB-E | C89: =[1]ORÇAMENTO!Q98 -> 18014041 | D89: =[1]ORÇAMENTO!R98 -> PLAYGROUND BRINQUEDOS DE MADEIRA - CASA TARZAN COM RAMPA ESCALADA, ESCORREGADOR, PONTE E ESCADA MARINHEIRO | E89: =[1]ORÇAMENTO!S98 -> UN | F89: =[1]ORÇAMENTO!T98 -> 1 | H89: =ROUND(G89*1.2423,2) -> 0 | I89: =ROUND(H89*F89,2) -> 0
A90: =[1]ORÇAMENTO!O99 -> 7.1.2. | B90: =[1]ORÇAMENTO!P99 -> SINAPI | C90: =[1]ORÇAMENTO!Q99 -> 103187 | D90: =[1]ORÇAMENTO!R99 -> INSTALAÇÃO DE SIMULADOR DE CAMINHADA TRIPLO, EM TUBO DE AÇO CARBONO - EQUIPAMENTO DE GINÁSTICA PARA ACADEMIA AO AR LIVRE / ACADEMIA DA TERCEIRA IDADE - ATI, INSTALADO SOBRE PISO DE CONCRETO EXISTENTE. AF_10/2021 | E90: =[1]ORÇAMENTO!S99 -> UN | F90: =[1]ORÇAMENTO!T99 -> 1 | H90: =ROUND(G90*1.2423,2) -> 0 | I90: =ROUND(H90*F90,2) -> 0
A91: =[1]ORÇAMENTO!O100 -> 7.1.3. | B91: =[1]ORÇAMENTO!P100 -> SINAPI | C91: =[1]ORÇAMENTO!Q100 -> 103205 | D91: =[1]ORÇAMENTO!R100 -> INSTALAÇÃO DE PRESSÃO DE PERNAS TRIPLO, EM TUBO DE AÇO CARBONO - EQUIPAMENTO DE GINÁSTICA PARA ACADEMIA AO AR LIVRE / ACADEMIA DA TERCEIRA IDADE - ATI, INSTALADO SOBRE PISO DE CONCRETO EXISTENTE. AF_10/2021 | E91: =[1]ORÇAMENTO!S100 -> UN | F91: =[1]ORÇAMENTO!T100 -> 1 | H91: =ROUND(G91*1.2423,2) -> 0 | I91: =ROUND(H91*F91,2) -> 0
A92: =[1]ORÇAMENTO!O101 -> 7.1.4. | B92: =[1]ORÇAMENTO!P101 -> SINAPI | C92: =[1]ORÇAMENTO!Q101 -> 103208 | D92: =[1]ORÇAMENTO!R101 -> INSTALAÇÃO DE ROTAÇÃO VERTICAL DUPLO, EM TUBO DE ACO CARBONO - EQUIPAMENTO DE GINASTICA PARA ACADEMIA AO AR LIVRE / ACADEMIA DA TERCEIRA IDADE - ATI, INSTALADO SOBRE PISO DE CONCRETO EXISTENTE. AF_10/2021 | E92: =[1]ORÇAMENTO!S101 -> UN | F92: =[1]ORÇAMENTO!T101 -> 1 | H92: =ROUND(G92*1.2423,2) -> 0 | I92: =ROUND(H92*F92,2) -> 0
A93: =[1]ORÇAMENTO!O102 -> 7.1.5. | B93: =[1]ORÇAMENTO!P102 -> SINAPI | C93: =[1]ORÇAMENTO!Q102 -> 103185 | D93: =[1]ORÇAMENTO!R102 -> INSTALAÇÃO DE ESQUI TRIPLO, EM TUBO DE AÇO CARBONO - EQUIPAMENTO DE GINÁSTICA PARA ACADEMIA AO AR LIVRE / ACADEMIA DA TERCEIRA IDADE - ATI, INSTALADO SOBRE PISO DE CONCRETO EXISTENTE. AF_10/2021 | E93: =[1]ORÇAMENTO!S102 -> UN | F93: =[1]ORÇAMENTO!T102 -> 1 | H93: =ROUND(G93*1.2423,2) -> 0 | I93: =ROUND(H93*F93,2) -> 0
A94: =[1]ORÇAMENTO!O103 -> 7.1.6. | B94: =[1]ORÇAMENTO!P103 -> SINAPI | C94: =[1]ORÇAMENTO!Q103 -> 99837 | D94: =[1]ORÇAMENTO!R103 -> GUARDA-CORPO DE AÇO GALVANIZADO DE 1,10M, MONTANTES TUBULARES DE 1.1/4" ESPAÇADOS DE 1,20M, TRAVESSA SUPERIOR DE 1.1/2", GRADIL FORMADO POR TUBOS HORIZONTAIS DE 1" E VERTICAIS DE 3/4", FIXADO COM CHUMBADOR MECÂNICO. AF_04/2019_PS | E94: =[1]ORÇAMENTO!S103 -> M | F94: =[1]ORÇAMENTO!T103 -> 100.28 | H94: =ROUND(G94*1.2423,2) -> 0 | I94: =ROUND(H94*F94,2) -> 0
A95: =[1]ORÇAMENTO!O104 -> 7.1.7. | B95: =[1]ORÇAMENTO!P104 -> SINAPI | C95: =[1]ORÇAMENTO!Q104 -> 96523 | D95: =[1]ORÇAMENTO!R104 -> ESCAVAÇÃO MANUAL PARA BLOCO DE COROAMENTO OU SAPATA (INCLUINDO ESCAVAÇÃO PARA COLOCAÇÃO DE FÔRMAS). AF_01/2024 | E95: =[1]ORÇAMENTO!S104 -> M3 | F95: =[1]ORÇAMENTO!T104 -> 0.79 | H95: =ROUND(G95*1.2423,2) -> 0 | I95: =ROUND(H95*F95,2) -> 0
A96: =[1]ORÇAMENTO!O105 -> 7.1.8. | B96: =[1]ORÇAMENTO!P105 -> SINAPI | C96: =[1]ORÇAMENTO!Q105 -> 104919 | D96: =[1]ORÇAMENTO!R105 -> ARMAÇÃO DE SAPATA ISOLADA, VIGA BALDRAME E SAPATA CORRIDA UTILIZANDO AÇO CA-50 DE 10 MM - MONTAGEM. AF_01/2024 | E96: =[1]ORÇAMENTO!S105 -> KG | F96: =[1]ORÇAMENTO!T105 -> 72 | H96: =ROUND(G96*1.2423,2) -> 0 | I96: =ROUND(H96*F96,2) -> 0
A97: =[1]ORÇAMENTO!O106 -> 7.1.9. | B97: =[1]ORÇAMENTO!P106 -> SINAPI | C97: =[1]ORÇAMENTO!Q106 -> 96535 | D97: =[1]ORÇAMENTO!R106 -> FABRICAÇÃO, MONTAGEM E DESMONTAGEM DE FÔRMA PARA SAPATA, EM MADEIRA SERRADA, E=25 MM, 4 UTILIZAÇÕES. AF_01/2024 | E97: =[1]ORÇAMENTO!S106 -> M2 | F97: =[1]ORÇAMENTO!T106 -> 4.74 | H97: =ROUND(G97*1.2423,2) -> 0 | I97: =ROUND(H97*F97,2) -> 0
A98: =[1]ORÇAMENTO!O107 -> 7.1.10. | B98: =[1]ORÇAMENTO!P107 -> SINAPI | C98: =[1]ORÇAMENTO!Q107 -> 102476 | D98: =[1]ORÇAMENTO!R107 -> CONCRETO FCK = 25MPA, TRAÇO 1:2,2:2,5 (EM MASSA SECA DE CIMENTO/ AREIA MÉDIA/ SEIXO ROLADO) - PREPARO MECÂNICO COM BETONEIRA 400 L. AF_05/2021 | E98: =[1]ORÇAMENTO!S107 -> M3 | F98: =[1]ORÇAMENTO!T107 -> 0.79 | H98: =ROUND(G98*1.2423,2) -> 0 | I98: =ROUND(H98*F98,2) -> 0
A99: =[1]ORÇAMENTO!O108 -> 7.1.11. | B99: =[1]ORÇAMENTO!P108 -> SINAPI | C99: =[1]ORÇAMENTO!Q108 -> 101173 | D99: =[1]ORÇAMENTO!R108 -> ESTACA BROCA DE CONCRETO, DIÂMETRO DE 20CM, ESCAVAÇÃO MANUAL COM TRADO CONCHA, COM ARMADURA DE ARRANQUE. AF_05/2020 | E99: =[1]ORÇAMENTO!S108 -> M | F99: =[1]ORÇAMENTO!T108 -> 51 | H99: =ROUND(G99*1.2423,2) -> 0 | I99: =ROUND(H99*F99,2) -> 0
A100: =[1]ORÇAMENTO!O109 -> 8. | D100: =[1]ORÇAMENTO!R109 -> INSTALAÇÕES ELÉTRICAS
A101: =[1]ORÇAMENTO!O110 -> 8.1. | D101: =[1]ORÇAMENTO!R110 -> INSTALAÇÕES ELÉTRICAS | H101: Subtotal: | I101: =SUM(I102:I114) -> 0
A102: =[1]ORÇAMENTO!O111 -> 8.1.1. | B102: =[1]ORÇAMENTO!P111 -> SINAPI | C102: =[1]ORÇAMENTO!Q111 -> 93358 | D102: =[1]ORÇAMENTO!R111 -> ESCAVAÇÃO MANUAL DE VALA. AF_09/2024 | E102: =[1]ORÇAMENTO!S111 -> M3 | F102: =[1]ORÇAMENTO!T111 -> 1.59 | H102: =ROUND(G102*1.2423,2) -> 0 | I102: =ROUND(H102*F102,2) -> 0
A103: =[1]ORÇAMENTO!O112 -> 8.1.2. | B103: =[1]ORÇAMENTO!P112 -> SINAPI | C103: =[1]ORÇAMENTO!Q112 -> 93382 | D103: =[1]ORÇAMENTO!R112 -> REATERRO MANUAL DE VALAS, COM COMPACTADOR DE SOLOS DE PERCUSSÃO. AF_08/2023 | E103: =[1]ORÇAMENTO!S112 -> M3 | F103: =[1]ORÇAMENTO!T112 -> 0.8 | H103: =ROUND(G103*1.2423,2) -> 0 | I103: =ROUND(H103*F103,2) -> 0
A104: =[1]ORÇAMENTO!O113 -> 8.1.3. | B104: =[1]ORÇAMENTO!P113 -> SINAPI | C104: =[1]ORÇAMENTO!Q113 -> 100981 | D104: =[1]ORÇAMENTO!R113 -> CARGA, MANOBRA E DESCARGA DE ENTULHO EM CAMINHÃO BASCULANTE 6 M³ - CARGA COM ESCAVADEIRA HIDRÁULICA (CAÇAMBA DE 0,80 M³ / 111 HP) E DESCARGA LIVRE (UNIDADE: M3). AF_07/2020 | E104: =[1]ORÇAMENTO!S113 -> M3 | F104: =[1]ORÇAMENTO!T113 -> 1.03 | H104: =ROUND(G104*1.2423,2) -> 0 | I104: =ROUND(H104*F104,2) -> 0
A105: =[1]ORÇAMENTO!O114 -> 8.1.4. | B105: =[1]ORÇAMENTO!P114 -> SINAPI | C105: =[1]ORÇAMENTO!Q114 -> 97913 | D105: =[1]ORÇAMENTO!R114 -> TRANSPORTE COM CAMINHÃO BASCULANTE DE 6 M³, EM VIA URBANA EM REVESTIMENTO PRIMÁRIO (UNIDADE: M3XKM). AF_07/2020 | E105: =[1]ORÇAMENTO!S114 -> M3XKM | F105: =[1]ORÇAMENTO!T114 -> 20.67 | H105: =ROUND(G105*1.2423,2) -> 0 | I105: =ROUND(H105*F105,2) -> 0
A106: =[1]ORÇAMENTO!O115 -> 8.1.5. | B106: =[1]ORÇAMENTO!P115 -> SINAPI | C106: =[1]ORÇAMENTO!Q115 -> 101660 | D106: =[1]ORÇAMENTO!R115 -> LUMINÁRIA DE LED PARA ILUMINAÇÃO PÚBLICA, DE 240 W ATÉ 350 W - FORNECIMENTO E INSTALAÇÃO. AF_02/2025_PS | E106: =[1]ORÇAMENTO!S115 -> UN | F106: =[1]ORÇAMENTO!T115 -> 16 | H106: =ROUND(G106*1.2423,2) -> 0 | I106: =ROUND(H106*F106,2) -> 0
A107: =[1]ORÇAMENTO!O116 -> 8.1.6. | B107: =[1]ORÇAMENTO!P116 -> SINAPI | C107: =[1]ORÇAMENTO!Q116 -> 97887 | D107: =[1]ORÇAMENTO!R116 -> CAIXA ENTERRADA ELÉTRICA RETANGULAR, EM ALVENARIA COM TIJOLOS CERÂMICOS MACIÇOS, FUNDO COM BRITA, DIMENSÕES INTERNAS: 0,4X0,4X0,4 M. AF_12/2020 | E107: =[1]ORÇAMENTO!S116 -> UN | F107: =[1]ORÇAMENTO!T116 -> 7 | H107: =ROUND(G107*1.2423,2) -> 0 | I107: =ROUND(H107*F107,2) -> 0
A108: =[1]ORÇAMENTO!O117 -> 8.1.7. | B108: =[1]ORÇAMENTO!P117 -> SINAPI | C108: =[1]ORÇAMENTO!Q117 -> 92341 | D108: =[1]ORÇAMENTO!R117 -> TUBO DE AÇO GALVANIZADO COM COSTURA, CLASSE MÉDIA, DN 50 (2"), CONEXÃO ROSQUEADA, INSTALADO EM PRUMADAS - FORNECIMENTO E INSTALAÇÃO. AF_10/2020 | E108: =[1]ORÇAMENTO!S117 -> M | F108: =[1]ORÇAMENTO!T117 -> 40 | H108: =ROUND(G108*1.2423,2) -> 0 | I108: =ROUND(H108*F108,2) -> 0
A109: =[1]ORÇAMENTO!O118 -> 8.1.8. | B109: =[1]ORÇAMENTO!P118 -> SINAPI | C109: =[1]ORÇAMENTO!Q118 -> 91871 | D109: =[1]ORÇAMENTO!R118 -> ELETRODUTO RÍGIDO ROSCÁVEL, PVC, DN 25 MM (3/4"), PARA CIRCUITOS TERMINAIS, INSTALADO EM PAREDE - FORNECIMENTO E INSTALAÇÃO. AF_03/2023 | E109: =[1]ORÇAMENTO!S118 -> M | F109: =[1]ORÇAMENTO!T118 -> 18 | H109: =ROUND(G109*1.2423,2) -> 0 | I109: =ROUND(H109*F109,2) -> 0
A110: =[1]ORÇAMENTO!O119 -> 8.1.9. | B110: =[1]ORÇAMENTO!P119 -> SINAPI | C110: =[1]ORÇAMENTO!Q119 -> 91872 | D110: =[1]ORÇAMENTO!R119 -> ELETRODUTO RÍGIDO ROSCÁVEL, PVC, DN 32 MM (1"), PARA CIRCUITOS TERMINAIS, INSTALADO EM PAREDE - FORNECIMENTO E INSTALAÇÃO. AF_03/2023 | E110: =[1]ORÇAMENTO!S119 -> M | F110: =[1]ORÇAMENTO!T119 -> 50 | H110: =ROUND(G110*1.2423,2) -> 0 | I110: =ROUND(H110*F110,2) -> 0
A111: =[1]ORÇAMENTO!O120 -> 8.1.10. | B111: =[1]ORÇAMENTO!P120 -> SINAPI | C111: =[1]ORÇAMENTO!Q120 -> 91884 | D111: =[1]ORÇAMENTO!R120 -> LUVA PARA ELETRODUTO, PVC, ROSCÁVEL, DN 25 MM (3/4"), PARA CIRCUITOS TERMINAIS, INSTALADA EM PAREDE - FORNECIMENTO E INSTALAÇÃO. AF_03/2023 | E111: =[1]ORÇAMENTO!S120 -> UN | F111: =[1]ORÇAMENTO!T120 -> 4 | H111: =ROUND(G111*1.2423,2) -> 0 | I111: =ROUND(H111*F111,2) -> 0
A112: =[1]ORÇAMENTO!O121 -> 8.1.11. | B112: =[1]ORÇAMENTO!P121 -> SINAPI | C112: =[1]ORÇAMENTO!Q121 -> 91885 | D112: =[1]ORÇAMENTO!R121 -> LUVA PARA ELETRODUTO, PVC, ROSCÁVEL, DN 32 MM (1"), PARA CIRCUITOS TERMINAIS, INSTALADA EM PAREDE - FORNECIMENTO E INSTALAÇÃO. AF_03/2023 | E112: =[1]ORÇAMENTO!S121 -> UN | F112: =[1]ORÇAMENTO!T121 -> 6 | H112: =ROUND(G112*1.2423,2) -> 0 | I112: =ROUND(H112*F112,2) -> 0
...

Sheet Cronograma
C1: x
B3: CRONOGRAMA FISICO-FINANCEIRO
B6: =Planilha!D4 -> OBRA: Implantação de Quadra Esportiva de Areia - Raspadão
B8: Descrição | C8: MESES | V8: Valor do Item | W8: %
C9: 1 | D9: 2 | E9: 3 | F9: 4 | G9: 5 | H9: 6 | I9: 7 | J9: 8 | K9: 9 | L9: 10 | M9: 11 | N9: 12 | O9: 13 | P9: 14 | Q9: 15 | R9: 16 | S9: 17 | T9: 18 | U9: 19
B10: 1 - SERVIÇOS PRELIMINARES | V10: 0 | W10: =V10/$V$37 -> #DIV/0! | X10: =SUM(C12:J12)-V10 -> 0
C11: x
C12: =V10 -> 0 | D12: =IF(D11="x", $V10/COUNTIF($C11:$U11,"x"), "") | E12: =IF(E11="x", $V10/COUNTIF($C11:$U11,"x"), "") | F12: =IF(F11="x", $V10/COUNTIF($C11:$U11,"x"), "") | G12: =IF(G11="x", $V10/COUNTIF($C11:$U11,"x"), "") | H12: =IF(H11="x", $V10/COUNTIF($C11:$U11,"x"), "") | I12: =IF(I11="x", $V10/COUNTIF($C11:$U11,"x"), "") | J12: =IF(J11="x", $V10/COUNTIF($C11:$U11,"x"), "") | K12: =IF(K11="x", $V10/COUNTIF($C11:$U11,"x"), "") | ... U12: =IF(U11="x", $V10/COUNTIF($C11:$U11,"x"), "")
B13: 2 - MURETA E ALAMBRADO | W13: =V13/$V$37 -> #DIV/0! | X13: =SUM(C15:J15)-V13 -> 0
C14: x | D14: x | E14: x | F14: x
C15: =V13*[1]CRONO!$T$17 -> 0 | D15: =V13*[1]CRONO!$U$17 -> 0 | E15: =V13*[1]CRONO!$V$17 -> 0 | F15: =V13*[1]CRONO!$W$17 -> 0 | G15: =IF(G14="x", $V13/COUNTIF($C14:$U14,"x"), "") | H15: =IF(H14="x", $V13/COUNTIF($C14:$U14,"x"), "") | I15: =IF(I14="x", $V13/COUNTIF($C14:$U14,"x"), "") | J15: =IF(J14="x", $V13/COUNTIF($C14:$U14,"x"), "") | K15: =IF(K14="x", $V13/COUNTIF($C14:$U14,"x"), "") | L15: =IF(L14="x", $V13/COUNTIF($C14:$U14,"x"), "") | M15: =IF(M14="x", $V13/COUNTIF($C14:$U14,"x"), "") | N15: =IF(N14="x", $V13/COUNTIF($C14:$U14,"x"), "") | ... U15: =IF(U14="x", $V13/COUNTIF($C14:$U14,"x"), "")
B16: 3 - PISO | W16: =V16/$V$37 -> #DIV/0! | X16: =SUM(C18:J18)-V16 -> 0
E17: x | F17: x
C18: =IF(C17="x", $V16/COUNTIF($C17:$U17,"x"), "") | D18: =IF(D17="x", $V16/COUNTIF($C17:$U17,"x"), "") | E18: =V16*[1]CRONO!$V$20 -> 0 | F18: =V16*[1]CRONO!$W$20 -> 0 | G18: =IF(G17="x", $V16/COUNTIF($C17:$U17,"x"), "") | H18: =IF(H17="x", $V16/COUNTIF($C17:$U17,"x"), "") | I18: =IF(I17="x", $V16/COUNTIF($C17:$U17,"x"), "") | J18: =IF(J17="x", $V16/COUNTIF($C17:$U17,"x"), "") | K18: =IF(K17="x", $V16/COUNTIF($C17:$U17,"x"), "") | L18: =IF(L17="x", $V16/COUNTIF($C17:$U17,"x"), "") | M18: =IF(M17="x", $V16/COUNTIF($C17:$U17,"x"), "") | N18: =IF(N17="x", $V16/COUNTIF($C17:$U17,"x"), "") | ... U18: =IF(U17="x", $V16/COUNTIF($C17:$U17,"x"), "")
B19: 4 - ARQUIBANCADA | W19: =V19/$V$37 -> #DIV/0! | X19: =SUM(C21:J21)-V19 -> 0
C20: x | D20: x | E20: x
C21: =V19*[1]CRONO!$T$23 -> 0 | D21: =V19*[1]CRONO!$U$23 -> 0 | E21: =V19*[1]CRONO!$V$23 -> 0 | F21: =IF(F20="x", $V19/COUNTIF($C20:$U20,"x"), "") | G21: =IF(G20="x", $V19/COUNTIF($C20:$U20,"x"), "") | H21: =IF(H20="x", $V19/COUNTIF($C20:$U20,"x"), "") | I21: =IF(I20="x", $V19/COUNTIF($C20:$U20,"x"), "") | J21: =IF(J20="x", $V19/COUNTIF($C20:$U20,"x"), "") | K21: =IF(K20="x", $V19/COUNTIF($C20:$U20,"x"), "") | L21: =IF(L20="x", $V19/COUNTIF($C20:$U20,"x"), "") | M21: =IF(M20="x", $V19/COUNTIF($C20:$U20,"x"), "") | ... U21: =IF(U20="x", $V19/COUNTIF($C20:$U20,"x"), "")
B22: 5 - PASSEIO, GUIAS, SARJETA E MURETA | W22: =V22/$V$37 -> #DIV/0! | X22: =SUM(C24:J24)-V22 -> 0
F23: x | G23: x | H23: x
C24: =IF(C23="x", $V22/COUNTIF($C23:$U23,"x"), "") | D24: =IF(D23="x", $V22/COUNTIF($C23:$U23,"x"), "") | E24: =IF(E23="x", $V22/COUNTIF($C23:$U23,"x"), "") | F24: =V22*[1]CRONO!$W$26 -> 0 | G24: =V22*[1]CRONO!$X$26 -> 0 | H24: =V22*[1]CRONO!$Y$26 -> 0 | I24: =IF(I23="x", $V22/COUNTIF($C23:$U23,"x"), "") | J24: =IF(J23="x", $V22/COUNTIF($C23:$U23,"x"), "") | K24: =IF(K23="x", $V22/COUNTIF($C23:$U23,"x"), "") | L24: =IF(L23="x", $V22/COUNTIF($C23:$U23,"x"), "") | M24: =IF(M23="x", $V22/COUNTIF($C23:$U23,"x"), "") | N24: =IF(N23="x", $V22/COUNTIF($C23:$U23,"x"), "") | O24: =IF(O23="x", $V22/COUNTIF($C23:$U23,"x"), "") | P24: =IF(P23="x", $V22/COUNTIF($C23:$U23,"x"), "") | ... U24: =IF(U23="x", $V22/COUNTIF($C23:$U23,"x"), "")
B25: 6 - BEBEDOURO | W25: =V25/$V$37 -> #DIV/0! | X25: =SUM(C27:J27)-V25 -> 0
C26: x | F26: x | G26: x | H26: x
C27: =V25*[1]CRONO!$T$29 -> 0 | D27: =IF(D26="x", $V25/COUNTIF($C26:$U26,"x"), "") | E27: =IF(E26="x", $V25/COUNTIF($C26:$U26,"x"), "") | F27: =V25*[1]CRONO!$W$29 -> 0 | G27: =V25*[1]CRONO!$X$29 -> 0 | H27: =V25*[1]CRONO!$Y$29 -> 0 | I27: =IF(I26="x", $V25/COUNTIF($C26:$U26,"x"), "") | J27: =IF(J26="x", $V25/COUNTIF($C26:$U26,"x"), "") | K27: =IF(K26="x", $V25/COUNTIF($C26:$U26,"x"), "") | L27: =IF(L26="x", $V25/COUNTIF($C26:$U26,"x"), "") | M27: =IF(M26="x", $V25/COUNTIF($C26:$U26,"x"), "") | N27: =IF(N26="x", $V25/COUNTIF($C26:$U26,"x"), "") | O27: =IF(O26="x", $V25/COUNTIF($C26:$U26,"x"), "") | P27: =IF(P26="x", $V25/COUNTIF($C26:$U26,"x"), "") | ... U27: =IF(U26="x", $V25/COUNTIF($C26:$U26,"x"), "")
B28: 7 - EQUIPAMENTOS DE ACADEMIA E PLAYGROUND | W28: =V28/$V$37 -> #DIV/0! | X28: =SUM(C30:J30)-V28 -> 0
C29: x | E29: x | F29: x | G29: x
C30: =V28*[1]CRONO!$T$32 -> 0 | D30: =IF(D29="x", $V28/COUNTIF($C29:$U29,"x"), "") | E30: =V28*[1]CRONO!$V$32 -> 0 | F30: =V28*[1]CRONO!$W$32 -> 0 | G30: =V28*[1]CRONO!$X$32 -> 0 | H30: =IF(H29="x", $V28/COUNTIF($C29:$U29,"x"), "") | I30: =IF(I29="x", $V28/COUNTIF($C29:$U29,"x"), "") | J30: =IF(J29="x", $V28/COUNTIF($C29:$U29,"x"), "") | K30: =IF(K29="x", $V28/COUNTIF($C29:$U29,"x"), "") | L30: =IF(L29="x", $V28/COUNTIF($C29:$U29,"x"), "") | M30: =IF(M29="x", $V28/COUNTIF($C29:$U29,"x"), "") | N30: =IF(N29="x", $V28/COUNTIF($C29:$U29,"x"), "") | O30: =IF(O29="x", $V28/COUNTIF($C29:$U29,"x"), "") | ... U30: =IF(U29="x", $V28/COUNTIF($C29:$U29,"x"), "")
B31: 8 - INSTALAÇÕES ELÉTRICAS | W31: =V31/$V$37 -> #DIV/0! | X31: =SUM(C33:J33)-V31 -> 0
D32: x | F32: x
C33: =IF(C32="x", $V31/COUNTIF($C32:$U32,"x"), "") | D33: =V31*[1]CRONO!$U$35 -> 0 | E33: =IF(E32="x", $V31/COUNTIF($C32:$U32,"x"), "") | F33: =V31*[1]CRONO!$W$35 -> 0 | G33: =IF(G32="x", $V31/COUNTIF($C32:$U32,"x"), "") | H33: =IF(H32="x", $V31/COUNTIF($C32:$U32,"x"), "") | I33: =IF(I32="x", $V31/COUNTIF($C32:$U32,"x"), "") | J33: =IF(J32="x", $V31/COUNTIF($C32:$U32,"x"), "") | K33: =IF(K32="x", $V31/COUNTIF($C32:$U32,"x"), "") | L33: =IF(L32="x", $V31/COUNTIF($C32:$U32,"x"), "") | M33: =IF(M32="x", $V31/COUNTIF($C32:$U32,"x"), "") | N33: =IF(N32="x", $V31/COUNTIF($C32:$U32,"x"), "") | ... U33: =IF(U32="x", $V31/COUNTIF($C32:$U32,"x"), "")
B34: 9 - SERVIÇOS COMPLEMENTARES | W34: =V34/$V$37 -> #DIV/0! | X34: =SUM(C36:J36)-V34 -> 0
H35: x
C36: =IF(C35="x", $V34/COUNTIF($C35:$U35,"x"), "") | D36: =IF(D35="x", $V34/COUNTIF($C35:$U35,"x"), "") | E36: =IF(E35="x", $V34/COUNTIF($C35:$U35,"x"), "") | F36: =IF(F35="x", $V34/COUNTIF($C35:$U35,"x"), "") | G36: =IF(G35="x", $V34/COUNTIF($C35:$U35,"x"), "") | H36: =IF(H35="x", $V34/COUNTIF($C35:$U35,"x"), "") -> 0 | I36: =IF(I35="x", $V34/COUNTIF($C35:$U35,"x"), "") | J36: =IF(J35="x", $V34/COUNTIF($C35:$U35,"x"), "") | ... U36: =IF(U35="x", $V34/COUNTIF($C35:$U35,"x"), "")
B37: TOTAL GERAL: | C37: =SUM(C10:C36) -> 0 | D37: =SUM(D10:D36) -> 0 | E37: =SUM(E10:E36) -> 0 | F37: =SUM(F10:F36) -> 0 | G37: =SUM(G10:G36) -> 0 | H37: =SUM(H10:H36) -> 0 | I37: =SUM(I10:I36) -> 0 | J37: =SUM(J10:J36) -> 0 | K37: =SUM(K10:K12) -> 0 | L37: =SUM(L10:L12) -> 0 | M37: =SUM(M10:M12) -> 0 | N37: =SUM(N10:N12) -> 0 | O37: =SUM(O10:O12) -> 0 | P37: =SUM(P10:P12) -> 0 | Q37: =SUM(Q10:Q12) -> 0 | R37: =SUM(R10:R12) -> 0 | ... U37: =SUM(U10:U12) -> 0 | V37: =SUM(V10:V36) -> 0 | W37: =SUM(W10:W36) -> #DIV/0!
