Workbook
Name AreaTeste: #REF!
Name AreaTeste2: #REF!
Name CélulaInicioPlanilha: #REF!
Name CélulaResumo: #REF!
Name Excel_BuiltIn_Database: #REF!
Name Excel_BuiltIn_Database_2: #REF!

Sheet Planilha
D2: PLANILHA ORÇAMENTÁRIA
D4: OBRA: Implantação de Quadra Esportiva de Areia - Raspadão
D5: BDI: 24,23% | F5: Data base: | G5: SIURB JAN/25; SINAPI SET/25
A6: Item | B6: Referência | C6: Código | D6: Descrição | E6: Unid | F6: Quantidade | G6: Preço Unit sem BDI | H6: Preço Unit com BDI | I6: Total
A7: =[1]ORÇAMENTO!O16 -> 1. | D7: =[1]ORÇAMENTO!R16 -> SERVIÇOS PRELIMINARES
A8: =[1]ORÇAMENTO!O17 -> 1.1. | D8: =[1]ORÇAMENTO!R17 -> SERVIÇOS PRELIMINARES | H8: Subtotal: | I8: =SUM(I9:I17) -> 0
A9: =[1]ORÇAMENTO!O18 -> 1.1.1. | B9: =[1]ORÇAMENTO!P18 -> SINAPI | C9: =[1]ORÇAMENTO!Q18 -> 103689 | D9: =[1]ORÇAMENTO!R18 -> FORNECIMENTO E INSTALAÇÃO DE PLACA DE OBRA COM CHAPA GALVANIZADA E ESTRUTURA DE MADEIRA. AF_03/2022_PS | E9: =[1]ORÇAMENTO!S18 -> M2 | F9: =[1]ORÇAMENTO!T18 -> 18 | H9: =ROUND(G9*1.2423,2) -> 0 | I9: =ROUND(H9*F9,2) -> 0
A10: =[1]ORÇAMENTO!O19 -> 1.1.2. | B10: =[1]ORÇAMENTO!P19 -> SINAPI | C10: =[1]ORÇAMENTO!Q19 -> 101114 | D10: =[1]ORÇAMENTO!R19 -> ESCAVAÇÃO HORIZONTAL EM SOLO DE 1A CATEGORIA COM TRATOR DE ESTEIRAS (100HP/LÂMINA: 2,19M3). AF_07/2020 | E10: =[1]ORÇAMENTO!S19 -> M3 | F10: =[1]ORÇAMENTO!T19 -> 384.92 | H10: =ROUND(G10*1.2423,2) -> 0 | I10: =ROUND(H10*F10,2) -> 0
A11: =[1]ORÇAMENTO!O20 -> 1.1.3. | B11: =[1]ORÇAMENTO!P20 -> SINAPI | C11: =[1]ORÇAMENTO!Q20 -> 100576 | D11: =[1]ORÇAMENTO!R20 -> REGULARIZAÇÃO E COMPACTAÇÃO DE SUBLEITO DE SOLO PREDOMINANTEMENTE ARGILOSO, PARA OBRAS DE CONSTRUÇÃO DE PAVIMENTOS. AF_09/2024 | E11: =[1]ORÇAMENTO!S20 -> M2 | F11: =[1]ORÇAMENTO!T20 -> 275.28 | H11: =ROUND(G11*1.2423,2) -> 0 | I11: =ROUND(H11*F11,2) -> 0
A12: =[1]ORÇAMENTO!O21 -> 1.1.4. | B12: =[1]ORÇAMENTO!P21 -> SINAPI | C12: =[1]ORÇAMENTO!Q21 -> 100978 | D12: =[1]ORÇAMENTO!R21 -> CARGA, MANOBRA E DESCARGA DE SOLOS E MATERIAIS GRANULARES EM CAMINHÃO BASCULANTE 10 M³ - CARGA COM ESCAVADEIRA HIDRÁULICA (CAÇAMBA DE 1,20 M³ / 155 HP) E DESCARGA LIVRE (UNIDADE: M3). AF_07/2020 | E12: =[1]ORÇAMENTO!S21 -> M3 | F12: =[1]ORÇAMENTO!T21 -> 500.4 | H12: =ROUND(G12*1.2423,2) -> 0 | I12: =ROUND(H12*F12,2) -> 0
A13: =[1]ORÇAMENTO!O22 -> 1.1.5. | B13: =[1]ORÇAMENTO!P22 -> SINAPI | C13: =[1]ORÇAMENTO!Q22 -> 95878 | D13: =[1]ORÇAMENTO!R22 -> TRANSPORTE COM CAMINHÃO BASCULANTE DE 10 M³, EM VIA URBANA PAVIMENTADA, DMT ATÉ 30 KM (UNIDADE: TXKM). AF_07/2020 | E13: =[1]ORÇAMENTO!S22 -> TXKM | F13: =[1]ORÇAMENTO!T22 -> 9098.18 | H13: =ROUND(G13*1.2423,2) -> 0 | I13: =ROUND(H13*F13,2) -> 0
A14: =[1]ORÇAMENTO!O23 -> 1.1.6. | B14: =[1]ORÇAMENTO!P23 -> SINAPI | C14: =[1]ORÇAMENTO!Q23 -> 104790 | D14: =[1]ORÇAMENTO!R23 -> DEMOLIÇÃO DE PISO DE CONCRETO SIMPLES, DE FORMA MECANIZADA COM MARTELETE, SEM REAPROVEITAMENTO. AF_09/2023 | E14: =[1]ORÇAMENTO!S23 -> M3 | F14: =[1]ORÇAMENTO!T23 -> 16.13 | H14: =ROUND(G14*1.2423,2) -> 0 | I14: =ROUND(H14*F14,2) -> 0
A15: =[1]ORÇAMENTO!O24 -> 1.1.7. | B15: =[1]ORÇAMENTO!P24 -> SINAPI | C15: =[1]ORÇAMENTO!Q24 -> 104796 | D15: =[1]ORÇAMENTO!R24 -> DEMOLIÇÃO DE GUIAS, SARJETAS OU SARJETÕES, DE FORMA MECANIZADA, SEM REAPROVEITAMENTO. AF_09/2023 | E15: =[1]ORÇAMENTO!S24 -> M | F15: =[1]ORÇAMENTO!T24 -> 215 | H15: =ROUND(G15*1.2423,2) -> 0 | I15: =ROUND(H15*F15,2) -> 0
A16: =[1]ORÇAMENTO!O25 -> 1.1.8. | B16: =[1]ORÇAMENTO!P25 -> SINAPI | C16: =[1]ORÇAMENTO!Q25 -> 100981 | D16: =[1]ORÇAMENTO!R25 -> CARGA, MANOBRA E DESCARGA DE ENTULHO EM CAMINHÃO BASCULANTE 6 M³ - CARGA COM ESCAVADEIRA HIDRÁULICA (CAÇAMBA DE 0,80 M³ / 111 HP) E DESCARGA LIVRE (UNIDADE: M3). AF_07/2020 | E16: =[1]ORÇAMENTO!S25 -> M3 | F16: =[1]ORÇAMENTO!T25 -> 33.52 | H16: =ROUND(G16*1.2423,2) -> 0 | I16: =ROUND(H16*F16,2) -> 0
A17: =[1]ORÇAMENTO!O26 -> 1.1.9. | B17: =[1]ORÇAMENTO!P26 -> SINAPI | C17: =[1]ORÇAMENTO!Q26 -> 97914 | D17: =[1]ORÇAMENTO!R26 -> TRANSPORTE COM CAMINHÃO BASCULANTE DE 6 M³, EM VIA URBANA PAVIMENTADA, DMT ATÉ 30 KM (UNIDADE: M3XKM). AF_07/2020 | E17: =[1]ORÇAMENTO!S26 -> M3XKM | F17: =[1]ORÇAMENTO!T26 -> 469.28 | H17: =ROUND(G17*1.2423,2) -> 0 | I17: =ROUND(H17*F17,2) -> 0
A18: =[1]ORÇAMENTO!O27 -> 2. | D18: =[1]ORÇAMENTO!R27 -> MURETA E ALAMBRADO
A19: =[1]ORÇAMENTO!O28 -> 2.1. | D19: =[1]ORÇAMENTO!R28 -> MURETA E ALAMBRADO | H19: Subtotal: | I19: =SUM(I20:I34) -> 0
A20: =[1]ORÇAMENTO!O29 -> 2.1.1. | B20: =[1]ORÇAMENTO!P29 -> SINAPI | C20: =[1]ORÇAMENTO!Q29 -> 102363 | D20: =[1]ORÇAMENTO!R29 -> ALAMBRADO PARA QUADRA POLIESPORTIVA, ESTRUTURADO POR TUBOS DE ACO GALVANIZADO, (MONTANTES COM DIAMETRO 2", TRAVESSAS E ESCORAS COM DIÂMETRO 1 ¼"), COM TELA DE ARAME GALVANIZADO, FIO 12 BWG E MALHA QUADRADA 5X5CM (EXCETO MURETA). AF_03/2021 | E20: =[1]ORÇAMENTO!S29 -> M2 | F20: =[1]ORÇAMENTO!T29 -> 276.8 | H20: =ROUND(G20*1.2423,2) -> 0 | I20: =ROUND(H20*F20,2) -> 0
A21: =[1]ORÇAMENTO!O30 -> 2.1.2. | B21: =[1]ORÇAMENTO!P30 -> SINAPI | C21: =[1]ORÇAMENTO!Q30 -> 100701 | D21: =[1]ORÇAMENTO!R30 -> PORTA DE FERRO, DE ABRIR, TIPO GRADE COM CHAPA, COM GUARNIÇÕES. AF_12/2019 | E21: =[1]ORÇAMENTO!S30 -> M2 | F21: =[1]ORÇAMENTO!T30 -> 5.04 | H21: =ROUND(G21*1.2423,2) -> 0 | I21: =ROUND(H21*F21,2) -> 0
A22: =[1]ORÇAMENTO!O31 -> 2.1.3. | B22: =[1]ORÇAMENTO!P31 -> SINAPI | C22: =[1]ORÇAMENTO!Q31 -> 93358 | D22: =[1]ORÇAMENTO!R31 -> ESCAVAÇÃO MANUAL DE VALA. AF_09/2024 | E22: =[1]ORÇAMENTO!S31 -> M3 | F22: =[1]ORÇAMENTO!T31 -> 2.77 | H22: =ROUND(G22*1.2423,2) -> 0 | I22: =ROUND(H22*F22,2) -> 0
A23: =[1]ORÇAMENTO!O32 -> 2.1.4. | B23: =[1]ORÇAMENTO!P32 -> SINAPI | C23: =[1]ORÇAMENTO!Q32 -> 100981 | D23: =[1]ORÇAMENTO!R32 -> CARGA, MANOBRA E DESCARGA DE ENTULHO EM CAMINHÃO BASCULANTE 6 M³ - CARGA COM ESCAVADEIRA HIDRÁULICA (CAÇAMBA DE 0,80 M³ / 111 HP) E DESCARGA LIVRE (UNIDADE: M3). AF_07/2020 | E23: =[1]ORÇAMENTO!S32 -> M3 | F23: =[1]ORÇAMENTO!T32 -> 6.37 | H23: =ROUND(G23*1.2423,2) -> 0 | I23: =ROUND(H23*F23,2) -> 0
A24: =[1]ORÇAMENTO!O33 -> 2.1.5. | B24: =[1]ORÇAMENTO!P33 -> SINAPI | C24: =[1]ORÇAMENTO!Q33 -> 97913 | D24: =[1]ORÇAMENTO!R33 -> TRANSPORTE COM CAMINHÃO BASCULANTE DE 6 M³, EM VIA URBANA EM REVESTIMENTO PRIMÁRIO (UNIDADE: M3XKM). AF_07/2020 | E24: =[1]ORÇAMENTO!S33 -> M3XKM | F24: =[1]ORÇAMENTO!T33 -> 71.97 | H24: =ROUND(G24*1.2423,2) -> 0 | I24: =ROUND(H24*F24,2) -> 0
A25: =[1]ORÇAMENTO!O34 -> 2.1.6. | B25: =[1]ORÇAMENTO!P34 -> SINAPI | C25: =[1]ORÇAMENTO!Q34 -> 95241 | D25: =[1]ORÇAMENTO!R34 -> LASTRO DE CONCRETO MAGRO, APLICADO EM PISOS, LAJES SOBRE SOLO OU RADIERS, ESPESSURA DE 5 CM. AF_01/2024 | E25: =[1]ORÇAMENTO!S34 -> M2 | F25: =[1]ORÇAMENTO!T34 -> 17.3 | H25: =ROUND(G25*1.2423,2) -> 0 | I25: =ROUND(H25*F25,2) -> 0
A26: =[1]ORÇAMENTO!O35 -> 2.1.7. | B26: =[1]ORÇAMENTO!P35 -> SINAPI | C26: =[1]ORÇAMENTO!Q35 -> 96536 | D26: =[1]ORÇAMENTO!R35 -> FABRICAÇÃO, MONTAGEM E DESMONTAGEM DE FÔRMA PARA VIGA BALDRAME, EM MADEIRA SERRADA, E=25 MM, 4 UTILIZAÇÕES. AF_01/2024 | E26: =[1]ORÇAMENTO!S35 -> M2 | F26: =[1]ORÇAMENTO!T35 -> 37.45 | H26: =ROUND(G26*1.2423,2) -> 0 | I26: =ROUND(H26*F26,2) -> 0
A27: =[1]ORÇAMENTO!O36 -> 2.1.8. | B27: =[1]ORÇAMENTO!P36 -> SINAPI | C27: =[1]ORÇAMENTO!Q36 -> 96544 | D27: =[1]ORÇAMENTO!R36 -> ARMAÇÃO DE BLOCO UTILIZANDO AÇO CA-50 DE 6,3 MM - MONTAGEM. AF_01/2024 | E27: =[1]ORÇAMENTO!S36 -> KG | F27: =[1]ORÇAMENTO!T36 -> 133.76 | H27: =ROUND(G27*1.2423,2) -> 0 | I27: =ROUND(H27*F27,2) -> 0
A28: =[1]ORÇAMENTO!O37 -> 2.1.9. | B28: =[1]ORÇAMENTO!P37 -> SINAPI | C28: =[1]ORÇAMENTO!Q37 -> 96545 | D28: =[1]ORÇAMENTO!R37 -> ARMAÇÃO DE BLOCO UTILIZANDO AÇO CA-50 DE 8 MM - MONTAGEM. AF_01/2024 | E28: =[1]ORÇAMENTO!S37 -> KG | F28: =[1]ORÇAMENTO!T37 -> 535.04 | H28: =ROUND(G28*1.2423,2) -> 0 | I28: =ROUND(H28*F28,2) -> 0
A29: =[1]ORÇAMENTO!O38 -> 2.1.10. | B29: =[1]ORÇAMENTO!P38 -> SINAPI | C29: =[1]ORÇAMENTO!Q38 -> 103670 | D29: =[1]ORÇAMENTO!R38 -> LANÇAMENTO COM USO DE BALDES, ADENSAMENTO E ACABAMENTO DE CONCRETO EM ESTRUTURAS. AF_02/2022 | E29: =[1]ORÇAMENTO!S38 -> M3 | F29: =[1]ORÇAMENTO!T38 -> 6.69 | H29: =ROUND(G29*1.2423,2) -> 0 | I29: =ROUND(H29*F29,2) -> 0
A30: =[1]ORÇAMENTO!O39 -> 2.1.11. | B30: =[1]ORÇAMENTO!P39 -> SINAPI | C30: =[1]ORÇAMENTO!Q39 -> 94971 | D30: =[1]ORÇAMENTO!R39 -> CONCRETO FCK = 25MPA, TRAÇO 1:2,3:2,7 (EM MASSA SECA DE CIMENTO/ AREIA MÉDIA/ BRITA 1) - PREPARO MECÂNICO COM BETONEIRA 600 L. AF_05/2021 | E30: =[1]ORÇAMENTO!S39 -> M3 | F30: =[1]ORÇAMENTO!T39 -> 6.69 | H30: =ROUND(G30*1.2423,2) -> 0 | I30: =ROUND(H30*F30,2) -> 0
A31: =[1]ORÇAMENTO!O40 -> 2.1.12. | B31: =[1]ORÇAMENTO!P40 -> SINAPI | C31: =[1]ORÇAMENTO!Q40 -> 103318 | D31: =[1]ORÇAMENTO!R40 -> ALVENARIA DE VEDAÇÃO DE BLOCOS VAZADOS DE CONCRETO DE 14X19X39 CM (ESPESSURA 14 CM) E ARGAMASSA DE ASSENTAMENTO COM PREPARO EM BETONEIRA. AF_12/2021 | E31: =[1]ORÇAMENTO!S40 -> M2 | F31: =[1]ORÇAMENTO!T40 -> 27.68 | H31: =ROUND(G31*1.2423,2) -> 0 | I31: =ROUND(H31*F31,2) -> 0
... A34: =[1]ORÇAMENTO!O43 -> 2.1.15. | B34: =[1]ORÇAMENTO!P43 -> SINAPI | C34: =[1]ORÇAMENTO!Q43 -> 104641 | D34: =[1]ORÇAMENTO!R43 -> PINTURA LÁTEX ACRÍLICA ECONÔMICA, APLICAÇÃO MANUAL EM PAREDES, DUAS DEMÃOS. AF_04/2023 | E34: =[1]ORÇAMENTO!S43 -> M2 | F34: =[1]ORÇAMENTO!T43 -> 55 | H34: =ROUND(G34*1.2423,2) -> 0 | I34: =ROUND(H34*F34,2) -> 0
A35: =[1]ORÇAMENTO!O44 -> 3. | D35: =[1]ORÇAMENTO!R44 -> PISO
A36: =[1]ORÇAMENTO!O45 -> 3.1. | D36: =[1]ORÇAMENTO!R45 -> PISO | H36: Subtotal: | I36: =SUM(I37:I40) -> 0
A37: =[1]ORÇAMENTO!O46 -> 3.1.1. | B37: =[1]ORÇAMENTO!P46 -> SINAPI | C37: =[1]ORÇAMENTO!Q46 -> 94339 | D37: =[1]ORÇAMENTO!R46 -> ATERRO MECANIZADO DE VALA COM RETROESCAVADEIRA (CAPACIDADE DA CAÇAMBA DA RETRO: 0,26 M³/POTÊNCIA: 88 HP), LARGURA ATÉ 1,5 M, PROFUNDIDADE ATÉ 1,5 M, COM AREIA PARA ATERRO. AF_08/2023 | E37: =[1]ORÇAMENTO!S46 -> M3 | F37: =[1]ORÇAMENTO!T46 -> 55.06 | H37: =ROUND(G37*1.2423,2) -> 0 | I37: =ROUND(H37*F37,2) -> 0
A38: =[1]ORÇAMENTO!O47 -> 3.1.2. | B38: =[1]ORÇAMENTO!P47 -> SINAPI | C38: =[1]ORÇAMENTO!Q47 -> 102703 | D38: =[1]ORÇAMENTO!R47 -> DRENO ESPINHA DE PEIXE (SEÇÃO 0,50 X 0,80 M), COM TUBO DE PVC CORRUGADO RÍGIDO PERFURADO, DN 100 MM, ENCHIMENTO COM BRITA, ENVOLVIDO COM MANTA GEOTÊXTIL, INCLUSIVE CONEXÕES. AF_07/2021 | E38: =[1]ORÇAMENTO!S47 -> M | F38: =[1]ORÇAMENTO!T47 -> 171.1 | H38: =ROUND(G38*1.2423,2) -> 0 | I38: =ROUND(H38*F38,2) -> 0
A39: =[1]ORÇAMENTO!O48 -> 3.1.3. | B39: =[1]ORÇAMENTO!P48 -> SINAPI | C39: =[1]ORÇAMENTO!Q48 -> 95241 | D39: =[1]ORÇAMENTO!R48 -> LASTRO DE CONCRETO MAGRO, APLICADO EM PISOS, LAJES SOBRE SOLO OU RADIERS, ESPESSURA DE 5 CM. AF_01/2024 | E39: =[1]ORÇAMENTO!S48 -> M2 | F39: =[1]ORÇAMENTO!T48 -> 275.28 | H39: =ROUND(G39*1.2423,2) -> 0 | I39: =ROUND(H39*F39,2) -> 0
A40: =[1]ORÇAMENTO!O49 -> 3.1.4. | B40: =[1]ORÇAMENTO!P49 -> SINAPI | C40: =[1]ORÇAMENTO!Q49 -> 98504 | D40: =[1]ORÇAMENTO!R49 -> PLANTIO DE GRAMA BATATAIS EM PLACAS. AF_07/2024 | E40: =[1]ORÇAMENTO!S49 -> M2 | F40: =[1]ORÇAMENTO!T49 -> 436.13 | H40: =ROUND(G40*1.2423,2) -> 0 | I40: =ROUND(H40*F40,2) -> 0
A41: =[1]ORÇAMENTO!O50 -> 4. | D41: =[1]ORÇAMENTO!R50 -> ARQUIBANCADA
A42: =[1]ORÇAMENTO!O51 -> 4.1. | D42: =[1]ORÇAMENTO!R51 -> ARQUIBANCADA | H42: Subtotal: | I42: =SUM(I43:I59) -> 0
A43: =[1]ORÇAMENTO!O52 -> 4.1.1. | B43: =[1]ORÇAMENTO!P52 -> SINAPI | C43: =[1]ORÇAMENTO!Q52 -> 96523 | D43: =[1]ORÇAMENTO!R52 -> ESCAVAÇÃO MANUAL PARA BLOCO DE COROAMENTO OU SAPATA (INCLUINDO ESCAVAÇÃO PARA COLOCAÇÃO DE FÔRMAS). AF_01/2024 | E43: =[1]ORÇAMENTO!S52 -> M3 | F43: =[1]ORÇAMENTO!T52 -> 3.3 | H43: =ROUND(G43*1.2423,2) -> 0 | I43: =ROUND(H43*F43,2) -> 0
A44: =[1]ORÇAMENTO!O53 -> 4.1.2. | B44: =[1]ORÇAMENTO!P53 -> SINAPI | C44: =[1]ORÇAMENTO!Q53 -> 96527 | D44: =[1]ORÇAMENTO!R53 -> ESCAVAÇÃO MANUAL PARA VIGA BALDRAME OU SAPATA CORRIDA (INCLUINDO ESCAVAÇÃO PARA COLOCAÇÃO DE FÔRMAS). AF_01/2024 | E44: =[1]ORÇAMENTO!S53 -> M3 | F44: =[1]ORÇAMENTO!T53 -> 3 | H44: =ROUND(G44*1.2423,2) -> 0 | I44: =ROUND(H44*F44,2) -> 0
...

Sheet Cronograma
C1: x
B3: CRONOGRAMA FISICO-FINANCEIRO
B6: =Planilha!D4 -> OBRA: Implantação de Quadra Esportiva de Areia - Raspadão
B8: Descrição | C8: MESES | V8: Valor do Item | W8: %
C9: 1 | D9: 2 | E9: 3 | F9: 4 | G9: 5 | H9: 6 | I9: 7 | J9: 8 | K9: 9 | L9: 10 | M9: 11 | N9: 12 | O9: 13 | P9: 14 | Q9: 15 | R9: 16 | S9: 17 | T9: 18 | U9: 19
B10: 1 - SERVIÇOS PRELIMINARES | V10: 0 | W10: =V10/$V$37 -> #DIV/0! | X10: =SUM(C12:J12)-V10 -> 0
C11: x
C12: =V10 -> 0 | D12: =IF(D11="x", $V10/COUNTIF($C11:$U11,"x"), "") | E12: =IF(E11="x", $V10/COUNTIF($C11:$U11,"x"), "") | F12: =IF(F11="x", $V10/COUNTIF($C11:$U11,"x"), "") | G12: =IF(G11="x", $V10/COUNTIF($C11:$U11,"x"), "") | H12: =IF(H11="x", $V10/COUNTIF($C11:$U11,"x"), "") | I12: =IF(I11="x", $V10/COUNTIF($C11:$U11,"x"), "") | J12: =IF(J11="x", $V10/COUNTIF($C11:$U11,"x"), "") | K12: =IF(K11="x", $V10/COUNTIF($C11:$U11,"x"), "") | ... U12: =IF(U11="x", $V10/COUNTIF($C11:$U11,"x"), "")
B13: 2 - MURETA E ALAMBRADO | W13: =V13/$V$37 -> #DIV/0! | X13: =SUM(C15:J15)-V13 -> 0
C14: x | D14: x | E14: x | F14: x
C15: =V13*[1]CRONO!$T$17 -> 0 | D15: =V13*[1]CRONO!$U$17 -> 0 | E15: =V13*[1]CRONO!$V$17 -> 0 | F15: =V13*[1]CRONO!$W$17 -> 0 | G15: =IF(G14="x", $V13/COUNTIF($C14:$U14,"x"), "") | H15: =IF(H14="x", $V13/COUNTIF($C14:$U14,"x"), "") | I15: =IF(I14="x", $V13/COUNTIF($C14:$U14,"x"), "") | J15: =IF(J14="x", $V13/COUNTIF($C14:$U14,"x"), "") | K15: =IF(K14="x", $V13/COUNTIF($C14:$U14,"x"), "") | L15: =IF(L14="x", $V13/COUNTIF($C14:$U14,"x"), "") | M15: =IF(M14="x", $V13/COUNTIF($C14:$U14,"x"), "") | N15: =IF(N14="x", $V13/COUNTIF($C14:$U14,"x"), "") | ... U15: =IF(U14="x", $V13/COUNTIF($C14:$U14,"x"), "")
B16: 3 - PISO | W16: =V16/$V$37 -> #DIV/0! | X16: =SUM(C18:J18)-V16 -> 0
E17: x | F17: x
C18: =IF(C17="x", $V16/COUNTIF($C17:$U17,"x"), "") | D18: =IF(D17="x", $V16/COUNTIF($C17:$U17,"x"), "") | E18: =V16*[1]CRONO!$V$20 -> 0 | F18: =V16*[1]CRONO!$W$20 -> 0 | G18: =IF(G17="x", $V16/COUNTIF($C17:$U17,"x"), "") | H18: =IF(H17="x", $V16/COUNTIF($C17:$U17,"x"), "") | I18: =IF(I17="x", $V16/COUNTIF($C17:$U17,"x"), "") | J18: =IF(J17="x", $V16/COUNTIF($C17:$U17,"x"), "") | K18: =IF(K17="x", $V16/COUNTIF($C17:$U17,"x"), "") | L18: =IF(L17="x", $V16/COUNTIF($C17:$U17,"x"), "") | M18: =IF(M17="x", $V16/COUNTIF($C17:$U17,"x"), "") | N18: =IF(N17="x", $V16/COUNTIF($C17:$U17,"x"), "") | ... U18: =IF(U17="x", $V16/COUNTIF($C17:$U17,"x"), "")
B19: 4 - ARQUIBANCADA | W19: =V19/$V$37 -> #DIV/0! | X19: =SUM(C21:J21)-V19 -> 0
C20: x | D20: x | E20: x
C21: =V19*[1]CRONO!$T$23 -> 0 | D21: =V19*[1]CRONO!$U$23 -> 0 | E21: =V19*[1]CRONO!$V$23 -> 0 | F21: =IF(F20="x", $V19/COUNTIF($C20:$U20,"x"), "") | G21: =IF(G20="x", $V19/COUNTIF($C20:$U20,"x"), "") | H21: =IF(H20="x", $V19/COUNTIF($C20:$U20,"x"), "") | I21: =IF(I20="x", $V19/COUNTIF($C20:$U20,"x"), "") | J21: =IF(J20="x", $V19/COUNTIF($C20:$U20,"x"), "") | K21: =IF(K20="x", $V19/COUNTIF($C20:$U20,"x"), "") | L21: =IF(L20="x", $V19/COUNTIF($C20:$U20,"x"), "") | M21: =IF(M20="x", $V19/COUNTIF($C20:$U20,"x"), "") | ... U21: =IF(U20="x", $V19/COUNTIF($C20:$U20,"x"), "")
B22: 5 - PASSEIO, GUIAS, SARJETA E MURETA | W22: =V22/$V$37 -> #DIV/0! | X22: =SUM(C24:J24)-V22 -> 0
F23: x | G23: x | H23: x
C24: =IF(C23="x", $V22/COUNTIF($C23:$U23,"x"), "") | D24: =IF(D23="x", $V22/COUNTIF($C23:$U23,"x"), "") | E24: =IF(E23="x", $V22/COUNTIF($C23:$U23,"x"), "") | F24: =V22*[1]CRONO!$W$26 -> 0 | G24: =V22*[1]CRONO!$X$26 -> 0 | H24: =V22*[1]CRONO!$Y$26 -> 0 | I24: =IF(I23="x", $V22/COUNTIF($C23:$U23,"x"), "") | J24: =IF(J23="x", $V22/COUNTIF($C23:$U23,"x"), "") | K24: =IF(K23="x", $V22/COUNTIF($C23:$U23,"x"), "") | L24: =IF(L23="x", $V22/COUNTIF($C23:$U23,"x"), "") | M24: =IF(M23="x", $V22/COUNTIF($C23:$U23,"x"), "") | N24: =IF(N23="x", $V22/COUNTIF($C23:$U23,"x"), "") | O24: =IF(O23="x", $V22/COUNTIF($C23:$U23,"x"), "") | P24: =IF(P23="x", $V22/COUNTIF($C23:$U23,"x"), "") | ... U24: =IF(U23="x", $V22/COUNTIF($C23:$U23,"x"), "")
B25: 6 - BEBEDOURO | W25: =V25/$V$37 -> #DIV/0! | X25: =SUM(C27:J27)-V25 -> 0
C26: x | F26: x | G26: x | H26: x
C27: =V25*[1]CRONO!$T$29 -> 0 | D27: =IF(D26="x", $V25/COUNTIF($C26:$U26,"x"), "") | E27: =IF(E26="x", $V25/COUNTIF($C26:$U26,"x"), "") | F27: =V25*[1]CRONO!$W$29 -> 0 | G27: =V25*[1]CRONO!$X$29 -> 0 | H27: =V25*[1]CRONO!$Y$29 -> 0 | I27: =IF(I26="x", $V25/COUNTIF($C26:$U26,"x"), "") | J27: =IF(J26="x", $V25/COUNTIF($C26:$U26,"x"), "") | K27: =IF(K26="x", $V25/COUNTIF($C26:$U26,"x"), "") | L27: =IF(L26="x", $V25/COUNTIF($C26:$U26,"x"), "") | M27: =IF(M26="x", $V25/COUNTIF($C26:$U26,"x"), "") | N27: =IF(N26="x", $V25/COUNTIF($C26:$U26,"x"), "") | O27: =IF(O26="x", $V25/COUNTIF($C26:$U26,"x"), "") | P27: =IF(P26="x", $V25/COUNTIF($C26:$U26,"x"), "") | ... U27: =IF(U26="x", $V25/COUNTIF($C26:$U26,"x"), "")
B28: 7 - EQUIPAMENTOS DE ACADEMIA E PLAYGROUND | W28: =V28/$V$37 -> #DIV/0! | X28: =SUM(C30:J30)-V28 -> 0
C29: x | E29: x | F29: x | G29: x
C30: =V28*[1]CRONO!$T$32 -> 0 | D30: =IF(D29="x", $V28/COUNTIF($C29:$U29,"x"), "") | E30: =V28*[1]CRONO!$V$32 -> 0 | F30: =V28*[1]CRONO!$W$32 -> 0 | G30: =V28*[1]CRONO!$X$32 -> 0 | H30: =IF(H29="x", $V28/COUNTIF($C29:$U29,"x"), "") | I30: =IF(I29="x", $V28/COUNTIF($C29:$U29,"x"), "") | J30: =IF(J29="x", $V28/COUNTIF($C29:$U29,"x"), "") | K30: =IF(K29="x", $V28/COUNTIF($C29:$U29,"x"), "") | L30: =IF(L29="x", $V28/COUNTIF($C29:$U29,"x"), "") | M30: =IF(M29="x", $V28/COUNTIF($C29:$U29,"x"), "") | N30: =IF(N29="x", $V28/COUNTIF($C29:$U29,"x"), "") | O30: =IF(O29="x", $V28/COUNTIF($C29:$U29,"x"), "") | ... U30: =IF(U29="x", $V28/COUNTIF($C29:$U29,"x"), "")
B31: 8 - INSTALAÇÕES ELÉTRICAS | W31: =V31/$V$37 -> #DIV/0! | X31: =SUM(C33:J33)-V31 -> 0
D32: x | F32: x
C33: =IF(C32="x", $V31/COUNTIF($C32:$U32,"x"), "") | D33: =V31*[1]CRONO!$U$35 -> 0 | E33: =IF(E32="x", $V31/COUNTIF($C32:$U32,"x"), "") | F33: =V31*[1]CRONO!$W$35 -> 0 | G33: =IF(G32="x", $V31/COUNTIF($C32:$U32,"x"), "") | H33: =IF(H32="x", $V31/COUNTIF($C32:$U32,"x"), "") | I33: =IF(I32="x", $V31/COUNTIF($C32:$U32,"x"), "") | J33: =IF(J32="x", $V31/COUNTIF($C32:$U32,"x"), "") | K33: =IF(K32="x", $V31/COUNTIF($C32:$U32,"x"), "") | L33: =IF(L32="x", $V31/COUNTIF($C32:$U32,"x"), "") | M33: =IF(M32="x", $V31/COUNTIF($C32:$U32,"x"), "") | N33: =IF(N32="x", $V31/COUNTIF($C32:$U32,"x"), "") | ... U33: =IF(U32="x", $V31/COUNTIF($C32:$U32,"x"), "")
B34: 9 - SERVIÇOS COMPLEMENTARES | W34: =V34/$V$37 -> #DIV/0! | X34: =SUM(C36:J36)-V34 -> 0
H35: x
C36: =IF(C35="x", $V34/COUNTIF($C35:$U35,"x"), "") | D36: =IF(D35="x", $V34/COUNTIF($C35:$U35,"x"), "") | E36: =IF(E35="x", $V34/COUNTIF($C35:$U35,"x"), "") | F36: =IF(F35="x", $V34/COUNTIF($C35:$U35,"x"), "") | G36: =IF(G35="x", $V34/COUNTIF($C35:$U35,"x"), "") | H36: =IF(H35="x", $V34/COUNTIF($C35:$U35,"x"), "") -> 0 | I36: =IF(I35="x", $V34/COUNTIF($C35:$U35,"x"), "") | J36: =IF(J35="x", $V34/COUNTIF($C35:$U35,"x"), "") | ... U36: =IF(U35="x", $V34/COUNTIF($C35:$U35,"x"), "")
B37: TOTAL GERAL: | C37: =SUM(C10:C36) -> 0 | D37: =SUM(D10:D36) -> 0 | E37: =SUM(E10:E36) -> 0 | F37: =SUM(F10:F36) -> 0 | G37: =SUM(G10:G36) -> 0 | H37: =SUM(H10:H36) -> 0 | I37: =SUM(I10:I36) -> 0 | J37: =SUM(J10:J36) -> 0 | K37: =SUM(K10:K12) -> 0 | L37: =SUM(L10:L12) -> 0 | M37: =SUM(M10:M12) -> 0 | N37: =SUM(N10:N12) -> 0 | O37: =SUM(O10:O12) -> 0 | P37: =SUM(P10:P12) -> 0 | Q37: =SUM(Q10:Q12) -> 0 | R37: =SUM(R10:R12) -> 0 | ... U37: =SUM(U10:U12) -> 0 | V37: =SUM(V10:V36) -> 0 | W37: =SUM(W10:W36) -> #DIV/0!
