Workbook
Name AreaTeste: #REF!
Name AreaTeste2: #REF!
Name CélulaInicioPlanilha: #REF!
Name CélulaResumo: #REF!
Name Excel_BuiltIn_Database: #REF!
Name Excel_BuiltIn_Database_2: #REF!

Sheet Planilha
B1: Referência | C1: Referência | D1: Referência | E1: Item | F1: Descrição | G1: Unid | H1: Quantidade | I1: Custo Unitário (sem BDI) (R$) | J1: Preço Unitário (com BDI) (R$) | K1: Total
B2: edif | C2: =[1]ORÇAMENTO!O17 -> 1.1. | F2: =[1]ORÇAMENTO!R17 -> SERVIÇOS PRELIMINARES | J2: Subtotal:
B3: edif | C3: =[1]ORÇAMENTO!O18 -> 1.1.1. | D3: =[1]ORÇAMENTO!P18 -> SINAPI | E3: 103689 | F3: =[1]ORÇAMENTO!R18 -> FORNECIMENTO E INSTALAÇÃO DE PLACA DE OBRA COM CHAPA GALVANIZADA E ESTRUTURA DE MADEIRA. AF_03/2022_PS | G3: =[1]ORÇAMENTO!S18 -> M2 | H3: =[1]ORÇAMENTO!T18 -> 10 | K3: =ROUND(H3*J3,2) -> 0
B4: edif | C4: =[1]ORÇAMENTO!O19 -> 1.1.2. | D4: =[1]ORÇAMENTO!P19 -> SINAPI | E4: 98459 | F4: =[1]ORÇAMENTO!R19 -> TAPUME COM TELHA METÁLICA. AF_03/2024 | G4: =[1]ORÇAMENTO!S19 -> M2 | H4: =[1]ORÇAMENTO!T19 -> 99
B5: edif | C5: =[1]ORÇAMENTO!O20 -> 1.1.3. | D5: =[1]ORÇAMENTO!P20 -> SINAPI | E5: 101509 | F5: =[1]ORÇAMENTO!R20 -> ENTRADA DE ENERGIA ELÉTRICA, AÉREA, TRIFÁSICA, COM CAIXA DE EMBUTIR, CABO DE 10 MM2 E DISJUNTOR DIN 50A (NÃO INCLUSO O POSTE DE CONCRETO). AF_07/2020 | G5: =[1]ORÇAMENTO!S20 -> UN | H5: =[1]ORÇAMENTO!T20 -> 1
B6: edif | C6: =[1]ORÇAMENTO!O21 -> 1.1.4. | D6: =[1]ORÇAMENTO!P21 -> FNDE | E6: FNDE 03 | F6: =[1]ORÇAMENTO!R21 -> LIGAÇÃO PROVISÓRIA DE ÁGUA E ESGOTO | G6: =[1]ORÇAMENTO!S21 -> UN | H6: =[1]ORÇAMENTO!T21 -> 1
B7: edif | C7: =[1]ORÇAMENTO!O22 -> 1.1.5. | D7: =[1]ORÇAMENTO!P22 -> SINAPI | E7: 99059 | F7: =[1]ORÇAMENTO!R22 -> LOCAÇÃO CONVENCIONAL DE OBRA, UTILIZANDO GABARITO DE TÁBUAS CORRIDAS PONTALETADAS A CADA 2,00M - 2 UTILIZAÇÕES. AF_03/2024 | G7: =[1]ORÇAMENTO!S22 -> M | H7: =[1]ORÇAMENTO!T22 -> 127.78
B8: edif | C8: =[1]ORÇAMENTO!O23 -> 1.1.6. | D8: =[1]ORÇAMENTO!P23 -> FNDE | E8: FNDE 231 | F8: =[1]ORÇAMENTO!R23 -> LOCACAO DE CONTAINER 2,30 X 6,00 M, ALT. 2,50 M, COM 1 SANITARIO, PARA ESCRITORIO, COMPLETO, SEM DIVISORIAS INTERNAS (NAO INCLUI MOBILIZACAO/DESMOBILIZACAO) | G8: =[1]ORÇAMENTO!S23 -> MÊS | H8: =[1]ORÇAMENTO!T23 -> 8
B9: edif | C9: =[1]ORÇAMENTO!O24 -> 1.1.7. | D9: =[1]ORÇAMENTO!P24 -> FNDE | E9: FNDE 230 | F9: =[1]ORÇAMENTO!R24 -> LOCACAO DE CONTAINER 2,30 X 6,00 M, ALT. 2,50 M, PARA ESCRITORIO, SEM DIVISORIAS INTERNAS E SEM SANITARIO (NAO INCLUI MOBILIZACAO/DESMOBILIZACAO) | G9: =[1]ORÇAMENTO!S24 -> MÊS | H9: =[1]ORÇAMENTO!T24 -> 8
B10: edif | C10: =[1]ORÇAMENTO!O25 -> 1.1.8. | D10: =[1]ORÇAMENTO!P25 -> FNDE | E10: FNDE 232 | F10: =[1]ORÇAMENTO!R25 -> LOCACAO DE CONTAINER 2,30 X 6,00 M, ALT. 2,50 M, PARA SANITARIO, COM 4 BACIAS, 8 CHUVEIROS,1 LAVATORIO E 1 MICTORIO (NAO INCLUI MOBILIZACAO/DESMOBILIZACAO) | G10: =[1]ORÇAMENTO!S25 -> MÊS | H10: =[1]ORÇAMENTO!T25 -> 8
B11: edif | C11: =[1]ORÇAMENTO!O26 -> 1.1.9. | D11: =[1]ORÇAMENTO!P26 -> FNDE | E11: FNDE 392 | F11: =[1]ORÇAMENTO!R26 -> ADMINISTRAÇÃO LOCAL TIPO 2 | G11: =[1]ORÇAMENTO!S26 -> UN | H11: =[1]ORÇAMENTO!T26 -> 1
B12: edif | C12: =[1]ORÇAMENTO!O27 -> 1.2. | F12: =[1]ORÇAMENTO!R27 -> EDIFICAÇÃO (MOVIMENTO DE TERRA PARA FUNDAÇÕES) | J12: Subtotal: | K12: =SUM(K13:K17) -> 0
B13: edif | C13: =[1]ORÇAMENTO!O28 -> 1.2.1. | D13: =[1]ORÇAMENTO!P28 -> SINAPI | E13: 98525 | F13: =[1]ORÇAMENTO!R28 -> LIMPEZA MECANIZADA DE CAMADA VEGETAL, VEGETAÇÃO E PEQUENAS ÁRVORES (DIÂMETRO DE TRONCO MENOR QUE 0,20 M), COM TRATOR DE ESTEIRAS. AF_03/2024 | G13: =[1]ORÇAMENTO!S28 -> M2 | H13: =[1]ORÇAMENTO!T28 -> 1575
B14: edif | C14: =[1]ORÇAMENTO!O29 -> 1.2.2. | D14: =[1]ORÇAMENTO!P29 -> SINAPI | E14: 94306 | F14: =[1]ORÇAMENTO!R29 -> ATERRO MECANIZADO DE VALA COM ESCAVADEIRA HIDRÁULICA (CAPACIDADE DA CAÇAMBA: 0,8 M³ / POTÊNCIA: 111 HP), LARGURA ATÉ 2,5 M, PROFUNDIDADE DE 1,5 A 3,0 M, COM SOLO ARGILO-ARENOSO. AF_08/2023 | G14: =[1]ORÇAMENTO!S29 -> M3 | H14: =[1]ORÇAMENTO!T29 -> 158.44
B15: edif | C15: =[1]ORÇAMENTO!O30 -> 1.2.3. | D15: =[1]ORÇAMENTO!P30 -> SINAPI | E15: 96523 | F15: =[1]ORÇAMENTO!R30 -> ESCAVAÇÃO MANUAL PARA BLOCO DE COROAMENTO OU SAPATA (INCLUINDO ESCAVAÇÃO PARA COLOCAÇÃO DE FÔRMAS). AF_01/2024 | G15: =[1]ORÇAMENTO!S30 -> M3 | H15: =[1]ORÇAMENTO!T30 -> 250.58
B16: edif | C16: =[1]ORÇAMENTO!O31 -> 1.2.4. | D16: =[1]ORÇAMENTO!P31 -> SINAPI | E16: 101617 | F16: =[1]ORÇAMENTO!R31 -> PREPARO DE FUNDO DE VALA COM LARGURA MAIOR OU IGUAL A 1,5 M E MENOR QUE 2,5 M (ACERTO DO SOLO NATURAL). AF_08/2020 | G16: =[1]ORÇAMENTO!S31 -> M2 | H16: =[1]ORÇAMENTO!T31 -> 107.09
B17: edif | C17: =[1]ORÇAMENTO!O32 -> 1.2.5. | D17: =[1]ORÇAMENTO!P32 -> SINAPI | E17: 93381 | F17: =[1]ORÇAMENTO!R32 -> REATERRO MECANIZADO DE VALA COM RETROESCAVADEIRA (CAPACIDADE DA CAÇAMBA DA RETRO: 0,26 M³/POTÊNCIA: 88 HP), LARGURA 0,8 A 1,5 M, PROFUNDIDADE 1,5 A 3,0 M, COM SOLO (SEM SUBSTITUIÇÃO) DE 1ª CATEGORIA E COMPACTADOR DE SOLOS DE PERCUSSÃO. AF_08/2023 | G17: =[1]ORÇAMENTO!S32 -> M3 | H17: =[1]ORÇAMENTO!T32 -> 210.86
B18: edif | C18: =[1]ORÇAMENTO!O33 -> 1.3. | F18: =[1]ORÇAMENTO!R33 -> MURETA ABRIGO DE GÁS (MOVIMENTO DE TERRA PARA FUNDAÇÕES) | J18: Subtotal: | K18: =SUM(K19:K21) -> 0
B19: edif | C19: =[1]ORÇAMENTO!O34 -> 1.3.1. | D19: =[1]ORÇAMENTO!P34 -> SINAPI | E19: 96523 | F19: =[1]ORÇAMENTO!R34 -> ESCAVAÇÃO MANUAL PARA BLOCO DE COROAMENTO OU SAPATA (INCLUINDO ESCAVAÇÃO PARA COLOCAÇÃO DE FÔRMAS). AF_01/2024 | G19: =[1]ORÇAMENTO!S34 -> M3 | H19: =[1]ORÇAMENTO!T34 -> 15.68
B20: edif | C20: =[1]ORÇAMENTO!O35 -> 1.3.2. | D20: =[1]ORÇAMENTO!P35 -> SINAPI | E20: 101617 | F20: =[1]ORÇAMENTO!R35 -> PREPARO DE FUNDO DE VALA COM LARGURA MAIOR OU IGUAL A 1,5 M E MENOR QUE 2,5 M (ACERTO DO SOLO NATURAL). AF_08/2020 | G20: =[1]ORÇAMENTO!S35 -> M2 | H20: =[1]ORÇAMENTO!T35 -> 13.37
B21: edif | C21: =[1]ORÇAMENTO!O36 -> 1.3.3. | D21: =[1]ORÇAMENTO!P36 -> SINAPI | E21: 93381 | F21: =[1]ORÇAMENTO!R36 -> REATERRO MECANIZADO DE VALA COM RETROESCAVADEIRA (CAPACIDADE DA CAÇAMBA DA RETRO: 0,26 M³/POTÊNCIA: 88 HP), LARGURA 0,8 A 1,5 M, PROFUNDIDADE 1,5 A 3,0 M, COM SOLO (SEM SUBSTITUIÇÃO) DE 1ª CATEGORIA E COMPACTADOR DE SOLOS DE PERCUSSÃO. AF_08/2023 | G21: =[1]ORÇAMENTO!S36 -> M3 | H21: =[1]ORÇAMENTO!T36 -> 11.42
B22: edif | C22: =[1]ORÇAMENTO!O37 -> 1.4. | F22: =[1]ORÇAMENTO!R37 -> CASTELO D'ÁGUA (MOVIMENTO DE TERRA PARA FUNDAÇÕES) | J22: Subtotal: | K22: =SUM(K23:K25) -> 0
B23: edif | C23: =[1]ORÇAMENTO!O38 -> 1.4.1. | D23: =[1]ORÇAMENTO!P38 -> SINAPI | E23: 96523 | F23: =[1]ORÇAMENTO!R38 -> ESCAVAÇÃO MANUAL PARA BLOCO DE COROAMENTO OU SAPATA (INCLUINDO ESCAVAÇÃO PARA COLOCAÇÃO DE FÔRMAS). AF_01/2024 | G23: =[1]ORÇAMENTO!S38 -> M3 | H23: =[1]ORÇAMENTO!T38 -> 3.65
B24: edif | C24: =[1]ORÇAMENTO!O39 -> 1.4.2. | D24: =[1]ORÇAMENTO!P39 -> SINAPI | E24: 101617 | F24: =[1]ORÇAMENTO!R39 -> PREPARO DE FUNDO DE VALA COM LARGURA MAIOR OU IGUAL A 1,5 M E MENOR QUE 2,5 M (ACERTO DO SOLO NATURAL). AF_08/2020 | G24: =[1]ORÇAMENTO!S39 -> M2 | H24: =[1]ORÇAMENTO!T39 -> 4.84
B25: edif | C25: =[1]ORÇAMENTO!O40 -> 1.4.3. | D25: =[1]ORÇAMENTO!P40 -> SINAPI | E25: 93381 | F25: =[1]ORÇAMENTO!R40 -> REATERRO MECANIZADO DE VALA COM RETROESCAVADEIRA (CAPACIDADE DA CAÇAMBA DA RETRO: 0,26 M³/POTÊNCIA: 88 HP), LARGURA 0,8 A 1,5 M, PROFUNDIDADE 1,5 A 3,0 M, COM SOLO (SEM SUBSTITUIÇÃO) DE 1ª CATEGORIA E COMPACTADOR DE SOLOS DE PERCUSSÃO. AF_08/2023 | G25: =[1]ORÇAMENTO!S40 -> M3 | H25: =[1]ORÇAMENTO!T40 -> 1.23
B26: edif | C26: =[1]ORÇAMENTO!O41 -> 1.5. | F26: =[1]ORÇAMENTO!R41 -> CONCRETO ARMADO PARA SAPATAS (FUNDAÇÕES) | J26: Subtotal: | K26: =SUM(K27:K34) -> 0
B27: edif | C27: =[1]ORÇAMENTO!O42 -> 1.5.1. | D27: =[1]ORÇAMENTO!P42 -> SINAPI | E27: 96619 | F27: =[1]ORÇAMENTO!R42 -> LASTRO DE CONCRETO MAGRO, APLICADO EM BLOCOS DE COROAMENTO OU SAPATAS, ESPESSURA DE 5 CM. AF_01/2024 | G27: =[1]ORÇAMENTO!S42 -> M2 | H27: =[1]ORÇAMENTO!T42 -> 46.65
B28: edif | C28: =[1]ORÇAMENTO!O43 -> 1.5.2. | D28: =[1]ORÇAMENTO!P43 -> SINAPI | E28: 96534 | F28: =[1]ORÇAMENTO!R43 -> FABRICAÇÃO, MONTAGEM E DESMONTAGEM DE FÔRMA PARA BLOCO DE COROAMENTO, EM MADEIRA SERRADA, E=25 MM, 4 UTILIZAÇÕES. AF_01/2024 | G28: =[1]ORÇAMENTO!S43 -> M2 | H28: =[1]ORÇAMENTO!T43 -> 131.71
B29: edif | C29: =[1]ORÇAMENTO!O44 -> 1.5.3. | D29: =[1]ORÇAMENTO!P44 -> SINAPI | E29: 104917 | F29: =[1]ORÇAMENTO!R44 -> ARMAÇÃO DE SAPATA ISOLADA, VIGA BALDRAME E SAPATA CORRIDA UTILIZANDO AÇO CA-50 DE 6,3 MM - MONTAGEM. AF_01/2024 | G29: =[1]ORÇAMENTO!S44 -> KG | H29: =[1]ORÇAMENTO!T44 -> 317.2
B30: edif | C30: =[1]ORÇAMENTO!O45 -> 1.5.4. | D30: =[1]ORÇAMENTO!P45 -> SINAPI | E30: 104918 | F30: =[1]ORÇAMENTO!R45 -> ARMAÇÃO DE SAPATA ISOLADA, VIGA BALDRAME E SAPATA CORRIDA UTILIZANDO AÇO CA-50 DE 8 MM - MONTAGEM. AF_01/2024 | G30: =[1]ORÇAMENTO!S45 -> KG | H30: =[1]ORÇAMENTO!T45 -> 41.25
B31: edif | C31: =[1]ORÇAMENTO!O46 -> 1.5.5. | D31: =[1]ORÇAMENTO!P46 -> SINAPI | E31: 104919 | F31: =[1]ORÇAMENTO!R46 -> ARMAÇÃO DE SAPATA ISOLADA, VIGA BALDRAME E SAPATA CORRIDA UTILIZANDO AÇO CA-50 DE 10 MM - MONTAGEM. AF_01/2024 | G31: =[1]ORÇAMENTO!S46 -> KG | H31: =[1]ORÇAMENTO!T46 -> 366.94
B32: edif | C32: =[1]ORÇAMENTO!O47 -> 1.5.6. | D32: =[1]ORÇAMENTO!P47 -> SINAPI | E32: 104920 | F32: =[1]ORÇAMENTO!R47 -> ARMAÇÃO DE BLOCO, SAPATA ISOLADA, VIGA BALDRAME E SAPATA CORRIDA UTILIZANDO AÇO CA-50 DE 12,5 MM - MONTAGEM. AF_01/2024 | G32: =[1]ORÇAMENTO!S47 -> KG | H32: =[1]ORÇAMENTO!T47 -> 225
B33: edif | C33: =[1]ORÇAMENTO!O48 -> 1.5.7. | D33: =[1]ORÇAMENTO!P48 -> SINAPI | E33: 92915 | F33: =[1]ORÇAMENTO!R48 -> ARMAÇÃO DE ESTRUTURAS DIVERSAS DE CONCRETO ARMADO, EXCETO VIGAS, PILARES, LAJES E FUNDAÇÕES, UTILIZANDO AÇO CA-60 DE 5,0 MM - MONTAGEM. AF_06/2022 | G33: =[1]ORÇAMENTO!S48 -> KG | H33: =[1]ORÇAMENTO!T48 -> 134.38
B34: edif | C34: =[1]ORÇAMENTO!O49 -> 1.5.8. | D34: =[1]ORÇAMENTO!P49 -> SINAPI | E34: 96558 | F34: =[1]ORÇAMENTO!R49 -> CONCRETAGEM DE SAPATA, FCK 30 MPA, COM USO DE BOMBA - LANÇAMENTO, ADENSAMENTO E ACABAMENTO. AF_01/2024 | G34: =[1]ORÇAMENTO!S49 -> M3 | H34: =[1]ORÇAMENTO!T49 -> 15.55
B35: edif | C35: =[1]ORÇAMENTO!O50 -> 1.6. | F35: =[1]ORÇAMENTO!R50 -> CONCRETO ARMADO PARA VIGA BALDRAME (FUNDAÇÕES) | J35: Subtotal: | K35: =SUM(K36:K43) -> 0
B36: edif | C36: =[1]ORÇAMENTO!O51 -> 1.6.1. | D36: =[1]ORÇAMENTO!P51 -> SINAPI | E36: 96619 | F36: =[1]ORÇAMENTO!R51 -> LASTRO DE CONCRETO MAGRO, APLICADO EM BLOCOS DE COROAMENTO OU SAPATAS, ESPESSURA DE 5 CM. AF_01/2024 | G36: =[1]ORÇAMENTO!S51 -> M2 | H36: =[1]ORÇAMENTO!T51 -> 60.44
B37: edif | C37: =[1]ORÇAMENTO!O52 -> 1.6.2. | D37: =[1]ORÇAMENTO!P52 -> SINAPI | E37: 96616 | F37: =[1]ORÇAMENTO!R52 -> LASTRO DE CONCRETO MAGRO, APLICADO EM BLOCOS DE COROAMENTO OU SAPATAS. AF_01/2024 | G37: =[1]ORÇAMENTO!S52 -> M3 | H37: =[1]ORÇAMENTO!T52 -> 3.89
B38: edif | C38: =[1]ORÇAMENTO!O53 -> 1.6.3. | D38: =[1]ORÇAMENTO!P53 -> SINAPI | E38: 96534 | F38: =[1]ORÇAMENTO!R53 -> FABRICAÇÃO, MONTAGEM E DESMONTAGEM DE FÔRMA PARA BLOCO DE COROAMENTO, EM MADEIRA SERRADA, E=25 MM, 4 UTILIZAÇÕES. AF_01/2024 | G38: =[1]ORÇAMENTO!S53 -> M2 | H38: =[1]ORÇAMENTO!T53 -> 349.55
B39: edif | C39: =[1]ORÇAMENTO!O54 -> 1.6.4. | D39: =[1]ORÇAMENTO!P54 -> SINAPI | E39: 104918 | F39: =[1]ORÇAMENTO!R54 -> ARMAÇÃO DE SAPATA ISOLADA, VIGA BALDRAME E SAPATA CORRIDA UTILIZANDO AÇO CA-50 DE 8 MM - MONTAGEM. AF_01/2024 | G39: =[1]ORÇAMENTO!S54 -> KG | H39: =[1]ORÇAMENTO!T54 -> 660.1
B40: edif | C40: =[1]ORÇAMENTO!O55 -> 1.6.5. | D40: =[1]ORÇAMENTO!P55 -> SINAPI | E40: 104919 | F40: =[1]ORÇAMENTO!R55 -> ARMAÇÃO DE SAPATA ISOLADA, VIGA BALDRAME E SAPATA CORRIDA UTILIZANDO AÇO CA-50 DE 10 MM - MONTAGEM. AF_01/2024 | G40: =[1]ORÇAMENTO!S55 -> KG | H40: =[1]ORÇAMENTO!T55 -> 113.6
B41: edif | C41: =[1]ORÇAMENTO!O56 -> 1.6.6. | D41: =[1]ORÇAMENTO!P56 -> SINAPI | E41: 104920 | F41: =[1]ORÇAMENTO!R56 -> ARMAÇÃO DE BLOCO, SAPATA ISOLADA, VIGA BALDRAME E SAPATA CORRIDA UTILIZANDO AÇO CA-50 DE 12,5 MM - MONTAGEM. AF_01/2024 | G41: =[1]ORÇAMENTO!S56 -> KG | H41: =[1]ORÇAMENTO!T56 -> 26.41
B42: edif | C42: =[1]ORÇAMENTO!O57 -> 1.6.7. | D42: =[1]ORÇAMENTO!P57 -> SINAPI | E42: 96543 | F42: =[1]ORÇAMENTO!R57 -> ARMAÇÃO DE BLOCO UTILIZANDO AÇO CA-60 DE 5 MM - MONTAGEM. AF_01/2024 | G42: =[1]ORÇAMENTO!S57 -> KG | H42: =[1]ORÇAMENTO!T57 -> 356.91
B43: edif | C43: =[1]ORÇAMENTO!O58 -> 1.6.8. | D43: =[1]ORÇAMENTO!P58 -> SINAPI | E43: 96557 | F43: =[1]ORÇAMENTO!R58 -> CONCRETAGEM DE BLOCO DE COROAMENTO OU VIGA BALDRAME, FCK 30 MPA, COM USO DE BOMBA - LANÇAMENTO, ADENSAMENTO E ACABAMENTO. AF_01/2024 | G43: =[1]ORÇAMENTO!S58 -> M3 | H43: =[1]ORÇAMENTO!T58 -> 24.18
B44: edif | C44: =[1]ORÇAMENTO!O59 -> 1.7. | F44: =[1]ORÇAMENTO!R59 -> FUNDAÇÃO CASTELO D'ÁGUA (FUNDAÇÕES) | J44: Subtotal: | K44: =SUM(K45:K53) -> 0
B45: edif | C45: =[1]ORÇAMENTO!O60 -> 1.7.1. | D45: =[1]ORÇAMENTO!P60 -> SINAPI | E45: 100896 | F45: =[1]ORÇAMENTO!R60 -> ESTACA ESCAVADA MECANICAMENTE, SEM FLUIDO ESTABILIZANTE, COM 25CM DE DIÂMETRO, CONCRETO LANÇADO POR CAMINHÃO BETONEIRA (EXCLUSIVE MOBILIZAÇÃO E DESMOBILIZAÇÃO). AF_01/2020_PA | G45: =[1]ORÇAMENTO!S60 -> M | H45: =[1]ORÇAMENTO!T60 -> 35
B46: edif | C46: =[1]ORÇAMENTO!O61 -> 1.7.2. | D46: =[1]ORÇAMENTO!P61 -> SINAPI | E46: 95601 | F46: =[1]ORÇAMENTO!R61 -> ARRASAMENTO MECANICO DE ESTACA DE CONCRETO ARMADO, DIAMETROS DE ATÉ 40 CM. AF_05/2021 | G46: =[1]ORÇAMENTO!S61 -> UN | H46: =[1]ORÇAMENTO!T61 -> 5
B47: edif | C47: =[1]ORÇAMENTO!O62 -> 1.7.3. | D47: =[1]ORÇAMENTO!P62 -> SINAPI | E47: 96619 | F47: =[1]ORÇAMENTO!R62 -> LASTRO DE CONCRETO MAGRO, APLICADO EM BLOCOS DE COROAMENTO OU SAPATAS, ESPESSURA DE 5 CM. AF_01/2024 | G47: =[1]ORÇAMENTO!S62 -> M2 | H47: =[1]ORÇAMENTO!T62 -> 4.84
B48: edif | C48: =[1]ORÇAMENTO!O63 -> 1.7.4. | D48: =[1]ORÇAMENTO!P63 -> SINAPI | E48: 96540 | F48: =[1]ORÇAMENTO!R63 -> FABRICAÇÃO, MONTAGEM E DESMONTAGEM DE FÔRMA PARA BLOCO DE COROAMENTO, EM CHAPA DE MADEIRA COMPENSADA RESINADA, E=17 MM, 4 UTILIZAÇÕES. AF_01/2024 | G48: =[1]ORÇAMENTO!S63 -> M2 | H48: =[1]ORÇAMENTO!T63 -> 4.4
B49: edif | C49: =[1]ORÇAMENTO!O64 -> 1.7.5. | D49: =[1]ORÇAMENTO!P64 -> SINAPI | E49: 96546 | F49: =[1]ORÇAMENTO!R64 -> ARMAÇÃO DE BLOCO UTILIZANDO AÇO CA-50 DE 10 MM - MONTAGEM. AF_01/2024 | G49: =[1]ORÇAMENTO!S64 -> KG | H49: =[1]ORÇAMENTO!T64 -> 116.61
B50: edif | C50: =[1]ORÇAMENTO!O65 -> 1.7.6. | D50: =[1]ORÇAMENTO!P65 -> SINAPI | E50: 104920 | F50: =[1]ORÇAMENTO!R65 -> ARMAÇÃO DE BLOCO, SAPATA ISOLADA, VIGA BALDRAME E SAPATA CORRIDA UTILIZANDO AÇO CA-50 DE 12,5 MM - MONTAGEM. AF_01/2024 | G50: =[1]ORÇAMENTO!S65 -> KG | H50: =[1]ORÇAMENTO!T65 -> 83.78
B51: edif | C51: =[1]ORÇAMENTO!O66 -> 1.7.7. | D51: =[1]ORÇAMENTO!P66 -> SINAPI | E51: 104915 | F51: =[1]ORÇAMENTO!R66 -> ARMAÇÃO DE BLOCO E SAPATA UTILIZANDO AÇO CA-50 DE 25 MM - MONTAGEM. AF_01/2024 | G51: =[1]ORÇAMENTO!S66 -> KG | H51: =[1]ORÇAMENTO!T66 -> 13.87
B52: edif | C52: =[1]ORÇAMENTO!O67 -> 1.7.8. | D52: =[1]ORÇAMENTO!P67 -> SINAPI | E52: 96543 | F52: =[1]ORÇAMENTO!R67 -> ARMAÇÃO DE BLOCO UTILIZANDO AÇO CA-60 DE 5 MM - MONTAGEM. AF_01/2024 | G52: =[1]ORÇAMENTO!S67 -> KG | H52: =[1]ORÇAMENTO!T67 -> 13.08
B53: edif | C53: =[1]ORÇAMENTO!O68 -> 1.7.9. | D53: =[1]ORÇAMENTO!P68 -> SINAPI | E53: 96557 | F53: =[1]ORÇAMENTO!R68 -> CONCRETAGEM DE BLOCO DE COROAMENTO OU VIGA BALDRAME, FCK 30 MPA, COM USO DE BOMBA - LANÇAMENTO, ADENSAMENTO E ACABAMENTO. AF_01/2024 | G53: =[1]ORÇAMENTO!S68 -> M3 | H53: =[1]ORÇAMENTO!T68 -> 2.42
B54: edif | C54: =[1]ORÇAMENTO!O69 -> 1.8. | F54: =[1]ORÇAMENTO!R69 -> ABRIGO DE GÁS - BLOCOS (FUNDAÇÕES) | J54: Subtotal: | K54: =SUM(K55:K59) -> 0
B55: edif | C55: =[1]ORÇAMENTO!O70 -> 1.8.1. | D55: =[1]ORÇAMENTO!P70 -> SINAPI | E55: 100896 | F55: =[1]ORÇAMENTO!R70 -> ESTACA ESCAVADA MECANICAMENTE, SEM FLUIDO ESTABILIZANTE, COM 25CM DE DIÂMETRO, CONCRETO LANÇADO POR CAMINHÃO BETONEIRA (EXCLUSIVE MOBILIZAÇÃO E DESMOBILIZAÇÃO). AF_01/2020_PA | G55: =[1]ORÇAMENTO!S70 -> M | H55: =[1]ORÇAMENTO!T70 -> 17.5
B56: edif | C56: =[1]ORÇAMENTO!O71 -> 1.8.2. | D56: =[1]ORÇAMENTO!P71 -> SINAPI | E56: 96619 | F56: =[1]ORÇAMENTO!R71 -> LASTRO DE CONCRETO MAGRO, APLICADO EM BLOCOS DE COROAMENTO OU SAPATAS, ESPESSURA DE 5 CM. AF_01/2024 | G56: =[1]ORÇAMENTO!S71 -> M2 | H56: =[1]ORÇAMENTO!T71 -> 1.25
B57: edif | C57: =[1]ORÇAMENTO!O72 -> 1.8.3. | D57: =[1]ORÇAMENTO!P72 -> SINAPI | E57: 96540 | F57: =[1]ORÇAMENTO!R72 -> FABRICAÇÃO, MONTAGEM E DESMONTAGEM DE FÔRMA PARA BLOCO DE COROAMENTO, EM CHAPA DE MADEIRA COMPENSADA RESINADA, E=17 MM, 4 UTILIZAÇÕES. AF_01/2024 | G57: =[1]ORÇAMENTO!S72 -> M2 | H57: =[1]ORÇAMENTO!T72 -> 5
B58: edif | C58: =[1]ORÇAMENTO!O73 -> 1.8.4. | D58: =[1]ORÇAMENTO!P73 -> SINAPI | E58: 103797 | F58: =[1]ORÇAMENTO!R73 -> ARMAÇÃO DE DESCIDA D'ÁGUA UTILIZANDO AÇO CA-60 DE 5 MM - MONTAGEM. AF_08/2022 | G58: =[1]ORÇAMENTO!S73 -> KG | H58: =[1]ORÇAMENTO!T73 -> 10.19
B59: edif | C59: =[1]ORÇAMENTO!O74 -> 1.8.5. | D59: =[1]ORÇAMENTO!P74 -> SINAPI | E59: 96557 | F59: =[1]ORÇAMENTO!R74 -> CONCRETAGEM DE BLOCO DE COROAMENTO OU VIGA BALDRAME, FCK 30 MPA, COM USO DE BOMBA - LANÇAMENTO, ADENSAMENTO E ACABAMENTO. AF_01/2024 | G59: =[1]ORÇAMENTO!S74 -> M3 | H59: =[1]ORÇAMENTO!T74 -> 0.63
B60: edif | C60: =[1]ORÇAMENTO!O75 -> 1.9. | F60: =[1]ORÇAMENTO!R75 -> MURETA E ABRIGO DE GÁS - VIGAS BALDRAME (FUNDAÇÕES) | J60: Subtotal: | K60: =SUM(K61:K64) -> 0
B61: edif | C61: =[1]ORÇAMENTO!O76 -> 1.9.1. | D61: =[1]ORÇAMENTO!P76 -> SINAPI | E61: 96619 | F61: =[1]ORÇAMENTO!R76 -> LASTRO DE CONCRETO MAGRO, APLICADO EM BLOCOS DE COROAMENTO OU SAPATAS, ESPESSURA DE 5 CM. AF_01/2024 | G61: =[1]ORÇAMENTO!S76 -> M2 | H61: =[1]ORÇAMENTO!T76 -> 13.25
B62: edif | C62: =[1]ORÇAMENTO!O77 -> 1.9.2. | D62: =[1]ORÇAMENTO!P77 -> SINAPI | E62: 96542 | F62: =[1]ORÇAMENTO!R77 -> FABRICAÇÃO, MONTAGEM E DESMONTAGEM DE FÔRMA PARA VIGA BALDRAME, EM CHAPA DE MADEIRA COMPENSADA RESINADA, E=17 MM, 4 UTILIZAÇÕES. AF_01/2024 | G62: =[1]ORÇAMENTO!S77 -> M2 | H62: =[1]ORÇAMENTO!T77 -> 44.97
B63: edif | C63: =[1]ORÇAMENTO!O78 -> 1.9.3. | D63: =[1]ORÇAMENTO!P78 -> SINAPI | E63: 104918 | F63: =[1]ORÇAMENTO!R78 -> ARMAÇÃO DE SAPATA ISOLADA, VIGA BALDRAME E SAPATA CORRIDA UTILIZANDO AÇO CA-50 DE 8 MM - MONTAGEM. AF_01/2024 | G63: =[1]ORÇAMENTO!S78 -> KG | H63: =[1]ORÇAMENTO!T78 -> 84.2
B64: edif | C64: =[1]ORÇAMENTO!O79 -> 1.9.4. | D64: =[1]ORÇAMENTO!P79 -> SINAPI | E64: 96557 | F64: =[1]ORÇAMENTO!R79 -> CONCRETAGEM DE BLOCO DE COROAMENTO OU VIGA BALDRAME, FCK 30 MPA, COM USO DE BOMBA - LANÇAMENTO, ADENSAMENTO E ACABAMENTO. AF_01/2024 | G64: =[1]ORÇAMENTO!S79 -> M3 | H64: =[1]ORÇAMENTO!T79 -> 3.64
B65: edif | C65: =[1]ORÇAMENTO!O80 -> 1.10. | F65: =[1]ORÇAMENTO!R80 -> CONCRETO ARMADO - PILARES (SUPERESTRUTURA) | J65: Subtotal: | K65: =SUM(K66:K70) -> 0
B66: edif | C66: =[1]ORÇAMENTO!O81 -> 1.10.1. | D66: =[1]ORÇAMENTO!P81 -> SINAPI | E66: 92443 | F66: =[1]ORÇAMENTO!R81 -> MONTAGEM E DESMONTAGEM DE FÔRMA DE PILARES RETANGULARES E ESTRUTURAS SIMILARES, PÉ-DIREITO SIMPLES, EM CHAPA DE MADEIRA COMPENSADA PLASTIFICADA, 18 UTILIZAÇÕES. AF_09/2020 | G66: =[1]ORÇAMENTO!S81 -> M2 | H66: =[1]ORÇAMENTO!T81 -> 333.34
B67: edif | C67: =[1]ORÇAMENTO!O82 -> 1.10.2. | D67: =[1]ORÇAMENTO!P82 -> SINAPI | E67: 92762 | F67: =[1]ORÇAMENTO!R82 -> ARMAÇÃO DE PILAR OU VIGA DE ESTRUTURA CONVENCIONAL DE CONCRETO ARMADO UTILIZANDO AÇO CA-50 DE 10,0 MM - MONTAGEM. AF_06/2022 | G67: =[1]ORÇAMENTO!S82 -> KG | H67: =[1]ORÇAMENTO!T82 -> 839.33
B68: edif | C68: =[1]ORÇAMENTO!O83 -> 1.10.3. | D68: =[1]ORÇAMENTO!P83 -> SINAPI | E68: 92763 | F68: =[1]ORÇAMENTO!R83 -> ARMAÇÃO DE PILAR OU VIGA DE ESTRUTURA CONVENCIONAL DE CONCRETO ARMADO UTILIZANDO AÇO CA-50 DE 12,5 MM - MONTAGEM. AF_06/2022 | G68: =[1]ORÇAMENTO!S83 -> KG | H68: =[1]ORÇAMENTO!T83 -> 312.88
B69: edif | C69: =[1]ORÇAMENTO!O84 -> 1.10.4. | D69: =[1]ORÇAMENTO!P84 -> SINAPI | E69: 92759 | F69: =[1]ORÇAMENTO!R84 -> ARMAÇÃO DE PILAR OU VIGA DE ESTRUTURA CONVENCIONAL DE CONCRETO ARMADO UTILIZANDO AÇO CA-60 DE 5,0 MM - MONTAGEM. AF_06/2022 | G69: =[1]ORÇAMENTO!S84 -> KG | H69: =[1]ORÇAMENTO!T84 -> 450.22
B70: edif | C70: =[1]ORÇAMENTO!O85 -> 1.10.5. | D70: =[1]ORÇAMENTO!P85 -> SINAPI | E70: 103672 | F70: =[1]ORÇAMENTO!R85 -> CONCRETAGEM DE PILARES, FCK = 25 MPA, COM USO DE BOMBA - LANÇAMENTO, ADENSAMENTO E ACABAMENTO. AF_02/2022_PS | G70: =[1]ORÇAMENTO!S85 -> M3 | H70: =[1]ORÇAMENTO!T85 -> 18.25
B71: edif | C71: =[1]ORÇAMENTO!O86 -> 1.11. | F71: =[1]ORÇAMENTO!R86 -> CONCRETO ARMADO - VIGAS (SUPERESTRUTURA) | J71: Subtotal: | K71: =SUM(K72:K76) -> 0
B72: edif | C72: =[1]ORÇAMENTO!O87 -> 1.11.1. | D72: =[1]ORÇAMENTO!P87 -> SINAPI | E72: 92443 | F72: =[1]ORÇAMENTO!R87 -> MONTAGEM E DESMONTAGEM DE FÔRMA DE PILARES RETANGULARES E ESTRUTURAS SIMILARES, PÉ-DIREITO SIMPLES, EM CHAPA DE MADEIRA COMPENSADA PLASTIFICADA, 18 UTILIZAÇÕES. AF_09/2020 | G72: =[1]ORÇAMENTO!S87 -> M2 | H72: =[1]ORÇAMENTO!T87 -> 344.1
B73: edif | C73: =[1]ORÇAMENTO!O88 -> 1.11.2. | D73: =[1]ORÇAMENTO!P88 -> SINAPI | E73: 92761 | F73: =[1]ORÇAMENTO!R88 -> ARMAÇÃO DE PILAR OU VIGA DE ESTRUTURA CONVENCIONAL DE CONCRETO ARMADO UTILIZANDO AÇO CA-50 DE 8,0 MM - MONTAGEM. AF_06/2022 | G73: =[1]ORÇAMENTO!S88 -> KG | H73: =[1]ORÇAMENTO!T88 -> 675.91
B74: edif | C74: =[1]ORÇAMENTO!O89 -> 1.11.3. | D74: =[1]ORÇAMENTO!P89 -> SINAPI | E74: 92762 | F74: =[1]ORÇAMENTO!R89 -> ARMAÇÃO DE PILAR OU VIGA DE ESTRUTURA CONVENCIONAL DE CONCRETO ARMADO UTILIZANDO AÇO CA-50 DE 10,0 MM - MONTAGEM. AF_06/2022 | G74: =[1]ORÇAMENTO!S89 -> KG | H74: =[1]ORÇAMENTO!T89 -> 9.64
B75: edif | C75: =[1]ORÇAMENTO!O90 -> 1.11.4. | D75: =[1]ORÇAMENTO!P90 -> SINAPI | E75: 92759 | F75: =[1]ORÇAMENTO!R90 -> ARMAÇÃO DE PILAR OU VIGA DE ESTRUTURA CONVENCIONAL DE CONCRETO ARMADO UTILIZANDO AÇO CA-60 DE 5,0 MM - MONTAGEM. AF_06/2022 | G75: =[1]ORÇAMENTO!S90 -> KG | H75: =[1]ORÇAMENTO!T90 -> 365.31
B76: edif | C76: =[1]ORÇAMENTO!O91 -> 1.11.5. | D76: =[1]ORÇAMENTO!P91 -> SINAPI | E76: 103675 | F76: =[1]ORÇAMENTO!R91 -> CONCRETAGEM DE VIGAS E LAJES, FCK=25 MPA, PARA LAJES MACIÇAS OU NERVURADAS COM USO DE BOMBA - LANÇAMENTO, ADENSAMENTO E ACABAMENTO. AF_02/2022_PS | G76: =[1]ORÇAMENTO!S91 -> M3 | H76: =[1]ORÇAMENTO!T91 -> 24.55
B77: edif | C77: =[1]ORÇAMENTO!O92 -> 1.12. | F77: =[1]ORÇAMENTO!R92 -> CONCRETO ARMADO PARA VERGAS (SUPERESTRUTURA) | J77: Subtotal: | K77: =SUM(K78:K78) -> 0
B78: edif | C78: =[1]ORÇAMENTO!O93 -> 1.12.1. | D78: =[1]ORÇAMENTO!P93 -> SINAPI | E78: 93184 | F78: =[1]ORÇAMENTO!R93 -> VERGA PRÉ-MOLDADA COM ATÉ 1,5 M DE VÃO, ESPESSURA DE *20* CM. AF_03/2024 | G78: =[1]ORÇAMENTO!S93 -> M | H78: =[1]ORÇAMENTO!T93 -> 124.12
B79: edif | C79: =[1]ORÇAMENTO!O94 -> 1.13. | F79: =[1]ORÇAMENTO!R94 -> CONCRETO ARMADO - MURETA - PILARES (SUPERESTRUTURA) | J79: Subtotal: | K79: =SUM(K80:K83) -> 0
B80: edif | C80: =[1]ORÇAMENTO!O95 -> 1.13.1. | D80: =[1]ORÇAMENTO!P95 -> SINAPI | E80: 92443 | F80: =[1]ORÇAMENTO!R95 -> MONTAGEM E DESMONTAGEM DE FÔRMA DE PILARES RETANGULARES E ESTRUTURAS SIMILARES, PÉ-DIREITO SIMPLES, EM CHAPA DE MADEIRA COMPENSADA PLASTIFICADA, 18 UTILIZAÇÕES. AF_09/2020 | G80: =[1]ORÇAMENTO!S95 -> M2 | H80: =[1]ORÇAMENTO!T95 -> 18
B81: edif | C81: =[1]ORÇAMENTO!O96 -> 1.13.2. | D81: =[1]ORÇAMENTO!P96 -> SINAPI | E81: 92761 | F81: =[1]ORÇAMENTO!R96 -> ARMAÇÃO DE PILAR OU VIGA DE ESTRUTURA CONVENCIONAL DE CONCRETO ARMADO UTILIZANDO AÇO CA-50 DE 8,0 MM - MONTAGEM. AF_06/2022 | G81: =[1]ORÇAMENTO!S96 -> KG | H81: =[1]ORÇAMENTO!T96 -> 43.92
B82: edif | C82: =[1]ORÇAMENTO!O97 -> 1.13.3. | D82: =[1]ORÇAMENTO!P97 -> SINAPI | E82: 92759 | F82: =[1]ORÇAMENTO!R97 -> ARMAÇÃO DE PILAR OU VIGA DE ESTRUTURA CONVENCIONAL DE CONCRETO ARMADO UTILIZANDO AÇO CA-60 DE 5,0 MM - MONTAGEM. AF_06/2022 | G82: =[1]ORÇAMENTO!S97 -> KG | H82: =[1]ORÇAMENTO!T97 -> 13.66
B83: edif | C83: =[1]ORÇAMENTO!O98 -> 1.13.4. | D83: =[1]ORÇAMENTO!P98 -> SINAPI | E83: 103672 | F83: =[1]ORÇAMENTO!R98 -> CONCRETAGEM DE PILARES, FCK = 25 MPA, COM USO DE BOMBA - LANÇAMENTO, ADENSAMENTO E ACABAMENTO. AF_02/2022_PS | G83: =[1]ORÇAMENTO!S98 -> M3 | H83: =[1]ORÇAMENTO!T98 -> 0.76
B84: edif | C84: =[1]ORÇAMENTO!O99 -> 1.14. | F84: =[1]ORÇAMENTO!R99 -> CONCRETO ARMADO - CASA DE GÁS - PILARES VIGAS E LAJE (SUPERESTRUTURA) | J84: Subtotal: | K84: =SUM(K85:K90) -> 0
B85: edif | C85: =[1]ORÇAMENTO!O100 -> 1.14.1. | D85: =[1]ORÇAMENTO!P100 -> SINAPI | E85: 92443 | F85: =[1]ORÇAMENTO!R100 -> MONTAGEM E DESMONTAGEM DE FÔRMA DE PILARES RETANGULARES E ESTRUTURAS SIMILARES, PÉ-DIREITO SIMPLES, EM CHAPA DE MADEIRA COMPENSADA PLASTIFICADA, 18 UTILIZAÇÕES. AF_09/2020 | G85: =[1]ORÇAMENTO!S100 -> M2 | H85: =[1]ORÇAMENTO!T100 -> 19.24
B86: edif | C86: =[1]ORÇAMENTO!O101 -> 1.14.2. | D86: =[1]ORÇAMENTO!P101 -> SINAPI | E86: 92760 | F86: =[1]ORÇAMENTO!R101 -> ARMAÇÃO DE PILAR OU VIGA DE ESTRUTURA CONVENCIONAL DE CONCRETO ARMADO UTILIZANDO AÇO CA-50 DE 6,3 MM - MONTAGEM. AF_06/2022 | G86: =[1]ORÇAMENTO!S101 -> KG | H86: =[1]ORÇAMENTO!T101 -> 15.26
B87: edif | C87: =[1]ORÇAMENTO!O102 -> 1.14.3. | D87: =[1]ORÇAMENTO!P102 -> SINAPI | E87: 92761 | F87: =[1]ORÇAMENTO!R102 -> ARMAÇÃO DE PILAR OU VIGA DE ESTRUTURA CONVENCIONAL DE CONCRETO ARMADO UTILIZANDO AÇO CA-50 DE 8,0 MM - MONTAGEM. AF_06/2022 | G87: =[1]ORÇAMENTO!S102 -> KG | H87: =[1]ORÇAMENTO!T102 -> 19.45
B88: edif | C88: =[1]ORÇAMENTO!O103 -> 1.14.4. | D88: =[1]ORÇAMENTO!P103 -> SINAPI | E88: 92762 | F88: =[1]ORÇAMENTO!R103 -> ARMAÇÃO DE PILAR OU VIGA DE ESTRUTURA CONVENCIONAL DE CONCRETO ARMADO UTILIZANDO AÇO CA-50 DE 10,0 MM - MONTAGEM. AF_06/2022 | G88: =[1]ORÇAMENTO!S103 -> KG | H88: =[1]ORÇAMENTO!T103 -> 28.01
B89: edif | C89: =[1]ORÇAMENTO!O104 -> 1.14.5. | D89: =[1]ORÇAMENTO!P104 -> SINAPI | E89: 92759 | F89: =[1]ORÇAMENTO!R104 -> ARMAÇÃO DE PILAR OU VIGA DE ESTRUTURA CONVENCIONAL DE CONCRETO ARMADO UTILIZANDO AÇO CA-60 DE 5,0 MM - MONTAGEM. AF_06/2022 | G89: =[1]ORÇAMENTO!S104 -> KG | H89: =[1]ORÇAMENTO!T104 -> 17.06
B90: edif | C90: =[1]ORÇAMENTO!O105 -> 1.14.6. | D90: =[1]ORÇAMENTO!P105 -> SINAPI | E90: 103675 | F90: =[1]ORÇAMENTO!R105 -> CONCRETAGEM DE VIGAS E LAJES, FCK=25 MPA, PARA LAJES MACIÇAS OU NERVURADAS COM USO DE BOMBA - LANÇAMENTO, ADENSAMENTO E ACABAMENTO. AF_02/2022_PS | G90: =[1]ORÇAMENTO!S105 -> M3 | H90: =[1]ORÇAMENTO!T105 -> 1.23
B91: edif | C91: =[1]ORÇAMENTO!O106 -> 1.15. | F91: =[1]ORÇAMENTO!R106 -> ESTRUTURA METÁLICA (SUPERESTRUTURA) | J91: Subtotal: | K91: =SUM(K92:K92) -> 0
B92: edif | C92: =[1]ORÇAMENTO!O107 -> 1.15.1. | D92: =[1]ORÇAMENTO!P107 -> FNDE | E92: FNDE 607 | F92: ESTRUTURA TRELIÇADA DE COBERTURA, INCLUSOS PERFIS METÁLICOS, CHAPA METÁLICAS, MÃO DE OBRA E TRANSPORTE COM GUINDASTE - FORNECIMENTO E INSTALAÇÃO | G92: =[1]ORÇAMENTO!S107 -> KG | H92: =[1]ORÇAMENTO!T107 -> 9693.31
B93: edif | C93: =[1]ORÇAMENTO!O108 -> 1.16. | F93: =[1]ORÇAMENTO!R108 -> PAVIMENTAÇÃO INTERNA DE PISO DE CONCRETO 7 CM (PISO DE CONCRETO, SUPERESTRUTURA) | J93: Subtotal: | K93: =SUM(K94:K97) -> 0
B94: edif | C94: =[1]ORÇAMENTO!O109 -> 1.16.1. | D94: =[1]ORÇAMENTO!P109 -> SINAPI | E94: 97083 | F94: =[1]ORÇAMENTO!R109 -> COMPACTAÇÃO MECÂNICA DE SOLO PARA EXECUÇÃO DE RADIER, PISO DE CONCRETO OU LAJE SOBRE SOLO, COM COMPACTADOR DE SOLOS A PERCUSSÃO. AF_09/2021 | G94: =[1]ORÇAMENTO!S109 -> M2 | H94: =[1]ORÇAMENTO!T109 -> 783.72
B95: edif | C95: =[1]ORÇAMENTO!O110 -> 1.16.2. | D95: =[1]ORÇAMENTO!P110 -> SINAPI | E95: 96622 | F95: =[1]ORÇAMENTO!R110 -> LASTRO COM MATERIAL GRANULAR, APLICADO EM PISOS OU LAJES SOBRE SOLO, ESPESSURA DE *5 CM*. AF_01/2024 | G95: =[1]ORÇAMENTO!S110 -> M3 | H95: =[1]ORÇAMENTO!T110 -> 39.19
B96: edif | C96: =[1]ORÇAMENTO!O111 -> 1.16.3. | D96: =[1]ORÇAMENTO!P111 -> SINAPI | E96: 97087 | F96: =[1]ORÇAMENTO!R111 -> CAMADA SEPARADORA PARA EXECUÇÃO DE RADIER, PISO DE CONCRETO OU LAJE SOBRE SOLO, EM LONA PLÁSTICA. AF_09/2021 | G96: =[1]ORÇAMENTO!S111 -> M2 | H96: =[1]ORÇAMENTO!T111 -> 783.72
B97: edif | C97: =[1]ORÇAMENTO!O112 -> 1.16.4. | D97: =[1]ORÇAMENTO!P112 -> SINAPI | E97: 94991 | F97: =[1]ORÇAMENTO!R112 -> EXECUÇÃO DE PASSEIO (CALÇADA) OU PISO DE CONCRETO COM CONCRETO MOLDADO IN LOCO, USINADO C20, ACABAMENTO CONVENCIONAL, NÃO ARMADO. AF_08/2022 | G97: =[1]ORÇAMENTO!S112 -> M3 | H97: =[1]ORÇAMENTO!T112 -> 54.86
B98: edif | C98: =[1]ORÇAMENTO!O113 -> 1.17. | F98: =[1]ORÇAMENTO!R113 -> PAVIMENTAÇÃO EXTERNA - CALÇADA DE PISO DE CONCRETO 7 CM (PISO DE CONCRETO, SUPERESTRUTURA) | J98: Subtotal: | K98: =SUM(K99:K102) -> 0
B99: edif | C99: =[1]ORÇAMENTO!O114 -> 1.17.1. | D99: =[1]ORÇAMENTO!P114 -> SINAPI | E99: 97083 | F99: =[1]ORÇAMENTO!R114 -> COMPACTAÇÃO MECÂNICA DE SOLO PARA EXECUÇÃO DE RADIER, PISO DE CONCRETO OU LAJE SOBRE SOLO, COM COMPACTADOR DE SOLOS A PERCUSSÃO. AF_09/2021 | G99: =[1]ORÇAMENTO!S114 -> M2 | H99: =[1]ORÇAMENTO!T114 -> 254.8
B100: edif | C100: =[1]ORÇAMENTO!O115 -> 1.17.2. | D100: =[1]ORÇAMENTO!P115 -> SINAPI | E100: 96622 | F100: =[1]ORÇAMENTO!R115 -> LASTRO COM MATERIAL GRANULAR, APLICADO EM PISOS OU LAJES SOBRE SOLO, ESPESSURA DE *5 CM*. AF_01/2024 | G100: =[1]ORÇAMENTO!S115 -> M3 | H100: =[1]ORÇAMENTO!T115 -> 12.74
...
