Workbook
Name AreaTeste: #REF!
Name AreaTeste2: #REF!
Name CélulaInicioPlanilha: #REF!
Name CélulaResumo: #REF!
Name Excel_BuiltIn_Database: #REF!
Name Excel_BuiltIn_Database_2: #REF!

Sheet Planilha
B1: Referência | C1: Referência | D1: Referência | E1: Item | F1: Descrição | G1: Unid | H1: Quantidade | I1: Custo Unitário (sem BDI) (R$) | J1: Preço Unitário (com BDI) (R$) | K1: Total
B2: edif | C2: =[1]ORÇAMENTO!O17 -> 1.1. | F2: =[1]ORÇAMENTO!R17 -> SERVIÇOS PRELIMINARES | J2: Subtotal:
B3: edif | C3: =[1]ORÇAMENTO!O18 -> 1.1.1. | D3: =[1]ORÇAMENTO!P18 -> SINAPI | E3: 103689 | F3: =[1]ORÇAMENTO!R18 -> FORNECIMENTO E INSTALAÇÃO DE PLACA DE OBRA COM CHAPA GALVANIZADA E ESTRUTURA DE MADEIRA. AF_03/2022_PS | G3: =[1]ORÇAMENTO!S18 -> M2 | H3: =[1]ORÇAMENTO!T18 -> 10 | K3: =ROUND(H3*J3,2) -> 0
B4: edif | C4: =[1]ORÇAMENTO!O19 -> 1.1.2. | D4: =[1]ORÇAMENTO!P19 -> SINAPI | E4: 98459 | F4: =[1]ORÇAMENTO!R19 -> TAPUME COM TELHA METÁLICA. AF_03/2024 | G4: =[1]ORÇAMENTO!S19 -> M2 | H4: =[1]ORÇAMENTO!T19 -> 99
B5: edif | C5: =[1]ORÇAMENTO!O20 -> 1.1.3. | D5: =[1]ORÇAMENTO!P20 -> SINAPI | E5: 101509 | F5: =[1]ORÇAMENTO!R20 -> ENTRADA DE ENERGIA ELÉTRICA, AÉREA, TRIFÁSICA, COM CAIXA DE EMBUTIR, CABO DE 10 MM2 E DISJUNTOR DIN 50A (NÃO INCLUSO O POSTE DE CONCRETO). AF_07/2020 | G5: =[1]ORÇAMENTO!S20 -> UN | H5: =[1]ORÇAMENTO!T20 -> 1
B6: edif | C6: =[1]ORÇAMENTO!O21 -> 1.1.4. | D6: =[1]ORÇAMENTO!P21 -> FNDE | E6: FNDE 03 | F6: =[1]ORÇAMENTO!R21 -> LIGAÇÃO PROVISÓRIA DE ÁGUA E ESGOTO | G6: =[1]ORÇAMENTO!S21 -> UN | H6: =[1]ORÇAMENTO!T21 -> 1
B7: edif | C7: =[1]ORÇAMENTO!O22 -> 1.1.5. | D7: =[1]ORÇAMENTO!P22 -> SINAPI | E7: 99059 | F7: =[1]ORÇAMENTO!R22 -> LOCAÇÃO CONVENCIONAL DE OBRA, UTILIZANDO GABARITO DE TÁBUAS CORRIDAS PONTALETADAS A CADA 2,00M - 2 UTILIZAÇÕES. AF_03/2024 | G7: =[1]ORÇAMENTO!S22 -> M | H7: =[1]ORÇAMENTO!T22 -> 127.78
B8: edif | C8: =[1]ORÇAMENTO!O23 -> 1.1.6. | D8: =[1]ORÇAMENTO!P23 -> FNDE | E8: FNDE 231 | F8: =[1]ORÇAMENTO!R23 -> LOCACAO DE CONTAINER 2,30 X 6,00 M, ALT. 2,50 M, COM 1 SANITARIO, PARA ESCRITORIO, COMPLETO, SEM DIVISORIAS INTERNAS (NAO INCLUI MOBILIZACAO/DESMOBILIZACAO) | G8: =[1]ORÇAMENTO!S23 -> MÊS | H8: =[1]ORÇAMENTO!T23 -> 8
B9: edif | C9: =[1]ORÇAMENTO!O24 -> 1.1.7. | D9: =[1]ORÇAMENTO!P24 -> FNDE | E9: FNDE 230 | F9: =[1]ORÇAMENTO!R24 -> LOCACAO DE CONTAINER 2,30 X 6,00 M, ALT. 2,50 M, PARA ESCRITORIO, SEM DIVISORIAS INTERNAS E SEM SANITARIO (NAO INCLUI MOBILIZACAO/DESMOBILIZACAO) | G9: =[1]ORÇAMENTO!S24 -> MÊS | H9: =[1]ORÇAMENTO!T24 -> 8
B10: edif | C10: =[1]ORÇAMENTO!O25 -> 1.1.8. | D10: =[1]ORÇAMENTO!P25 -> FNDE | E10: FNDE 232 | F10: =[1]ORÇAMENTO!R25 -> LOCACAO DE CONTAINER 2,30 X 6,00 M, ALT. 2,50 M, PARA SANITARIO, COM 4 BACIAS, 8 CHUVEIROS,1 LAVATORIO E 1 MICTORIO (NAO INCLUI MOBILIZACAO/DESMOBILIZACAO) | G10: =[1]ORÇAMENTO!S25 -> MÊS | H10: =[1]ORÇAMENTO!T25 -> 8
B11: edif | C11: =[1]ORÇAMENTO!O26 -> 1.1.9. | D11: =[1]ORÇAMENTO!P26 -> FNDE | E11: FNDE 392 | F11: =[1]ORÇAMENTO!R26 -> ADMINISTRAÇÃO LOCAL TIPO 2 | G11: =[1]ORÇAMENTO!S26 -> UN | H11: =[1]ORÇAMENTO!T26 -> 1
B12: edif | C12: =[1]ORÇAMENTO!O27 -> 1.2. | F12: =[1]ORÇAMENTO!R27 -> EDIFICAÇÃO (MOVIMENTO DE TERRA PARA FUNDAÇÕES) | J12: Subtotal: | K12: =SUM(K13:K17) -> 0
B13: edif | C13: =[1]ORÇAMENTO!O28 -> 1.2.1. | D13: =[1]ORÇAMENTO!P28 -> SINAPI | E13: 98525 | F13: =[1]ORÇAMENTO!R28 -> LIMPEZA MECANIZADA DE CAMADA VEGETAL, VEGETAÇÃO E PEQUENAS ÁRVORES (DIÂMETRO DE TRONCO MENOR QUE 0,20 M), COM TRATOR DE ESTEIRAS. AF_03/2024 | G13: =[1]ORÇAMENTO!S28 -> M2 | H13: =[1]ORÇAMENTO!T28 -> 1575
B14: edif | C14: =[1]ORÇAMENTO!O29 -> 1.2.2. | D14: =[1]ORÇAMENTO!P29 -> SINAPI | E14: 94306 | F14: =[1]ORÇAMENTO!R29 -> ATERRO MECANIZADO DE VALA COM ESCAVADEIRA HIDRÁULICA (CAPACIDADE DA CAÇAMBA: 0,8 M³ / POTÊNCIA: 111 HP), LARGURA ATÉ 2,5 M, PROFUNDIDADE DE 1,5 A 3,0 M, COM SOLO ARGILO-ARENOSO. AF_08/2023 | G14: =[1]ORÇAMENTO!S29 -> M3 | H14: =[1]ORÇAMENTO!T29 -> 158.44
B15: edif | C15: =[1]ORÇAMENTO!O30 -> 1.2.3. | D15: =[1]ORÇAMENTO!P30 -> SINAPI | E15: 96523 | F15: =[1]ORÇAMENTO!R30 -> ESCAVAÇÃO MANUAL PARA BLOCO DE COROAMENTO OU SAPATA (INCLUINDO ESCAVAÇÃO PARA COLOCAÇÃO DE FÔRMAS). AF_01/2024 | G15: =[1]ORÇAMENTO!S30 -> M3 | H15: =[1]ORÇAMENTO!T30 -> 250.58
B16: edif | C16: =[1]ORÇAMENTO!O31 -> 1.2.4. | D16: =[1]ORÇAMENTO!P31 -> SINAPI | E16: 101617 | F16: =[1]ORÇAMENTO!R31 -> PREPARO DE FUNDO DE VALA COM LARGURA MAIOR OU IGUAL A 1,5 M E MENOR QUE 2,5 M (ACERTO DO SOLO NATURAL). AF_08/2020 | G16: =[1]ORÇAMENTO!S31 -> M2 | H16: =[1]ORÇAMENTO!T31 -> 107.09
B17: edif | C17: =[1]ORÇAMENTO!O32 -> 1.2.5. | D17: =[1]ORÇAMENTO!P32 -> SINAPI | E17: 93381 | F17: =[1]ORÇAMENTO!R32 -> REATERRO MECANIZADO DE VALA COM RETROESCAVADEIRA (CAPACIDADE DA CAÇAMBA DA RETRO: 0,26 M³/POTÊNCIA: 88 HP), LARGURA 0,8 A 1,5 M, PROFUNDIDADE 1,5 A 3,0 M, COM SOLO (SEM SUBSTITUIÇÃO) DE 1ª CATEGORIA E COMPACTADOR DE SOLOS DE PERCUSSÃO. AF_08/2023 | G17: =[1]ORÇAMENTO!S32 -> M3 | H17: =[1]ORÇAMENTO!T32 -> 210.86
B18: edif | C18: =[1]ORÇAMENTO!O33 -> 1.3. | F18: =[1]ORÇAMENTO!R33 -> MURETA ABRIGO DE GÁS (MOVIMENTO DE TERRA PARA FUNDAÇÕES) | J18: Subtotal: | K18: =SUM(K19:K21) -> 0
B19: edif | C19: =[1]ORÇAMENTO!O34 -> 1.3.1. | D19: =[1]ORÇAMENTO!P34 -> SINAPI | E19: 96523 | F19: =[1]ORÇAMENTO!R34 -> ESCAVAÇÃO MANUAL PARA BLOCO DE COROAMENTO OU SAPATA (INCLUINDO ESCAVAÇÃO PARA COLOCAÇÃO DE FÔRMAS). AF_01/2024 | G19: =[1]ORÇAMENTO!S34 -> M3 | H19: =[1]ORÇAMENTO!T34 -> 15.68
B20: edif | C20: =[1]ORÇAMENTO!O35 -> 1.3.2. | D20: =[1]ORÇAMENTO!P35 -> SINAPI | E20: 101617 | F20: =[1]ORÇAMENTO!R35 -> PREPARO DE FUNDO DE VALA COM LARGURA MAIOR OU IGUAL A 1,5 M E MENOR QUE 2,5 M (ACERTO DO SOLO NATURAL). AF_08/2020 | G20: =[1]ORÇAMENTO!S35 -> M2 | H20: =[1]ORÇAMENTO!T35 -> 13.37
B21: edif | C21: =[1]ORÇAMENTO!O36 -> 1.3.3. | D21: =[1]ORÇAMENTO!P36 -> SINAPI | E21: 93381 | F21: =[1]ORÇAMENTO!R36 -> REATERRO MECANIZADO DE VALA COM RETROESCAVADEIRA (CAPACIDADE DA CAÇAMBA DA RETRO: 0,26 M³/POTÊNCIA: 88 HP), LARGURA 0,8 A 1,5 M, PROFUNDIDADE 1,5 A 3,0 M, COM SOLO (SEM SUBSTITUIÇÃO) DE 1ª CATEGORIA E COMPACTADOR DE SOLOS DE PERCUSSÃO. AF_08/2023 | G21: =[1]ORÇAMENTO!S36 -> M3 | H21: =[1]ORÇAMENTO!T36 -> 11.42
B22: edif | C22: =[1]ORÇAMENTO!O37 -> 1.4. | F22: =[1]ORÇAMENTO!R37 -> CASTELO D'ÁGUA (MOVIMENTO DE TERRA PARA FUNDAÇÕES) | J22: Subtotal: | K22: =SUM(K23:K25) -> 0
B23: edif | C23: =[1]ORÇAMENTO!O38 -> 1.4.1. | D23: =[1]ORÇAMENTO!P38 -> SINAPI | E23: 96523 | F23: =[1]ORÇAMENTO!R38 -> ESCAVAÇÃO MANUAL PARA BLOCO DE COROAMENTO OU SAPATA (INCLUINDO ESCAVAÇÃO PARA COLOCAÇÃO DE FÔRMAS). AF_01/2024 | G23: =[1]ORÇAMENTO!S38 -> M3 | H23: =[1]ORÇAMENTO!T38 -> 3.65
B24: edif | C24: =[1]ORÇAMENTO!O39 -> 1.4.2. | D24: =[1]ORÇAMENTO!P39 -> SINAPI | E24: 101617 | F24: =[1]ORÇAMENTO!R39 -> PREPARO DE FUNDO DE VALA COM LARGURA MAIOR OU IGUAL A 1,5 M E MENOR QUE 2,5 M (ACERTO DO SOLO NATURAL). AF_08/2020 | G24: =[1]ORÇAMENTO!S39 -> M2 | H24: =[1]ORÇAMENTO!T39 -> 4.84
B25: edif | C25: =[1]ORÇAMENTO!O40 -> 1.4.3. | D25: =[1]ORÇAMENTO!P40 -> SINAPI | E25: 93381 | F25: =[1]ORÇAMENTO!R40 -> REATERRO MECANIZADO DE VALA COM RETROESCAVADEIRA (CAPACIDADE DA CAÇAMBA DA RETRO: 0,26 M³/POTÊNCIA: 88 HP), LARGURA 0,8 A 1,5 M, PROFUNDIDADE 1,5 A 3,0 M, COM SOLO (SEM SUBSTITUIÇÃO) DE 1ª CATEGORIA E COMPACTADOR DE SOLOS DE PERCUSSÃO. AF_08/2023 | G25: =[1]ORÇAMENTO!S40 -> M3 | H25: =[1]ORÇAMENTO!T40 -> 1.23
B26: edif | C26: =[1]ORÇAMENTO!O41 -> 1.5. | F26: =[1]ORÇAMENTO!R41 -> CONCRETO ARMADO PARA SAPATAS (FUNDAÇÕES) | J26: Subtotal: | K26: =SUM(K27:K34) -> 0
B27: edif | C27: =[1]ORÇAMENTO!O42 -> 1.5.1. | D27: =[1]ORÇAMENTO!P42 -> SINAPI | E27: 96619 | F27: =[1]ORÇAMENTO!R42 -> LASTRO DE CONCRETO MAGRO, APLICADO EM BLOCOS DE COROAMENTO OU SAPATAS, ESPESSURA DE 5 CM. AF_01/2024 | G27: =[1]ORÇAMENTO!S42 -> M2 | H27: =[1]ORÇAMENTO!T42 -> 46.65
B28: edif | C28: =[1]ORÇAMENTO!O43 -> 1.5.2. | D28: =[1]ORÇAMENTO!P43 -> SINAPI | E28: 96534 | F28: =[1]ORÇAMENTO!R43 -> FABRICAÇÃO, MONTAGEM E DESMONTAGEM DE FÔRMA PARA BLOCO DE COROAMENTO, EM MADEIRA SERRADA, E=25 MM, 4 UTILIZAÇÕES. AF_01/2024 | G28: =[1]ORÇAMENTO!S43 -> M2 | H28: =[1]ORÇAMENTO!T43 -> 131.71
B29: edif | C29: =[1]ORÇAMENTO!O44 -> 1.5.3. | D29: =[1]ORÇAMENTO!P44 -> SINAPI | E29: 104917 | F29: =[1]ORÇAMENTO!R44 -> ARMAÇÃO DE SAPATA ISOLADA, VIGA BALDRAME E SAPATA CORRIDA UTILIZANDO AÇO CA-50 DE 6,3 MM - MONTAGEM. AF_01/2024 | G29: =[1]ORÇAMENTO!S44 -> KG | H29: =[1]ORÇAMENTO!T44 -> 317.2
B30: edif | C30: =[1]ORÇAMENTO!O45 -> 1.5.4. | D30: =[1]ORÇAMENTO!P45 -> SINAPI | E30: 104918 | F30: =[1]ORÇAMENTO!R45 -> ARMAÇÃO DE SAPATA ISOLADA, VIGA BALDRAME E SAPATA CORRIDA UTILIZANDO AÇO CA-50 DE 8 MM - MONTAGEM. AF_01/2024 | G30: =[1]ORÇAMENTO!S45 -> KG | H30: =[1]ORÇAMENTO!T45 -> 41.25
B31: edif | C31: =[1]ORÇAMENTO!O46 -> 1.5.5. | D31: =[1]ORÇAMENTO!P46 -> SINAPI | E31: 104919 | F31: =[1]ORÇAMENTO!R46 -> ARMAÇÃO DE SAPATA ISOLADA, VIGA BALDRAME E SAPATA CORRIDA UTILIZANDO AÇO CA-50 DE 10 MM - MONTAGEM. AF_01/2024 | G31: =[1]ORÇAMENTO!S46 -> KG | H31: =[1]ORÇAMENTO!T46 -> 366.94
B32: edif | C32: =[1]ORÇAMENTO!O47 -> 1.5.6. | D32: =[1]ORÇAMENTO!P47 -> SINAPI | E32: 104920 | F32: =[1]ORÇAMENTO!R47 -> ARMAÇÃO DE BLOCO, SAPATA ISOLADA, VIGA BALDRAME E SAPATA CORRIDA UTILIZANDO AÇO CA-50 DE 12,5 MM - MONTAGEM. AF_01/2024 | G32: =[1]ORÇAMENTO!S47 -> KG | H32: =[1]ORÇAMENTO!T47 -> 225
B33: edif | C33: =[1]ORÇAMENTO!O48 -> 1.5.7. | D33: =[1]ORÇAMENTO!P48 -> SINAPI | E33: 92915 | F33: =[1]ORÇAMENTO!R48 -> ARMAÇÃO DE ESTRUTURAS DIVERSAS DE CONCRETO ARMADO, EXCETO VIGAS, PILARES, LAJES E FUNDAÇÕES, UTILIZANDO AÇO CA-60 DE 5,0 MM - MONTAGEM. AF_06/2022 | G33: =[1]ORÇAMENTO!S48 -> KG | H33: =[1]ORÇAMENTO!T48 -> 134.38
B34: edif | C34: =[1]ORÇAMENTO!O49 -> 1.5.8. | D34: =[1]ORÇAMENTO!P49 -> SINAPI | E34: 96558 | F34: =[1]ORÇAMENTO!R49 -> CONCRETAGEM DE SAPATA, FCK 30 MPA, COM USO DE BOMBA - LANÇAMENTO, ADENSAMENTO E ACABAMENTO. AF_01/2024 | G34: =[1]ORÇAMENTO!S49 -> M3 | H34: =[1]ORÇAMENTO!T49 -> 15.55
B35: edif | C35: =[1]ORÇAMENTO!O50 -> 1.6. | F35: =[1]ORÇAMENTO!R50 -> CONCRETO ARMADO PARA VIGA BALDRAME (FUNDAÇÕES) | J35: Subtotal: | K35: =SUM(K36:K43) -> 0
B36: edif | C36: =[1]ORÇAMENTO!O51 -> 1.6.1. | D36: =[1]ORÇAMENTO!P51 -> SINAPI | E36: 96619 | F36: =[1]ORÇAMENTO!R51 -> LASTRO DE CONCRETO MAGRO, APLICADO EM BLOCOS DE COROAMENTO OU SAPATAS, ESPESSURA DE 5 CM. AF_01/2024 | G36: =[1]ORÇAMENTO!S51 -> M2 | H36: =[1]ORÇAMENTO!T51 -> 60.44
B37: edif | C37: =[1]ORÇAMENTO!O52 -> 1.6.2. | D37: =[1]ORÇAMENTO!P52 -> SINAPI | E37: 96616 | F37: =[1]ORÇAMENTO!R52 -> LASTRO DE CONCRETO MAGRO, APLICADO EM BLOCOS DE COROAMENTO OU SAPATAS. AF_01/2024 | G37: =[1]ORÇAMENTO!S52 -> M3 | H37: =[1]ORÇAMENTO!T52 -> 3.89
B38: edif | C38: =[1]ORÇAMENTO!O53 -> 1.6.3. | D38: =[1]ORÇAMENTO!P53 -> SINAPI | E38: 96534 | F38: =[1]ORÇAMENTO!R53 -> FABRICAÇÃO, MONTAGEM E DESMONTAGEM DE FÔRMA PARA BLOCO DE COROAMENTO, EM MADEIRA SERRADA, E=25 MM, 4 UTILIZAÇÕES. AF_01/2024 | G38: =[1]ORÇAMENTO!S53 -> M2 | H38: =[1]ORÇAMENTO!T53 -> 349.55
B39: edif | C39: =[1]ORÇAMENTO!O54 -> 1.6.4. | D39: =[1]ORÇAMENTO!P54 -> SINAPI | E39: 104918 | F39: =[1]ORÇAMENTO!R54 -> ARMAÇÃO DE SAPATA ISOLADA, VIGA BALDRAME E SAPATA CORRIDA UTILIZANDO AÇO CA-50 DE 8 MM - MONTAGEM. AF_01/2024 | G39: =[1]ORÇAMENTO!S54 -> KG | H39: =[1]ORÇAMENTO!T54 -> 660.1
B40: edif | C40: =[1]ORÇAMENTO!O55 -> 1.6.5. | D40: =[1]ORÇAMENTO!P55 -> SINAPI | E40: 104919 | F40: =[1]ORÇAMENTO!R55 -> ARMAÇÃO DE SAPATA ISOLADA, VIGA BALDRAME E SAPATA CORRIDA UTILIZANDO AÇO CA-50 DE 10 MM - MONTAGEM. AF_01/2024 | G40: =[1]ORÇAMENTO!S55 -> KG | H40: =[1]ORÇAMENTO!T55 -> 113.6
...
