Workbook
Name AreaTeste: #REF!
Name AreaTeste2: #REF!
Name CélulaInicioPlanilha: #REF!
Name CélulaResumo: #REF!
Name Excel_BuiltIn_Database: #REF!
Name Excel_BuiltIn_Database_2: #REF!

Sheet Planilha
A1: Item | B1: Fonte | C1: Código | D1: Descrição | E1: Unid | F1: Quantidade | G1: Preço Unit sem BDI | H1: Preço Unit com BDI | I1: Total
A2: PAVIMENTAÇÃO E RECAPEAMENTO DE VIAS NO PERÍMETRO URBANO DO MUNICIPIO DE FERRAZ DE VASCONCELOS – SP.
A3: 1. | D3: RUA ANNA LEAL FUGAGNOLLI | H3: Total Rua: | I3: =I4+I6+I10+I13+I27+I33+I44 -> 381642.19
A4: 1.1. | D4: SERVIÇOS PRELIMINARES - RUA ANNA LEAL FUGAGNOLLI | H4: Subtotal: | I4: =SUM(I5) -> 2208.23
A5: 1.1.1. | B5: SINAPI | C5: 103689 | D5: FORNECIMENTO E INSTALAÇÃO DE PLACA DE OBRA COM CHAPA GALVANIZADA E ESTRUTURA DE MADEIRA. AF_03/2022_PS | E5: M2 | F5: 3.75 | G5: =VLOOKUP(C5,[3]ORÇAMENTO!$Q$18:$U$497,5,0) -> 474.01 | H5: =ROUND(G5*1.2423,2) -> 588.86 | I5: =ROUND(F5*H5,2) -> 2208.23
A6: 1.2. | D6: DEMOLIÇÃO DE GUIAS, SARJETAS E SARJETÕES - RUA ANNA LEAL FUGAGNOLLI | H6: Subtotal: | I6: =SUM(I7:I9) -> 17284.07
A7: 1.2.1. | B7: SINAPI | C7: 104796 | D7: DEMOLIÇÃO DE GUIAS, SARJETAS OU SARJETÕES, DE FORMA MECANIZADA, SEM REAPROVEITAMENTO. AF_09/2023 | E7: M | F7: 700.22 | G7: =VLOOKUP(C7,[3]ORÇAMENTO!$Q$18:$U$497,5,0) -> 17.55 | H7: =ROUND(G7*1.2423,2) -> 21.8 | I7: =ROUND(F7*H7,2) -> 15264.8
A8: 1.2.2. | B8: SINAPI | C8: 100983 | D8: CARGA, MANOBRA E DESCARGA DE ENTULHO EM CAMINHÃO BASCULANTE 14 M³ - CARGA COM ESCAVADEIRA HIDRÁULICA (CAÇAMBA DE 0,80 M³ / 111 HP) E DESCARGA LIVRE (UNIDADE: M3). AF_07/2020 | E8: M3 | F8: 37.81 | G8: =VLOOKUP(C8,[3]ORÇAMENTO!$Q$18:$U$497,5,0) -> 9.66 | H8: =ROUND(G8*1.2423,2) -> 12 | I8: =ROUND(F8*H8,2) -> 453.72
A9: 1.2.3. | B9: SINAPI | C9: 93592 | D9: TRANSPORTE COM CAMINHÃO BASCULANTE DE 14 M³, EM VIA URBANA EM REVESTIMENTO PRIMÁRIO (UNIDADE: M3XKM). AF_07/2020 | E9: M3XKM | F9: 506.65 | G9: =VLOOKUP(C9,[3]ORÇAMENTO!$Q$18:$U$497,5,0) -> 2.49 | H9: =ROUND(G9*1.2423,2) -> 3.09 | I9: =ROUND(F9*H9,2) -> 1565.55
A10: 1.3. | D10: RECONSTRUÇÃO / CONSTRUÇÃO DE GUIAS, SARJETAS E SARJETÕES - RUA ANNA LEAL FUGAGNOLLI | H10: Subtotal: | I10: =SUM(I11:I12) -> 39233.33
A11: 1.3.1. | B11: SINAPI | C11: 94273 | D11: ASSENTAMENTO DE GUIA (MEIO-FIO) EM TRECHO RETO, CONFECCIONADA EM CONCRETO PRÉ-FABRICADO, DIMENSÕES 100X15X13X30 CM (COMPRIMENTO X BASE INFERIOR X BASE SUPERIOR X ALTURA). AF_01/2024 | E11: M | F11: 350.11 | G11: =VLOOKUP(C11,[3]ORÇAMENTO!$Q$18:$U$497,5,0) -> 46.17 | H11: =ROUND(G11*1.2423,2) -> 57.36 | I11: =ROUND(F11*H11,2) -> 20082.31
A12: 1.3.2. | B12: SINAPI | C12: 94281 | D12: EXECUÇÃO DE SARJETA DE CONCRETO USINADO, MOLDADA IN LOCO EM TRECHO RETO, 30 CM BASE X 15 CM ALTURA. AF_01/2024 | E12: M | F12: 350.11 | G12: =VLOOKUP(C12,[3]ORÇAMENTO!$Q$18:$U$497,5,0) -> 44.03 | H12: =ROUND(G12*1.2423,2) -> 54.7 | I12: =ROUND(F12*H12,2) -> 19151.02
A13: 1.4. | D13: DRENAGEM - RUA ANNA LEAL FUGAGNOLLI | H13: Subtotal: | I13: =SUM(I14:I26) -> 49922.78
A14: 1.4.1. | B14: SINAPI | C14: 92210 | D14: TUBO DE CONCRETO PARA REDES COLETORAS DE ÁGUAS PLUVIAIS, DIÂMETRO DE 400 MM, JUNTA RÍGIDA, INSTALADO EM LOCAL COM BAIXO NÍVEL DE INTERFERÊNCIAS - FORNECIMENTO E ASSENTAMENTO. AF_03/2024 | E14: M | F14: 15.58 | G14: =VLOOKUP(C14,[3]ORÇAMENTO!$Q$18:$U$497,5,0) -> 204.12 | H14: =ROUND(G14*1.2423,2) -> 253.58 | I14: =ROUND(F14*H14,2) -> 3950.78
A15: 1.4.2. | B15: SINAPI | C15: 92212 | D15: TUBO DE CONCRETO PARA REDES COLETORAS DE ÁGUAS PLUVIAIS, DIÂMETRO DE 600 MM, JUNTA RÍGIDA, INSTALADO EM LOCAL COM BAIXO NÍVEL DE INTERFERÊNCIAS - FORNECIMENTO E ASSENTAMENTO. AF_03/2024 | E15: M | F15: 39.91 | G15: =VLOOKUP(C15,[3]ORÇAMENTO!$Q$18:$U$497,5,0) -> 379.95 | H15: =ROUND(G15*1.2423,2) -> 472.01 | I15: =ROUND(F15*H15,2) -> 18837.92
A16: 1.4.3. | B16: SINAPI | C16: 90108 | D16: ESCAVAÇÃO MECANIZADA DE VALA COM PROFUNDIDADE MAIOR QUE 1,5 M ATÉ 3,0 M (MÉDIA MONTANTE E JUSANTE/UMA COMPOSIÇÃO POR TRECHO), RETROESCAV (0,26 M3), LARGURA DE 0,8 M A 1,5 M, EM SOLO DE 1A CATEGORIA, LOCAIS COM BAIXO NÍVEL DE INTERFERÊNCIA. AF_09/2024 | E16: M3 | F16: 85.48 | G16: =VLOOKUP(C16,[3]ORÇAMENTO!$Q$18:$U$497,5,0) -> 8.84 | H16: =ROUND(G16*1.2423,2) -> 10.98 | I16: =ROUND(F16*H16,2) -> 938.57
A17: 1.4.4. | B17: SINAPI | C17: 101616 | D17: PREPARO DE FUNDO DE VALA COM LARGURA MENOR QUE 1,5 M (ACERTO DO SOLO NATURAL). AF_08/2020 | E17: M2 | F17: 57.92 | G17: =VLOOKUP(C17,[3]ORÇAMENTO!$Q$18:$U$497,5,0) -> 8.65 | H17: =ROUND(G17*1.2423,2) -> 10.75 | I17: =ROUND(F17*H17,2) -> 622.64
A18: 1.4.5. | B18: SINAPI | C18: 93368 | D18: REATERRO MECANIZADO DE VALA COM ESCAVADEIRA HIDRÁULICA (CAPACIDADE DA CAÇAMBA: 0,8 M³/POTÊNCIA: 111 HP), LARGURA ATÉ 1,5 M, PROFUNDIDADE DE 1,5 A 3,0 M, COM SOLO (SEM SUBSTITUIÇÃO) DE 1ª CATEGORIA, COM COMPACTADOR DE SOLOS DE PERCUSSÃO. AF_08/2023 | E18: M3 | F18: 72.24 | G18: =VLOOKUP(C18,[3]ORÇAMENTO!$Q$18:$U$497,5,0) -> 23.81 | H18: =ROUND(G18*1.2423,2) -> 29.58 | I18: =ROUND(F18*H18,2) -> 2136.86
A19: 1.4.6. | B19: SINAPI | C19: 100983 | D19: CARGA, MANOBRA E DESCARGA DE ENTULHO EM CAMINHÃO BASCULANTE 14 M³ - CARGA COM ESCAVADEIRA HIDRÁULICA (CAÇAMBA DE 0,80 M³ / 111 HP) E DESCARGA LIVRE (UNIDADE: M3). AF_07/2020 | E19: M3 | F19: 15.23 | G19: =VLOOKUP(C19,[3]ORÇAMENTO!$Q$18:$U$497,5,0) -> 9.66 | H19: =ROUND(G19*1.2423,2) -> 12 | I19: =ROUND(F19*H19,2) -> 182.76
A20: 1.4.7. | B20: SINAPI | C20: 93592 | D20: TRANSPORTE COM CAMINHÃO BASCULANTE DE 14 M³, EM VIA URBANA EM REVESTIMENTO PRIMÁRIO (UNIDADE: M3XKM). AF_07/2020 | E20: M3XKM | F20: 204.08 | G20: =VLOOKUP(C20,[3]ORÇAMENTO!$Q$18:$U$497,5,0) -> 2.49 | H20: =ROUND(G20*1.2423,2) -> 3.09 | I20: =ROUND(F20*H20,2) -> 630.61
A21: 1.4.8. | B21: SINAPI | C21: 97956 | D21: CAIXA PARA BOCA DE LOBO SIMPLES RETANGULAR, EM ALVENARIA COM BLOCOS DE CONCRETO, DIMENSÕES INTERNAS: 0,6X1X1,2 M. AF_12/2020 | E21: UN | F21: 3 | G21: =VLOOKUP(C21,[3]ORÇAMENTO!$Q$18:$U$497,5,0) -> 1609.67 | H21: =ROUND(G21*1.2423,2) -> 1999.69 | I21: =ROUND(F21*H21,2) -> 5999.07
A22: 1.4.9. | B22: SINAPI | C22: 97957 | D22: CAIXA PARA BOCA DE LOBO DUPLA RETANGULAR, EM ALVENARIA COM BLOCOS DE CONCRETO, DIMENSÕES INTERNAS: 0,6X2,2X1,2 M. AF_12/2020 | E22: UN | F22: 2 | G22: =VLOOKUP(C22,[3]ORÇAMENTO!$Q$18:$U$497,5,0) -> 2879.44 | H22: =ROUND(G22*1.2423,2) -> 3577.13 | I22: =ROUND(F22*H22,2) -> 7154.26
A23: 1.4.10. | B23: SINAPI | C23: 98008 | D23: BASE PARA POÇO DE VISITA RETANGULAR PARA ESGOTO, EM ALVENARIA COM BLOCOS DE CONCRETO, DIMENSÕES INTERNAS = 1,5X1,5 M, PROFUNDIDADE = 1,45 M, EXCLUINDO TAMPÃO . AF_12/2020 | E23: UN | F23: 1 | G23: =VLOOKUP(C23,[3]ORÇAMENTO!$Q$18:$U$497,5,0) -> 4378.63 | H23: =ROUND(G23*1.2423,2) -> 5439.57 | I23: =ROUND(F23*H23,2) -> 5439.57
A24: 1.4.11. | B24: SINAPI | C24: 99318 | D24: CHAMINÉ CIRCULAR PARA POÇO DE VISITA PARA DRENAGEM, EM CONCRETO PRÉ-MOLDADO, DIÂMETRO INTERNO = 0,6 M. AF_12/2020 | E24: M | F24: 0.2 | G24: =VLOOKUP(C24,[3]ORÇAMENTO!$Q$18:$U$497,5,0) -> 376.21 | H24: =ROUND(G24*1.2423,2) -> 467.37 | I24: =ROUND(F24*H24,2) -> 93.47
A25: 1.4.12. | B25: SINAPI-I | C25: 11301 | D25: TAMPAO FOFO ARTICULADO, COM BASE / REQUADRO, CLASSE B125 CARGA MAX 12,5 T, REDONDO, TAMPA 600 MM (COM INSCRICAO EM RELEVO DO TIPO DE REDE) | E25: UN | F25: 1 | G25: =VLOOKUP(C25,[3]ORÇAMENTO!$Q$18:$U$497,5,0) -> 558.09 | H25: =ROUND(G25*1.2423,2) -> 693.32 | I25: =ROUND(F25*H25,2) -> 693.32
A26: 1.4.13. | B26: SINAPI | C26: 102750 | D26: BOCA PARA BUEIRO SIMPLES TUBULAR D = 60 CM EM CONCRETO, ALAS COM ESCONSIDADE DE 30°, INCLUINDO FÔRMAS E MATERIAIS. AF_07/2021 | E26: UN | F26: 1 | G26: =VLOOKUP(C26,[3]ORÇAMENTO!$Q$18:$U$497,5,0) -> 2610.44 | H26: =ROUND(G26*1.2423,2) -> 3242.95 | I26: =ROUND(F26*H26,2) -> 3242.95
A27: 1.5. | D27: FRESAGEM / DEMOLIÇÃO E REMOÇÃO DE PAVIMENTOS - RUA ANNA LEAL FUGAGNOLLI | H27: Subtotal: | I27: =SUM(I28:I32) -> 45120.54
A28: 1.5.1. | B28: SIURB EDIF | C28: 17060046 | D28: RETIRADA DE PISO INTERTRAVADO | E28: M2 | F28: 1284.45 | G28: =VLOOKUP(C28,[3]ORÇAMENTO!$Q$18:$U$497,5,0) -> 18.12 | H28: =ROUND(G28*1.2423,2) -> 22.51 | I28: =ROUND(F28*H28,2) -> 28912.97
A29: 1.5.2. | B29: SINAPI | C29: 96001 | D29: FRESAGEM DE PAVIMENTO ASFÁLTICO (PROFUNDIDADE ATÉ 5,0 CM) - EXCLUSIVE TRANSPORTE. AF_11/2019 | E29: M2 | F29: 45.28 | G29: =VLOOKUP(C29,[3]ORÇAMENTO!$Q$18:$U$497,5,0) -> 7.41 | H29: =ROUND(G29*1.2423,2) -> 9.21 | I29: =ROUND(F29*H29,2) -> 417.03
A30: 1.5.3. | B30: SINAPI | C30: 101116 | D30: ESCAVAÇÃO HORIZONTAL EM SOLO DE 1A CATEGORIA COM TRATOR DE ESTEIRAS (170HP/LÂMINA: 5,20M3). AF_07/2020 | E30: M3 | F30: 115.6 | G30: =VLOOKUP(C30,[3]ORÇAMENTO!$Q$18:$U$497,5,0) -> 2.59 | H30: =ROUND(G30*1.2423,2) -> 3.22 | I30: =ROUND(F30*H30,2) -> 372.23
A31: 1.5.4. | B31: SINAPI | C31: 100983 | D31: CARGA, MANOBRA E DESCARGA DE ENTULHO EM CAMINHÃO BASCULANTE 14 M³ - CARGA COM ESCAVADEIRA HIDRÁULICA (CAÇAMBA DE 0,80 M³ / 111 HP) E DESCARGA LIVRE (UNIDADE: M3). AF_07/2020 | E31: M3 | F31: 288.7 | G31: =VLOOKUP(C31,[3]ORÇAMENTO!$Q$18:$U$497,5,0) -> 9.66 | H31: =ROUND(G31*1.2423,2) -> 12 | I31: =ROUND(F31*H31,2) -> 3464.4
A32: 1.5.5. | B32: SINAPI | C32: 93592 | D32: TRANSPORTE COM CAMINHÃO BASCULANTE DE 14 M³, EM VIA URBANA EM REVESTIMENTO PRIMÁRIO (UNIDADE: M3XKM). AF_07/2020 | E32: M3XKM | F32: 3868.58 | G32: =VLOOKUP(C32,[3]ORÇAMENTO!$Q$18:$U$497,5,0) -> 2.49 | H32: =ROUND(G32*1.2423,2) -> 3.09 | I32: =ROUND(F32*H32,2) -> 11953.91
A33: 1.6. | D33: RECAPEAMENTO / CAPEAMENTO / RECONSTRUÇÃO DO PAVIMENTO - RUA ANNA LEAL FUGAGNOLLI | H33: Subtotal: | I33: =SUM(I34:I43) -> 224210.58
A34: 1.6.1. | B34: SINAPI | C34: 96396 | D34: CONSTRUÇÃO DE BASE E SUB-BASE PARA PAVIMENTAÇÃO DE BRITA GRADUADA SIMPLES, COM ESPESSURA DE 15 CM - EXCLUSIVE CARGA E TRANSPORTE. AF_09/2024 | E34: M3 | F34: 128.45 | G34: =VLOOKUP(C34,[3]ORÇAMENTO!$Q$18:$U$497,5,0) -> 143.72 | H34: =ROUND(G34*1.2423,2) -> 178.54 | I34: =ROUND(F34*H34,2) -> 22933.46
A35: 1.6.2. | B35: SINAPI | C35: 100979 | D35: CARGA, MANOBRA E DESCARGA DE SOLOS E MATERIAIS GRANULARES EM CAMINHÃO BASCULANTE 14 M³ - CARGA COM ESCAVADEIRA HIDRÁULICA (CAÇAMBA DE 1,20 M³ / 155 HP) E DESCARGA LIVRE (UNIDADE: M3). AF_07/2020 | E35: M3 | F35: 128.45 | G35: =VLOOKUP(C35,[3]ORÇAMENTO!$Q$18:$U$497,5,0) -> 7.15 | H35: =ROUND(G35*1.2423,2) -> 8.88 | I35: =ROUND(F35*H35,2) -> 1140.64
A36: 1.6.3. | B36: SINAPI | C36: 93592 | D36: TRANSPORTE COM CAMINHÃO BASCULANTE DE 14 M³, EM VIA URBANA EM REVESTIMENTO PRIMÁRIO (UNIDADE: M3XKM). AF_07/2020 | E36: M3XKM | F36: 2337.79 | G36: =VLOOKUP(C36,[3]ORÇAMENTO!$Q$18:$U$497,5,0) -> 2.49 | H36: =ROUND(G36*1.2423,2) -> 3.09 | I36: =ROUND(F36*H36,2) -> 7223.77
A37: 1.6.4. | B37: SIURB INFRA | C37: 5024001 | D37: BASE DE MACADAME BETUMINOSO | E37: M3 | F37: 51.38 | G37: =VLOOKUP(C37,[3]ORÇAMENTO!$Q$18:$U$497,5,0) -> 942.41 | H37: =ROUND(G37*1.2423,2) -> 1170.76 | I37: =ROUND(F37*H37,2) -> 60153.65
A38: 1.6.5. | B38: SINAPI | C38: 100987 | D38: CARGA DE MISTURA ASFÁLTICA EM CAMINHÃO BASCULANTE 14 M³ (UNIDADE: M3). AF_07/2020 | E38: M3 | F38: 51.38 | G38: =VLOOKUP(C38,[3]ORÇAMENTO!$Q$18:$U$497,5,0) -> 10.91 | H38: =ROUND(G38*1.2423,2) -> 13.55 | I38: =ROUND(F38*H38,2) -> 696.2
A39: 1.6.6. | B39: SINAPI | C39: 93592 | D39: TRANSPORTE COM CAMINHÃO BASCULANTE DE 14 M³, EM VIA URBANA EM REVESTIMENTO PRIMÁRIO (UNIDADE: M3XKM). AF_07/2020 | E39: M3XKM | F39: 935.12 | G39: =VLOOKUP(C39,[3]ORÇAMENTO!$Q$18:$U$497,5,0) -> 2.49 | H39: =ROUND(G39*1.2423,2) -> 3.09 | I39: =ROUND(F39*H39,2) -> 2889.52
A40: 1.6.7. | B40: Composição | C40: 104375 | D40: EXECUÇÃO DE PINTURA DE LIGAÇÃO COM EMULSÃO ASFÁLTICA RR-2C. AF_11/2019 (IMPRIMAÇÃO LIGANTE) | E40: M2 | F40: 1329.73 | G40: =VLOOKUP(C40,[3]ORÇAMENTO!$Q$18:$U$497,5,0) -> 2.48 | H40: =ROUND(G40*1.2423,2) -> 3.08 | I40: =ROUND(F40*H40,2) -> 4095.57
A41: 1.6.8. | B41: SINAPI | C41: 95995 | D41: EXECUÇÃO DE PAVIMENTO COM APLICAÇÃO DE CONCRETO ASFÁLTICO, CAMADA DE ROLAMENTO - EXCLUSIVE CARGA E TRANSPORTE. AF_11/2019 | E41: M3 | F41: 65.8 | G41: =VLOOKUP(C41,[3]ORÇAMENTO!$Q$18:$U$497,5,0) -> 1473.95 | H41: =ROUND(G41*1.2423,2) -> 1831.09 | I41: =ROUND(F41*H41,2) -> 120485.72
A42: 1.6.9. | B42: SINAPI | C42: 100987 | D42: CARGA DE MISTURA ASFÁLTICA EM CAMINHÃO BASCULANTE 14 M³ (UNIDADE: M3). AF_07/2020 | E42: M3 | F42: 65.8 | G42: =VLOOKUP(C42,[3]ORÇAMENTO!$Q$18:$U$497,5,0) -> 10.91 | H42: =ROUND(G42*1.2423,2) -> 13.55 | I42: =ROUND(F42*H42,2) -> 891.59
A43: 1.6.10. | B43: SINAPI | C43: 93592 | D43: TRANSPORTE COM CAMINHÃO BASCULANTE DE 14 M³, EM VIA URBANA EM REVESTIMENTO PRIMÁRIO (UNIDADE: M3XKM). AF_07/2020 | E43: M3XKM | F43: 1197.56 | G43: =VLOOKUP(C43,[3]ORÇAMENTO!$Q$18:$U$497,5,0) -> 2.49 | H43: =ROUND(G43*1.2423,2) -> 3.09 | I43: =ROUND(F43*H43,2) -> 3700.46
A44: 1.7. | D44: SINALIZAÇÃO VIÁRIA - RUA ANNA LEAL FUGAGNOLLI | H44: Subtotal: | I44: =SUM(I45:I49) -> 3662.66
A45: 1.7.1. | B45: SINAPI | C45: 102512 | D45: PINTURA DE EIXO VIÁRIO SOBRE ASFALTO COM TINTA RETRORREFLETIVA A BASE DE RESINA ACRÍLICA COM MICROESFERAS DE VIDRO, E = 10 CM, APLICAÇÃO MECÂNICA COM DEMARCADORA AUTOPROPELIDA. AF_05/2021 | E45: M | F45: 54.67 | G45: =VLOOKUP(C45,[3]ORÇAMENTO!$Q$18:$U$497,5,0) -> 7.77 | H45: =ROUND(G45*1.2423,2) -> 9.65 | I45: =ROUND(F45*H45,2) -> 527.57
A46: 1.7.2. | B46: SINAPI | C46: 102509 | D46: PINTURA DE FAIXA DE PEDESTRE OU ZEBRADA TINTA RETRORREFLETIVA A BASE DE RESINA ACRÍLICA COM MICROESFERAS DE VIDRO, E = 30 CM, APLICAÇÃO MANUAL. AF_05/2021 | E46: M2 | F46: 15.03 | G46: =VLOOKUP(C46,[3]ORÇAMENTO!$Q$18:$U$497,5,0) -> 40.03 | H46: =ROUND(G46*1.2423,2) -> 49.73 | I46: =ROUND(F46*H46,2) -> 747.44
A47: 1.7.3. | B47: Composição | C47: 103699-45x20 | D47: PLACA DE IDENTIFICACAO DE LOGRADOURO / RUA 45 CM X 20 CM - FORNECIMENTO E INSTALAÇÃO DE PLACA DE SINALIZAÇÃO EM CHAPA DE AÇO NUM 16 COM PINTURA REFLETIVA EM SUPORTE METÁLICO. AF_03/2022 (CÓD REF SINAPI 103699) | E47: UN | F47: 2 | G47: =VLOOKUP(C47,[3]ORÇAMENTO!$Q$18:$U$497,5,0) -> 88.63 | H47: =ROUND(G47*1.2423,2) -> 110.11 | I47: =ROUND(F47*H47,2) -> 220.22
A48: 1.7.4. | B48: Composição | C48: 103699-45X45 | D48: PLACA DE SINALIZACAO DE ADVERTÊNCIA QUADRADA LADO 0,45M - FORNECIMENTO E INSTALAÇÃO DE PLACA DE SINALIZAÇÃO EM CHAPA DE AÇO NUM 16 COM PINTURA REFLETIVA EM SUPORTE METÁLICO. AF_03/2022 (CÓD REF SINAPI 103699) | E48: UN | F48: 3 | G48: =VLOOKUP(C48,[3]ORÇAMENTO!$Q$18:$U$497,5,0) -> 199.41 | H48: =ROUND(G48*1.2423,2) -> 247.73 | I48: =ROUND(F48*H48,2) -> 743.19
A49: 1.7.5. | B49: Composição | C49: 103690 | D49: FORNECIMENTO E INSTALAÇÃO DE SUPORTE METÁLICO GALVANIZADO PARA PLACAS DE SINALIZAÇÃO EM SOLO, COM H= DE 2,5 M E DIÂMETRO DE 2''. AF_03/2022 | E49: UN | F49: 4 | G49: =VLOOKUP(C49,[3]ORÇAMENTO!$Q$18:$U$497,5,0) -> 286.61 | H49: =ROUND(G49*1.2423,2) -> 356.06 | I49: =ROUND(F49*H49,2) -> 1424.24
A50: 2. | D50: RUA LUIZ BATISTA DA SILVA | H50: Total Rua: | I50: =I51+I53+I57+I61+I65+I70 -> 127058.22
A51: 2.1. | D51: SERVIÇOS PRELIMINARES - RUA LUIZ BATISTA DA SILVA | H51: Subtotal: | I51: =SUM(I52) -> 2208.23
A52: 2.1.1. | B52: SINAPI | C52: 103689 | D52: FORNECIMENTO E INSTALAÇÃO DE PLACA DE OBRA COM CHAPA GALVANIZADA E ESTRUTURA DE MADEIRA. AF_03/2022_PS | E52: M2 | F52: 3.75 | G52: =VLOOKUP(C52,[3]ORÇAMENTO!$Q$18:$U$497,5,0) -> 474.01 | H52: =ROUND(G52*1.2423,2) -> 588.86 | I52: =ROUND(F52*H52,2) -> 2208.23
A53: 2.2. | D53: DEMOLIÇÃO DE GUIAS, SARJETAS E SARJETÕES - RUA LUIZ BATISTA DA SILVA | H53: Subtotal: | I53: =SUM(I54:I56) -> 16998.82
A54: 2.2.1. | B54: SINAPI | C54: 104796 | D54: DEMOLIÇÃO DE GUIAS, SARJETAS OU SARJETÕES, DE FORMA MECANIZADA, SEM REAPROVEITAMENTO. AF_09/2023 | E54: M | F54: 680.53 | G54: =VLOOKUP(C54,[3]ORÇAMENTO!$Q$18:$U$497,5,0) -> 17.55 | H54: =ROUND(G54*1.2423,2) -> 21.8 | I54: =ROUND(F54*H54,2) -> 14835.55
A55: 2.2.2. | B55: SINAPI | C55: 100983 | D55: CARGA, MANOBRA E DESCARGA DE ENTULHO EM CAMINHÃO BASCULANTE 14 M³ - CARGA COM ESCAVADEIRA HIDRÁULICA (CAÇAMBA DE 0,80 M³ / 111 HP) E DESCARGA LIVRE (UNIDADE: M3). AF_07/2020 | E55: M3 | F55: 39.59 | G55: =VLOOKUP(C55,[3]ORÇAMENTO!$Q$18:$U$497,5,0) -> 9.66 | H55: =ROUND(G55*1.2423,2) -> 12 | I55: =ROUND(F55*H55,2) -> 475.08
A56: 2.2.3. | B56: SINAPI | C56: 93592 | D56: TRANSPORTE COM CAMINHÃO BASCULANTE DE 14 M³, EM VIA URBANA EM REVESTIMENTO PRIMÁRIO (UNIDADE: M3XKM). AF_07/2020 | E56: M3XKM | F56: 546.34 | G56: =VLOOKUP(C56,[3]ORÇAMENTO!$Q$18:$U$497,5,0) -> 2.49 | H56: =ROUND(G56*1.2423,2) -> 3.09 | I56: =ROUND(F56*H56,2) -> 1688.19
A57: 2.3. | D57: RECONSTRUÇÃO / CONSTRUÇÃO DE GUIAS, SARJETAS E SARJETÕES - RUA LUIZ BATISTA DA SILVA | H57: Subtotal: | I57: =SUM(I58:I60) -> 40016.67
A58: 2.3.1. | B58: SINAPI | C58: 94273 | D58: ASSENTAMENTO DE GUIA (MEIO-FIO) EM TRECHO RETO, CONFECCIONADA EM CONCRETO PRÉ-FABRICADO, DIMENSÕES 100X15X13X30 CM (COMPRIMENTO X BASE INFERIOR X BASE SUPERIOR X ALTURA). AF_01/2024 | E58: M | F58: 334.2 | G58: =VLOOKUP(C58,[3]ORÇAMENTO!$Q$18:$U$497,5,0) -> 46.17 | H58: =ROUND(G58*1.2423,2) -> 57.36 | I58: =ROUND(F58*H58,2) -> 19169.71
A59: 2.3.2. | B59: SINAPI | C59: 94281 | D59: EXECUÇÃO DE SARJETA DE CONCRETO USINADO, MOLDADA IN LOCO EM TRECHO RETO, 30 CM BASE X 15 CM ALTURA. AF_01/2024 | E59: M | F59: 334.2 | G59: =VLOOKUP(C59,[3]ORÇAMENTO!$Q$18:$U$497,5,0) -> 44.03 | H59: =ROUND(G59*1.2423,2) -> 54.7 | I59: =ROUND(F59*H59,2) -> 18280.74
A60: 2.3.3. | B60: SINAPI | C60: 94293 | D60: EXECUÇÃO DE SARJETÃO DE CONCRETO USINADO, MOLDADA IN LOCO EM TRECHO RETO, 100 CM BASE X 20 CM ALTURA. AF_01/2024 | E60: M | F60: 12.13 | G60: =VLOOKUP(C60,[3]ORÇAMENTO!$Q$18:$U$497,5,0) -> 170.3 | H60: =ROUND(G60*1.2423,2) -> 211.56 | I60: =ROUND(F60*H60,2) -> 2566.22
A61: 2.4. | D61: FRESAGEM / DEMOLIÇÃO E REMOÇÃO DE PAVIMENTOS - RUA LUIZ BATISTA DA SILVA | H61: Subtotal: | I61: =SUM(I62:I64) -> 8860.15
A62: 2.4.1. | B62: SINAPI | C62: 96001 | D62: FRESAGEM DE PAVIMENTO ASFÁLTICO (PROFUNDIDADE ATÉ 5,0 CM) - EXCLUSIVE TRANSPORTE. AF_11/2019 | E62: M2 | F62: 792.69 | G62: =VLOOKUP(C62,[3]ORÇAMENTO!$Q$18:$U$497,5,0) -> 7.41 | H62: =ROUND(G62*1.2423,2) -> 9.21 | I62: =ROUND(F62*H62,2) -> 7300.67
A63: 2.4.2. | B63: SINAPI | C63: 100983 | D63: CARGA, MANOBRA E DESCARGA DE ENTULHO EM CAMINHÃO BASCULANTE 14 M³ - CARGA COM ESCAVADEIRA HIDRÁULICA (CAÇAMBA DE 0,80 M³ / 111 HP) E DESCARGA LIVRE (UNIDADE: M3). AF_07/2020 | E63: M3 | F63: 28.54 | G63: =VLOOKUP(C63,[3]ORÇAMENTO!$Q$18:$U$497,5,0) -> 9.66 | H63: =ROUND(G63*1.2423,2) -> 12 | I63: =ROUND(F63*H63,2) -> 342.48
A64: 2.4.3. | B64: SINAPI | C64: 93592 | D64: TRANSPORTE COM CAMINHÃO BASCULANTE DE 14 M³, EM VIA URBANA EM REVESTIMENTO PRIMÁRIO (UNIDADE: M3XKM). AF_07/2020 | E64: M3XKM | F64: 393.85 | G64: =VLOOKUP(C64,[3]ORÇAMENTO!$Q$18:$U$497,5,0) -> 2.49 | H64: =ROUND(G64*1.2423,2) -> 3.09 | I64: =ROUND(F64*H64,2) -> 1217
A65: 2.5. | D65: RECAPEAMENTO / CAPEAMENTO / RECONSTRUÇÃO DO PAVIMENTO - RUA LUIZ BATISTA DA SILVA | H65: Subtotal: | I65: =SUM(I66:I69) -> 55214.72
A66: 2.5.1. | B66: Composição | C66: 104375 | D66: EXECUÇÃO DE PINTURA DE LIGAÇÃO COM EMULSÃO ASFÁLTICA RR-2C. AF_11/2019 (IMPRIMAÇÃO LIGANTE) | E66: M2 | F66: 792.69 | G66: =VLOOKUP(C66,[3]ORÇAMENTO!$Q$18:$U$497,5,0) -> 2.48 | H66: =ROUND(G66*1.2423,2) -> 3.08 | I66: =ROUND(F66*H66,2) -> 2441.49
A67: 2.5.2. | B67: SINAPI | C67: 95995 | D67: EXECUÇÃO DE PAVIMENTO COM APLICAÇÃO DE CONCRETO ASFÁLTICO, CAMADA DE ROLAMENTO - EXCLUSIVE CARGA E TRANSPORTE. AF_11/2019 | E67: M3 | F67: 27.74 | G67: =VLOOKUP(C67,[3]ORÇAMENTO!$Q$18:$U$497,5,0) -> 1473.95 | H67: =ROUND(G67*1.2423,2) -> 1831.09 | I67: =ROUND(F67*H67,2) -> 50794.44
A68: 2.5.3. | B68: SINAPI | C68: 100987 | D68: CARGA DE MISTURA ASFÁLTICA EM CAMINHÃO BASCULANTE 14 M³ (UNIDADE: M3). AF_07/2020 | E68: M3 | F68: 27.74 | G68: =VLOOKUP(C68,[3]ORÇAMENTO!$Q$18:$U$497,5,0) -> 10.91 | H68: =ROUND(G68*1.2423,2) -> 13.55 | I68: =ROUND(F68*H68,2) -> 375.88
A69: 2.5.4. | B69: SINAPI | C69: 93592 | D69: TRANSPORTE COM CAMINHÃO BASCULANTE DE 14 M³, EM VIA URBANA EM REVESTIMENTO PRIMÁRIO (UNIDADE: M3XKM). AF_07/2020 | E69: M3XKM | F69: 518.74 | G69: =VLOOKUP(C69,[3]ORÇAMENTO!$Q$18:$U$497,5,0) -> 2.49 | H69: =ROUND(G69*1.2423,2) -> 3.09 | I69: =ROUND(F69*H69,2) -> 1602.91
A70: 2.6. | D70: SINALIZAÇÃO VIÁRIA - RUA LUIZ BATISTA DA SILVA | H70: Subtotal: | I70: =SUM(I71:I76) -> 3759.63
A71: 2.6.1. | B71: SINAPI | C71: 102512 | D71: PINTURA DE EIXO VIÁRIO SOBRE ASFALTO COM TINTA RETRORREFLETIVA A BASE DE RESINA ACRÍLICA COM MICROESFERAS DE VIDRO, E = 10 CM, APLICAÇÃO MECÂNICA COM DEMARCADORA AUTOPROPELIDA. AF_05/2021 | E71: M | F71: 67.78 | G71: =VLOOKUP(C71,[3]ORÇAMENTO!$Q$18:$U$497,5,0) -> 7.77 | H71: =ROUND(G71*1.2423,2) -> 9.65 | I71: =ROUND(F71*H71,2) -> 654.08
A72: 2.6.2. | B72: SINAPI | C72: 102509 | D72: PINTURA DE FAIXA DE PEDESTRE OU ZEBRADA TINTA RETRORREFLETIVA A BASE DE RESINA ACRÍLICA COM MICROESFERAS DE VIDRO, E = 30 CM, APLICAÇÃO MANUAL. AF_05/2021 | E72: M2 | F72: 7.97 | G72: =VLOOKUP(C72,[3]ORÇAMENTO!$Q$18:$U$497,5,0) -> 40.03 | H72: =ROUND(G72*1.2423,2) -> 49.73 | I72: =ROUND(F72*H72,2) -> 396.35
A73: 2.6.3. | B73: Composição | C73: 103699-45x20 | D73: PLACA DE IDENTIFICACAO DE LOGRADOURO / RUA 45 CM X 20 CM - FORNECIMENTO E INSTALAÇÃO DE PLACA DE SINALIZAÇÃO EM CHAPA DE AÇO NUM 16 COM PINTURA REFLETIVA EM SUPORTE METÁLICO. AF_03/2022 (CÓD REF SINAPI 103699) | E73: UN | F73: 2 | G73: =VLOOKUP(C73,[3]ORÇAMENTO!$Q$18:$U$497,5,0) -> 88.63 | H73: =ROUND(G73*1.2423,2) -> 110.11 | I73: =ROUND(F73*H73,2) -> 220.22
A74: 2.6.4. | B74: Composição | C74: 103699-45X45 | D74: PLACA DE SINALIZACAO DE ADVERTÊNCIA QUADRADA LADO 0,45M - FORNECIMENTO E INSTALAÇÃO DE PLACA DE SINALIZAÇÃO EM CHAPA DE AÇO NUM 16 COM PINTURA REFLETIVA EM SUPORTE METÁLICO. AF_03/2022 (CÓD REF SINAPI 103699) | E74: UN | F74: 1 | G74: =VLOOKUP(C74,[3]ORÇAMENTO!$Q$18:$U$497,5,0) -> 199.41 | H74: =ROUND(G74*1.2423,2) -> 247.73 | I74: =ROUND(F74*H74,2) -> 247.73
A75: 2.6.5. | B75: Composição | C75: 103699-D40 | D75: PLACA DE SINALIZACAO DE REGULAMENTAÇÃO DIÂMETRO 0,40M - FORNECIMENTO E INSTALAÇÃO DE PLACA DE SINALIZAÇÃO EM CHAPA DE AÇO NUM 16 COM PINTURA REFLETIVA EM SUPORTE METÁLICO. AF_03/2022 (CÓD REF SINAPI 103699) | E75: UN | F75: 3 | G75: =VLOOKUP(C75,[3]ORÇAMENTO!$Q$18:$U$497,5,0) -> 123.68 | H75: =ROUND(G75*1.2423,2) -> 153.65 | I75: =ROUND(F75*H75,2) -> 460.95
A76: 2.6.6. | B76: Composição | C76: 103690 | D76: FORNECIMENTO E INSTALAÇÃO DE SUPORTE METÁLICO GALVANIZADO PARA PLACAS DE SINALIZAÇÃO EM SOLO, COM H= DE 2,5 M E DIÂMETRO DE 2''. AF_03/2022 | E76: UN | F76: 5 | G76: =VLOOKUP(C76,[3]ORÇAMENTO!$Q$18:$U$497,5,0) -> 286.61 | H76: =ROUND(G76*1.2423,2) -> 356.06 | I76: =ROUND(F76*H76,2) -> 1780.3
A77: 3. | D77: AV. ROSA TEIXEIRA BUENO TRECHO 1 | H77: Total Rua: | I77: =I78+I80+I84+I88+I92+I97 -> 797562.54
A78: 3.1. | D78: SERVIÇOS PRELIMINARES - AV. ROSA TEIXEIRA BUENO TRECHO 1 | H78: Subtotal: | I78: =SUM(I79) -> 2208.23
A79: 3.1.1. | B79: SINAPI | C79: 103689 | D79: FORNECIMENTO E INSTALAÇÃO DE PLACA DE OBRA COM CHAPA GALVANIZADA E ESTRUTURA DE MADEIRA. AF_03/2022_PS | E79: M2 | F79: 3.75 | G79: =VLOOKUP(C79,[3]ORÇAMENTO!$Q$18:$U$497,5,0) -> 474.01 | H79: =ROUND(G79*1.2423,2) -> 588.86 | I79: =ROUND(F79*H79,2) -> 2208.23
A80: 3.2. | D80: DEMOLIÇÃO DE GUIAS, SARJETAS E SARJETÕES - AV. ROSA TEIXEIRA BUENO TRECHO 1 | H80: Subtotal: | I80: =SUM(I81:I83) -> 14878.99
A81: 3.2.1. | B81: SINAPI | C81: 104796 | D81: DEMOLIÇÃO DE GUIAS, SARJETAS OU SARJETÕES, DE FORMA MECANIZADA, SEM REAPROVEITAMENTO. AF_09/2023 | E81: M | F81: 448.3 | G81: =VLOOKUP(C81,[3]ORÇAMENTO!$Q$18:$U$497,5,0) -> 17.55 | H81: =ROUND(G81*1.2423,2) -> 21.8 | I81: =ROUND(F81*H81,2) -> 9772.94
A82: 3.2.2. | B82: SINAPI | C82: 100983 | D82: CARGA, MANOBRA E DESCARGA DE ENTULHO EM CAMINHÃO BASCULANTE 14 M³ - CARGA COM ESCAVADEIRA HIDRÁULICA (CAÇAMBA DE 0,80 M³ / 111 HP) E DESCARGA LIVRE (UNIDADE: M3). AF_07/2020 | E82: M3 | F82: 86.59 | G82: =VLOOKUP(C82,[3]ORÇAMENTO!$Q$18:$U$497,5,0) -> 9.66 | H82: =ROUND(G82*1.2423,2) -> 12 | I82: =ROUND(F82*H82,2) -> 1039.08
A83: 3.2.3. | B83: SINAPI | C83: 93592 | D83: TRANSPORTE COM CAMINHÃO BASCULANTE DE 14 M³, EM VIA URBANA EM REVESTIMENTO PRIMÁRIO (UNIDADE: M3XKM). AF_07/2020 | E83: M3XKM | F83: 1316.17 | G83: =VLOOKUP(C83,[3]ORÇAMENTO!$Q$18:$U$497,5,0) -> 2.49 | H83: =ROUND(G83*1.2423,2) -> 3.09 | I83: =ROUND(F83*H83,2) -> 4066.97
A84: 3.3. | D84: RECONSTRUÇÃO / CONSTRUÇÃO DE GUIAS, SARJETAS E SARJETÕES - AV. ROSA TEIXEIRA BUENO TRECHO 1 | H84: Subtotal: | I84: =SUM(I85:I87) -> 66324.69
A85: 3.3.1. | B85: SINAPI | C85: 94273 | D85: ASSENTAMENTO DE GUIA (MEIO-FIO) EM TRECHO RETO, CONFECCIONADA EM CONCRETO PRÉ-FABRICADO, DIMENSÕES 100X15X13X30 CM (COMPRIMENTO X BASE INFERIOR X BASE SUPERIOR X ALTURA). AF_01/2024 | E85: M | F85: 76.47 | G85: =VLOOKUP(C85,[3]ORÇAMENTO!$Q$18:$U$497,5,0) -> 46.17 | H85: =ROUND(G85*1.2423,2) -> 57.36 | I85: =ROUND(F85*H85,2) -> 4386.32
A86: 3.3.2. | B86: SINAPI | C86: 94281 | D86: EXECUÇÃO DE SARJETA DE CONCRETO USINADO, MOLDADA IN LOCO EM TRECHO RETO, 30 CM BASE X 15 CM ALTURA. AF_01/2024 | E86: M | F86: 106.63 | G86: =VLOOKUP(C86,[3]ORÇAMENTO!$Q$18:$U$497,5,0) -> 44.03 | H86: =ROUND(G86*1.2423,2) -> 54.7 | I86: =ROUND(F86*H86,2) -> 5832.66
A87: 3.3.3. | B87: SINAPI | C87: 94293 | D87: EXECUÇÃO DE SARJETÃO DE CONCRETO USINADO, MOLDADA IN LOCO EM TRECHO RETO, 100 CM BASE X 20 CM ALTURA. AF_01/2024 | E87: M | F87: 265.2 | G87: =VLOOKUP(C87,[3]ORÇAMENTO!$Q$18:$U$497,5,0) -> 170.3 | H87: =ROUND(G87*1.2423,2) -> 211.56 | I87: =ROUND(F87*H87,2) -> 56105.71
A88: 3.4. | D88: FRESAGEM / DEMOLIÇÃO E REMOÇÃO DE PAVIMENTOS - AV. ROSA TEIXEIRA BUENO TRECHO 1 | H88: Subtotal: | I88: =SUM(I89:I91) -> 77845.66
A89: 3.4.1. | B89: SINAPI | C89: 96001 | D89: FRESAGEM DE PAVIMENTO ASFÁLTICO (PROFUNDIDADE ATÉ 5,0 CM) - EXCLUSIVE TRANSPORTE. AF_11/2019 | E89: M2 | F89: 6280.79 | G89: =VLOOKUP(C89,[3]ORÇAMENTO!$Q$18:$U$497,5,0) -> 7.41 | H89: =ROUND(G89*1.2423,2) -> 9.21 | I89: =ROUND(F89*H89,2) -> 57846.08
A90: 3.4.2. | B90: SINAPI | C90: 100983 | D90: CARGA, MANOBRA E DESCARGA DE ENTULHO EM CAMINHÃO BASCULANTE 14 M³ - CARGA COM ESCAVADEIRA HIDRÁULICA (CAÇAMBA DE 0,80 M³ / 111 HP) E DESCARGA LIVRE (UNIDADE: M3). AF_07/2020 | E90: M3 | F90: 339.16 | G90: =VLOOKUP(C90,[3]ORÇAMENTO!$Q$18:$U$497,5,0) -> 9.66 | H90: =ROUND(G90*1.2423,2) -> 12 | I90: =ROUND(F90*H90,2) -> 4069.92
A91: 3.4.3. | B91: SINAPI | C91: 93592 | D91: TRANSPORTE COM CAMINHÃO BASCULANTE DE 14 M³, EM VIA URBANA EM REVESTIMENTO PRIMÁRIO (UNIDADE: M3XKM). AF_07/2020 | E91: M3XKM | F91: 5155.23 | G91: =VLOOKUP(C91,[3]ORÇAMENTO!$Q$18:$U$497,5,0) -> 2.49 | H91: =ROUND(G91*1.2423,2) -> 3.09 | I91: =ROUND(F91*H91,2) -> 15929.66
A92: 3.5. | D92: RECAPEAMENTO / CAPEAMENTO / RECONSTRUÇÃO DO PAVIMENTO - AV. ROSA TEIXEIRA BUENO TRECHO 1 | H92: Subtotal: | I92: =SUM(I93:I96) -> 618140.27
A93: 3.5.1. | B93: Composição | C93: 104375 | D93: EXECUÇÃO DE PINTURA DE LIGAÇÃO COM EMULSÃO ASFÁLTICA RR-2C. AF_11/2019 (IMPRIMAÇÃO LIGANTE) | E93: M2 | F93: 6280.79 | G93: =VLOOKUP(C93,[3]ORÇAMENTO!$Q$18:$U$497,5,0) -> 2.48 | H93: =ROUND(G93*1.2423,2) -> 3.08 | I93: =ROUND(F93*H93,2) -> 19344.83
A94: 3.5.2. | B94: SINAPI | C94: 95995 | D94: EXECUÇÃO DE PAVIMENTO COM APLICAÇÃO DE CONCRETO ASFÁLTICO, CAMADA DE ROLAMENTO - EXCLUSIVE CARGA E TRANSPORTE. AF_11/2019 | E94: M3 | F94: 314.04 | G94: =VLOOKUP(C94,[3]ORÇAMENTO!$Q$18:$U$497,5,0) -> 1473.95 | H94: =ROUND(G94*1.2423,2) -> 1831.09 | I94: =ROUND(F94*H94,2) -> 575035.5
A95: 3.5.3. | B95: SINAPI | C95: 100987 | D95: CARGA DE MISTURA ASFÁLTICA EM CAMINHÃO BASCULANTE 14 M³ (UNIDADE: M3). AF_07/2020 | E95: M3 | F95: 314.04 | G95: =VLOOKUP(C95,[3]ORÇAMENTO!$Q$18:$U$497,5,0) -> 10.91 | H95: =ROUND(G95*1.2423,2) -> 13.55 | I95: =ROUND(F95*H95,2) -> 4255.24
A96: 3.5.4. | B96: SINAPI | C96: 93592 | D96: TRANSPORTE COM CAMINHÃO BASCULANTE DE 14 M³, EM VIA URBANA EM REVESTIMENTO PRIMÁRIO (UNIDADE: M3XKM). AF_07/2020 | E96: M3XKM | F96: 6312.2 | G96: =VLOOKUP(C96,[3]ORÇAMENTO!$Q$18:$U$497,5,0) -> 2.49 | H96: =ROUND(G96*1.2423,2) -> 3.09 | I96: =ROUND(F96*H96,2) -> 19504.7
A97: 3.6. | D97: SINALIZAÇÃO VIÁRIA - AV. ROSA TEIXEIRA BUENO TRECHO 1 | H97: Subtotal: | I97: =SUM(I98:I102) -> 18164.7
A98: 3.6.1. | B98: SINAPI | C98: 102512 | D98: PINTURA DE EIXO VIÁRIO SOBRE ASFALTO COM TINTA RETRORREFLETIVA A BASE DE RESINA ACRÍLICA COM MICROESFERAS DE VIDRO, E = 10 CM, APLICAÇÃO MECÂNICA COM DEMARCADORA AUTOPROPELIDA. AF_05/2021 | E98: M | F98: 821.44 | G98: =VLOOKUP(C98,[3]ORÇAMENTO!$Q$18:$U$497,5,0) -> 7.77 | H98: =ROUND(G98*1.2423,2) -> 9.65 | I98: =ROUND(F98*H98,2) -> 7926.9
A99: 3.6.2. | B99: SINAPI | C99: 102509 | D99: PINTURA DE FAIXA DE PEDESTRE OU ZEBRADA TINTA RETRORREFLETIVA A BASE DE RESINA ACRÍLICA COM MICROESFERAS DE VIDRO, E = 30 CM, APLICAÇÃO MANUAL. AF_05/2021 | E99: M2 | F99: 65.15 | G99: =VLOOKUP(C99,[3]ORÇAMENTO!$Q$18:$U$497,5,0) -> 40.03 | H99: =ROUND(G99*1.2423,2) -> 49.73 | I99: =ROUND(F99*H99,2) -> 3239.91
A100: 3.6.3. | B100: Composição | C100: 103699-45x20 | D100: PLACA DE IDENTIFICACAO DE LOGRADOURO / RUA 45 CM X 20 CM - FORNECIMENTO E INSTALAÇÃO DE PLACA DE SINALIZAÇÃO EM CHAPA DE AÇO NUM 16 COM PINTURA REFLETIVA EM SUPORTE METÁLICO. AF_03/2022 (CÓD REF SINAPI 103699) | E100: UN | F100: 18 | G100: =VLOOKUP(C100,[3]ORÇAMENTO!$Q$18:$U$497,5,0) -> 88.63 | H100: =ROUND(G100*1.2423,2) -> 110.11 | I100: =ROUND(F100*H100,2) -> 1981.98
...
