Workbook
Name AreaTeste: #REF!
Name AreaTeste2: #REF!
Name CélulaInicioPlanilha: #REF!
Name CélulaResumo: #REF!
Name Excel_BuiltIn_Database: #REF!
Name Excel_BuiltIn_Database_2: #REF!

Sheet Planilha
A1: Item | B1: Fonte | C1: Código | D1: Descrição | E1: Unid | F1: Quantidade | G1: Preço Unit sem BDI | H1: Preço Unit com BDI | I1: Total
A2: PAVIMENTAÇÃO E RECAPEAMENTO DE VIAS NO PERÍMETRO URBANO DO MUNICIPIO DE FERRAZ DE VASCONCELOS – SP.
A3: 1. | D3: RUA ANNA LEAL FUGAGNOLLI | H3: Total Rua: | I3: =I4+I6+I10+I13+I27+I33+I44 -> 381642.19
A4: 1.1. | D4: SERVIÇOS PRELIMINARES - RUA ANNA LEAL FUGAGNOLLI | H4: Subtotal: | I4: =SUM(I5) -> 2208.23
A5: 1.1.1. | B5: SINAPI | C5: 103689 | D5: FORNECIMENTO E INSTALAÇÃO DE PLACA DE OBRA COM CHAPA GALVANIZADA E ESTRUTURA DE MADEIRA. AF_03/2022_PS | E5: M2 | F5: 3.75 | G5: =VLOOKUP(C5,[3]ORÇAMENTO!$Q$18:$U$497,5,0) -> 474.01 | H5: =ROUND(G5*1.2423,2) -> 588.86 | I5: =ROUND(F5*H5,2) -> 2208.23
A6: 1.2. | D6: DEMOLIÇÃO DE GUIAS, SARJETAS E SARJETÕES - RUA ANNA LEAL FUGAGNOLLI | H6: Subtotal: | I6: =SUM(I7:I9) -> 17284.07
A7: 1.2.1. | B7: SINAPI | C7: 104796 | D7: DEMOLIÇÃO DE GUIAS, SARJETAS OU SARJETÕES, DE FORMA MECANIZADA, SEM REAPROVEITAMENTO. AF_09/2023 | E7: M | F7: 700.22 | G7: =VLOOKUP(C7,[3]ORÇAMENTO!$Q$18:$U$497,5,0) -> 17.55 | H7: =ROUND(G7*1.2423,2) -> 21.8 | I7: =ROUND(F7*H7,2) -> 15264.8
A8: 1.2.2. | B8: SINAPI | C8: 100983 | D8: CARGA, MANOBRA E DESCARGA DE ENTULHO EM CAMINHÃO BASCULANTE 14 M³ - CARGA COM ESCAVADEIRA HIDRÁULICA (CAÇAMBA DE 0,80 M³ / 111 HP) E DESCARGA LIVRE (UNIDADE: M3). AF_07/2020 | E8: M3 | F8: 37.81 | G8: =VLOOKUP(C8,[3]ORÇAMENTO!$Q$18:$U$497,5,0) -> 9.66 | H8: =ROUND(G8*1.2423,2) -> 12 | I8: =ROUND(F8*H8,2) -> 453.72
A9: 1.2.3. | B9: SINAPI | C9: 93592 | D9: TRANSPORTE COM CAMINHÃO BASCULANTE DE 14 M³, EM VIA URBANA EM REVESTIMENTO PRIMÁRIO (UNIDADE: M3XKM). AF_07/2020 | E9: M3XKM | F9: 506.65 | G9: =VLOOKUP(C9,[3]ORÇAMENTO!$Q$18:$U$497,5,0) -> 2.49 | H9: =ROUND(G9*1.2423,2) -> 3.09 | I9: =ROUND(F9*H9,2) -> 1565.55
A10: 1.3. | D10: RECONSTRUÇÃO / CONSTRUÇÃO DE GUIAS, SARJETAS E SARJETÕES - RUA ANNA LEAL FUGAGNOLLI | H10: Subtotal: | I10: =SUM(I11:I12) -> 39233.33
A11: 1.3.1. | B11: SINAPI | C11: 94273 | D11: ASSENTAMENTO DE GUIA (MEIO-FIO) EM TRECHO RETO, CONFECCIONADA EM CONCRETO PRÉ-FABRICADO, DIMENSÕES 100X15X13X30 CM (COMPRIMENTO X BASE INFERIOR X BASE SUPERIOR X ALTURA). AF_01/2024 | E11: M | F11: 350.11 | G11: =VLOOKUP(C11,[3]ORÇAMENTO!$Q$18:$U$497,5,0) -> 46.17 | H11: =ROUND(G11*1.2423,2) -> 57.36 | I11: =ROUND(F11*H11,2) -> 20082.31
A12: 1.3.2. | B12: SINAPI | C12: 94281 | D12: EXECUÇÃO DE SARJETA DE CONCRETO USINADO, MOLDADA IN LOCO EM TRECHO RETO, 30 CM BASE X 15 CM ALTURA. AF_01/2024 | E12: M | F12: 350.11 | G12: =VLOOKUP(C12,[3]ORÇAMENTO!$Q$18:$U$497,5,0) -> 44.03 | H12: =ROUND(G12*1.2423,2) -> 54.7 | I12: =ROUND(F12*H12,2) -> 19151.02
A13: 1.4. | D13: DRENAGEM - RUA ANNA LEAL FUGAGNOLLI | H13: Subtotal: | I13: =SUM(I14:I26) -> 49922.78
A14: 1.4.1. | B14: SINAPI | C14: 92210 | D14: TUBO DE CONCRETO PARA REDES COLETORAS DE ÁGUAS PLUVIAIS, DIÂMETRO DE 400 MM, JUNTA RÍGIDA, INSTALADO EM LOCAL COM BAIXO NÍVEL DE INTERFERÊNCIAS - FORNECIMENTO E ASSENTAMENTO. AF_03/2024 | E14: M | F14: 15.58 | G14: =VLOOKUP(C14,[3]ORÇAMENTO!$Q$18:$U$497,5,0) -> 204.12 | H14: =ROUND(G14*1.2423,2) -> 253.58 | I14: =ROUND(F14*H14,2) -> 3950.78
A15: 1.4.2. | B15: SINAPI | C15: 92212 | D15: TUBO DE CONCRETO PARA REDES COLETORAS DE ÁGUAS PLUVIAIS, DIÂMETRO DE 600 MM, JUNTA RÍGIDA, INSTALADO EM LOCAL COM BAIXO NÍVEL DE INTERFERÊNCIAS - FORNECIMENTO E ASSENTAMENTO. AF_03/2024 | E15: M | F15: 39.91 | G15: =VLOOKUP(C15,[3]ORÇAMENTO!$Q$18:$U$497,5,0) -> 379.95 | H15: =ROUND(G15*1.2423,2) -> 472.01 | I15: =ROUND(F15*H15,2) -> 18837.92
A16: 1.4.3. | B16: SINAPI | C16: 90108 | D16: ESCAVAÇÃO MECANIZADA DE VALA COM PROFUNDIDADE MAIOR QUE 1,5 M ATÉ 3,0 M (MÉDIA MONTANTE E JUSANTE/UMA COMPOSIÇÃO POR TRECHO), RETROESCAV (0,26 M3), LARGURA DE 0,8 M A 1,5 M, EM SOLO DE 1A CATEGORIA, LOCAIS COM BAIXO NÍVEL DE INTERFERÊNCIA. AF_09/2024 | E16: M3 | F16: 85.48 | G16: =VLOOKUP(C16,[3]ORÇAMENTO!$Q$18:$U$497,5,0) -> 8.84 | H16: =ROUND(G16*1.2423,2) -> 10.98 | I16: =ROUND(F16*H16,2) -> 938.57
A17: 1.4.4. | B17: SINAPI | C17: 101616 | D17: PREPARO DE FUNDO DE VALA COM LARGURA MENOR QUE 1,5 M (ACERTO DO SOLO NATURAL). AF_08/2020 | E17: M2 | F17: 57.92 | G17: =VLOOKUP(C17,[3]ORÇAMENTO!$Q$18:$U$497,5,0) -> 8.65 | H17: =ROUND(G17*1.2423,2) -> 10.75 | I17: =ROUND(F17*H17,2) -> 622.64
A18: 1.4.5. | B18: SINAPI | C18: 93368 | D18: REATERRO MECANIZADO DE VALA COM ESCAVADEIRA HIDRÁULICA (CAPACIDADE DA CAÇAMBA: 0,8 M³/POTÊNCIA: 111 HP), LARGURA ATÉ 1,5 M, PROFUNDIDADE DE 1,5 A 3,0 M, COM SOLO (SEM SUBSTITUIÇÃO) DE 1ª CATEGORIA, COM COMPACTADOR DE SOLOS DE PERCUSSÃO. AF_08/2023 | E18: M3 | F18: 72.24 | G18: =VLOOKUP(C18,[3]ORÇAMENTO!$Q$18:$U$497,5,0) -> 23.81 | H18: =ROUND(G18*1.2423,2) -> 29.58 | I18: =ROUND(F18*H18,2) -> 2136.86
A19: 1.4.6. | B19: SINAPI | C19: 100983 | D19: CARGA, MANOBRA E DESCARGA DE ENTULHO EM CAMINHÃO BASCULANTE 14 M³ - CARGA COM ESCAVADEIRA HIDRÁULICA (CAÇAMBA DE 0,80 M³ / 111 HP) E DESCARGA LIVRE (UNIDADE: M3). AF_07/2020 | E19: M3 | F19: 15.23 | G19: =VLOOKUP(C19,[3]ORÇAMENTO!$Q$18:$U$497,5,0) -> 9.66 | H19: =ROUND(G19*1.2423,2) -> 12 | I19: =ROUND(F19*H19,2) -> 182.76
A20: 1.4.7. | B20: SINAPI | C20: 93592 | D20: TRANSPORTE COM CAMINHÃO BASCULANTE DE 14 M³, EM VIA URBANA EM REVESTIMENTO PRIMÁRIO (UNIDADE: M3XKM). AF_07/2020 | E20: M3XKM | F20: 204.08 | G20: =VLOOKUP(C20,[3]ORÇAMENTO!$Q$18:$U$497,5,0) -> 2.49 | H20: =ROUND(G20*1.2423,2) -> 3.09 | I20: =ROUND(F20*H20,2) -> 630.61
A21: 1.4.8. | B21: SINAPI | C21: 97956 | D21: CAIXA PARA BOCA DE LOBO SIMPLES RETANGULAR, EM ALVENARIA COM BLOCOS DE CONCRETO, DIMENSÕES INTERNAS: 0,6X1X1,2 M. AF_12/2020 | E21: UN | F21: 3 | G21: =VLOOKUP(C21,[3]ORÇAMENTO!$Q$18:$U$497,5,0) -> 1609.67 | H21: =ROUND(G21*1.2423,2) -> 1999.69 | I21: =ROUND(F21*H21,2) -> 5999.07
A22: 1.4.9. | B22: SINAPI | C22: 97957 | D22: CAIXA PARA BOCA DE LOBO DUPLA RETANGULAR, EM ALVENARIA COM BLOCOS DE CONCRETO, DIMENSÕES INTERNAS: 0,6X2,2X1,2 M. AF_12/2020 | E22: UN | F22: 2 | G22: =VLOOKUP(C22,[3]ORÇAMENTO!$Q$18:$U$497,5,0) -> 2879.44 | H22: =ROUND(G22*1.2423,2) -> 3577.13 | I22: =ROUND(F22*H22,2) -> 7154.26
A23: 1.4.10. | B23: SINAPI | C23: 98008 | D23: BASE PARA POÇO DE VISITA RETANGULAR PARA ESGOTO, EM ALVENARIA COM BLOCOS DE CONCRETO, DIMENSÕES INTERNAS = 1,5X1,5 M, PROFUNDIDADE = 1,45 M, EXCLUINDO TAMPÃO . AF_12/2020 | E23: UN | F23: 1 | G23: =VLOOKUP(C23,[3]ORÇAMENTO!$Q$18:$U$497,5,0) -> 4378.63 | H23: =ROUND(G23*1.2423,2) -> 5439.57 | I23: =ROUND(F23*H23,2) -> 5439.57
A24: 1.4.11. | B24: SINAPI | C24: 99318 | D24: CHAMINÉ CIRCULAR PARA POÇO DE VISITA PARA DRENAGEM, EM CONCRETO PRÉ-MOLDADO, DIÂMETRO INTERNO = 0,6 M. AF_12/2020 | E24: M | F24: 0.2 | G24: =VLOOKUP(C24,[3]ORÇAMENTO!$Q$18:$U$497,5,0) -> 376.21 | H24: =ROUND(G24*1.2423,2) -> 467.37 | I24: =ROUND(F24*H24,2) -> 93.47
A25: 1.4.12. | B25: SINAPI-I | C25: 11301 | D25: TAMPAO FOFO ARTICULADO, COM BASE / REQUADRO, CLASSE B125 CARGA MAX 12,5 T, REDONDO, TAMPA 600 MM (COM INSCRICAO EM RELEVO DO TIPO DE REDE) | E25: UN | F25: 1 | G25: =VLOOKUP(C25,[3]ORÇAMENTO!$Q$18:$U$497,5,0) -> 558.09 | H25: =ROUND(G25*1.2423,2) -> 693.32 | I25: =ROUND(F25*H25,2) -> 693.32
A26: 1.4.13. | B26: SINAPI | C26: 102750 | D26: BOCA PARA BUEIRO SIMPLES TUBULAR D = 60 CM EM CONCRETO, ALAS COM ESCONSIDADE DE 30°, INCLUINDO FÔRMAS E MATERIAIS. AF_07/2021 | E26: UN | F26: 1 | G26: =VLOOKUP(C26,[3]ORÇAMENTO!$Q$18:$U$497,5,0) -> 2610.44 | H26: =ROUND(G26*1.2423,2) -> 3242.95 | I26: =ROUND(F26*H26,2) -> 3242.95
A27: 1.5. | D27: FRESAGEM / DEMOLIÇÃO E REMOÇÃO DE PAVIMENTOS - RUA ANNA LEAL FUGAGNOLLI | H27: Subtotal: | I27: =SUM(I28:I32) -> 45120.54
A28: 1.5.1. | B28: SIURB EDIF | C28: 17060046 | D28: RETIRADA DE PISO INTERTRAVADO | E28: M2 | F28: 1284.45 | G28: =VLOOKUP(C28,[3]ORÇAMENTO!$Q$18:$U$497,5,0) -> 18.12 | H28: =ROUND(G28*1.2423,2) -> 22.51 | I28: =ROUND(F28*H28,2) -> 28912.97
A29: 1.5.2. | B29: SINAPI | C29: 96001 | D29: FRESAGEM DE PAVIMENTO ASFÁLTICO (PROFUNDIDADE ATÉ 5,0 CM) - EXCLUSIVE TRANSPORTE. AF_11/2019 | E29: M2 | F29: 45.28 | G29: =VLOOKUP(C29,[3]ORÇAMENTO!$Q$18:$U$497,5,0) -> 7.41 | H29: =ROUND(G29*1.2423,2) -> 9.21 | I29: =ROUND(F29*H29,2) -> 417.03
A30: 1.5.3. | B30: SINAPI | C30: 101116 | D30: ESCAVAÇÃO HORIZONTAL EM SOLO DE 1A CATEGORIA COM TRATOR DE ESTEIRAS (170HP/LÂMINA: 5,20M3). AF_07/2020 | E30: M3 | F30: 115.6 | G30: =VLOOKUP(C30,[3]ORÇAMENTO!$Q$18:$U$497,5,0) -> 2.59 | H30: =ROUND(G30*1.2423,2) -> 3.22 | I30: =ROUND(F30*H30,2) -> 372.23
A31: 1.5.4. | B31: SINAPI | C31: 100983 | D31: CARGA, MANOBRA E DESCARGA DE ENTULHO EM CAMINHÃO BASCULANTE 14 M³ - CARGA COM ESCAVADEIRA HIDRÁULICA (CAÇAMBA DE 0,80 M³ / 111 HP) E DESCARGA LIVRE (UNIDADE: M3). AF_07/2020 | E31: M3 | F31: 288.7 | G31: =VLOOKUP(C31,[3]ORÇAMENTO!$Q$18:$U$497,5,0) -> 9.66 | H31: =ROUND(G31*1.2423,2) -> 12 | I31: =ROUND(F31*H31,2) -> 3464.4
A32: 1.5.5. | B32: SINAPI | C32: 93592 | D32: TRANSPORTE COM CAMINHÃO BASCULANTE DE 14 M³, EM VIA URBANA EM REVESTIMENTO PRIMÁRIO (UNIDADE: M3XKM). AF_07/2020 | E32: M3XKM | F32: 3868.58 | G32: =VLOOKUP(C32,[3]ORÇAMENTO!$Q$18:$U$497,5,0) -> 2.49 | H32: =ROUND(G32*1.2423,2) -> 3.09 | I32: =ROUND(F32*H32,2) -> 11953.91
A33: 1.6. | D33: RECAPEAMENTO / CAPEAMENTO / RECONSTRUÇÃO DO PAVIMENTO - RUA ANNA LEAL FUGAGNOLLI | H33: Subtotal: | I33: =SUM(I34:I43) -> 224210.58
A34: 1.6.1. | B34: SINAPI | C34: 96396 | D34: CONSTRUÇÃO DE BASE E SUB-BASE PARA PAVIMENTAÇÃO DE BRITA GRADUADA SIMPLES, COM ESPESSURA DE 15 CM - EXCLUSIVE CARGA E TRANSPORTE. AF_09/2024 | E34: M3 | F34: 128.45 | G34: =VLOOKUP(C34,[3]ORÇAMENTO!$Q$18:$U$497,5,0) -> 143.72 | H34: =ROUND(G34*1.2423,2) -> 178.54 | I34: =ROUND(F34*H34,2) -> 22933.46
A35: 1.6.2. | B35: SINAPI | C35: 100979 | D35: CARGA, MANOBRA E DESCARGA DE SOLOS E MATERIAIS GRANULARES EM CAMINHÃO BASCULANTE 14 M³ - CARGA COM ESCAVADEIRA HIDRÁULICA (CAÇAMBA DE 1,20 M³ / 155 HP) E DESCARGA LIVRE (UNIDADE: M3). AF_07/2020 | E35: M3 | F35: 128.45 | G35: =VLOOKUP(C35,[3]ORÇAMENTO!$Q$18:$U$497,5,0) -> 7.15 | H35: =ROUND(G35*1.2423,2) -> 8.88 | I35: =ROUND(F35*H35,2) -> 1140.64
A36: 1.6.3. | B36: SINAPI | C36: 93592 | D36: TRANSPORTE COM CAMINHÃO BASCULANTE DE 14 M³, EM VIA URBANA EM REVESTIMENTO PRIMÁRIO (UNIDADE: M3XKM). AF_07/2020 | E36: M3XKM | F36: 2337.79 | G36: =VLOOKUP(C36,[3]ORÇAMENTO!$Q$18:$U$497,5,0) -> 2.49 | H36: =ROUND(G36*1.2423,2) -> 3.09 | I36: =ROUND(F36*H36,2) -> 7223.77
A37: 1.6.4. | B37: SIURB INFRA | C37: 5024001 | D37: BASE DE MACADAME BETUMINOSO | E37: M3 | F37: 51.38 | G37: =VLOOKUP(C37,[3]ORÇAMENTO!$Q$18:$U$497,5,0) -> 942.41 | H37: =ROUND(G37*1.2423,2) -> 1170.76 | I37: =ROUND(F37*H37,2) -> 60153.65
A38: 1.6.5. | B38: SINAPI | C38: 100987 | D38: CARGA DE MISTURA ASFÁLTICA EM CAMINHÃO BASCULANTE 14 M³ (UNIDADE: M3). AF_07/2020 | E38: M3 | F38: 51.38 | G38: =VLOOKUP(C38,[3]ORÇAMENTO!$Q$18:$U$497,5,0) -> 10.91 | H38: =ROUND(G38*1.2423,2) -> 13.55 | I38: =ROUND(F38*H38,2) -> 696.2
A39: 1.6.6. | B39: SINAPI | C39: 93592 | D39: TRANSPORTE COM CAMINHÃO BASCULANTE DE 14 M³, EM VIA URBANA EM REVESTIMENTO PRIMÁRIO (UNIDADE: M3XKM). AF_07/2020 | E39: M3XKM | F39: 935.12 | G39: =VLOOKUP(C39,[3]ORÇAMENTO!$Q$18:$U$497,5,0) -> 2.49 | H39: =ROUND(G39*1.2423,2) -> 3.09 | I39: =ROUND(F39*H39,2) -> 2889.52
A40: 1.6.7. | B40: Composição | C40: 104375 | D40: EXECUÇÃO DE PINTURA DE LIGAÇÃO COM EMULSÃO ASFÁLTICA RR-2C. AF_11/2019 (IMPRIMAÇÃO LIGANTE) | E40: M2 | F40: 1329.73 | G40: =VLOOKUP(C40,[3]ORÇAMENTO!$Q$18:$U$497,5,0) -> 2.48 | H40: =ROUND(G40*1.2423,2) -> 3.08 | I40: =ROUND(F40*H40,2) -> 4095.57
...
