Workbook
Name AreaTeste: #REF!
Name AreaTeste2: #REF!
Name CélulaInicioPlanilha: #REF!
Name CélulaResumo: #REF!
Name Excel_BuiltIn_Database: #REF!
Name Excel_BuiltIn_Database_2: #REF!

Sheet Planilha
D1: PLANILHA ORÇAMENTÁRIA
D4: BDI: 24,23%
D5: Local: Final da Rua Bruno Costa, Vila Loanda - Ferraz de Vasconcelos
F6: Data base: | G6: SIURB Jul/25
A7: FONTE | B7: FONTE | C7: CÓDIGO | D7: DESCRIÇÃO DOS SERVIÇOS | E7: UNID. | F7: QUANT. | G7: VALOR UNIT. | I7: TOTAL (R$)
G8: S/BDI | H8: C/BDI
A9: 1. | D9: 1 - SERVIÇOS PRELIMINARES
A10: 1.1 | B10: SIURB-I Jul/25 | C10: 10016003 | D10: PLACA DE OBRA EM CHAPA DE AÇO GALVANIZADO | E10: M2 | F10: 6 | I10: =TRUNC(F10*H10,2) -> 0
A11: 1.3 | B11: SIURB-I Jul/25 | C11: 4033000 | D11: LIMPEZA MECANIZADA DE TERRENO, INCLUSIVE DE CAMADA VEGETAL ATÉ 30CM DE PROFUNDIDADE, SEM TRANSPORTE | E11: M2 | F11: 208 | I11: =TRUNC(F11*H11,2) -> 0
A12: 1.4 | B12: SIURB-I Jul/25 | C12: 8080000 | D12: CARGA E REMOÇÃO DE ENTULHO ATÉ A DISTÂNCIA MÉDIA DE IDA E VOLTA DE 1KM | E12: M3 | F12: 14.56 | I12: =TRUNC(F12*H12,2) -> 0
A13: 1.5 | B13: SIURB-I Jul/25 | C13: 8086000 | D13: REMOÇÃO DE ENTULHO ALÉM DO PRIMEIRO KM | E13: M3XKM | F13: 393.12 | I13: =TRUNC(F13*H13,2) -> 0
H14: Subtotal: | I14: =SUM(I10:I13) -> 0
D15: 2 - MOVIMENTO DE TERRA
A16: 2. | B16: SIURB-I Jul/25 | C16: 4007000 | D16: ESCAVAÇÃO MECÂNICA DE CÓRREGO | E16: M3 | F16: 528 | I16: =TRUNC(F16*H16,2) -> 0
A17: 2.1 | B17: SIURB-I Jul/25 | C17: 4008000 | D17: REATERRO COMPACTADO DE FUNDAÇÃO | E17: M3 | F17: 264 | I17: =TRUNC(F17*H17,2) -> 0
A18: 2.2 | B18: SIURB-I Jul/25 | C18: 4015000 | D18: CARGA E REMOÇÃO DE TERRA ATÉ A DISTÂNCIA MÉDIA DE 1,0KM COM CAMINHÃO BASCULANTE DE 14 M3 | E18: M3 | F18: 343.2 | I18: =TRUNC(F18*H18,2) -> 0
A19: 2.3 | B19: SIURB-I Jul/25 | C19: 4060000 | D19: REMOÇÃO DE TERRA ALÉM DO PRIMEIRO KM COM CAMINHÃO DE 14 M3 | E19: M3XKM | F19: 9266.4 | I19: =TRUNC(F19*H19,2) -> 0
A20: 2.4 | B20: SIURB-I Jul/25 | C20: 4064000 | D20: DISPOSIÇÃO FINAL DE SOLOS E RESÍDUOS, CLASSE II B - INERTES, EM ATERRO SANITÁRIO LICENCIADO | E20: Ton | F20: 343.2 | I20: =TRUNC(F20*H20,2) -> 0
H21: Subtotal: | I21: =SUM(I16:I20) -> 0
A22: 3. | D22: 3 - GALERIAS MOLDADAS, CÓRREGOS E DRENAGEM
A23: 3.1 | B23: SIURB-I Jul/25 | C23: 6044000 | D23: ENSECADEIRA DE MADEIRA EM PAREDES SIMPLES, COM POSTERIOR RETIRADA DO MATERIAL | E23: M2 | F23: 46.4 | I23: =TRUNC(F23*H23,2) -> 0
A24: 3.2 | B24: SIURB-I Jul/25 | C24: 6069005 | D24: IHD.23 - FORNECIMENTO E COLOCAÇÃO DE MANTA GEOTÊXTIL COM RESISTÊNCIA À TRAÇÃO LONGITUDINAL DE 14KN/M E TRAÇÃO TRANSVERSAL DE 12KN/M | E24: M2 | F24: 180 | I24: =TRUNC(F24*H24,2) -> 0
A25: 3.3 | B25: SIURB-I Jul/25 | C25: 5020000 | D25: FUNDAÇÃO DE RACHÃO | E25: M3 | F25: 34.32 | I25: =TRUNC(F25*H25,2) -> 0
A26: 3.4 | B26: SIURB-I Jul/25 | C26: 7007000 | D26: FORMA PARA GALERIA MOLDADA | E26: M2 | F26: 180 | I26: =TRUNC(F26*H26,2) -> 0
A27: 3.5 | B27: SIURB-I Jul/25 | C27: 7001000 | D27: ESCORAMENTO CONTÍNUO DE MADEIRA PARA GALERIAS MOLDADAS, COM REAPROVEITAMENTO | E27: M2 | F27: 180 | I27: =TRUNC(F27*H27,2) -> 0
A28: 3.6 | B28: SIURB-I Jul/25 | C28: 7008000 | D28: FORNECIMENTO E APLICAÇÃO DE AÇO CA-25 | E28: KG | F28: 210 | I28: =TRUNC(F28*H28,2) -> 0
A29: 3.7 | B29: SIURB-I Jul/25 | C29: 7009000 | D29: FORNECIMENTO E APLICAÇÃO DE AÇO CA-50 - DIÂMETRO < 1/2" | E29: KG | F29: 3360 | I29: =TRUNC(F29*H29,2) -> 0
A30: 3.8 | B30: SIURB-I Jul/25 | C30: 7011000 | D30: FORNECIMENTO E APLICAÇÃO DE AÇO CA-60 | E30: KG | F30: 840 | I30: =TRUNC(F30*H30,2) -> 0
A31: 3.9 | B31: SIURB-I Jul/25 | C31: 7017000 | D31: FORNECIMENTO E APLICAÇÃO DE CONCRETO USINADO FCK=30,0MPA | E31: M3 | F31: 42 | I31: =TRUNC(F31*H31,2) -> 0
A32: 3.10 | B32: SIURB-I Jul/25 | C32: 7019000 | D32: BARBACANS DE TUBOS DE PVC - DIÂMETRO 4" | E32: UN | F32: 100 | I32: =TRUNC(F32*H32,2) -> 0
H33: Subtotal: | I33: =SUM(I23:I32) -> 0
A34: 4. | D34: 4 - PONTE PARA PEDESTRE
A35: 4.1 | B35: SIURB-I Jul/25 | C35: 8068000 | D35: BROCA, DIÂMETRO 25CM, PROFUNDIDADE ATÉ 4M | E35: M | F35: 16 | I35: =TRUNC(F35*H35,2) -> 0
A36: 4.2 | B36: SIURB-I Jul/25 | C36: 4001000 | D36: ESCAVAÇÃO MANUAL PARA FUNDAÇÕES E VALAS COM PROFUNDIDADE MÉDIA MENOR OU IGUAL À 1,50M | E36: M3 | F36: 0.36 | I36: =TRUNC(F36*H36,2) -> 0
A37: 4.3 | B37: SIURB-I Jul/25 | C37: 8014001 | D37: FORMA COMUM, INCLUSIVE CIMBRAMENTO | E37: M2 | F37: 29.93 | I37: =TRUNC(F37*H37,2) -> 0
A38: 4.4 | B38: SIURB-I Jul/25 | C38: 8020000 | D38: FORNECIMENTO E APLICAÇÃO DE AÇO CA-50 - DIÂMETRO MENOR QUE 1/2" | E38: KG | F38: 191.4 | I38: =TRUNC(F38*H38,2) -> 0
A39: 4.5 | B39: SIURB-I Jul/25 | C39: 8021000 | D39: FORNECIMENTO E APLICAÇÃO DE AÇO CA-50 - DIÂMETRO MAIOR OU IGUAL À 1/2" | E39: KG | F39: 87 | I39: =TRUNC(F39*H39,2) -> 0
A40: 4.6 | B40: SIURB-I Jul/25 | C40: 8022000 | D40: FORNECIMENTO E APLICAÇÃO DE AÇO CA-60 | E40: KG | F40: 69.6 | I40: =TRUNC(F40*H40,2) -> 0
A41: 4.7 | B41: SIURB-I Jul/25 | C41: 8027000 | D41: FORNECIMENTO E APLICAÇÃO DE CONCRETO USINADO FCK=25MPA -BOMBEADO | E41: M3 | F41: 3.48 | I41: =TRUNC(F41*H41,2) -> 0
A42: 4.8 | B42: SIURB-E Jul/25 | C42: 5001040 | D42: REGULARIZAÇÃO COM ARGAMASSA DE CIMENTO E AREIA - TRAÇO 1:3, ESPESSURA MÉDIA 30MM | E42: M2 | F42: 8.9 | I42: =TRUNC(F42*H42,2) -> 0
...

Sheet Cronograma
B5: CRONOGRAMA FISICO-FINANCEIRO
B7: =Planilha!D3 -> 0
B9: Descrição | C9: MESES | V9: Valor do Item | W9: %
C10: 1 | D10: 2 | E10: 3 | F10: 4 | G10: 5 | H10: 6 | I10: 7 | J10: 8 | K10: 9 | L10: 10 | M10: 11 | N10: 12 | O10: 13 | P10: 14 | Q10: 15 | R10: 16 | S10: 17 | T10: 18 | U10: 19
B11: =Planilha!D9 -> 1 - SERVIÇOS PRELIMINARES | V11: =Planilha!I14 -> 0 | W11: =V11/$V$23 -> #DIV/0!
C12: X
C13: =IF(C12="x", $V11/COUNTIF($C12:$U12,"x"), "") -> 0 | D13: =IF(D12="x", $V11/COUNTIF($C12:$U12,"x"), "") | E13: =IF(E12="x", $V11/COUNTIF($C12:$U12,"x"), "") | F13: =IF(F12="x", $V11/COUNTIF($C12:$U12,"x"), "") | G13: =IF(G12="x", $V11/COUNTIF($C12:$U12,"x"), "") | H13: =IF(H12="x", $V11/COUNTIF($C12:$U12,"x"), "") | I13: =IF(I12="x", $V11/COUNTIF($C12:$U12,"x"), "") | J13: =IF(J12="x", $V11/COUNTIF($C12:$U12,"x"), "") | ... U13: =IF(U12="x", $V11/COUNTIF($C12:$U12,"x"), "")
B14: =Planilha!D15 -> 2 - MOVIMENTO DE TERRA | V14: =Planilha!I21 -> 0 | W14: =V14/$V$23 -> #DIV/0!
C15: x | D15: x
C16: =IF(C15="x", $V14/COUNTIF($C15:$U15,"x"), "") -> 0 | D16: =IF(D15="x", $V14/COUNTIF($C15:$U15,"x"), "") -> 0 | E16: =IF(E15="x", $V14/COUNTIF($C15:$U15,"x"), "") | F16: =IF(F15="x", $V14/COUNTIF($C15:$U15,"x"), "") | G16: =IF(G15="x", $V14/COUNTIF($C15:$U15,"x"), "") | H16: =IF(H15="x", $V14/COUNTIF($C15:$U15,"x"), "") | I16: =IF(I15="x", $V14/COUNTIF($C15:$U15,"x"), "") | J16: =IF(J15="x", $V14/COUNTIF($C15:$U15,"x"), "") | ... U16: =IF(U15="x", $V14/COUNTIF($C15:$U15,"x"), "")
B17: =Planilha!D22 -> 3 - GALERIAS MOLDADAS, CÓRREGOS E DRENAGEM | V17: =Planilha!I33 -> 0 | W17: =V17/$V$23 -> #DIV/0!
D18: x | E18: x | F18: x | G18: x
C19: =IF(C18="x", $V17/COUNTIF($C18:$U18,"x"), "") | D19: =IF(D18="x", $V17/COUNTIF($C18:$U18,"x"), "") -> 0 | E19: =IF(E18="x", $V17/COUNTIF($C18:$U18,"x"), "") -> 0 | F19: =IF(F18="x", $V17/COUNTIF($C18:$U18,"x"), "") -> 0 | G19: =IF(G18="x", $V17/COUNTIF($C18:$U18,"x"), "") -> 0 | H19: =IF(H18="x", $V17/COUNTIF($C18:$U18,"x"), "") | I19: =IF(I18="x", $V17/COUNTIF($C18:$U18,"x"), "") | J19: =IF(J18="x", $V17/COUNTIF($C18:$U18,"x"), "") | ... U19: =IF(U18="x", $V17/COUNTIF($C18:$U18,"x"), "")
B20: =Planilha!D34 -> 4 - PONTE PARA PEDESTRE | V20: =Planilha!I45 -> 0 | W20: =V20/$V$23 -> #DIV/0!
G21: x | H21: x
C22: =IF(C21="x", $V20/COUNTIF($C21:$U21,"x"), "") | D22: =IF(D21="x", $V20/COUNTIF($C21:$U21,"x"), "") | E22: =IF(E21="x", $V20/COUNTIF($C21:$U21,"x"), "") | F22: =IF(F21="x", $V20/COUNTIF($C21:$U21,"x"), "") | G22: =IF(G21="x", $V20/COUNTIF($C21:$U21,"x"), "") -> 0 | H22: =IF(H21="x", $V20/COUNTIF($C21:$U21,"x"), "") -> 0 | I22: =IF(I21="x", $V20/COUNTIF($C21:$U21,"x"), "") | J22: =IF(J21="x", $V20/COUNTIF($C21:$U21,"x"), "") | ... U22: =IF(U21="x", $V20/COUNTIF($C21:$U21,"x"), "")
B23: TOTAL GERAL: | C23: =SUM(C11:C22) -> 0 | D23: =SUM(D11:D22) -> 0 | E23: =SUM(E11:E22) -> 0 | F23: =SUM(F11:F22) -> 0 | G23: =SUM(G11:G22) -> 0 | H23: =SUM(H11:H22) -> 0 | I23: =SUM(I11:I22) -> 0 | J23: =SUM(J11:J22) -> 0 | ... W23: =SUM(W11:W22) -> #DIV/0! | X23: =SUM(C23:H23) -> 0

Sheet BDI
B5: DEMONSTRATIVO DE COMPOSIÇÃO DO BDI
B6: (acórdão 2622/2013-TCU-Plenário)
B8: =Planilha!D3 -> 0 | O8: CRONOGRAMA FISICO DA
B10: =Planilha!D5 -> Local: Final da Rua Bruno Costa, Vila Loanda - Ferraz de Vasconcelos
B12: Itens | E12: Siglas | F12: % Adotado
B14: Administração Central | E14: AC | F14: 0.0401
B15: Seguro e Garantia | E15: SG | F15: 0.004
B16: Risco | E16: R | F16: 0.0075
B17: Despesas Financeiras | E17: DF | F17: 0.012
B18: Lucro | E18: L | F18: 0.0664
B19: Tributos (impostos COFINS 3%, e PIS 0,65%) | E19: CP | F19: 0.0365
B20: Tributos (ISS, variável de acordo com o município) | E20: ISS | F20: 0.05
B21: Tributos (Contribuição Previdenciária sobre a Receita Bruta - 0% ou 4,5% - Desoneração) | E21: CPRB | F21: 0
B22: Taxa BDI (%) | F22: =(((1+F14+F15+F16)*(1+F17)*(1+F18))/(1-F19-F20))-1 -> 0.24234631
B25: Os valores de BDI foram calculados com o emprego da fórmula (acórdão 2622/2013-TCU-Plenário):
C27: BDI = | D27: ( 1+ AC + S + R + G ) x ( 1 + DF ) x ( 1 + L ) | E27: -1
D28: (1- CP - ISS)
B31: Declaremos sob pena de Lei que a alternativa adotada pela Prefeitura do Município de Ferraz de Vasconcelos é SEM Desoneração e que está é a mais vantajosa para a Administração Pública.
D36: =Cronograma!C26 -> 0
D37: =Cronograma!C27 -> 0
D38: =Cronograma!C28 -> 0
