Workbook
Name \0: #REF!
Name \1: #REF!
Name \a: #REF!
Name \a: #REF!
Name \b: '[1]Quilometragem de Setor'!#REF!
Name \b: '[1]Quilometragem de Setor'!#REF!
Name \c: #N/A
Name \D: #REF!
Name \df: #N/A
Name \e: #REF!
Name \g: #REF!
Name \i: #REF!
Name \l: #REF!
Name \M: #REF!
Name \O: #REF!
Name \p: #REF!
Name \p: #REF!
Name \p3: #REF!
Name \R: #REF!
Name \s: #REF!
Name \T: #REF!
Name \V: #REF!
Name \x: #REF!
Name \y: #REF!
Name \z: #REF!
Name _: #REF!
Name _\c: #N/A
Name _\e: #REF!
Name _\M: #REF!
Name __\0: #REF!
Name __\a: #REF!
Name __\b: #REF!
Name __\p: #REF!
Name __________________________________\0: #REF!
Name __________________________________\a: #REF!
Name __________________________________\b: #N/A
Name __________________________________\i: #REF!
Name __________________________________\p: #REF!
Name ______________________________________________________xlnm.Print_Titles_2: #REF!
Name ____________________________________________________xlnm.Print_Titles_2: #REF!
Name __________________________________________________xlnm.Print_Titles_2: #REF!
Name ________________________________________________xlnm.Print_Titles_2: #REF!
Name _______________________________________________xlnm.Print_Titles_2: #REF!
Name _____________________________________________xlnm.Print_Titles_2: #REF!
Name ___________________________________________xlnm.Print_Titles_2: #REF!
Name _________________________________________xlnm.Print_Titles_2: #REF!
Name _______________________________________xlnm.Print_Titles_2: #REF!
Name _____________________________________xlnm.Print_Titles_2: #REF!
Name ___________________________________xlnm.Print_Titles_2: #REF!
Name __________________________________xlnm.Print_Titles_2: #REF!
Name _________________________________inv2: #REF!
Name ________________________________inv2: #REF!
Name ________________________________xlnm.Print_Titles_2: #REF!
Name _______________________________inv2: #REF!
Name ______________________________inv2: #REF!
Name ______________________________xlnm.Print_Titles_2: #REF!
Name _____________________________inv2: #REF!
Name ____________________________inv2: #REF!
Name ____________________________xlnm.Print_Titles_2: #REF!
Name ___________________________inv2: #REF!

Sheet Quadro B
C3: QUADRO B - CRONOGRAMA QUANTITATIVO DE SERVIÇOS
C4: ITEM | D4: SERVIÇOS | E4: UNID. | F4: QUANT. MENSAL | G4: QUANT. ANUAL | H4: 1 | I4: =H4+1 -> 2 | J4: =I4+1 -> 3 | K4: =J4+1 -> 4 | L4: =K4+1 -> 5
C5: 1. | D5: COLETA E TRANSPORTE ATÉ O TRANSBORDO DE RESÍDUOS SÓLIDOS DOMICILIARES
C6: 1.1. | D6: Coleta e transporte até o transbordo de resíduos sólidos urbanos e dos oriundos de feiras livres | E6: t. | F6: =+#REF! -> #REF! | G6: =F6*12 -> #REF! | H6: =G6 -> #REF! | I6: =H6 -> #REF! | J6: =I6 -> #REF! | K6: =J6 -> #REF! | L6: =K6 -> #REF!
C7: 1.2. | D7: Coleta manual de resíduos sólidos urbanos | E7: hr. | F7: =+#REF! -> #REF! | G7: =F7*12 -> #REF! | H7: =G7 -> #REF! | I7: =H7 -> #REF! | J7: =I7 -> #REF! | K7: =J7 -> #REF! | L7: =K7 -> #REF!
C8: 1.3. | D8: Manipulação manual de resíduos | E8: hr. | F8: =+#REF! -> #REF! | G8: =F8*12 -> #REF! | H8: =G8 -> #REF! | I8: =H8 -> #REF! | J8: =I8 -> #REF! | K8: =J8 -> #REF! | L8: =K8 -> #REF!
C9: 2. | D9: COLETA DE RESÍDUOS ESPECIAIS
C10: 2.1 | D10: Remoção mecanizada de resíduos especiais com emprego de pá-carregadeira | E10: t. | F10: =+#REF! -> #REF! | G10: =F10*12 -> #REF! | H10: =G10 -> #REF! | I10: =H10 -> #REF! | J10: =I10 -> #REF! | K10: =J10 -> #REF! | L10: =K10 -> #REF!
C11: 2.2 | D11: Remoção mecanizada de resíduos especiais com emprego de mini pá-carregadeira - bob cat | E11: t. | F11: =+#REF! -> #REF! | G11: =F11*12 -> #REF! | H11: =G11 -> #REF! | I11: =H11 -> #REF! | J11: =I11 -> #REF! | K11: =J11 -> #REF! | L11: =K11 -> #REF!
C12: 2.3 | D12: Remoção manual de resíduos especiais
C13: 2.3.1 | D13: Remoção manual de resíduos especiais diurno | E13: t. | F13: =+#REF! -> #REF! | G13: =F13*12 -> #REF! | H13: =G13 -> #REF! | I13: =H13 -> #REF! | J13: =I13 -> #REF! | K13: =J13 -> #REF! | L13: =K13 -> #REF!
C14: 2.3.2 | D14: Remoção manual de resíduos especiais noturno | E14: t. | F14: =+#REF! -> #REF! | G14: =F14*12 -> #REF! | H14: =G14 -> #REF! | I14: =H14 -> #REF! | J14: =I14 -> #REF! | K14: =J14 -> #REF! | L14: =K14 -> #REF!
C15: 2.4 | D15: Remoção de caixas estacionárias com emprego de caminhão poliguindaste | F15: =+#REF! -> #REF! | G15: =F15*12 -> #REF! | H15: =G15 -> #REF! | I15: =H15 -> #REF! | J15: =I15 -> #REF! | K15: =J15 -> #REF! | L15: =K15 -> #REF!
C16: 2.4.1 | D16: Remoção de caixas estacionárias com emprego de caminhão poliguindaste diurno | E16: t. | F16: =+#REF! -> #REF! | G16: =F16*12 -> #REF! | H16: =G16 -> #REF! | I16: =H16 -> #REF! | J16: =I16 -> #REF! | K16: =J16 -> #REF! | L16: =K16 -> #REF!
C17: 2.4.2 | D17: Remoção de caixas estacionárias com emprego de caminhão poliguindaste noturno | E17: t. | F17: =+#REF! -> #REF! | G17: =F17*12 -> #REF! | H17: =G17 -> #REF! | I17: =H17 -> #REF! | J17: =I17 -> #REF! | K17: =J17 -> #REF! | L17: =K17 -> #REF!
C18: 3. | D18: COLETA E TRANSPORTE SELETIVA DE RESÍDUOS
C19: 3.1 | D19: Coleta seletiva com emprego de caminhão baú | E19: t. | F19: =+#REF! -> #REF! | G19: =F19*12 -> #REF! | H19: =G19 -> #REF! | I19: =H19 -> #REF! | J19: =I19 -> #REF! | K19: =J19 -> #REF! | L19: =K19 -> #REF!
C20: 3.2 | D20: Coleta seletiva com emprego de caminhão munck | E20: t. | F20: =+#REF! -> #REF! | G20: =F20*12 -> #REF! | H20: =G20 -> #REF! | I20: =H20 -> #REF! | J20: =I20 -> #REF! | K20: =J20 -> #REF! | L20: =K20 -> #REF!
C21: 3.3 | D21: Coleta seletiva com emprego de caminhão compactador com Lifter | E21: t. | F21: =+#REF! -> #REF! | G21: =F21*12 -> #REF! | H21: =G21 -> #REF! | I21: =H21 -> #REF! | J21: =I21 -> #REF! | K21: =J21 -> #REF! | L21: =K21 -> #REF!
C22: 3.4 | D22: Coleta de resíduos volumosos - "Papa-Móveis" | E22: m3 | F22: =+#REF! -> #REF! | G22: =F22*12 -> #REF! | H22: =G22 -> #REF! | I22: =H22 -> #REF! | J22: =I22 -> #REF! | K22: =J22 -> #REF! | L22: =K22 -> #REF!
C23: 4. | D23: DISPONIBILIZAÇÃO E MANUTENÇÃO DE CAIXAS ESTACIONÁRIAS | E23: und. | F23: =+#REF! -> #REF! | G23: =F23*12 -> #REF! | H23: =G23 -> #REF! | I23: =H23 -> #REF! | J23: =I23 -> #REF! | K23: =J23 -> #REF! | L23: =K23 -> #REF!
C24: 5. | D24: VARRIÇÃO DE VIAS E LIMPEZA DE PRAIAS
C25: 5.1. | D25: Varrição Manual de vias e logradouros públicos | E25: km.meio fio | F25: =+#REF! -> #REF! | G25: =F25*12 -> #REF! | H25: =G25 -> #REF! | I25: =H25 -> #REF! | J25: =I25 -> #REF! | K25: =J25 -> #REF! | L25: =K25 -> #REF!
C26: 5.2. | D26: Varrição Mecanizada de vias públicas | E26: km.meio fio | F26: =+#REF! -> #REF! | G26: =F26*12 -> #REF! | H26: =G26 -> #REF! | I26: =H26 -> #REF! | J26: =I26 -> #REF! | K26: =J26 -> #REF! | L26: =K26 -> #REF!
C27: 5.3. | D27: Limpeza Mecanizada de praias | E27: km | F27: =+#REF! -> #REF! | G27: =F27*12 -> #REF! | H27: =G27 -> #REF! | I27: =$F$27*12 -> #REF! | J27: =I27 -> #REF! | K27: =J27 -> #REF! | L27: =K27 -> #REF!
C28: 6. | D28: SERVIÇOS COMPLEMENTARES
C29: 6.1 | D29: Capina, raspagem e pintura manual de sarjeta e guia (meio fio); limpeza de bueiros (boca de lobo) e valas | E29: t. | F29: =+#REF! -> #REF! | G29: =F29*12 -> #REF! | H29: =G29 -> #REF! | I29: =$F$29*12 -> #REF! | J29: =I29 -> #REF! | K29: =J29 -> #REF! | L29: =K29 -> #REF!
C30: 6.1.1 | D30: Capina, raspagem e pintura manual de sarjeta e guia (meio fio); Domingos e feriados | E30: eq/mês | F30: =+#REF! -> #REF! | G30: =F30*12 -> #REF! | H30: =G30 -> #REF! | I30: =H30 -> #REF! | J30: =I30 -> #REF! | K30: =J30 -> #REF! | L30: =K30 -> #REF!
C31: 6.2 | D31: Roçagem mecanizada | E31: UNID. | F31: =+#REF! -> #REF! | G31: =F31*12 -> #REF! | H31: =G31 -> #REF! | I31: =H31 -> #REF! | J31: =I31 -> #REF! | K31: =J31 -> #REF! | L31: =K31 -> #REF!
C32: 6.3 | D32: Lavagem e desinfecção de vias, pátios de feiras livres e mercados públicos | E32: unid.
C33: 6.3.1 | D33: Lavagem e desinfecção de vias, pátios de feiras livres e mercados públicos diurno | E33: unid. | F33: =+#REF! -> #REF! | G33: =F33*12 -> #REF! | H33: =G33 -> #REF! | I33: =H33 -> #REF! | J33: =I33 -> #REF! | K33: =J33 -> #REF! | L33: =K33 -> #REF!
C34: 6.3.2 | D34: Lavagem e desinfecção de vias, pátios de feiras livres e mercados públicos noturno | E34: unid. | F34: =+#REF! -> #REF! | G34: =F34*12 -> #REF! | H34: =G34 -> #REF! | I34: =H34 -> #REF! | J34: =I34 -> #REF! | K34: =J34 -> #REF! | L34: =K34 -> #REF!
C35: 7. | D35: OPERAÇÃO DE TRANSBORDO DE RESÍDUOS SÓLIDOS DOMICILIARES | E35: t. | F35: =+#REF! -> #REF! | G35: =F35*12 -> #REF! | H35: =G35 -> #REF! | I35: =H35 -> #REF! | J35: =I35 -> #REF! | K35: =J35 -> #REF! | L35: =K35 -> #REF!
C36: 8. | D36: TRANSPORTE DE RESÍDUOS SÓLIDOS URBANOS DO TIPO DOMICILIAR | E36: t. x km | F36: =+#REF! -> #REF! | G36: =F36*12 -> #REF! | H36: =G36 -> #REF! | I36: =H36 -> #REF! | J36: =I36 -> #REF! | K36: =J36 -> #REF! | L36: =K36 -> #REF!
C37: 9. | D37: CARGA E TRANSPORTE DE RESÍDUOS SÓLIDOS ESPECIAIS (INERTES) | E37: t. x km | F37: =+#REF! -> #REF! | G37: =F37*12 -> #REF! | H37: =G37 -> #REF! | I37: =H37 -> #REF! | J37: =I37 -> #REF! | K37: =J37 -> #REF! | L37: =K37 -> #REF!
C38: 10. | D38: ADMINISTRAÇÃO LOCAL | E38: eq. x mês | F38: =+#REF! -> #REF! | G38: =F38*12 -> #REF! | H38: =G38 -> #REF! | I38: =H38 -> #REF! | J38: =I38 -> #REF! | K38: =J38 -> #REF! | L38: =K38 -> #REF!
C40: QUADRO C - MEMÓRIA DE CÁLCULO DO OPEX
C41: ITEM | D41: SERVIÇOS | E41: UNID. | F41: C. UNIT | H41: 1 | I41: =H41+1 -> 2 | J41: =I41+1 -> 3 | K41: =J41+1 -> 4 | L41: =K41+1 -> 5
C42: 1. | D42: COLETA E TRANSPORTE ATÉ O TRANSBORDO DE RESÍDUOS SÓLIDOS DOMICILIARES
C43: 1.1. | D43: Coleta e transporte até o transbordo de resíduos sólidos urbanos e dos oriundos de feiras livres | E43: t. | F43: =+'1. RSD'!$J$284 -> 302.31 | H43: =H6*$F$43 -> #REF! | I43: =I6*$F$43 -> #REF! | J43: =J6*$F$43 -> #REF! | K43: =K6*$F$43 -> #REF! | L43: =L6*$F$43 -> #REF!
...

Sheet Planilha
C4: PLANILHA DE QUANTIDADES E PREÇOS UNITÁRIOS DE REFERÊNCIA
C5: ITENS | D5: SERVIÇOS | E5: UNID. | F5: QDADE MENSAL | G5: PREÇO UNITÁRIO | H5: TOTAL MENSAL | I5: TOTAL ANUAL
C6: 1. | D6: Coleta de Resíduos Sólidos Domiciliares, Comercial e Público | E6: ton. | F6: 4700 | H6: =F6*G6 -> 0 | I6: =H6*12 -> 0
C7: 2. | D7: Coleta Mecanizada de Resíduos Sólidos Domiciliares, Comercial e Público - Carga Lateral | E7: ton. | F7: 500 | H7: =F7*G7 -> 0 | I7: =H7*12 -> 0
C8: 3. | D8: Coleta Seletiva de Materiais Recicláveis | E8: equipe x mês | F8: 3 | H8: =F8*G8 -> 0 | I8: =H8*12 -> 0
C9: 4. | D9: Transporte de Resíduos Sólidos Domiciliares, Comercial e Público fora do Município | E9: ton. | F9: =F6+F7 -> 5200 | H9: =F9*G9 -> 0 | I9: =H9*12 -> 0
C10: 5. | D10: Remoção de Caçambas Estacionárias | E10: remoção | F10: 100 | H10: =F10*G10 -> 0 | I10: =H10*12 -> 0
C11: 6. | D11: Destinação Final de Resíduos Sólidos Domiciliares, Comercial e Público | E11: ton. | F11: =F6+F7 -> 5200 | H11: =F11*G11 -> 0 | I11: =H11*12 -> 0
C12: 7. | D12: Remoção e Disposição Final de Materias Inertes e RCC | E12: ton. | F12: 1800 | H12: =F12*G12 -> 0 | I12: =H12*12 -> 0
C13: TOTAL | H13: =SUM(H6:H12) -> 0 | I13: =SUM(I6:I12) -> 0
D18: Assinatura do responsável pela elaboração da planilha

Sheet 1. RSD
A3: COMPOSIÇÃO DE PREÇOS UNITÁRIOS
A5: 1. Coleta de Resíduos Sólidos Domiciliares, Comercial e Público
B7: DADOS OPERACIONAIS
B8: Dias no ano: | C8: 365.25 | D8: dias
B9: Domingos no ano: | C9: =C8/7 -> 52.178571 | D9: domingos
B10: Feriados no ano: | C10: 12 | D10: dias
B11: Média dias normais: | C11: =(C8-C9-C10)/12 -> 25.089286 | D11: dias
B12: Média dias coletas: | C12: =(C8-C9)/12 -> 26.089286 | D12: dias
B14: QUANTIDADE: | C14: =+Planilha!$F$6 -> 4700 | D14: t./mês | E14: t./dia
B15: 1º Turno | C15: 0.5 | D15: =TRUNC(C14*C15,2) -> 2350 | E15: =ROUNDUP(D15/$C$17,2) -> 90.08
B16: 2º Turno | C16: =1-C15 -> 0.5 | D16: =TRUNC(C14*C16,2) -> 2350 | E16: =ROUNDUP(D16/$C$17,2) -> 90.08
B17: Dias efetivos: | C17: =C12 -> 26.089286
B19: QUANTIDADE: | E19: t./dia 15 m3
B20: 1º Turno | E20: =E15-F20 -> 90.08
B21: 2º Turno | E21: =E16-F21 -> 90.08
B23: DIMENSIONAMENTO: | D23: SAÍDAS
B24: CAPACIDADE: | C24: 6 | D24: 1º Turno | E24: =ROUNDUP(E20/$C$26,0) -> 8
B25: Q. VIAGENS: | C25: 2 | D25: 2º Turno | E25: =ROUNDUP(E21/$C$26,0) -> 8
B26: PROD xTURNO: | C26: =TRUNC(C24*C25,2) -> 12 | D26: Domingos | E26: 2
B28: CONSTITUIÇÃO DAS GUANIÇÕES:
B29: Coletor Compactador 15 m3
B30: Motorista | C30: 1
B31: Coletor | C31: 3
B33: Veículos
B35: Caminhão Coletor Compactador 15 m³ | D35: Quantidade | E35: Reserva | F35: Km/dia por Veíc. | G35: Km por mês | H35: Efetivo | I35: Reserva
B36: 1º Turno | D36: =E24 -> 8 | E36: 0.1 | F36: =72.48*$C$25 -> 144.96 | G36: =F36*$C$17*D36 -> 30255.223 | H36: =D36 -> 8 | I36: =ROUNDUP(H36*E36,0) -> 1
B37: 2º Turno | D37: =E25 -> 8 | E37: 0 | F37: =F36 -> 144.96 | G37: =F37*$C$17*D37 -> 30255.223 | H37: =D37 -> 8 | I37: =ROUNDUP(H37*E37,0) -> 0
B38: Domingos | D38: =E26 -> 2 | E38: 0 | F38: =F37 -> 144.96 | G38: =F38*4.28*D38*C26 -> 14890.291 | H38: =D38 -> 2 | I38: =ROUNDUP(H38*E38,0) -> 0
B39: Total de Km/mês | G39: =SUM(G36:G38) -> 75400.737
B41: Mão de Obra | H41: Reserva Téc: | I41: 0.1
B43: Mão de Obra Direta | D43: Motorista | G43: Coletor
D44: Quantidade | E44: Reserva | F44: Total | G44: Quantidade | H44: Reserva | I44: Total
B45: 1º Turno | D45: =D36 -> 8 | E45: =ROUNDUP(D45*$I$41,0) -> 1 | F45: =ROUNDUP(D45+E45,0) -> 9 | G45: =D36*3 -> 24 | H45: =ROUNDUP(G45*$I$41,0) -> 3 | I45: =ROUNDUP(G45+H45,0) -> 27
B46: 2º Turno | D46: =D37 -> 8 | E46: =ROUNDUP(D46*$I$41,0) -> 1 | F46: =ROUNDUP(D46+E46,0) -> 9 | G46: =D37*3 -> 24 | H46: =ROUNDUP(G46*$I$41,0) -> 3 | I46: =ROUNDUP(G46+H46,0) -> 27
B47: Domingos | D47: 1 | E47: 0 | F47: =ROUNDUP(D47+E47,0) -> 1 | G47: =D38*3 -> 6 | H47: =ROUNDUP(G47*$I$41,0) -> 1 | I47: =ROUNDUP(G47+H47,0) -> 7
B48: Total de Funcionários | D48: =SUM(D45:D47) -> 17 | E48: =SUM(E45:E47) -> 2 | F48: =SUM(F45:F47) -> 19 | G48: =SUM(G45:G47) -> 54 | H48: =SUM(H45:H47) -> 7 | I48: =SUM(I45:I47) -> 61
A50: I | B50: PESSOAL, REMUNERAÇÃO E ENCARGOS SOCIAIS
B52: Motorista | E52: Quant | G52: Valor Mensal | I52: Subtotal
B53: Salário Base | E53: 1 | F53: x R$ | G53: =+Dados!$I$7 -> 3319.996 | H53: = R$ | I53: =E53*G53 -> 3319.996
B54: Hora Extra | E54: =C17*1.5 -> 39.133929 | F54: x R$ | G54: =(G53+G56)/220*1.5 -> 24.846791 | H54: = R$ | I54: =E54*G54 -> 972.35254
...

Sheet 2. RSDMEC
A2: COMPOSIÇÃO DE PREÇOS UNITÁRIOS
A4: 2. Coleta Mecanizada de Resíduos Sólidos Domiciliares, Comercial e Público
B6: DADOS OPERACIONAIS
B7: Dias no ano: | C7: 365.25 | D7: dias
B8: Domingos no ano: | C8: =C7/7 -> 52.178571 | D8: domingos
B9: Feriados no ano: | C9: 12 | D9: dias
B10: Média dias normais: | C10: =(C7-C8-C9)/12 -> 25.089286 | D10: dias
B11: Média dias coletas: | C11: =(C7-C8)/12 -> 26.089286 | D11: dias
B13: QUANTIDADE: | C13: =+Planilha!$F$7 -> 500 | D13: t./mês | E13: t./dia
B14: 1º Turno | C14: 1 | D14: =TRUNC(C13*C14,2) -> 500 | E14: =ROUNDUP(D14/$C$16,2) -> 19.17
B15: 2º Turno | C15: =1-C14 -> 0 | D15: =TRUNC(C13*C15,2) -> 0 | E15: =ROUNDUP(D15/$C$16,2) -> 0
B16: Dias efetivos: | C16: =C11 -> 26.089286
B18: QUANTIDADE: | E18: t./dia 19 m3
B19: 1º Turno | E19: =E14-F19 -> 19.17
B20: 2º Turno | E20: =E15-F20 -> 0
B22: DIMENSIONAMENTO: | D22: SAÍDAS
B23: CAPACIDADE: | C23: 10 | D23: 1º Turno | E23: =ROUNDUP(E19/$C$25,0) -> 1
B24: Q. VIAGENS: | C24: 2 | D24: 2º Turno | E24: =ROUNDUP(E20/$C$25,0) -> 0
B25: PROD xTURNO: | C25: =TRUNC(C23*C24,2) -> 20 | D25: Domingos | E25: 0
B27: CONSTITUIÇÃO DAS GUANIÇÕES:
B28: Coletor Compactador 19 m3 - Carga Lateral
B29: Motorista | C29: 1
B30: Coletor | C30: 3
B32: Veículos
B34: Caminhão Coletor Compactador 19 m³ | D34: Quantidade | E34: Reserva | F34: Km/dia por Veíc. | G34: Km por mês | H34: Efetivo | I34: Reserva
B35: 1º Turno | D35: =E23 -> 1 | E35: 0.1 | F35: =74*$C$24 -> 148 | G35: =F35*$C$16*D35 -> 3861.2143 | H35: =D35 -> 1 | I35: =ROUNDUP(H35*E35,0) -> 1
B36: 2º Turno | D36: =E24 -> 0 | E36: 0 | F36: 0 | G36: =F36*$C$16*D36 -> 0 | H36: =D36 -> 0 | I36: =ROUNDUP(H36*E36,0) -> 0
B37: Domingos | D37: =E25 -> 0 | E37: 0 | F37: =F36 -> 0 | G37: =F37*4.28*D37*C25 -> 0 | H37: =D37 -> 0 | I37: =ROUNDUP(H37*E37,0) -> 0
B38: Total de Km/mês | G38: =SUM(G35:G37) -> 3861.2143
B40: Mão de Obra | H40: Reserva Téc: | I40: 0.1
B42: Mão de Obra Direta | D42: Motorista | G42: Coletor
D43: Quantidade | E43: Reserva | F43: Total | G43: Quantidade | H43: Reserva | I43: Total
B44: 1º Turno | D44: =D35 -> 1 | E44: 0 | F44: =ROUNDUP(D44+E44,0) -> 1 | G44: =D35*3 -> 3 | H44: 0 | I44: =ROUNDUP(G44+H44,0) -> 3
B45: 2º Turno | D45: =D36 -> 0 | E45: =ROUNDUP(D45*$I$40,0) -> 0 | F45: =ROUNDUP(D45+E45,0) -> 0 | G45: =D36*3 -> 0 | H45: =ROUNDUP(G45*$I$40,0) -> 0 | I45: =ROUNDUP(G45+H45,0) -> 0
B46: Domingos | D46: 0 | E46: =ROUNDUP(D46*$I$40,1) -> 0 | F46: =ROUNDUP(D46+E46,0) -> 0 | G46: =D37*3 -> 0 | H46: =ROUNDUP(G46*$I$40,0) -> 0 | I46: =ROUNDUP(G46+H46,0) -> 0
B47: Total de Funcionários | D47: =SUM(D44:D46) -> 1 | E47: =SUM(E44:E46) -> 0 | F47: =SUM(F44:F46) -> 1 | G47: =SUM(G44:G46) -> 3 | H47: =SUM(H44:H46) -> 0 | I47: =SUM(I44:I46) -> 3
A49: I | B49: PESSOAL, REMUNERAÇÃO E ENCARGOS SOCIAIS
B51: Motorista | E51: Quant | G51: Valor Mensal | I51: Subtotal
B52: Salário Base | E52: 1 | F52: x R$ | G52: =+Dados!$I$7 -> 3319.996 | H52: = R$ | I52: =E52*G52 -> 3319.996
B53: Hora Extra | E53: 0 | F53: x R$ | G53: =(G52+G55)/220*1.5 -> 24.846791 | H53: = R$ | I53: =E53*G53 -> 0
...

Sheet 3. Seletiva
A2: COMPOSIÇÃO DE PREÇOS UNITÁRIOS
A4: 3. Coleta Seletiva de Materiais Recicláveis
B6: DADOS OPERACIONAIS
B7: Dias no ano: | C7: 365.25 | D7: dias
B8: Domingos no ano: | C8: =C7/7 -> 52.178571 | D8: domingos
B9: Feriados no ano: | C9: 12 | D9: dias
B10: Média dias normais: | C10: =(C7-C8-C9)/12 -> 25.089286 | D10: dias
B11: Média dias coletas: | C11: =(C7-C8)/12 -> 26.089286 | D11: dias
B13: QUANTIDADE: | C13: =+Planilha!$F$8 -> 3 | D13: eq/mês | E13: eq/dia
B14: 1º Turno | C14: 1 | D14: =TRUNC(C13*C14,2) -> 3 | E14: =D14 -> 3
B15: 2º Turno | C15: =1-C14 -> 0 | D15: =TRUNC(C13*C15,2) -> 0 | E15: =D15 -> 0
B16: Dias efetivos: | C16: =C10 -> 25.089286
B18: CONSTITUIÇÃO DAS GUANIÇÕES:
B19: Coletor Baú 30 m3 | C19: 1
B20: Motorista | C20: 1
B21: Coletor | C21: 2
B23: Veículos
B25: Caminhão Carroceria Baú | D25: Quantidade | E25: Reserva | F25: Km/dia por Veíc. | G25: Km por mês | H25: Efetivo | I25: Reserva
B26: 1º Turno | D26: =E14 -> 3 | E26: 0.1 | F26: 55 | G26: =F26*$C$16*D26 -> 4139.7321 | H26: =D26 -> 3 | I26: =ROUNDUP(H26*E26,0) -> 1
B27: 2º Turno | D27: =E15 -> 0 | E27: 0 | F27: 0 | G27: =F27*$C$16*D27 -> 0 | H27: =D27 -> 0 | I27: =ROUNDUP(H27*E27,0) -> 0
B28: Domingos | D28: 0 | E28: 0 | F28: 0 | G28: =F28*$C$16*D28 -> 0 | H28: =D28 -> 0 | I28: =ROUNDUP(H28*E28,0) -> 0
B29: Total de Km/mês | G29: =SUM(G26:G28) -> 4139.7321
B31: Mão de Obra | H31: Reserva Téc: | I31: 0.1
B33: Mão de Obra Direta | D33: Motorista | G33: Coletor
D34: Quantidade | E34: Reserva | F34: Total | G34: Quantidade | H34: Reserva | I34: Total
B35: 1º Turno | D35: =D26 -> 3 | E35: =ROUNDUP(D35*$I$31,0) -> 1 | F35: =ROUNDUP(D35+E35,0) -> 4 | G35: =C21 -> 2 | H35: =ROUNDUP(G35*$I$31,0) -> 1 | I35: =ROUNDUP(G35+H35,0) -> 3
B36: 2º Turno | D36: =D27 -> 0 | E36: =ROUNDUP(D36*$I$31,0) -> 0 | F36: =ROUNDUP(D36+E36,0) -> 0 | G36: 0 | H36: =ROUNDUP(G36*$I$31,0) -> 0 | I36: =ROUNDUP(G36+H36,0) -> 0
B37: Domingos | D37: 0 | E37: =ROUNDUP(D37*$I$31,0) -> 0 | F37: =ROUNDUP(D37+E37,0) -> 0 | G37: 0 | H37: =ROUNDUP(G37*$I$31,0) -> 0 | I37: =ROUNDUP(G37+H37,0) -> 0
B38: Total de Funcionários | D38: =SUM(D35:D37) -> 3 | E38: =SUM(E35:E37) -> 1 | F38: =SUM(F35:F37) -> 4 | G38: =SUM(G35:G37) -> 2 | H38: =SUM(H35:H37) -> 1 | I38: =SUM(I35:I37) -> 3
A40: I | B40: PESSOAL, REMUNERAÇÃO E ENCARGOS SOCIAIS
B42: Motorista | E42: Quant | G42: Valor Mensal | I42: Subtotal
B43: Salário Base | E43: 1 | F43: x R$ | G43: =+Dados!$I$7 -> 3319.996 | H43: = R$ | I43: =E43*G43 -> 3319.996
B44: Hora Extra | E44: 0 | F44: x R$ | G44: =(G43+G46)/220*1.5 -> 24.846791 | H44: = R$ | I44: =E44*G44 -> 0
B45: Reflexo no DSR - H.E. 50% | E45: =((E44/26.08)*(($C$8+$C$9)/12)) -> 0 | F45: x R$ | G45: =((G43+G46)/220*1.5) -> 24.846791 | H45: = R$ | I45: =E45*G45 -> 0
B46: Insalubridade (% Sal. Mín.) | D46: 0.2 | E46: =E43 -> 1 | F46: x R$ | G46: =+Dados!$I$45*D46 -> 324.2 | H46: = R$ | I46: =E46*G46 -> 324.2
B47: Domingos/Feriados - H.E. 100% | E47: 0 | F47: x R$ | G47: =(G43+G46)/220*2 -> 33.129055 | H47: = R$ | I47: =E47*G47 -> 0
B48: Reflexo no DSR - H.E. 100% | E48: =(E47/26.08*(($C$8+$C$9)/12)) -> 0 | F48: x R$ | G48: =((G43+G46)/220*2) -> 33.129055 | H48: = R$ | I48: =E48*G48 -> 0
B49: Adicional Noturno | E49: =C15 -> 0 | F49: x R$ | G49: =G43*14.48% -> 480.73542 | H49: = R$ | I49: =E49*G49 -> 0
B50: Encargos Sociais | D50: =Encargos!$D$37 -> 0.7302 | H50: = R$ | I50: =TRUNC(SUM(I43:I49)*D50,2) -> 2660.99
B51: Assistência Médica e Seguro de Vida | E51: 1 | F51: x R$ | G51: =+Dados!$I$14 -> 265.6 | H51: = R$ | I51: =E51*G51 -> 265.6
...

Sheet 4. TRANS
A2: COMPOSIÇÃO DE PREÇOS UNITÁRIOS
A4: 4. Transporte de Resíduos Sólidos Domiciliares, Comercial e Público fora do Município
B6: DADOS OPERACIONAIS | H6: DMT
B7: Dias no ano: | C7: 365.25 | D7: dias | H7: CGR Pedreira | I7: 54 | J7: km
B8: Domingos no ano: | C8: =C7/7 -> 52.178571 | D8: domingos | H8: CTR Lara | I8: 39 | J8: km
B9: Feriados no ano: | C9: 12 | D9: dias | H9: CTR Jambeiro | I9: 104 | J9: km
B10: Média dias normais: | C10: =(C7-C8-C9)/12 -> 25.089286 | D10: dias | H10: DMT | I10: =SUM(I7:I9)/3 -> 65.666667 | J10: km
B11: Média dias coletas: | C11: =(C7-C8)/12 -> 26.089286 | D11: dias
B13: QUANTIDADE: | C13: =+Planilha!$F$9 -> 5200 | D13: t./mês | E13: t./dia
B14: 1º Turno | C14: 0.5 | D14: =TRUNC(C13*C14,2) -> 2600 | E14: =ROUNDUP(D14/$C$16,2) -> 99.66
B15: 2º Turno | C15: =1-C14 -> 0.5 | D15: =TRUNC(C13*C15,2) -> 2600 | E15: =ROUNDUP(D15/$C$16,2) -> 99.66
B16: Dias efetivos: | C16: =C11 -> 26.089286
B18: QUANTIDADE: | E18: t./dia 15 m3
B19: 1º Turno | E19: =E14-F19 -> 99.66
B20: 2º Turno | E20: =E15-F20 -> 99.66
B21: Viagens | E21: =+'1. RSD'!C25 -> 2
B23: Veículos
B25: Caminhão Coletor Compactador 15 m³ | D25: Quantidade | E25: Reserva | F25: Km/dia por Veíc. | G25: Km por mês | H25: Efetivo | I25: Reserva
B26: 1º Turno | D26: =+'1. RSD'!D36+'2. RSDMEC'!D35 -> 9 | E26: 0 | F26: =I8*2*$E$21 -> 156 | G26: =F26*$C$16*D26 -> 36629.357 | H26: =D26 -> 9 | I26: =ROUNDUP(H26*E26,0) -> 0
B27: 2º Turno | D27: =+'1. RSD'!D37+'2. RSDMEC'!D36 -> 8 | E27: 0 | F27: =F26 -> 156 | G27: =F27*$C$16*D27 -> 32559.429 | H27: =D27 -> 8 | I27: =ROUNDUP(H27*E27,0) -> 0
B28: Domingos | D28: =+'1. RSD'!D38+'2. RSDMEC'!D37 -> 2 | E28: 0 | F28: =F27 -> 156 | G28: =F28*4.25*D28 -> 1326 | H28: =D28 -> 2 | I28: =ROUNDUP(H28*E28,0) -> 0
B29: Total de Km/mês | G29: =SUM(G26:G28) -> 70514.786
D30: =SUM(D26:D28) -> 19
B31: Mão de Obra | H31: Reserva Téc: | I31: 0.1
B33: Mão de Obra Direta | D33: Motorista | G33: Coletor
D34: Quantidade | E34: Reserva | F34: Total | G34: Quantidade | H34: Reserva | I34: Total
B35: 1º Turno | D35: 0 | E35: =ROUNDUP(D35*$I$31,0) -> 0 | F35: =ROUNDUP(D35+E35,0) -> 0 | G35: 0 | H35: =ROUNDUP(G35*$I$31,0) -> 0 | I35: =ROUNDUP(G35+H35,0) -> 0
B36: 2º Turno | D36: 0 | E36: =ROUNDUP(D36*$I$31,0) -> 0 | F36: =ROUNDUP(D36+E36,0) -> 0 | G36: 0 | H36: =ROUNDUP(G36*$I$31,0) -> 0 | I36: =ROUNDUP(G36+H36,0) -> 0
B37: Domingos | D37: 0 | E37: =ROUNDUP(D37*$I$31,1) -> 0 | F37: =ROUNDUP(D37+E37,0) -> 0 | G37: 0 | H37: =ROUNDUP(G37*$I$31,0) -> 0 | I37: =ROUNDUP(G37+H37,0) -> 0
B38: Total de Funcionários | D38: =SUM(D35:D37) -> 0 | E38: =SUM(E35:E37) -> 0 | F38: =SUM(F35:F37) -> 0 | G38: =SUM(G35:G37) -> 0 | H38: =SUM(H35:H37) -> 0 | I38: =SUM(I35:I37) -> 0
A40: I | B40: PESSOAL, REMUNERAÇÃO E ENCARGOS SOCIAIS
B42: Motorista | E42: Quant | G42: Valor Mensal | I42: Subtotal
B43: Salário Base | E43: 1 | F43: x R$ | G43: 0 | H43: = R$ | I43: =E43*G43 -> 0
B44: Hora Extra | E44: 0 | F44: x R$ | G44: 24.43 | H44: = R$ | I44: =E44*G44 -> 0
B45: Reflexo no DSR - H.E. 50% | E45: =((E44/26.08)*(($C$8+$C$9)/12)) -> 0 | F45: x R$ | G45: =((G43+G46)/220*1.5) -> 2.2104545 | H45: = R$ | I45: =E45*G45 -> 0
B46: Insalubridade (% Sal. Mín.) | D46: 0.2 | E46: 0 | F46: x R$ | G46: =+Dados!$I$45*D46 -> 324.2 | H46: = R$ | I46: =E46*G46 -> 0
B47: Domingos/Feriados - H.E. 100% | E47: 0 | F47: x R$ | G47: =(G43+G46)/220*2 -> 2.9472727 | H47: = R$ | I47: =E47*G47 -> 0
B48: Reflexo no DSR - H.E. 100% | E48: =(E47/26.08*(($C$8+$C$9)/12)) -> 0 | F48: x R$ | G48: =((G43+G46)/220*2) -> 2.9472727 | H48: = R$ | I48: =E48*G48 -> 0
B49: Adicional Noturno | E49: 0 | F49: x R$ | G49: =G43*14.48% -> 0 | H49: = R$ | I49: =E49*G49 -> 0
B50: Encargos Sociais | D50: =Encargos!$D$37 -> 0.7302 | H50: = R$ | I50: =TRUNC(SUM(I43:I49)*D50,2) -> 0
...

Sheet 5. INERTES
A2: COMPOSIÇÃO DE PREÇOS UNITÁRIOS
A4: 5. Remoção de Caçambas Estacionárias
B6: DADOS OPERACIONAIS
B7: Dias no ano: | C7: 365.25 | D7: dias
B8: Domingos no ano: | C8: =C7/7 -> 52.178571 | D8: domingos
B9: Feriados no ano: | C9: 12 | D9: dias
B10: Média dias normais: | C10: =(C7-C8-C9)/12 -> 25.089286 | D10: dias
B11: Média dias coletas: | C11: =(C7-C8)/12 -> 26.089286 | D11: dias
B13: QUANTIDADE: | C13: =+Planilha!$F$10 -> 100 | D13: remoção/mês | E13: remoção/dia
B14: 1º Turno | C14: 1 | D14: =TRUNC(C13*C14,2) -> 100 | E14: =ROUNDUP(D14/$C$16,2) -> 3.84
B15: 2º Turno | C15: =1-C14 -> 0 | D15: =TRUNC(C13*C15,2) -> 0 | E15: =ROUNDUP(D15/$C$16,2) -> 0
B16: Dias efetivos: | C16: =C11 -> 26.089286
B18: QUANTIDADE: | E18: t./dia 14 m3
B19: 1º Turno | E19: =E14-F19 -> 3.84
B20: 2º Turno | E20: =E15-F20 -> 0
B22: DIMENSIONAMENTO: | D22: SAÍDAS
B23: Q. VIAGENS: | C23: 4 | D23: 1º Turno | E23: =ROUNDUP(E14/$C$24,0) -> 1
B24: PROD xTURNO: | C24: =C23 -> 4 | D24: 2º Turno | E24: 0
B26: CONSTITUIÇÃO DAS GUANIÇÕES:
B27: Caminhão Poliguindaste | C27: 1
B28: Motorista | C28: 1
B29: Coletor | C29: 2
B31: Veículos
B33: Caminhão Poliguindaste Simples | D33: Quantidade | E33: Reserva | F33: Km/dia por Veíc. | G33: Km por mês | H33: Efetivo | I33: Reserva
B34: 1º Turno | D34: =E23 -> 1 | E34: 0 | F34: 128 | G34: =F34*$C$16*D34 -> 3339.4286 | H34: =D34 -> 1 | I34: =ROUNDUP(H34*E34,0) -> 0
B35: 2º Turno | D35: =E24 -> 0 | E35: 0 | F35: 0 | G35: =F35*$C$16*D35 -> 0 | H35: =D35 -> 0 | I35: =ROUNDUP(H35*E35,0) -> 0
B36: Domingos | D36: =G24 -> 0 | E36: 0 | F36: 0 | G36: =F36*4.28*D36*C24 -> 0 | H36: =D36 -> 0 | I36: =ROUNDUP(H36*E36,0) -> 0
B37: Total de Km/mês | G37: =SUM(G34:G36) -> 3339.4286
B39: Mão de Obra | H39: Reserva Téc: | I39: 0
B41: Mão de Obra Direta | D41: Motorista | G41: Coletor
D42: Quantidade | E42: Reserva | F42: Total | G42: Quantidade | H42: Reserva | I42: Total
B43: 1º Turno | D43: =D34 -> 1 | E43: 0 | F43: =ROUNDUP(D43+E43,0) -> 1 | G43: =D34*1 -> 1 | H43: 0 | I43: =ROUNDUP(G43+H43,0) -> 1
B44: 2º Turno | D44: =D35 -> 0 | E44: 0 | F44: =ROUNDUP(D44+E44,0) -> 0 | G44: =D35*1 -> 0 | H44: 0 | I44: =ROUNDUP(G44+H44,0) -> 0
B45: Domingos | D45: 0 | E45: =ROUNDUP(D45*$I$39,1) -> 0 | F45: =ROUNDUP(D45+E45,0) -> 0 | G45: =D36*1 -> 0 | H45: =ROUNDUP(G45*$I$39,0) -> 0 | I45: =ROUNDUP(G45+H45,0) -> 0
B46: Total de Funcionários | D46: =SUM(D43:D45) -> 1 | E46: =SUM(E43:E45) -> 0 | F46: =SUM(F43:F45) -> 1 | G46: =SUM(G43:G45) -> 1 | H46: =SUM(H43:H45) -> 0 | I46: =SUM(I43:I45) -> 1
A48: I | B48: PESSOAL, REMUNERAÇÃO E ENCARGOS SOCIAIS
B50: Motorista | E50: Quant | G50: Valor Mensal | I50: Subtotal
B51: Salário Base | E51: 1 | F51: x R$ | G51: =+Dados!$I$7 -> 3319.996 | H51: = R$ | I51: =E51*G51 -> 3319.996
B52: Hora Extra | E52: 0 | F52: x R$ | G52: =(G51+G54)/220*1.5 -> 24.846791 | H52: = R$ | I52: =E52*G52 -> 0
B53: Reflexo no DSR - H.E. 50% | E53: =((E52/26.08)*(($C$8+$C$9)/12)) -> 0 | F53: x R$ | G53: =((G51+G54)/220*1.5) -> 24.846791 | H53: = R$ | I53: =E53*G53 -> 0
...

Sheet 6. ATERRO
A3: COMPOSIÇÃO DE PREÇOS UNITÁRIOS
A5: 6. Destinação Final de Resíduos Sólidos Domiciliares, Comercial e Público
B8: DADOS OPERACIONAIS
B9: Dias no ano: | C9: 365.25 | D9: dias
B10: Domingos no ano: | C10: =C9/7 -> 52.178571 | D10: domingos
B11: Feriados no ano: | C11: 12 | D11: dias
B12: Média dias normais: | C12: =(C9-C10-C11)/12 -> 25.089286 | D12: dias
B13: Média dias coletas: | C13: =(C9-C10)/12 -> 26.089286 | D13: dias
B15: QUANTIDADE:
B16: Resíduos Classe IIA | D16: =+Planilha!$F$11 -> 5200 | E16: t.
B17: Total
B19: DIAS EFETIVOS: | C19: =C13 -> 26.089286
A21: I | B21: OUTROS CUSTOS
B23: Disposição Final dos Resíduos | D23: Quant. | F23: Valor Unit.
B24: Resíduos Classe IIA | D24: =D16 -> 5200 | E24: t. x R$ | F24: =+Dados!$I$73 -> 180 | H24: 1 | I24: = R$ | J24: =D24*F24*H24 -> 936000
B25: Custo Total | I25: = R$ | J25: =SUM(J24:J24) -> 936000
B27: TOTAL DOS OUTROS CUSTOS | I27: = R$ | J27: =J25 -> 936000
L28: =F28*#REF! -> #REF!
A29: II | B29: RESUMO DOS CUSTOS DIRETOS
B31: Resumo dos Custos Diretos | J31: Subtotal
B32: Outros Custos | J32: =J27 -> 936000
B34: TOTAL DOS CUSTOS DIRETOS | I34: = R$ | J34: =SUM(J32:J32) -> 936000
A36: III | B36: COMPOSIÇÃO DO CUSTO UNITÁRIO
B38: Composição do Custo Unitário | J38: Subtotal
B39: Custo Direto | J39: =J34 -> 936000
B40: Total dos Custos | J40: =J39 -> 936000
B41: Quantidade de Serviço | J41: =D16 -> 5200
B43: CUSTO UNITÁRIO DO SERVIÇO | I43: R$/t. | J43: =TRUNC(J40/J41,2) -> 180
H45: BDI: | I45: =+BDI!$D$18 -> 0.3317 | J45: =TRUNC(J43*I45,2) -> 59.7
B47: PREÇO UNITÁRIO DO SERVIÇO | I47: R$/t. | J47: =J43+J45 -> 239.7
C55: Assinatura do responsável pela elaboração da planilha

Sheet 7. RCC
A2: COMPOSIÇÃO DE PREÇOS UNITÁRIOS
A4: 7. Remoção e Disposição Final de Materias Inertes e RCC
B6: DADOS OPERACIONAIS | H6: DMT
B7: Dias no ano: | C7: 365.25 | D7: dias | H7: CGR Pedreira | I7: 54 | J7: km
B8: Domingos no ano: | C8: =C7/7 -> 52.178571 | D8: domingos | H8: CTR Lara | I8: 39 | J8: km
B9: Feriados no ano: | C9: 12 | D9: dias | H9: CTR Jambeiro | I9: 104 | J9: km
B10: Média dias normais: | C10: =(C7-C8-C9)/12 -> 25.089286 | D10: dias | H10: DMT | I10: =SUM(I7:I9)/3 -> 65.666667 | J10: km
B11: Média dias coletas: | C11: =(C7-C8)/12 -> 26.089286 | D11: dias
B13: QUANTIDADE: | C13: =+Planilha!$F$12 -> 1800 | D13: t./mês | E13: t./dia | F13: Saídas
B14: 1º Turno | C14: 1 | D14: =TRUNC(C13*C14,2) -> 1800 | E14: =ROUNDUP(D14/$C$16,2) -> 69 | F14: =ROUNDUP(E14/$C$21,0) -> 6
B15: 2º Turno | C15: =1-C14 -> 0 | D15: =TRUNC(C13*C15,2) -> 0 | E15: =ROUNDUP(D15/$C$16,2) -> 0 | F15: =ROUNDUP(E15/$C$21,0) -> 0
B16: Dias efetivos: | C16: =C11 -> 26.089286
B18: DIMENSIONAMENTO:
B19: Capacidade: | C19: 6
B20: Viagens: | C20: 2
B21: Quantidade de Equipes | C21: =ROUNDUP(C19*C20,0) -> 12
B23: CONSTITUIÇÃO DAS GUANIÇÕES:
B24: Camihão Basculante 10 m3 | C24: 1
B25: Motorista | C25: 1
B26: Ajudante | C26: 2
B28: Veículos
B30: Caminhão Basculante 10 m3 | D30: Quantidade | E30: Reserva | F30: Km/dia por Veíc. | G30: Km por mês | H30: Efetivo | I30: Reserva
B31: 1º Turno | D31: =F14 -> 6 | E31: 0 | F31: =30+I8*2*C20 -> 186 | G31: =F31*$C$16*D31 -> 29115.643 | H31: =D31 -> 6 | I31: =ROUNDUP(H31*E31,0) -> 0
B32: 2º Turno | D32: =F15 -> 0 | E32: 0 | F32: 0 | G32: =F32*$C$16*D32 -> 0 | H32: =D32 -> 0 | I32: =ROUNDUP(H32*E32,0) -> 0
B33: Domingos | D33: 0 | E33: 0 | F33: 0 | G33: =F33*$C$16*D33 -> 0 | H33: =D33 -> 0 | I33: =ROUNDUP(H33*E33,0) -> 0
B34: Total de Km/mês | G34: =SUM(G31:G33) -> 29115.643
B36: Mão de Obra | H36: Reserva Téc: | I36: 0.1
B38: Mão de Obra Direta | D38: Motorista | G38: Ajudante
D39: Quantidade | E39: Reserva | F39: Total | G39: Quantidade | H39: Reserva | I39: Total
B40: 1º Turno | D40: =D31 -> 6 | E40: =ROUNDUP(D40*$I$36,0) -> 1 | F40: =ROUNDUP(D40+E40,0) -> 7 | G40: =D40*$C$26 -> 12 | H40: =ROUNDUP(G40*$I$36,0) -> 2 | I40: =ROUNDUP(G40+H40,0) -> 14
B41: 2º Turno | D41: =D32 -> 0 | E41: =ROUNDUP(D41*$I$36,0) -> 0 | F41: =ROUNDUP(D41+E41,0) -> 0 | G41: =D41*$C$26 -> 0 | H41: =ROUNDUP(G41*$I$36,0) -> 0 | I41: =ROUNDUP(G41+H41,0) -> 0
B42: Domingos | D42: =D33 -> 0 | E42: =ROUNDUP(D42*$I$36,0) -> 0 | F42: =ROUNDUP(D42+E42,0) -> 0 | G42: =D42*$C$26 -> 0 | H42: =ROUNDUP(G42*$I$36,0) -> 0 | I42: =ROUNDUP(G42+H42,0) -> 0
B43: Total de Funcionários | D43: =SUM(D40:D42) -> 6 | E43: =SUM(E40:E42) -> 1 | F43: =SUM(F40:F42) -> 7 | G43: =SUM(G40:G42) -> 12 | H43: =SUM(H40:H42) -> 2 | I43: =SUM(I40:I42) -> 14
A45: I | B45: PESSOAL, REMUNERAÇÃO E ENCARGOS SOCIAIS
B47: Motorista | E47: Quant | G47: Valor Mensal | I47: Subtotal
B48: Salário Base | E48: 1 | F48: x R$ | G48: =+Dados!$I$7 -> 3319.996 | H48: = R$ | I48: =E48*G48 -> 3319.996
B49: Hora Extra | E49: 0 | F49: x R$ | G49: =(G48+G51)/220*1.5 -> 24.846791 | H49: = R$ | I49: =E49*G49 -> 0
B50: Reflexo no DSR - H.E. 50% | E50: =((E49/26.08)*(($C$8+$C$9)/12)) -> 0 | F50: x R$ | G50: =((G48+G51)/220*1.5) -> 24.846791 | H50: = R$ | I50: =E50*G50 -> 0
B51: Insalubridade (% Sal. Mín.) | D51: 0.2 | E51: =E48 -> 1 | F51: x R$ | G51: =+Dados!$I$45*D51 -> 324.2 | H51: = R$ | I51: =E51*G51 -> 324.2
B52: Domingos/Feriados - H.E. 100% | E52: 0 | F52: x R$ | G52: =(G48+G51)/220*2 -> 33.129055 | H52: = R$ | I52: =E52*G52 -> 0
...

Sheet Encargos
A2: ENCARGOS SOCIAIS
A3: ÍTEM | B3: A - Encargos Sociais Básicos | C3: VALOR INCIDENTE (%)
A5: A1 | B5: Previdência Social | C5: Lei 8.212/91 | D5: 0.2
A6: A2 | B6: FGTS | C6: Lei 8.030 | D6: 0.08
A7: A3 | B7: Salário Educação | C7: Decreto 87.043/82 | D7: 0.025
A8: A4 | B8: SESI | C8: Artigo 30 Lei 8.036/90 | D8: 0.015
A9: A5 | B9: SENAI | C9: Decreto 2.318/86 | D9: 0.01
A10: A6 | B10: INCRA | C10: Decreto 1.146/70 | D10: 0.002
A11: A7 | B11: Seguro Acidente de Trabalho | C11: Lei 8.212/91 | D11: 0.03
A12: A8 | B12: SEBRAE | C12: Lei 8.029 | D12: 0.006
A13: A9 | B13: Contribuição Social | C13: Lei Complementar 110 | D13: 0
A14: Total dos encargos sociais básicos | D14: =SUM(D5:D13) -> 0.368
A15: ÍTEM | B15: B - Encargos Sociais que recebem incidência de A | C15: VALOR INCIDENTE (%)
A17: B1 | B17: Férias | C17: Artigo 130 CLT | D17: 0.0581
A18: B2 | B18: Auxilio Doença | C18: Artigo 131 CLT | D18: 0.0166
A19: B3 | B19: Acidente Trabalho | C19: Artigo 131 CLT | D19: 0.0025
A20: B4 | B20: Auxilio Paternidade | C20: Artigo 7 item XIX | D20: 0.0006
A21: B5 | B21: Faltas Legais | C21: Artigo 473 CLT | D21: 0.0082
A22: B6 | B22: 13º salário | C22: Lei 7.787/89 | D22: 0.0833
A23: Total dos encargos sociais que recebem inicidência do Grupo 1 | D23: =SUM(D17:D22) -> 0.1693
A24: ÍTEM | B24: C - Encargos Sociais que não recebem as incidências globais de A | C24: VALOR INCIDENTE (%)
A26: C1 | B26: Aviso Previo Indenizado | C26: Artigo 477 CLT | D26: 0.0354
A27: C2 | B27: Férias Indenizadas | D27: 0.053
A28: C3 | B28: Férias Indenizadas s/ aviso prévio indenizado | D28: 0.0039
A29: C4 | B29: Depósito rescisão sem justa causa | D29: 0.033
A30: C5 | B30: Indenizaçao Adicional | C30: Artigo 9 Lei 7.238 | D30: 0.0025
A31: Total dos encargos sociais que não recebem as incidências globais de A | D31: =SUM(D26:D30) -> 0.1278
A32: ÍTEM | B32: D - Taxas de Reincidência - A sobre o B (%)
A34: D1 | B34: Reincidência de A sobre B | C34: Artigo 28 Lei 8.212/91 | D34: =D14*D23 -> 0.0623024
A35: D2 | B35: Incidencias sobre o Sal. Maternidade | C35: Artigo 28 Lei 8.212/91 | D35: 0.0028
B36: Total das taxas de reinicidências | D36: =SUM(D34:D35) -> 0.0651024 | F36: 1600.73
B37: Percentagem Global | D37: =TRUNC(SUM(D14,D23,D31,D36),4) -> 0.7302 | F37: 1542.58
F40: =F37/F36 -> 0.96367282
B43: Assinatura do responsável pela elaboração da planilha

Sheet BDI
A2: BDI
A3: COD | B3: Descrição | C3: REFERÊNCIA | D3: VALOR INCIDENTE (%)
A5: AC | B5: Administração Central | C5: Acórdão TCU 2622/2013 | D5: 0.0343
A6: DF | B6: Despesas Financeiras | C6: Acórdão TCU 2622/2013 | D6: 0.0094
A7: R | B7: Riscos | C7: Acórdão TCU 2622/2013 | D7: 0.01
A8: S | B8: Seguros e Garantias | C8: Acórdão TCU 2622/2013 | D8: 0.0028
A9: L | B9: Lucro | C9: Acórdão TCU 2622/2013 | D9: 0.0804
A11: Total | D11: =SUM(D5:D10) -> 0.1369
A12: ÍTEM | B12: Tributos | C12: REFERÊNCIA | D12: VALOR INCIDENTE (%)
B14: ISS | D14: 0.05
B15: PIS | D15: 0.0165
B16: COFINS | D16: 0.076
A17: Total (I) | D17: =SUM(D14:D16) -> 0.1425
A18: BDI | D18: =+ROUND(((((1+D5+D8+D7)*(1+D6)*(1+D9))/(1-D17))-1)*1,4) -> 0.3317
A19: Referência: Obras de Saneamento (1° Quartil)
A21: Fórmula de Cálculo do BDI:
A27: ÍTEM | B27: Tributos Federais (para DRE) | C27: VALOR INCIDENTE (%)
A29: C1 | B29: IRRF | D29: 0.15
A30: C2 | B30: Adicional de IRRF | D30: 0.1
A31: C3 | B31: Contribuição Social | D31: 0.09
B36: Assinatura do responsável pela elaboração da planilha

Sheet Dados
F4: RELAÇÃO DE INSUMOS
F6: ITEM | G6: MÃO DE OBRA | H6: UNIDADE | I6: VALOR | J6: REFERÊNCIA
F7: 1 | G7: Motorista | H7: mês | I7: =3102.8*1.07 -> 3319.996 | J7: Convenção Coletiva Motoristas
F8: =F7+1 -> 2 | G8: Coletor | H8: mês | I8: =1724.4*1.07 -> 1845.108 | J8: Convenção Coletiva Asseio
F9: =F8+1 -> 3 | G9: Encarregado Geral | H9: mês | I9: 8059.15 | J9: Sinapi - 40.818
F10: =F9+1 -> 4 | G10: Varredor/Gari | H10: mês | I10: =1662.36*1.07 -> 1778.7252 | J10: Convenção Coletiva Asseio
F11: =F10+1 -> 5 | G11: Fiscal de Serviço | H11: mês | I11: =2404.69*1.07 -> 2573.0183
F12: =F11+1 -> 6 | G12: Fiscal de Coleta | H12: mês | I12: =2404.69*1.07 -> 2573.0183
F13: =F12+1 -> 7 | G13: Vale Refeição + Alimentação - Asseio | H13: mês | I13: =21.8*26+151.91 -> 718.71 | J13: Convenção Coletiva Asseio
F14: =F13+1 -> 8 | G14: Assistência Médica + Seguro de Vida | H14: mês | I14: =191.74+36.76+37.1 -> 265.6 | J14: Convenção Coletiva Asseio
F15: =F14+1 -> 9 | G15: Operador de Roçadeira | H15: mês | I15: =1724.4*1.07 -> 1845.108 | J15: Convenção Coletiva Asseio
F16: =F15+1 -> 10 | G16: Operador de Máquina | H16: mês | I16: =2691.38*1.07 -> 2879.7766 | J16: Convenção Coletiva Asseio
F17: =F16+1 -> 11 | G17: PPR | H17: mês | I17: =356.39/12 -> 29.699167 | J17: Convenção Coletiva
F18: =F17+1 -> 12 | G18: PPR - Motoristas | H18: mês | I18: =1644.48/12 -> 137.04
F20: ITEM | G20: MATERIAIS | H20: UNIDADE | I20: VALOR | J20: REFERÊNCIA
F21: 1 | G21: Calça | H21: unid. | I21: =198.42/2 -> 99.21 | J21: Fortebrim
F22: =F21+1 -> 2 | G22: Camisa | H22: unid. | I22: =198.42/2 -> 99.21 | J22: Mercado Livre
F23: =F22+1 -> 3 | G23: Sapato | H23: par | I23: 84.88 | J23: Mercado Livre
F24: =F23+1 -> 4 | G24: Boné | H24: unid. | I24: 28.61 | J24: Super EPI
F25: =F24+1 -> 5 | G25: Capa de chuva | H25: unid. | I25: 23.09 | J25: Aliexpress
F26: =F25+1 -> 6 | G26: Colete refletivo | H26: unid. | I26: 18.18 | J26: Sinapi - 12.894
F27: =F26+1 -> 7 | G27: Luva de raspa | H27: par | I27: 12.49 | J27: SuperEPI
F28: =F27+1 -> 8 | G28: Pá quadrada | H28: unid. | I28: 43.81 | J28: Anhaguera Ferramentas
F29: =F28+1 -> 9 | G29: Vassourão | H29: unid. | I29: 48.32 | J29: Sinapi - 38.400
F30: =F29+1 -> 10 | G30: Pneu (275 x 80) | H30: unid. | I30: 2850 | J30: Continental
F31: =F30+1 -> 11 | G31: Camara Pneu (275 x 80) | H31: unid. | I31: 188.98 | J31: OLX
F32: =F31+1 -> 12 | G32: Protetor (parabarro) | H32: un | I32: 75.72 | J32: JBC Diesel
F33: =F32+1 -> 13 | G33: Pneu (275 x 80) recapado | H33: unid. | I33: 1105 | J33: Mercado Livre
F34: =F33+1 -> 14 | G34: Diesel | H34: unid. | I34: 6.04 | J34: ANP (11/25)
... F38: =F37+1 -> 18 | G38: Graxa | H38: kg | I38: 45.13 | J38: Sinapi - 4.229
F39: =F38+1 -> 19 | G39: sacos plásticos 100 litros | H39: unid. | I39: =13.96/20 -> 0.698 | J39: Mercado Livre
F40: =F39+1 -> 20 | G40: Enxada | H40: unid. | I40: 73.03 | J40: Sinapi - 38.403
F41: =F40+1 -> 21 | G41: Carrinho de mão | H41: unid. | I41: 227.48 | J41: Sinapi - 2.711
F42: =F41+1 -> 22 | G42: Tela fachadeira com 50 mt | H42: unid. | I42: =2.07*50 -> 103.5 | J42: Sinapi - 7170
F43: =F42+1 -> 23 | G43: Passagem de Ônibus | H43: unid. | I43: 6
F44: =F43+1 -> 24 | G44: Cone de sinalização | H44: unid. | I44: 49.4 | J44: Sinapi - 13.244
F45: =F44+1 -> 25 | G45: Salário Mínimo | H45: unid. | I45: 1621
F46: =F45+1 -> 26 | G46: Protetor solar fator 15 | H46: unid. | I46: =247.74/20 -> 12.387 | J46: Sinapi - 36.146
F47: =F46+1 -> 27 | G47: Lona plástica | H47: m2 | I47: 2.28 | J47: Sinapi - 42.408
F49: ITEM | G49: EQUIPAMENTOS | H49: UNIDADE | I49: VALOR | J49: REFERÊNCIA | V49: Parametrizado
...

Sheet Modelo Cronograma
C3: CRONOGRAMA FÍSICO-FINANCEIRO
C4: ITEM | D4: DESCRIÇÃO DOS SERVIÇOS | E4: R$ | F4: % ETAPA | H4: PERÍODO: 1 | J4: PERÍODO: 2 | L4: PERÍODO: 3 | N4: PERÍODO: 4 | P4: PERÍODO: 5
F5: % sobre o total do orçamento | G5: % sobre o total da planilha | H5: 6 meses | J5: 12 meses | L5: 18 meses | N5: 24 meses | P5: 30 meses
H6: A | I6: B | J6: A | K6: B | L6: A | M6: B | N6: A | O6: B | P6: A | Q6: B
C7: 1. | D7: Coleta de Resíduos Sólidos Domiciliares, Comercial e Público | E7: =((+Planilha!F6+Planilha!$F$7)*Planilha!$G$6)*12+(+Planilha!F6*Planilha!$G$6)*48 -> 0 | F7: =TRUNC(E7/$E$14,4) -> #DIV/0! | G7: =F7 -> #DIV/0! | H7: =(+Planilha!$F$6+Planilha!$F$7)*Planilha!$G$6*6 -> 0 | I7: =ROUNDDOWN(H7/$E$14,4) -> #DIV/0! | J7: =H7 -> 0 | K7: =I7 -> #DIV/0! | L7: =(+Planilha!$F$6)*Planilha!$G$6*6 -> 0 | M7: =K7 -> #DIV/0! | N7: =L7 -> 0 | O7: =M7 -> #DIV/0! | P7: =N7 -> 0 | Q7: =O7 -> #DIV/0!
C8: 2. | D8: Coleta Mecanizada de Resíduos Sólidos Domiciliares, Comercial e Público - Carga Lateral | E8: =+Planilha!H7*48 -> 0 | F8: =TRUNC(E8/$E$14,4) -> #DIV/0! | G8: =F8 -> #DIV/0! | H8: 0 | I8: =ROUNDDOWN(H8/$E$14,4) -> #DIV/0! | J8: =H8 -> 0 | K8: =I8 -> #DIV/0! | L8: =(+Planilha!$F$7)*Planilha!$G$7*6 -> 0 | M8: =ROUNDDOWN(L8/$E$14,4) -> #DIV/0! | N8: =L8 -> 0 | O8: =M8 -> #DIV/0! | P8: =N8 -> 0 | Q8: =O8 -> #DIV/0!
C9: 3. | D9: Coleta Seletiva de Materiais Recicláveis | E9: =+Planilha!H8*60 -> 0 | F9: =TRUNC(E9/$E$14,4) -> #DIV/0! | G9: =F9 -> #DIV/0! | H9: =+Planilha!$H$8*6 -> 0 | I9: =ROUNDUP(H9/$E$14,4) -> #DIV/0! | J9: =H9 -> 0 | K9: =I9 -> #DIV/0! | L9: =J9 -> 0 | M9: =ROUNDDOWN(L9/$E$14,4) -> #DIV/0! | N9: =L9 -> 0 | O9: =M9 -> #DIV/0! | P9: =N9 -> 0 | Q9: =O9 -> #DIV/0!
C10: 4. | D10: Transporte de Resíduos Sólidos Domiciliares, Comercial e Público fora do Município | E10: =+Planilha!H9*60 -> 0 | F10: =TRUNC(E10/$E$14,4) -> #DIV/0! | G10: =F10 -> #DIV/0! | H10: =+Planilha!$H$9*6 -> 0 | I10: =ROUNDUP(H10/$E$14,4) -> #DIV/0! | J10: =H10 -> 0 | K10: =I10 -> #DIV/0! | L10: =J10 -> 0 | M10: =ROUNDDOWN(L10/$E$14,4) -> #DIV/0! | N10: =L10 -> 0 | O10: =M10 -> #DIV/0! | P10: =N10 -> 0 | Q10: =O10 -> #DIV/0!
C11: 5. | D11: Remoção de Caçambas Estacionárias | E11: =+Planilha!H10*60 -> 0 | F11: =TRUNC(E11/$E$14,4) -> #DIV/0! | G11: =F11 -> #DIV/0! | H11: =+Planilha!$H$10*6 -> 0 | I11: =ROUNDDOWN(H11/$E$14,4) -> #DIV/0! | J11: =H11 -> 0 | K11: =I11 -> #DIV/0! | L11: =J11 -> 0 | M11: =ROUNDDOWN(L11/$E$14,4) -> #DIV/0! | N11: =L11 -> 0 | O11: =M11 -> #DIV/0! | P11: =N11 -> 0 | Q11: =O11 -> #DIV/0!
C12: 6. | D12: Destinação Final de Resíduos Sólidos Domiciliares, Comercial e Público | E12: =+Planilha!H11*60 -> 0 | F12: =TRUNC(E12/$E$14,4) -> #DIV/0! | G12: =F12 -> #DIV/0! | H12: =+Planilha!$H$11*6 -> 0 | I12: =ROUNDUP(H12/$E$14,4) -> #DIV/0! | J12: =H12 -> 0 | K12: =I12 -> #DIV/0! | L12: =J12 -> 0 | M12: =ROUNDDOWN(L12/$E$14,4) -> #DIV/0! | N12: =L12 -> 0 | O12: =M12 -> #DIV/0! | P12: =N12 -> 0 | Q12: =O12 -> #DIV/0!
C13: 7. | D13: Remoção e Disposição Final de Materias Inertes e RCC | E13: =+Planilha!H12*60 -> 0 | F13: =TRUNC(E13/$E$14,4) -> #DIV/0! | G13: =F13 -> #DIV/0! | H13: =+Planilha!$H$12*6 -> 0 | I13: =ROUNDUP(H13/$E$14,4) -> #DIV/0! | J13: =H13 -> 0 | K13: =I13 -> #DIV/0! | L13: =J13 -> 0 | M13: =ROUNDDOWN(L13/$E$14,4) -> #DIV/0! | N13: =L13 -> 0 | O13: =M13 -> #DIV/0! | P13: =N13 -> 0 | Q13: =O13 -> #DIV/0!
C14: VALOR TOTAL (R$) | E14: =SUM(E7:E13) -> 0 | F14: 1 | G14: 1 | H14: =SUM(H7:H13) -> 0 | I14: 0.0167 | J14: =SUM(J7:J13) -> 0 | K14: =I14 -> 0.0167 | L14: =SUM(L7:L13) -> 0 | M14: =K14 -> 0.0167 | N14: =SUM(N7:N13) -> 0 | O14: =M14 -> 0.0167 | P14: =SUM(P7:P13) -> 0 | Q14: =O14 -> 0.0167
C15: % SIMPLES | H15: =H14/$E$14 -> #DIV/0! | J15: =J14/$E$14 -> #DIV/0! | L15: =L14/$E$14 -> #DIV/0! | N15: =N14/$E$14 -> #DIV/0! | P15: =P14/$E$14 -> #DIV/0!
C16: % ACUMULADO | H16: =H15 -> #DIV/0! | J16: =H16+J15 -> #DIV/0! | L16: =J16+L15 -> #DIV/0! | N16: =L16+N15 -> #DIV/0! | P16: =N16+P15 -> #DIV/0!
C17: TOTAL SIMPLES | H17: =$H$14 -> 0 | J17: =$H$14 -> 0 | L17: =$H$14 -> 0 | N17: =$H$14 -> 0 | P17: =$H$14 -> 0
C18: TOTAL ACUMULADO | H18: =H17 -> 0 | J18: =H18+J17 -> 0 | L18: =J18+L17 -> 0 | N18: =L18+N17 -> 0 | P18: =N18+P17 -> 0
C21: CRONOGRAMA FÍSICO-FINANCEIRO
C22: ITEM | D22: DESCRIÇÃO DOS SERVIÇOS | E22: R$ | F22: % ETAPA | H22: PERÍODO: 6 | J22: PERÍODO: 7 | L22: PERÍODO: 8 | N22: PERÍODO: 9 | P22: PERÍODO: 10
F23: % sobre o total do orçamento | G23: % sobre o total da planilha | H23: 36 meses | J23: 42 meses | L23: 48 meses | N23: 54 meses | P23: 60 meses
H24: A | I24: B | J24: A | K24: B | L24: A | M24: B | N24: A | O24: B | P24: A | Q24: B
C25: 1. | D25: Coleta de Resíduos Sólidos Domiciliares, Comercial e Público | E25: =E7 -> 0 | F25: =F7 -> #DIV/0! | G25: =G7 -> #DIV/0! | H25: =P7 -> 0 | I25: =I7 -> #DIV/0! | J25: =H25 -> 0 | K25: =I25 -> #DIV/0! | L25: =J25 -> 0 | M25: =K25 -> #DIV/0! | N25: =L25 -> 0 | O25: =M25 -> #DIV/0! | P25: =N25 -> 0 | Q25: =O25 -> #DIV/0!
C26: 2. | D26: Coleta Mecanizada de Resíduos Sólidos Domiciliares, Comercial e Público - Carga Lateral | E26: =E8 -> 0 | F26: =F8 -> #DIV/0! | G26: =G8 -> #DIV/0! | H26: =P8 -> 0 | I26: =I8 -> #DIV/0! | J26: =H26 -> 0 | K26: =I26 -> #DIV/0! | L26: =J26 -> 0 | M26: =K26 -> #DIV/0! | N26: =L26 -> 0 | O26: =M26 -> #DIV/0! | P26: =N26 -> 0 | Q26: =O26 -> #DIV/0!
C27: 3. | D27: Coleta Seletiva de Materiais Recicláveis | E27: =E9 -> 0 | F27: =F9 -> #DIV/0! | G27: =G9 -> #DIV/0! | H27: =P9 -> 0 | I27: =I9 -> #DIV/0! | J27: =H27 -> 0 | K27: =I27 -> #DIV/0! | L27: =J27 -> 0 | M27: =K27 -> #DIV/0! | N27: =L27 -> 0 | O27: =M27 -> #DIV/0! | P27: =N27 -> 0 | Q27: =O27 -> #DIV/0!
C28: 4. | D28: Transporte de Resíduos Sólidos Domiciliares, Comercial e Público fora do Município | E28: =E10 -> 0 | F28: =F10 -> #DIV/0! | G28: =G10 -> #DIV/0! | H28: =P10 -> 0 | I28: =I10 -> #DIV/0! | J28: =H28 -> 0 | K28: =I28 -> #DIV/0! | L28: =J28 -> 0 | M28: =K28 -> #DIV/0! | N28: =L28 -> 0 | O28: =M28 -> #DIV/0! | P28: =N28 -> 0 | Q28: =O28 -> #DIV/0!
C29: 5. | D29: Remoção de Caçambas Estacionárias | E29: =E11 -> 0 | F29: =F11 -> #DIV/0! | G29: =G11 -> #DIV/0! | H29: =P11 -> 0 | I29: =I11 -> #DIV/0! | J29: =H29 -> 0 | K29: =I29 -> #DIV/0! | L29: =J29 -> 0 | M29: =K29 -> #DIV/0! | N29: =L29 -> 0 | O29: =M29 -> #DIV/0! | P29: =N29 -> 0 | Q29: =O29 -> #DIV/0!
C30: 6. | D30: Destinação Final de Resíduos Sólidos Domiciliares, Comercial e Público | E30: =E12 -> 0 | F30: =F12 -> #DIV/0! | G30: =G12 -> #DIV/0! | H30: =P12 -> 0 | I30: =I12 -> #DIV/0! | J30: =H30 -> 0 | K30: =I30 -> #DIV/0! | L30: =J30 -> 0 | M30: =K30 -> #DIV/0! | N30: =L30 -> 0 | O30: =M30 -> #DIV/0! | P30: =N30 -> 0 | Q30: =O30 -> #DIV/0!
C31: 7. | D31: Remoção e Disposição Final de Materias Inertes e RCC | E31: =E13 -> 0 | F31: =F13 -> #DIV/0! | G31: =G13 -> #DIV/0! | H31: =P13 -> 0 | I31: =I13 -> #DIV/0! | J31: =H31 -> 0 | K31: =I31 -> #DIV/0! | L31: =J31 -> 0 | M31: =K31 -> #DIV/0! | N31: =L31 -> 0 | O31: =M31 -> #DIV/0! | P31: =N31 -> 0 | Q31: =O31 -> #DIV/0!
C32: VALOR TOTAL (R$) | E32: =E14 -> 0 | F32: =F14 -> 1 | G32: =G14 -> 1 | H32: =SUM(H25:H31) -> 0 | I32: =I14 -> 0.0167 | J32: =SUM(J25:J31) -> 0 | K32: =I32 -> 0.0167 | L32: =SUM(L25:L31) -> 0 | M32: =K32 -> 0.0167 | N32: =SUM(N25:N31) -> 0 | O32: =M32 -> 0.0167 | P32: =SUM(P25:P31) -> 0 | Q32: =O32 -> 0.0167
C33: % SIMPLES | H33: =H32/$E$14 -> #DIV/0! | J33: =J32/$E$14 -> #DIV/0! | L33: =L32/$E$14 -> #DIV/0! | N33: =N32/$E$14 -> #DIV/0! | P33: =P32/$E$14 -> #DIV/0!
C34: % ACUMULADO | H34: =P16+H33 -> #DIV/0! | J34: =H34+J33 -> #DIV/0! | L34: =J34+L33 -> #DIV/0! | N34: =L34+N33 -> #DIV/0! | P34: =N34+P33 -> #DIV/0!
C35: TOTAL SIMPLES | H35: =$H$14 -> 0 | J35: =$H$14 -> 0 | L35: =$H$14 -> 0 | N35: =$H$14 -> 0 | P35: =$H$14 -> 0
C36: TOTAL ACUMULADO | H36: =P18+H35 -> 0 | J36: =H36+J35 -> 0 | L36: =J36+L35 -> 0 | N36: =L36+N35 -> 0 | P36: =N36+P35 -> 0

Sheet 1.3. COL RSS B
A2: COMPOSIÇÃO DE CUSTOS
A4: Coleta de resíduos de serviços de saúde - remédios vencidos e animais de pequeno e médio porte
B7: DADOS OPERACIONAIS
B8: Dias no ano: | C8: 365.25 | D8: dias
B9: Domingos no ano: | C9: =C8/7 -> 52.178571 | D9: domingos
B10: Feriados no ano: | C10: 12 | D10: dias
B11: Média dias normais: | C11: =(C8-C9-C10)/12 -> 25.089286 | D11: dias
B12: Média dias coletas: | C12: =(C8-C9)/12 -> 26.089286 | D12: dias
B14: QUANTIDADE: | C14: =#REF! -> #REF! | D14: t./mês | F14: t./dia
B15: 1º Turno | C15: 1 | D15: =TRUNC(C14*C15,2) -> #REF! | E15: =C11 -> 25.089286 | F15: =ROUNDUP(D15/$E$15,2) -> #REF!
B16: 2º Turno | C16: =1-C15 -> 0 | D16: =TRUNC(C14*C16,2) -> #REF! | E16: =C12 -> 26.089286 | F16: =ROUNDUP(D16/$E$16,2) -> #REF!
B17: DIAS EFETIVOS:
B19: DIMENSIONAMENTO: | F19: GUARNIÇÕES:
B20: CAPACIDADE: | C20: 1 | D20: t/viagem | F20: 1º Turno | G20: =ROUNDUP(F15/$C$22,0) -> #REF!
B21: Q. VIAGENS: | C21: 1 | D21: viagens | F21: 2º Turno | G21: =ROUND(F16/$C$22,0) -> #REF!
B22: PROD xTURNO: | C22: =TRUNC(C20*C21,2) -> 1 | D22: t/turno
B24: Veículos
B26: Veículo Furgão | D26: Quantidade | E26: Reserva | F26: Km/dia por Veíc. | G26: Km por mês | H26: Efetivo | I26: Reserva
B27: 1º Turno | D27: =G20 -> #REF! | E27: 0 | F27: =60+140 -> 200 | G27: =(F27*$E$15*D27) -> #REF! | H27: =D27 -> #REF! | I27: =ROUNDUP(D27*E27,0) -> #REF!
B28: 2º Turno | D28: =G21 -> #REF! | E28: 0 | F28: 0 | G28: =(F28*$E$15*D28) -> #REF! | H28: =D28 -> #REF! | I28: =ROUNDUP(D28*E28,0) -> #REF!
B29: Domingos | D29: 0 | E29: 0 | F29: 0 | G29: =F29*D29 -> 0 | H29: =D29 -> 0 | I29: =ROUNDUP(D29*E29,0) -> 0
B30: Total de Km/mês | G30: =SUM(G27:G28) -> #REF!
B32: Mão de Obra | H32: Reserva Téc: | I32: 0.025
B34: Mão de Obra Direta | D34: Motorista | G34: Coletor
D35: Quantidade | E35: Reserva | F35: Total | G35: Quantidade | H35: Reserva | I35: Total
B36: 1º Turno | D36: =ROUNDUP(+D27,0) -> #REF! | E36: =ROUNDUP(D36*$I$32,1) -> #REF! | F36: =ROUND(D36+E36,0) -> #REF! | G36: =D36*1 -> #REF! | H36: =ROUNDUP(G36*$I$32,1) -> #REF! | I36: =ROUND(G36+H36,0) -> #REF!
B37: 2º Turno | D37: =ROUNDUP(+D28,0) -> #REF! | E37: =ROUNDUP(D37*$I$32,1) -> #REF! | F37: =ROUND(D37+E37,0) -> #REF! | G37: =D37*1 -> #REF! | H37: =ROUNDUP(G37*$I$32,1) -> #REF! | I37: =ROUND(G37+H37,0) -> #REF!
B38: Total de Funcionários | F38: =SUM(F36:F37) -> #REF! | I38: =SUM(I36:I37) -> #REF!
G40: 0
A43: I | B43: PESSOAL, REMUNERAÇÃO E ENCARGOS SOCIAIS
B45: Motorista | E45: Quant | G45: Valor Mensal | I45: Subtotal
B46: Salário Base | E46: 1 | F46: x R$ | G46: =+Dados!$I$7 -> 3319.996 | H46: = R$ | I46: =E46*G46 -> 3319.996
B47: Hora Extra | E47: 0 | F47: x R$ | G47: =G46/220*1.5 -> 22.636336 | H47: = R$ | I47: =E47*G47 -> 0
B48: Reflexo no DSR - H.E. 50% | E48: =((E47/26.08)*(($C$9+$C$10)/12)) -> 0 | F48: x R$ | G48: =((G46+G49)/220*1.5) -> 24.846791 | H48: = R$ | I48: =E48*G48 -> 0
B49: Insalubridade (% Sal. Mín.) | D49: 0.2 | E49: =E46 -> 1 | F49: x R$ | G49: =+Dados!$I$45*D49 -> 324.2 | H49: = R$ | I49: =E49*G49 -> 324.2
B50: Domingos/Feriados - H.E. 100% | E50: 0 | F50: x R$ | G50: =(G46+G49)/220*2 -> 33.129055 | H50: = R$ | I50: =E50*G50 -> 0
B51: Reflexo no DSR - H.E. 100% | E51: =((E50/26.08)*(($C$9+$C$10)/12)) -> 0 | F51: x R$ | G51: =((G46+G49)/220*2) -> 33.129055 | H51: = R$ | I51: =E51*G51 -> 0
B52: Adicional Noturno | E52: =F37/F38 -> #REF! | F52: x R$ | G52: =G46*14.48% -> 480.73542 | H52: = R$ | I52: =E52*G52 -> #REF!
B53: Encargos Sociais | D53: =Encargos!$D$37 -> 0.7302 | H53: = R$ | I53: =TRUNC(SUM(I46:I52)*D53,2) -> #REF!
B54: Assistência Médica e Seguro de Vida | E54: 1 | F54: x R$ | G54: =+Dados!$I$14 -> 265.6 | H54: = R$ | I54: =E54*G54 -> 265.6
...

Sheet 1.4. CARCAÇAS
A2: COMPOSIÇÃO DE CUSTOS
A4: Remoção de carcaças de animais mortos de grande porte
B7: DADOS OPERACIONAIS
B8: Dias no ano: | C8: 365.25 | D8: dias
B9: Domingos no ano: | C9: =C8/7 -> 52.178571 | D9: domingos
B10: Feriados no ano: | C10: 12 | D10: dias
B11: Média dias normais: | C11: =(C8-C9-C10)/12 -> 25.089286 | D11: dias
B12: Média dias coletas: | C12: =(C8-C9)/12 -> 26.089286 | D12: dias
B14: QUANTIDADE: | C14: =#REF! -> #REF! | D14: remoção/mês | F14: remoção/dia
B15: 1º Turno | C15: 1 | D15: =TRUNC(C14*C15,2) -> #REF! | E15: =C11 -> 25.089286 | F15: =D15 -> #REF!
B16: 2º Turno | C16: =1-C15 -> 0 | D16: =TRUNC(C14*C16,2) -> #REF! | E16: =C12 -> 26.089286 | F16: =ROUNDUP(D16/$E$16,2) -> #REF!
B17: DIAS EFETIVOS:
B19: DIMENSIONAMENTO: | F19: GUARNIÇÕES:
B20: CAPACIDADE: | C20: 1 | D20: remoção/viagem | F20: 1º Turno | G20: =ROUNDUP(F15/$C$22,0) -> #REF!
B21: Q. VIAGENS: | C21: 1 | D21: viagens | F21: 2º Turno | G21: =ROUND(F16/$C$22,0) -> #REF!
B22: PROD xTURNO: | C22: =TRUNC(C20*C21,2) -> 1 | D22: t/turno
B24: Veículos
B26: Caminhão Carroceria Munck | D26: Quantidade | E26: Reserva | F26: Km/dia por Veíc. | G26: Km por mês | H26: Efetivo | I26: Reserva
B27: 1º Turno | D27: =G20 -> #REF! | E27: 0 | F27: 180 | G27: =(F27*$E$15*D27) -> #REF! | H27: =D27 -> #REF! | I27: =ROUNDUP(D27*E27,0) -> #REF!
B28: 2º Turno | D28: =G21 -> #REF! | E28: 0 | F28: 0 | G28: =(F28*$E$15*D28) -> #REF! | H28: =D28 -> #REF! | I28: =ROUNDUP(D28*E28,0) -> #REF!
B29: Domingos | D29: 0 | E29: 0 | F29: 0 | G29: =F29*D29 -> 0 | H29: =D29 -> 0 | I29: =ROUNDUP(D29*E29,0) -> 0
B30: Total de Km/mês | G30: =SUM(G27:G28) -> #REF!
B32: Mão de Obra | H32: Reserva Téc: | I32: 0.025
B34: Mão de Obra Direta | D34: Motorista | G34: Coletor
D35: Quantidade | E35: Reserva | F35: Total | G35: Quantidade | H35: Reserva | I35: Total
B36: 1º Turno | D36: =ROUNDUP(+D27,0) -> #REF! | E36: =ROUNDUP(D36*$I$32,1) -> #REF! | F36: =ROUND(D36+E36,0) -> #REF! | G36: =D36*3 -> #REF! | H36: =ROUNDUP(G36*$I$32,1) -> #REF! | I36: =ROUND(G36+H36,0) -> #REF!
B37: 2º Turno | D37: =ROUNDUP(+D28,0) -> #REF! | E37: =ROUNDUP(D37*$I$32,1) -> #REF! | F37: =ROUND(D37+E37,0) -> #REF! | G37: =D37*1 -> #REF! | H37: =ROUNDUP(G37*$I$32,1) -> #REF! | I37: =ROUND(G37+H37,0) -> #REF!
B38: Total de Funcionários | F38: =SUM(F36:F37) -> #REF! | I38: =SUM(I36:I37) -> #REF!
G40: 0
A43: I | B43: PESSOAL, REMUNERAÇÃO E ENCARGOS SOCIAIS
B45: Motorista | E45: Quant | G45: Valor Mensal | I45: Subtotal
B46: Salário Base | E46: 1 | F46: x R$ | G46: =+Dados!$I$7 -> 3319.996 | H46: = R$ | I46: =E46*G46 -> 3319.996
B47: Hora Extra | E47: 0 | F47: x R$ | G47: =G46/220*1.5 -> 22.636336 | H47: = R$ | I47: =E47*G47 -> 0
B48: Reflexo no DSR - H.E. 50% | E48: =((E47/26.08)*(($C$9+$C$10)/12)) -> 0 | F48: x R$ | G48: =((G46+G49)/220*1.5) -> 24.846791 | H48: = R$ | I48: =E48*G48 -> 0
B49: Insalubridade (% Sal. Mín.) | D49: 0.2 | E49: =E46 -> 1 | F49: x R$ | G49: =+Dados!$I$45*D49 -> 324.2 | H49: = R$ | I49: =E49*G49 -> 324.2
B50: Domingos/Feriados - H.E. 100% | E50: 0 | F50: x R$ | G50: =(G46+G49)/220*2 -> 33.129055 | H50: = R$ | I50: =E50*G50 -> 0
B51: Reflexo no DSR - H.E. 100% | E51: =((E50/26.08)*(($C$9+$C$10)/12)) -> 0 | F51: x R$ | G51: =((G46+G49)/220*2) -> 33.129055 | H51: = R$ | I51: =E51*G51 -> 0
B52: Adicional Noturno | E52: =F37/F38 -> #REF! | F52: x R$ | G52: =G46*14.48% -> 480.73542 | H52: = R$ | I52: =E52*G52 -> #REF!
B53: Encargos Sociais | D53: =Encargos!$D$37 -> 0.7302 | H53: = R$ | I53: =TRUNC(SUM(I46:I52)*D53,2) -> #REF!
B54: Assistência Médica e Seguro de Vida | E54: 1 | F54: x R$ | G54: =+Dados!$I$14 -> 265.6 | H54: = R$ | I54: =E54*G54 -> 265.6
...
