Workbook
Name AreaTeste: #REF!
Name AreaTeste2: #REF!
Name CélulaInicioPlanilha: #REF!
Name CélulaResumo: #REF!
Name Excel_BuiltIn_Database: #REF!
Name Excel_BuiltIn_Database_2: #REF!

Sheet ORÇ (2)
E2: MEMÓRIA DE CÁLCULO
B6: =Planilha!E6 -> OBRA: AMPLIAÇÃO E REFORMA DA EMEB VEREADOR ELIAS ANDERE | H6: LOCAL: | I6: Ferraz de Vasconcelos
A9: 0 | B9: BLOCO DE FUNDAÇÃO
A71: 0 | B71: VIGA BALDRAME
B121: PILARES
B191: VIGAS
B227: CHAPISCO, EMBOÇO E REBOCO INTERNO
B280: AZULEJO
B303: CHAPISCO, EMBOÇO E REBOCO EXTERNO
B312: REVESTIMENTO CERÂMICO PISO
B370: REVESTIMENTO CERÂMICO PISO
B378: PINTURA

Sheet ORÇ
E2: MEMÓRIA DE CÁLCULO
B6: =Planilha!E6 -> OBRA: AMPLIAÇÃO E REFORMA DA EMEB VEREADOR ELIAS ANDERE | H6: LOCAL: | I6: Ferraz de Vasconcelos
B9: REF | C9: CÓDIGO | D9: DESCRIÇÃO DOS SERVIÇOS | I9: UNID | J9: QUANT
M10: =SUMIF(M12:M976,"<>#N/D",M12:M976) -> 3532854.5 | N10: =M10*1.25 -> 4416068.1 | Q10: =Q11+Q51+Q794+Q911 -> #N/A
C11: + | D11: 1 - SERVIÇOS PRELIMINARES | Q11: =SUM(M11:M50) -> 242760.52
B12: EDIF | C12: 17030002 | D12: =UPPER(IF($B12="EDIF",VLOOKUP($C12,[1]EDIF!$A$1:$F$3677,2,0),(IF($B12="INFRA",VLOOKUP($C12,[1]INFRA!$A$1:$F$1859,2,0),(IF($B12="SINAPI",VLOOKUP($C12,[1]SINAPI!$A$1:$G$9552,2,0),(IF($B12="CDHU",VLOOKUP($C12,[1]CDHU!$A$1:$G$5122,2,0),(IF($B12="SIEC",VLOOKUP($C12,[1]SIEC!$A$1:$F$5304,2,0),(IF($B12="DER",VLOOKUP($C12,[1]DER!$A$1:$F$3075,2,0),(IF($B12="FDE",VLOOKUP($C12,[1]FDE!$A$1:$F$3289,2,0),(IF($B12="SICRO",VLOOKUP($C12,[1]SICRO!$A$1:$E$7371,2,0))))))))))))))))) -> PLACA DE OBRA EM CHAPA DE AÇO GALVANIZADO | I12: =UPPER(IF($B12="EDIF",VLOOKUP($C12,[1]EDIF!$A$1:$F$3677,3,0),(IF($B12="INFRA",VLOOKUP($C12,[1]INFRA!$A$1:$F$1859,3,0),(IF($B12="SINAPI",VLOOKUP($C12,[1]SINAPI!$A$1:$G$9552,3,0),(IF($B12="CDHU",VLOOKUP($C12,[1]CDHU!$A$1:$G$5122,3,0),(IF($B12="SIEC",VLOOKUP($C12,[1]SIEC!$A$1:$F$5304,3,0),(IF($B12="DER",VLOOKUP($C12,[1]DER!$A$1:$F$2075,3,0),(IF($B12="FDE",VLOOKUP($C12,[1]FDE!$A$1:$F$3289,3,0),(IF($B12="SICRO",VLOOKUP($C12,[1]SICRO!$A$1:$E$7371,3,0))))))))))))))))) -> M2 | J12: =SUM(K13:K14) -> 6 | L12: =UPPER(ROUND((IF($B12="EDIF",VLOOKUP($C12,[1]EDIF!$A$1:$F$3677,4,0),(IF($B12="INFRA",VLOOKUP($C12,[1]INFRA!$A$1:$F$1859,4,0),(IF($B12="SINAPI",VLOOKUP($C12,[1]SINAPI!$A$1:$G$9552,4,0),(IF($B12="CDHU",VLOOKUP($C12,[1]CDHU!$A$1:$G$5122,6,0),(IF($B12="SIEC",VLOOKUP($C12,[1]SIEC!$A$1:$F$5304,5,0),(IF($B12="DER",VLOOKUP($C12,[1]DER!$A$1:$F$3075,5,0),(IF($B12="FDE",VLOOKUP($C12,[1]FDE!$A$1:$F$3289,5,0),(IF($B12="SICRO",VLOOKUP($C12,[1]SICRO!$A$1:$E$7371,4,0))))))))))))))))),2)) -> 399,72 | M12: =TRUNC(J12*L12,2) -> 2398.32 | N12: =C12 -> 17030002 | O12: =UPPER(IF($B12="EDIF",VLOOKUP($C12,[1]EDIF!$A$1:$F$3677,5,0),(IF($B12="INFRA",VLOOKUP($C12,[1]INFRA!$A$1:$F$1859,5,0),(IF($B12="SINAPI",VLOOKUP($C12,[1]SINAPI!$A$1:$G$9552,6,0),(IF($B12="CDHU",VLOOKUP($C12,[1]CDHU!$A$1:$G$5122,7,0),(IF($B12="SIEC",VLOOKUP($C12,[1]SIEC!$A$1:$F$5304,6,0),(IF($B12="DER",VLOOKUP($C12,[1]DER!$A$1:$F$3075,6,0),(IF($B12="FDE",VLOOKUP($C12,[1]FDE!$A$1:$F$3289,6,0),(IF($B12="SICRO",VLOOKUP($C12,[1]SICRO!$A$1:$E$7371,5,0))))))))))))))))) -> SIURB-E JAN/26
C13: - | D13: Placa de Obra - 1,5 x 4,0 = 6,0m2 | K13: 6
C14: -
B15: EDIF | C15: 1001001 | D15: =UPPER(IF($B15="EDIF",VLOOKUP($C15,[1]EDIF!$A$1:$F$3677,2,0),(IF($B15="INFRA",VLOOKUP($C15,[1]INFRA!$A$1:$F$1859,2,0),(IF($B15="SINAPI",VLOOKUP($C15,[1]SINAPI!$A$1:$G$9552,2,0),(IF($B15="CDHU",VLOOKUP($C15,[1]CDHU!$A$1:$G$5122,2,0),(IF($B15="SIEC",VLOOKUP($C15,[1]SIEC!$A$1:$F$5304,2,0),(IF($B15="DER",VLOOKUP($C15,[1]DER!$A$1:$F$3075,2,0),(IF($B15="FDE",VLOOKUP($C15,[1]FDE!$A$1:$F$3289,2,0),(IF($B15="SICRO",VLOOKUP($C15,[1]SICRO!$A$1:$E$7371,2,0))))))))))))))))) -> LIMPEZA MECANIZADA GERAL, INCLUSIVE REMOÇÃO DA COBERTURA VEGETAL - TRONCOS COM DIÂMETRO ATÉ 10CM - SEM TRANSPORTE | I15: =UPPER(IF($B15="EDIF",VLOOKUP($C15,[1]EDIF!$A$1:$F$3677,3,0),(IF($B15="INFRA",VLOOKUP($C15,[1]INFRA!$A$1:$F$1859,3,0),(IF($B15="SINAPI",VLOOKUP($C15,[1]SINAPI!$A$1:$G$9552,3,0),(IF($B15="CDHU",VLOOKUP($C15,[1]CDHU!$A$1:$G$5122,3,0),(IF($B15="SIEC",VLOOKUP($C15,[1]SIEC!$A$1:$F$5304,3,0),(IF($B15="DER",VLOOKUP($C15,[1]DER!$A$1:$F$2075,3,0),(IF($B15="FDE",VLOOKUP($C15,[1]FDE!$A$1:$F$3289,3,0),(IF($B15="SICRO",VLOOKUP($C15,[1]SICRO!$A$1:$E$7371,3,0))))))))))))))))) -> M2 | J15: =ROUND(K16,2) -> 355 | L15: =UPPER(ROUND((IF($B15="EDIF",VLOOKUP($C15,[1]EDIF!$A$1:$F$3677,4,0),(IF($B15="INFRA",VLOOKUP($C15,[1]INFRA!$A$1:$F$1859,4,0),(IF($B15="SINAPI",VLOOKUP($C15,[1]SINAPI!$A$1:$G$9552,4,0),(IF($B15="CDHU",VLOOKUP($C15,[1]CDHU!$A$1:$G$5122,6,0),(IF($B15="SIEC",VLOOKUP($C15,[1]SIEC!$A$1:$F$5304,5,0),(IF($B15="DER",VLOOKUP($C15,[1]DER!$A$1:$F$3075,5,0),(IF($B15="FDE",VLOOKUP($C15,[1]FDE!$A$1:$F$3289,5,0),(IF($B15="SICRO",VLOOKUP($C15,[1]SICRO!$A$1:$E$7371,4,0))))))))))))))))),2)) -> 1,78 | M15: =TRUNC(J15*L15,2) -> 631.9 | N15: =C15 -> 1001001 | O15: =UPPER(IF($B15="EDIF",VLOOKUP($C15,[1]EDIF!$A$1:$F$2677,5,0),(IF($B15="INFRA",VLOOKUP($C15,[1]INFRA!$A$1:$F$859,5,0),(IF($B15="SINAPI",VLOOKUP($C15,[1]SINAPI!$A$1:$G$7552,7,0),(IF($B15="CDHU",VLOOKUP($C15,[1]CDHU!$A$1:$G$4122,7,0),(IF($B15="SIEC",VLOOKUP($C15,[1]SIEC!$A$1:$F$4304,6,0),(IF($B15="DER",VLOOKUP($C15,[1]DER!$A$1:$F$2075,6,0),(IF($B15="SICRO",VLOOKUP($C15,[1]SICRO!$A$1:$E$6371,5,0))))))))))))))) -> SIURB-E JAN/26
C16: - | D16: Area Ampliação - 355,00m2 | K16: 355
C17: -
B18: EDIF | C18: 1001006 | D18: =UPPER(IF($B18="EDIF",VLOOKUP($C18,[1]EDIF!$A$1:$F$3677,2,0),(IF($B18="INFRA",VLOOKUP($C18,[1]INFRA!$A$1:$F$1859,2,0),(IF($B18="SINAPI",VLOOKUP($C18,[1]SINAPI!$A$1:$G$9552,2,0),(IF($B18="CDHU",VLOOKUP($C18,[1]CDHU!$A$1:$G$5122,2,0),(IF($B18="SIEC",VLOOKUP($C18,[1]SIEC!$A$1:$F$5304,2,0),(IF($B18="DER",VLOOKUP($C18,[1]DER!$A$1:$F$3075,2,0),(IF($B18="FDE",VLOOKUP($C18,[1]FDE!$A$1:$F$3289,2,0),(IF($B18="SICRO",VLOOKUP($C18,[1]SICRO!$A$1:$E$7371,2,0))))))))))))))))) -> CARGA MANUAL E REMOÇÃO DE ENTULHO, INCLUSIVE TRANSPORTE ATÉ 1 KM | I18: =UPPER(IF($B18="EDIF",VLOOKUP($C18,[1]EDIF!$A$1:$F$3677,3,0),(IF($B18="INFRA",VLOOKUP($C18,[1]INFRA!$A$1:$F$1859,3,0),(IF($B18="SINAPI",VLOOKUP($C18,[1]SINAPI!$A$1:$G$9552,3,0),(IF($B18="CDHU",VLOOKUP($C18,[1]CDHU!$A$1:$G$5122,3,0),(IF($B18="SIEC",VLOOKUP($C18,[1]SIEC!$A$1:$F$5304,3,0),(IF($B18="DER",VLOOKUP($C18,[1]DER!$A$1:$F$2075,3,0),(IF($B18="FDE",VLOOKUP($C18,[1]FDE!$A$1:$F$3289,3,0),(IF($B18="SICRO",VLOOKUP($C18,[1]SICRO!$A$1:$E$7371,3,0))))))))))))))))) -> M3 | J18: =ROUND(K19,2) -> 344.79 | L18: =UPPER(ROUND((IF($B18="EDIF",VLOOKUP($C18,[1]EDIF!$A$1:$F$3677,4,0),(IF($B18="INFRA",VLOOKUP($C18,[1]INFRA!$A$1:$F$1859,4,0),(IF($B18="SINAPI",VLOOKUP($C18,[1]SINAPI!$A$1:$G$9552,4,0),(IF($B18="CDHU",VLOOKUP($C18,[1]CDHU!$A$1:$G$5122,6,0),(IF($B18="SIEC",VLOOKUP($C18,[1]SIEC!$A$1:$F$5304,5,0),(IF($B18="DER",VLOOKUP($C18,[1]DER!$A$1:$F$3075,5,0),(IF($B18="FDE",VLOOKUP($C18,[1]FDE!$A$1:$F$3289,5,0),(IF($B18="SICRO",VLOOKUP($C18,[1]SICRO!$A$1:$E$7371,4,0))))))))))))))))),2)) -> 54,55 | M18: =TRUNC(J18*L18,2) -> 18808.29 | N18: =C18 -> 1001006 | O18: =UPPER(IF($B18="EDIF",VLOOKUP($C18,[1]EDIF!$A$1:$F$2677,5,0),(IF($B18="INFRA",VLOOKUP($C18,[1]INFRA!$A$1:$F$859,5,0),(IF($B18="SINAPI",VLOOKUP($C18,[1]SINAPI!$A$1:$G$7552,7,0),(IF($B18="CDHU",VLOOKUP($C18,[1]CDHU!$A$1:$G$4122,7,0),(IF($B18="SIEC",VLOOKUP($C18,[1]SIEC!$A$1:$F$4304,6,0),(IF($B18="DER",VLOOKUP($C18,[1]DER!$A$1:$F$2075,6,0),(IF($B18="SICRO",VLOOKUP($C18,[1]SICRO!$A$1:$E$6371,5,0))))))))))))))) -> SIURB-E JAN/26
C19: - | K19: =(J53+J57+J62+(J69*0.16)+(J75*0.06)+(J78*0.1)+(J81*0.1)+(J84*0.04)+(J87*0.03)+(J90*0.3*0.04)+(J93*0.3*0.03)+(J119*0.03)+(J72*0.3)+J796+J799+(J802*0.03)+(J820*0.04)+J913+(J917*0.05))*1.3 -> 344.78944
C20: -
B21: EDIF | C21: 1001010 | D21: =UPPER(IF($B21="EDIF",VLOOKUP($C21,[1]EDIF!$A$1:$F$3677,2,0),(IF($B21="INFRA",VLOOKUP($C21,[1]INFRA!$A$1:$F$1859,2,0),(IF($B21="SINAPI",VLOOKUP($C21,[1]SINAPI!$A$1:$G$9552,2,0),(IF($B21="CDHU",VLOOKUP($C21,[1]CDHU!$A$1:$G$5122,2,0),(IF($B21="SIEC",VLOOKUP($C21,[1]SIEC!$A$1:$F$5304,2,0),(IF($B21="DER",VLOOKUP($C21,[1]DER!$A$1:$F$3075,2,0),(IF($B21="FDE",VLOOKUP($C21,[1]FDE!$A$1:$F$3289,2,0),(IF($B21="SICRO",VLOOKUP($C21,[1]SICRO!$A$1:$E$7371,2,0))))))))))))))))) -> TRANSPORTE DE ENTULHO POR CAMINHÃO BASCULANTE, A PARTIR DE 1KM | I21: =UPPER(IF($B21="EDIF",VLOOKUP($C21,[1]EDIF!$A$1:$F$3677,3,0),(IF($B21="INFRA",VLOOKUP($C21,[1]INFRA!$A$1:$F$1859,3,0),(IF($B21="SINAPI",VLOOKUP($C21,[1]SINAPI!$A$1:$G$9552,3,0),(IF($B21="CDHU",VLOOKUP($C21,[1]CDHU!$A$1:$G$5122,3,0),(IF($B21="SIEC",VLOOKUP($C21,[1]SIEC!$A$1:$F$5304,3,0),(IF($B21="DER",VLOOKUP($C21,[1]DER!$A$1:$F$2075,3,0),(IF($B21="FDE",VLOOKUP($C21,[1]FDE!$A$1:$F$3289,3,0),(IF($B21="SICRO",VLOOKUP($C21,[1]SICRO!$A$1:$E$7371,3,0))))))))))))))))) -> M3XKM | J21: =ROUND(K22,2) -> 6895.8 | L21: =UPPER(ROUND((IF($B21="EDIF",VLOOKUP($C21,[1]EDIF!$A$1:$F$3677,4,0),(IF($B21="INFRA",VLOOKUP($C21,[1]INFRA!$A$1:$F$1859,4,0),(IF($B21="SINAPI",VLOOKUP($C21,[1]SINAPI!$A$1:$G$9552,4,0),(IF($B21="CDHU",VLOOKUP($C21,[1]CDHU!$A$1:$G$5122,6,0),(IF($B21="SIEC",VLOOKUP($C21,[1]SIEC!$A$1:$F$5304,5,0),(IF($B21="DER",VLOOKUP($C21,[1]DER!$A$1:$F$3075,5,0),(IF($B21="FDE",VLOOKUP($C21,[1]FDE!$A$1:$F$3289,5,0),(IF($B21="SICRO",VLOOKUP($C21,[1]SICRO!$A$1:$E$7371,4,0))))))))))))))))),2)) -> 1,72 | M21: =TRUNC(J21*L21,2) -> 11860.77 | N21: =C21 -> 1001010 | O21: =UPPER(IF($B21="EDIF",VLOOKUP($C21,[1]EDIF!$A$1:$F$2677,5,0),(IF($B21="INFRA",VLOOKUP($C21,[1]INFRA!$A$1:$F$859,5,0),(IF($B21="SINAPI",VLOOKUP($C21,[1]SINAPI!$A$1:$G$7552,7,0),(IF($B21="CDHU",VLOOKUP($C21,[1]CDHU!$A$1:$G$4122,7,0),(IF($B21="SIEC",VLOOKUP($C21,[1]SIEC!$A$1:$F$4304,6,0),(IF($B21="DER",VLOOKUP($C21,[1]DER!$A$1:$F$2075,6,0),(IF($B21="SICRO",VLOOKUP($C21,[1]SICRO!$A$1:$E$6371,5,0))))))))))))))) -> SIURB-E JAN/26
C22: - | D22: Ver item 01.001.006 x 20km de distacia | K22: =J18*20 -> 6895.8
C23: -
B24: infra | C24: 4064000 | D24: =UPPER(IF($B24="EDIF",VLOOKUP($C24,[1]EDIF!$A$1:$F$3677,2,0),(IF($B24="INFRA",VLOOKUP($C24,[1]INFRA!$A$1:$F$1859,2,0),(IF($B24="SINAPI",VLOOKUP($C24,[1]SINAPI!$A$1:$G$9552,2,0),(IF($B24="CDHU",VLOOKUP($C24,[1]CDHU!$A$1:$G$5122,2,0),(IF($B24="SIEC",VLOOKUP($C24,[1]SIEC!$A$1:$F$5304,2,0),(IF($B24="DER",VLOOKUP($C24,[1]DER!$A$1:$F$3075,2,0),(IF($B24="FDE",VLOOKUP($C24,[1]FDE!$A$1:$F$3289,2,0),(IF($B24="SICRO",VLOOKUP($C24,[1]SICRO!$A$1:$E$7371,2,0))))))))))))))))) -> DISPOSIÇÃO FINAL DE SOLOS E RESÍDUOS, CLASSE II B - INERTES, EM ATERRO SANITÁRIO LICENCIADO | I24: =UPPER(IF($B24="EDIF",VLOOKUP($C24,[1]EDIF!$A$1:$F$3677,3,0),(IF($B24="INFRA",VLOOKUP($C24,[1]INFRA!$A$1:$F$1859,3,0),(IF($B24="SINAPI",VLOOKUP($C24,[1]SINAPI!$A$1:$G$9552,3,0),(IF($B24="CDHU",VLOOKUP($C24,[1]CDHU!$A$1:$G$5122,3,0),(IF($B24="SIEC",VLOOKUP($C24,[1]SIEC!$A$1:$F$5304,3,0),(IF($B24="DER",VLOOKUP($C24,[1]DER!$A$1:$F$2075,3,0),(IF($B24="FDE",VLOOKUP($C24,[1]FDE!$A$1:$F$3289,3,0),(IF($B24="SICRO",VLOOKUP($C24,[1]SICRO!$A$1:$E$7371,3,0))))))))))))))))) -> TON | J24: =ROUND(K25,2) -> 517.19 | L24: =UPPER(ROUND((IF($B24="EDIF",VLOOKUP($C24,[1]EDIF!$A$1:$F$3677,4,0),(IF($B24="INFRA",VLOOKUP($C24,[1]INFRA!$A$1:$F$1859,4,0),(IF($B24="SINAPI",VLOOKUP($C24,[1]SINAPI!$A$1:$G$9552,4,0),(IF($B24="CDHU",VLOOKUP($C24,[1]CDHU!$A$1:$G$5122,6,0),(IF($B24="SIEC",VLOOKUP($C24,[1]SIEC!$A$1:$F$5304,5,0),(IF($B24="DER",VLOOKUP($C24,[1]DER!$A$1:$F$3075,5,0),(IF($B24="FDE",VLOOKUP($C24,[1]FDE!$A$1:$F$3289,5,0),(IF($B24="SICRO",VLOOKUP($C24,[1]SICRO!$A$1:$E$7371,4,0))))))))))))))))),2)) -> 124,28 | M24: =TRUNC(J24*L24,2) -> 64276.37 | N24: =C24 -> 4064000 | O24: =UPPER(IF($B24="EDIF",VLOOKUP($C24,[1]EDIF!$A$1:$F$2677,5,0),(IF($B24="INFRA",VLOOKUP($C24,[1]INFRA!$A$1:$F$859,5,0),(IF($B24="SINAPI",VLOOKUP($C24,[1]SINAPI!$A$1:$G$7552,7,0),(IF($B24="CDHU",VLOOKUP($C24,[1]CDHU!$A$1:$G$4122,7,0),(IF($B24="SIEC",VLOOKUP($C24,[1]SIEC!$A$1:$F$4304,6,0),(IF($B24="DER",VLOOKUP($C24,[1]DER!$A$1:$F$2075,6,0),(IF($B24="SICRO",VLOOKUP($C24,[1]SICRO!$A$1:$E$6371,5,0))))))))))))))) -> SIURB-I JAN/26
C25: - | D25: Adotado 1,5Ton/m3 | K25: =J18*1.5 -> 517.185
C26: -
B27: EDIF | C27: 1003002 | D27: =UPPER(IF($B27="EDIF",VLOOKUP($C27,[1]EDIF!$A$1:$F$3677,2,0),(IF($B27="INFRA",VLOOKUP($C27,[1]INFRA!$A$1:$F$1859,2,0),(IF($B27="SINAPI",VLOOKUP($C27,[1]SINAPI!$A$1:$G$9552,2,0),(IF($B27="CDHU",VLOOKUP($C27,[1]CDHU!$A$1:$G$5122,2,0),(IF($B27="SIEC",VLOOKUP($C27,[1]SIEC!$A$1:$F$5304,2,0),(IF($B27="DER",VLOOKUP($C27,[1]DER!$A$1:$F$3075,2,0),(IF($B27="FDE",VLOOKUP($C27,[1]FDE!$A$1:$F$3289,2,0),(IF($B27="SICRO",VLOOKUP($C27,[1]SICRO!$A$1:$E$7371,2,0))))))))))))))))) -> CORTE E ATERRO COMPACTADO | I27: =UPPER(IF($B27="EDIF",VLOOKUP($C27,[1]EDIF!$A$1:$F$3677,3,0),(IF($B27="INFRA",VLOOKUP($C27,[1]INFRA!$A$1:$F$1859,3,0),(IF($B27="SINAPI",VLOOKUP($C27,[1]SINAPI!$A$1:$G$9552,3,0),(IF($B27="CDHU",VLOOKUP($C27,[1]CDHU!$A$1:$G$5122,3,0),(IF($B27="SIEC",VLOOKUP($C27,[1]SIEC!$A$1:$F$5304,3,0),(IF($B27="DER",VLOOKUP($C27,[1]DER!$A$1:$F$2075,3,0),(IF($B27="FDE",VLOOKUP($C27,[1]FDE!$A$1:$F$3289,3,0),(IF($B27="SICRO",VLOOKUP($C27,[1]SICRO!$A$1:$E$7371,3,0))))))))))))))))) -> M3 | J27: =ROUND(K28,2) -> 213 | L27: =UPPER(ROUND((IF($B27="EDIF",VLOOKUP($C27,[1]EDIF!$A$1:$F$3677,4,0),(IF($B27="INFRA",VLOOKUP($C27,[1]INFRA!$A$1:$F$1859,4,0),(IF($B27="SINAPI",VLOOKUP($C27,[1]SINAPI!$A$1:$G$9552,4,0),(IF($B27="CDHU",VLOOKUP($C27,[1]CDHU!$A$1:$G$5122,6,0),(IF($B27="SIEC",VLOOKUP($C27,[1]SIEC!$A$1:$F$5304,5,0),(IF($B27="DER",VLOOKUP($C27,[1]DER!$A$1:$F$3075,5,0),(IF($B27="FDE",VLOOKUP($C27,[1]FDE!$A$1:$F$3289,5,0),(IF($B27="SICRO",VLOOKUP($C27,[1]SICRO!$A$1:$E$7371,4,0))))))))))))))))),2)) -> 21,14 | M27: =TRUNC(J27*L27,2) -> 4502.82 | N27: =C27 -> 1003002 | O27: =UPPER(IF($B27="EDIF",VLOOKUP($C27,[1]EDIF!$A$1:$F$2677,5,0),(IF($B27="INFRA",VLOOKUP($C27,[1]INFRA!$A$1:$F$859,5,0),(IF($B27="SINAPI",VLOOKUP($C27,[1]SINAPI!$A$1:$G$7552,7,0),(IF($B27="CDHU",VLOOKUP($C27,[1]CDHU!$A$1:$G$4122,7,0),(IF($B27="SIEC",VLOOKUP($C27,[1]SIEC!$A$1:$F$4304,6,0),(IF($B27="DER",VLOOKUP($C27,[1]DER!$A$1:$F$2075,6,0),(IF($B27="SICRO",VLOOKUP($C27,[1]SICRO!$A$1:$E$6371,5,0))))))))))))))) -> SIURB-E JAN/26
C28: - | D28: Area Ampliação - 347,78m2 x 0,6 | K28: =J15*0.6 -> 213
C29: -
B30: EDIF | C30: 1003005 | D30: =UPPER(IF($B30="EDIF",VLOOKUP($C30,[1]EDIF!$A$1:$F$3677,2,0),(IF($B30="INFRA",VLOOKUP($C30,[1]INFRA!$A$1:$F$1859,2,0),(IF($B30="SINAPI",VLOOKUP($C30,[1]SINAPI!$A$1:$G$9552,2,0),(IF($B30="CDHU",VLOOKUP($C30,[1]CDHU!$A$1:$G$5122,2,0),(IF($B30="SIEC",VLOOKUP($C30,[1]SIEC!$A$1:$F$5304,2,0),(IF($B30="DER",VLOOKUP($C30,[1]DER!$A$1:$F$3075,2,0),(IF($B30="FDE",VLOOKUP($C30,[1]FDE!$A$1:$F$3289,2,0),(IF($B30="SICRO",VLOOKUP($C30,[1]SICRO!$A$1:$E$7371,2,0))))))))))))))))) -> FORNECIMENTO DE TERRA, INCLUSIVE CORTE, CARGA, DESCARGA E TRANSPORTE ATÉ 1KM | I30: =UPPER(IF($B30="EDIF",VLOOKUP($C30,[1]EDIF!$A$1:$F$3677,3,0),(IF($B30="INFRA",VLOOKUP($C30,[1]INFRA!$A$1:$F$1859,3,0),(IF($B30="SINAPI",VLOOKUP($C30,[1]SINAPI!$A$1:$G$9552,3,0),(IF($B30="CDHU",VLOOKUP($C30,[1]CDHU!$A$1:$G$5122,3,0),(IF($B30="SIEC",VLOOKUP($C30,[1]SIEC!$A$1:$F$5304,3,0),(IF($B30="DER",VLOOKUP($C30,[1]DER!$A$1:$F$2075,3,0),(IF($B30="FDE",VLOOKUP($C30,[1]FDE!$A$1:$F$3289,3,0),(IF($B30="SICRO",VLOOKUP($C30,[1]SICRO!$A$1:$E$7371,3,0))))))))))))))))) -> M3 | J30: =ROUND(K31,2) -> 85.2 | L30: =UPPER(ROUND((IF($B30="EDIF",VLOOKUP($C30,[1]EDIF!$A$1:$F$3677,4,0),(IF($B30="INFRA",VLOOKUP($C30,[1]INFRA!$A$1:$F$1859,4,0),(IF($B30="SINAPI",VLOOKUP($C30,[1]SINAPI!$A$1:$G$9552,4,0),(IF($B30="CDHU",VLOOKUP($C30,[1]CDHU!$A$1:$G$5122,6,0),(IF($B30="SIEC",VLOOKUP($C30,[1]SIEC!$A$1:$F$5304,5,0),(IF($B30="DER",VLOOKUP($C30,[1]DER!$A$1:$F$3075,5,0),(IF($B30="FDE",VLOOKUP($C30,[1]FDE!$A$1:$F$3289,5,0),(IF($B30="SICRO",VLOOKUP($C30,[1]SICRO!$A$1:$E$7371,4,0))))))))))))))))),2)) -> 32,2 | M30: =TRUNC(J30*L30,2) -> 2743.44 | N30: =C30 -> 1003005 | O30: =UPPER(IF($B30="EDIF",VLOOKUP($C30,[1]EDIF!$A$1:$F$2677,5,0),(IF($B30="INFRA",VLOOKUP($C30,[1]INFRA!$A$1:$F$859,5,0),(IF($B30="SINAPI",VLOOKUP($C30,[1]SINAPI!$A$1:$G$7552,7,0),(IF($B30="CDHU",VLOOKUP($C30,[1]CDHU!$A$1:$G$4122,7,0),(IF($B30="SIEC",VLOOKUP($C30,[1]SIEC!$A$1:$F$4304,6,0),(IF($B30="DER",VLOOKUP($C30,[1]DER!$A$1:$F$2075,6,0),(IF($B30="SICRO",VLOOKUP($C30,[1]SICRO!$A$1:$E$6371,5,0))))))))))))))) -> SIURB-E JAN/26
C31: - | D31: Ver item 01.003.002 x 40% | K31: =J27*0.4 -> 85.2
C32: -
B33: EDIF | C33: 1003010 | D33: =UPPER(IF($B33="EDIF",VLOOKUP($C33,[1]EDIF!$A$1:$F$3677,2,0),(IF($B33="INFRA",VLOOKUP($C33,[1]INFRA!$A$1:$F$1859,2,0),(IF($B33="SINAPI",VLOOKUP($C33,[1]SINAPI!$A$1:$G$9552,2,0),(IF($B33="CDHU",VLOOKUP($C33,[1]CDHU!$A$1:$G$5122,2,0),(IF($B33="SIEC",VLOOKUP($C33,[1]SIEC!$A$1:$F$5304,2,0),(IF($B33="DER",VLOOKUP($C33,[1]DER!$A$1:$F$3075,2,0),(IF($B33="FDE",VLOOKUP($C33,[1]FDE!$A$1:$F$3289,2,0),(IF($B33="SICRO",VLOOKUP($C33,[1]SICRO!$A$1:$E$7371,2,0))))))))))))))))) -> TRANSPORTE DE TERRA POR CAMINHÃO BASCULANTE, A PARTIR DE 1KM | I33: =UPPER(IF($B33="EDIF",VLOOKUP($C33,[1]EDIF!$A$1:$F$3677,3,0),(IF($B33="INFRA",VLOOKUP($C33,[1]INFRA!$A$1:$F$1859,3,0),(IF($B33="SINAPI",VLOOKUP($C33,[1]SINAPI!$A$1:$G$9552,3,0),(IF($B33="CDHU",VLOOKUP($C33,[1]CDHU!$A$1:$G$5122,3,0),(IF($B33="SIEC",VLOOKUP($C33,[1]SIEC!$A$1:$F$5304,3,0),(IF($B33="DER",VLOOKUP($C33,[1]DER!$A$1:$F$2075,3,0),(IF($B33="FDE",VLOOKUP($C33,[1]FDE!$A$1:$F$3289,3,0),(IF($B33="SICRO",VLOOKUP($C33,[1]SICRO!$A$1:$E$7371,3,0))))))))))))))))) -> M3XKM | J33: =ROUND(K34,2) -> 1704 | L33: =UPPER(ROUND((IF($B33="EDIF",VLOOKUP($C33,[1]EDIF!$A$1:$F$3677,4,0),(IF($B33="INFRA",VLOOKUP($C33,[1]INFRA!$A$1:$F$1859,4,0),(IF($B33="SINAPI",VLOOKUP($C33,[1]SINAPI!$A$1:$G$9552,4,0),(IF($B33="CDHU",VLOOKUP($C33,[1]CDHU!$A$1:$G$5122,6,0),(IF($B33="SIEC",VLOOKUP($C33,[1]SIEC!$A$1:$F$5304,5,0),(IF($B33="DER",VLOOKUP($C33,[1]DER!$A$1:$F$3075,5,0),(IF($B33="FDE",VLOOKUP($C33,[1]FDE!$A$1:$F$3289,5,0),(IF($B33="SICRO",VLOOKUP($C33,[1]SICRO!$A$1:$E$7371,4,0))))))))))))))))),2)) -> 3,08 | M33: =TRUNC(J33*L33,2) -> 5248.32 | N33: =C33 -> 1003010 | O33: =UPPER(IF($B33="EDIF",VLOOKUP($C33,[1]EDIF!$A$1:$F$2677,5,0),(IF($B33="INFRA",VLOOKUP($C33,[1]INFRA!$A$1:$F$859,5,0),(IF($B33="SINAPI",VLOOKUP($C33,[1]SINAPI!$A$1:$G$7552,7,0),(IF($B33="CDHU",VLOOKUP($C33,[1]CDHU!$A$1:$G$4122,7,0),(IF($B33="SIEC",VLOOKUP($C33,[1]SIEC!$A$1:$F$4304,6,0),(IF($B33="DER",VLOOKUP($C33,[1]DER!$A$1:$F$2075,6,0),(IF($B33="SICRO",VLOOKUP($C33,[1]SICRO!$A$1:$E$6371,5,0))))))))))))))) -> SIURB-E JAN/26
C34: - | D34: Ver item 01.003.005 x 20km de distacia | K34: =J30*20 -> 1704
C35: -
B36: EDIF | C36: 20003004 | D36: =UPPER(IF($B36="EDIF",VLOOKUP($C36,[1]EDIF!$A$1:$F$3677,2,0),(IF($B36="INFRA",VLOOKUP($C36,[1]INFRA!$A$1:$F$1859,2,0),(IF($B36="SINAPI",VLOOKUP($C36,[1]SINAPI!$A$1:$G$9552,2,0),(IF($B36="CDHU",VLOOKUP($C36,[1]CDHU!$A$1:$G$5122,2,0),(IF($B36="SIEC",VLOOKUP($C36,[1]SIEC!$A$1:$F$5304,2,0),(IF($B36="DER",VLOOKUP($C36,[1]DER!$A$1:$F$3075,2,0),(IF($B36="FDE",VLOOKUP($C36,[1]FDE!$A$1:$F$3289,2,0),(IF($B36="SICRO",VLOOKUP($C36,[1]SICRO!$A$1:$E$7371,2,0))))))))))))))))) -> ENGENHEIRO/ ARQUITETO PLENO | I36: =UPPER(IF($B36="EDIF",VLOOKUP($C36,[1]EDIF!$A$1:$F$3677,3,0),(IF($B36="INFRA",VLOOKUP($C36,[1]INFRA!$A$1:$F$1859,3,0),(IF($B36="SINAPI",VLOOKUP($C36,[1]SINAPI!$A$1:$G$9552,3,0),(IF($B36="CDHU",VLOOKUP($C36,[1]CDHU!$A$1:$G$5122,3,0),(IF($B36="SIEC",VLOOKUP($C36,[1]SIEC!$A$1:$F$5304,3,0),(IF($B36="DER",VLOOKUP($C36,[1]DER!$A$1:$F$2075,3,0),(IF($B36="FDE",VLOOKUP($C36,[1]FDE!$A$1:$F$3289,3,0),(IF($B36="SICRO",VLOOKUP($C36,[1]SICRO!$A$1:$E$7371,3,0))))))))))))))))) -> H | J36: =ROUND(K37,2) -> 480 | L36: =UPPER(ROUND((IF($B36="EDIF",VLOOKUP($C36,[1]EDIF!$A$1:$F$3677,4,0),(IF($B36="INFRA",VLOOKUP($C36,[1]INFRA!$A$1:$F$1859,4,0),(IF($B36="SINAPI",VLOOKUP($C36,[1]SINAPI!$A$1:$G$9552,4,0),(IF($B36="CDHU",VLOOKUP($C36,[1]CDHU!$A$1:$G$5122,6,0),(IF($B36="SIEC",VLOOKUP($C36,[1]SIEC!$A$1:$F$5304,5,0),(IF($B36="DER",VLOOKUP($C36,[1]DER!$A$1:$F$3075,5,0),(IF($B36="FDE",VLOOKUP($C36,[1]FDE!$A$1:$F$3289,5,0),(IF($B36="SICRO",VLOOKUP($C36,[1]SICRO!$A$1:$E$7371,4,0))))))))))))))))),2)) -> 190,43 | M36: =TRUNC(J36*L36,2) -> 91406.4 | N36: =C36 -> 20003004 | O36: =UPPER(IF($B36="EDIF",VLOOKUP($C36,[1]EDIF!$A$1:$F$2677,5,0),(IF($B36="INFRA",VLOOKUP($C36,[1]INFRA!$A$1:$F$859,5,0),(IF($B36="SINAPI",VLOOKUP($C36,[1]SINAPI!$A$1:$G$7552,7,0),(IF($B36="CDHU",VLOOKUP($C36,[1]CDHU!$A$1:$G$4122,7,0),(IF($B36="SIEC",VLOOKUP($C36,[1]SIEC!$A$1:$F$4304,6,0),(IF($B36="DER",VLOOKUP($C36,[1]DER!$A$1:$F$2075,6,0),(IF($B36="SICRO",VLOOKUP($C36,[1]SICRO!$A$1:$E$6371,5,0))))))))))))))) -> #N/A
C37: - | D37: 480h | K37: =2*20*12 -> 480
C38: -
B39: CDHU | C39: 02.01.180 | D39: =UPPER(IF($B39="EDIF",VLOOKUP($C39,[1]EDIF!$A$1:$F$3677,2,0),(IF($B39="INFRA",VLOOKUP($C39,[1]INFRA!$A$1:$F$1859,2,0),(IF($B39="SINAPI",VLOOKUP($C39,[1]SINAPI!$A$1:$G$9552,2,0),(IF($B39="CDHU",VLOOKUP($C39,[1]CDHU!$A$1:$G$5122,2,0),(IF($B39="SIEC",VLOOKUP($C39,[1]SIEC!$A$1:$F$5304,2,0),(IF($B39="DER",VLOOKUP($C39,[1]DER!$A$1:$F$3075,2,0),(IF($B39="FDE",VLOOKUP($C39,[1]FDE!$A$1:$F$3289,2,0),(IF($B39="SICRO",VLOOKUP($C39,[1]SICRO!$A$1:$E$7371,2,0))))))))))))))))) -> BANHEIRO QUÍMICO MODELO STANDARD, COM MANUTENÇÃO CONFORME EXIGÊNCIAS DA CETESB | I39: =UPPER(IF($B39="EDIF",VLOOKUP($C39,[1]EDIF!$A$1:$F$3677,3,0),(IF($B39="INFRA",VLOOKUP($C39,[1]INFRA!$A$1:$F$1859,3,0),(IF($B39="SINAPI",VLOOKUP($C39,[1]SINAPI!$A$1:$G$9552,3,0),(IF($B39="CDHU",VLOOKUP($C39,[1]CDHU!$A$1:$G$5122,3,0),(IF($B39="SIEC",VLOOKUP($C39,[1]SIEC!$A$1:$F$5304,3,0),(IF($B39="DER",VLOOKUP($C39,[1]DER!$A$1:$F$2075,3,0),(IF($B39="FDE",VLOOKUP($C39,[1]FDE!$A$1:$F$3289,3,0),(IF($B39="SICRO",VLOOKUP($C39,[1]SICRO!$A$1:$E$7371,3,0))))))))))))))))) -> UNMES | J39: =ROUND(K40,2) -> 12 | L39: =UPPER(ROUND((IF($B39="EDIF",VLOOKUP($C39,[1]EDIF!$A$1:$F$3677,4,0),(IF($B39="INFRA",VLOOKUP($C39,[1]INFRA!$A$1:$F$1859,4,0),(IF($B39="SINAPI",VLOOKUP($C39,[1]SINAPI!$A$1:$G$9552,4,0),(IF($B39="CDHU",VLOOKUP($C39,[1]CDHU!$A$1:$G$5122,6,0),(IF($B39="SIEC",VLOOKUP($C39,[1]SIEC!$A$1:$F$5304,5,0),(IF($B39="DER",VLOOKUP($C39,[1]DER!$A$1:$F$3075,5,0),(IF($B39="FDE",VLOOKUP($C39,[1]FDE!$A$1:$F$3289,5,0),(IF($B39="SICRO",VLOOKUP($C39,[1]SICRO!$A$1:$E$7371,4,0))))))))))))))))),2)) -> 1213,99 | M39: =TRUNC(J39*L39,2) -> 14567.88 | N39: =C39 -> 02.01.180 | O39: =UPPER(IF($B39="EDIF",VLOOKUP($C39,[1]EDIF!$A$1:$F$2677,5,0),(IF($B39="INFRA",VLOOKUP($C39,[1]INFRA!$A$1:$F$859,5,0),(IF($B39="SINAPI",VLOOKUP($C39,[1]SINAPI!$A$1:$G$7552,7,0),(IF($B39="CDHU",VLOOKUP($C39,[1]CDHU!$A$1:$G$4122,7,0),(IF($B39="SIEC",VLOOKUP($C39,[1]SIEC!$A$1:$F$4304,6,0),(IF($B39="DER",VLOOKUP($C39,[1]DER!$A$1:$F$2075,6,0),(IF($B39="SICRO",VLOOKUP($C39,[1]SICRO!$A$1:$E$6371,5,0))))))))))))))) -> 15
C40: - | D40: Tapume para fechamento de Obra - 63,00m x 2,20m(h) = 138,6m2 | K40: 12
C41: -
B42: CDHU | C42: 02.02.150 | D42: =UPPER(IF($B42="EDIF",VLOOKUP($C42,[1]EDIF!$A$1:$F$3677,2,0),(IF($B42="INFRA",VLOOKUP($C42,[1]INFRA!$A$1:$F$1859,2,0),(IF($B42="SINAPI",VLOOKUP($C42,[1]SINAPI!$A$1:$G$9552,2,0),(IF($B42="CDHU",VLOOKUP($C42,[1]CDHU!$A$1:$G$5122,2,0),(IF($B42="SIEC",VLOOKUP($C42,[1]SIEC!$A$1:$F$5304,2,0),(IF($B42="DER",VLOOKUP($C42,[1]DER!$A$1:$F$3075,2,0),(IF($B42="FDE",VLOOKUP($C42,[1]FDE!$A$1:$F$3289,2,0),(IF($B42="SICRO",VLOOKUP($C42,[1]SICRO!$A$1:$E$7371,2,0))))))))))))))))) -> LOCAÇÃO DE CONTAINER TIPO DEPÓSITO - ÁREA MÍNIMA DE 13,80 M² | I42: =UPPER(IF($B42="EDIF",VLOOKUP($C42,[1]EDIF!$A$1:$F$3677,3,0),(IF($B42="INFRA",VLOOKUP($C42,[1]INFRA!$A$1:$F$1859,3,0),(IF($B42="SINAPI",VLOOKUP($C42,[1]SINAPI!$A$1:$G$9552,3,0),(IF($B42="CDHU",VLOOKUP($C42,[1]CDHU!$A$1:$G$5122,3,0),(IF($B42="SIEC",VLOOKUP($C42,[1]SIEC!$A$1:$F$5304,3,0),(IF($B42="DER",VLOOKUP($C42,[1]DER!$A$1:$F$2075,3,0),(IF($B42="FDE",VLOOKUP($C42,[1]FDE!$A$1:$F$3289,3,0),(IF($B42="SICRO",VLOOKUP($C42,[1]SICRO!$A$1:$E$7371,3,0))))))))))))))))) -> UNMES | J42: =ROUND(K43,2) -> 12 | L42: =UPPER(ROUND((IF($B42="EDIF",VLOOKUP($C42,[1]EDIF!$A$1:$F$3677,4,0),(IF($B42="INFRA",VLOOKUP($C42,[1]INFRA!$A$1:$F$1859,4,0),(IF($B42="SINAPI",VLOOKUP($C42,[1]SINAPI!$A$1:$G$9552,4,0),(IF($B42="CDHU",VLOOKUP($C42,[1]CDHU!$A$1:$G$5122,6,0),(IF($B42="SIEC",VLOOKUP($C42,[1]SIEC!$A$1:$F$5304,5,0),(IF($B42="DER",VLOOKUP($C42,[1]DER!$A$1:$F$3075,5,0),(IF($B42="FDE",VLOOKUP($C42,[1]FDE!$A$1:$F$3289,5,0),(IF($B42="SICRO",VLOOKUP($C42,[1]SICRO!$A$1:$E$7371,4,0))))))))))))))))),2)) -> 999,52 | M42: =TRUNC(J42*L42,2) -> 11994.24 | N42: =C42 -> 02.02.150 | O42: =UPPER(IF($B42="EDIF",VLOOKUP($C42,[1]EDIF!$A$1:$F$2677,5,0),(IF($B42="INFRA",VLOOKUP($C42,[1]INFRA!$A$1:$F$859,5,0),(IF($B42="SINAPI",VLOOKUP($C42,[1]SINAPI!$A$1:$G$7552,7,0),(IF($B42="CDHU",VLOOKUP($C42,[1]CDHU!$A$1:$G$4122,7,0),(IF($B42="SIEC",VLOOKUP($C42,[1]SIEC!$A$1:$F$4304,6,0),(IF($B42="DER",VLOOKUP($C42,[1]DER!$A$1:$F$2075,6,0),(IF($B42="SICRO",VLOOKUP($C42,[1]SICRO!$A$1:$E$6371,5,0))))))))))))))) -> 15
C43: - | D43: Tapume para fechamento de Obra - 63,00m x 2,20m(h) = 138,6m2 | K43: 12
C44: -
B45: EDIF | C45: 1005001 | D45: =UPPER(IF($B45="EDIF",VLOOKUP($C45,[1]EDIF!$A$1:$F$3677,2,0),(IF($B45="INFRA",VLOOKUP($C45,[1]INFRA!$A$1:$F$1859,2,0),(IF($B45="SINAPI",VLOOKUP($C45,[1]SINAPI!$A$1:$G$9552,2,0),(IF($B45="CDHU",VLOOKUP($C45,[1]CDHU!$A$1:$G$5122,2,0),(IF($B45="SIEC",VLOOKUP($C45,[1]SIEC!$A$1:$F$5304,2,0),(IF($B45="DER",VLOOKUP($C45,[1]DER!$A$1:$F$3075,2,0),(IF($B45="FDE",VLOOKUP($C45,[1]FDE!$A$1:$F$3289,2,0),(IF($B45="SICRO",VLOOKUP($C45,[1]SICRO!$A$1:$E$7371,2,0))))))))))))))))) -> TAPUME CHAPA COMPENSADA 6MM | I45: =UPPER(IF($B45="EDIF",VLOOKUP($C45,[1]EDIF!$A$1:$F$3677,3,0),(IF($B45="INFRA",VLOOKUP($C45,[1]INFRA!$A$1:$F$1859,3,0),(IF($B45="SINAPI",VLOOKUP($C45,[1]SINAPI!$A$1:$G$9552,3,0),(IF($B45="CDHU",VLOOKUP($C45,[1]CDHU!$A$1:$G$5122,3,0),(IF($B45="SIEC",VLOOKUP($C45,[1]SIEC!$A$1:$F$5304,3,0),(IF($B45="DER",VLOOKUP($C45,[1]DER!$A$1:$F$2075,3,0),(IF($B45="FDE",VLOOKUP($C45,[1]FDE!$A$1:$F$3289,3,0),(IF($B45="SICRO",VLOOKUP($C45,[1]SICRO!$A$1:$E$7371,3,0))))))))))))))))) -> M2 | J45: =ROUND(K46,2) -> 138.6 | L45: =UPPER(ROUND((IF($B45="EDIF",VLOOKUP($C45,[1]EDIF!$A$1:$F$3677,4,0),(IF($B45="INFRA",VLOOKUP($C45,[1]INFRA!$A$1:$F$1859,4,0),(IF($B45="SINAPI",VLOOKUP($C45,[1]SINAPI!$A$1:$G$9552,4,0),(IF($B45="CDHU",VLOOKUP($C45,[1]CDHU!$A$1:$G$5122,6,0),(IF($B45="SIEC",VLOOKUP($C45,[1]SIEC!$A$1:$F$5304,5,0),(IF($B45="DER",VLOOKUP($C45,[1]DER!$A$1:$F$3075,5,0),(IF($B45="FDE",VLOOKUP($C45,[1]FDE!$A$1:$F$3289,5,0),(IF($B45="SICRO",VLOOKUP($C45,[1]SICRO!$A$1:$E$7371,4,0))))))))))))))))),2)) -> 90,01 | M45: =TRUNC(J45*L45,2) -> 12475.38 | N45: =C45 -> 1005001 | O45: =UPPER(IF($B45="EDIF",VLOOKUP($C45,[1]EDIF!$A$1:$F$2677,5,0),(IF($B45="INFRA",VLOOKUP($C45,[1]INFRA!$A$1:$F$859,5,0),(IF($B45="SINAPI",VLOOKUP($C45,[1]SINAPI!$A$1:$G$7552,7,0),(IF($B45="CDHU",VLOOKUP($C45,[1]CDHU!$A$1:$G$4122,7,0),(IF($B45="SIEC",VLOOKUP($C45,[1]SIEC!$A$1:$F$4304,6,0),(IF($B45="DER",VLOOKUP($C45,[1]DER!$A$1:$F$2075,6,0),(IF($B45="SICRO",VLOOKUP($C45,[1]SICRO!$A$1:$E$6371,5,0))))))))))))))) -> SIURB-E JAN/26
C46: - | D46: Tapume para fechamento de Obra - 63,00m x 2,20m(h) = 138,6m2 | K46: =63*2.2 -> 138.6
...

Sheet Resumo
B1: + | C1: 1 - SERVIÇOS PRELIMINARES
A2: EDIF | B2: 17030002 | C2: PLACA DE OBRA EM CHAPA DE AÇO GALVANIZADO | H2: M2 | I2: 6
A3: EDIF | B3: 1001001 | C3: LIMPEZA MECANIZADA GERAL, INCLUSIVE REMOÇÃO DA COBERTURA VEGETAL - TRONCOS COM DIÂMETRO ATÉ 10CM - SEM TRANSPORTE | H3: M2 | I3: 355
A4: EDIF | B4: 1001006 | C4: CARGA MANUAL E REMOÇÃO DE ENTULHO, INCLUSIVE TRANSPORTE ATÉ 1 KM | H4: M3 | I4: 308.7
A5: EDIF | B5: 1001010 | C5: TRANSPORTE DE ENTULHO POR CAMINHÃO BASCULANTE, A PARTIR DE 1KM | H5: M3XKM | I5: 6174
A6: infra | B6: 4064000 | C6: DISPOSIÇÃO FINAL DE SOLOS E RESÍDUOS, CLASSE II B - INERTES, EM ATERRO SANITÁRIO LICENCIADO | H6: TON | I6: 463.05
A7: EDIF | B7: 1003002 | C7: CORTE E ATERRO COMPACTADO | H7: M3 | I7: 213
A8: EDIF | B8: 1003005 | C8: FORNECIMENTO DE TERRA, INCLUSIVE CORTE, CARGA, DESCARGA E TRANSPORTE ATÉ 1KM | H8: M3 | I8: 85.2
A9: EDIF | B9: 1003010 | C9: TRANSPORTE DE TERRA POR CAMINHÃO BASCULANTE, A PARTIR DE 1KM | H9: M3XKM | I9: 1704
A10: EDIF | B10: 20003004 | C10: ENGENHEIRO/ ARQUITETO PLENO | H10: H | I10: 480
A11: CDHU | B11: 02.01.180 | C11: BANHEIRO QUÍMICO MODELO STANDARD, COM MANUTENÇÃO CONFORME EXIGÊNCIAS DA CETESB | H11: UNMES | I11: 12
A12: CDHU | B12: 02.02.150 | C12: LOCAÇÃO DE CONTAINER TIPO DEPÓSITO - ÁREA MÍNIMA DE 13,80 M² | H12: UNMES | I12: 12
A13: EDIF | B13: 1005001 | C13: TAPUME CHAPA COMPENSADA 6MM | H13: M2 | I13: 138.6
A14: EDIF | B14: 1005006 | C14: PORTÃO METÁLICO DE OBRA - 5M, PIVOTANTE, 2 FOLHAS, PARA TAPUME | H14: M2 | I14: 6.16
B15: + | C15: 2 - AMPLIAÇÃO EMEB ELIAS ANDERE
B16: + | C16: 2.1 - DEMOLIÇÕES E RETIRADAS
A17: EDIF | B17: 3050001 | C17: DEMOLIÇÃO MECANIZADA DE CONCRETO SIMPLES | H17: M3 | I17: 17.02
A18: EDIF | B18: 3050002 | C18: DEMOLIÇÃO MECANIZADA DE CONCRETO ARMADO | H18: M3 | I18: 6.27
A19: EDIF | B19: 4050004 | C19: DEMOLIÇÃO DE ALVENARIA EM GERAL (TIJOLOS OU BLOCOS) | H19: M3 | I19: 28.37
A20: EDIF | B20: 3050005 | C20: DEMOLIÇÃO DE LAJES MISTAS COM ESPESSURA FINAL IGUAL OU INFERIOR A 16CM | H20: M2 | I20: 36.89
A21: EDIF | B21: 5050001 | C21: DEMOLIÇÃO DE ARGAMASSA IMPERMEÁVEL - ESPESSURA MÉDIA DE 30MM | H21: M2 | I21: 323.25
A22: EDIF | B22: 4050010 | C22: DEMOLIÇÃO DE PLACAS DIVISÓRIAS DE GRANILITE OU SIMILAR | H22: M2 | I22: 29.65
A23: EDIF | B23: 6060003 | C23: RETIRADA DE ESTRUTURA MADEIRA PONTALETADA - PARA TELHAS DE BARRO COZIDO | H23: M2 | I23: 294.35
A24: EDIF | B24: 6060004 | C24: RETIRADA DE ESTRUTURA MADEIRA PONTALETADA - PARA TELHA ONDULADA DE CIMENTO AMIANTO, ALUMÍNIO OU PLÁSTICO | H24: M2 | I24: 214.17
A25: EDIF | B25: 6060020 | C25: RETIRADA DE TELHAS DE BARRO COZIDO OU VIDRO - TIPO FRANCESA | H25: M2 | I25: 294.35
A26: EDIF | B26: 6060025 | C26: RETIRADA DE TELHAS EM GERAL, EXCLUSIVE TELHAS DE BARRO COZIDO, VIDRO E ESTRUTURAIS DE CRFS | H26: M2 | I26: 214.17
A27: EDIF | B27: 6060040 | C27: RETIRADA DE CUMEEIRAS OU ESPIGÕES DE BARRO COZIDO OU VIDRO EM GERAL | H27: M | I27: 18.9
A28: EDIF | B28: 6060090 | C28: RETIRADA DE CUMEEIRAS OU ESPIGÕES DE MATERIAIS EM GERAL - EXCLUSIVE BARRO COZIDO OU VIDRO | H28: M | I28: 7.15
... A37: EDIF | B37: 17060095 | C37: RETIRADA DE ALAMBRADO EM TELA INCLUSIVE ESTRUTURA DE SUSTENTAÇÃO (FP.04) | H37: M | I37: 133.32
B38: + | C38: 2.2 - INFRAESTRUTURA
A39: EDIF | B39: 2001005 | C39: ESTACA DE CONCRETO MOLDADA NO LOCAL, TIPO "STRAUSS" - ATÉ 20T | H39: M | I39: 84
A40: EDIF | B40: 2001006 | C40: ESTACA DE CONCRETO MOLDADA NO LOCAL, TIPO "STRAUSS" - ATÉ 30T | H40: M | I40: 258
A41: EDIF | B41: 2001007 | C41: ESTACA DE CONCRETO MOLDADA NO LOCAL, TIPO "STRAUSS" - ATÉ 40T | H41: M | I41: 186
A42: EDIF | B42: 2002001 | C42: ESCAVAÇÃO MANUAL COM PROFUNDIDADE IGUAL OU INFERIOR A 1,50M | H42: M3 | I42: 69.86
A43: EDIF | B43: 2002016 | C43: LASTRO DE CONCRETO - 150KG CIM/M3 | H43: M3 | I43: 5.61
A44: EDIF | B44: 2003001 | C44: FORMA COMUM DE TÁBUAS DE PINUS | H44: M2 | I44: 169.62
A45: EDIF | B45: 2004004 | C45: ARMADURA EM AÇO CA-50 | H45: KG | I45: 2713.6
A46: EDIF | B46: 2004007 | C46: ARMADURA EM AÇO CA-60 | H46: KG | I46: 678.4
A47: EDIF | B47: 2005010 | C47: CONCRETO FCK=25MPA - USINADO | H47: M3 | I47: 33.92
A48: EDIF | B48: 5001043 | C48: PINTURA PROTETORA COM TINTA BETUMINOSA (PARA ARGAMASSA IMPERMEÁVEL) - 2 DEMÃOS | H48: M2 | I48: 305.32
...

Sheet Calculos
A1: Estacas | D1: Escavação Bloco de Fundação | J1: Lastro de Concreto Bloco de Fundação | P1: Bloco de Fundação | V1: Escavação Viga Baldrame | AA1: Lastro de Concreto em Viga Baldrame | AF1: Forma Lateral Viga Baldrame | AJ1: Viga Baldrame | AO1: Impermeabilização de Baldrame | AU1: Vigas | AZ1: Vigas Forma ( L + H + H) | BE1: Pilar | BL1: Pilar Forma - ((l+l+L+L)xH) | BS1: REVESTIMENTO NOVO (CHAPISCO + EMBOÇO + REBOCO) | BY1: REVESTIMENTOS CERÂMICOS ESMALTADO | CC1: Azulejos
A2: ne | B2: Estaca | D2: Lado B (cm) | E2: Lado H (cm) | F2: h0/há (cm) | G2: h1/hb (cm) | H2: M3 | J2: Lado B (cm) | K2: Lado H (cm) | L2: h0/há (cm) | M2: h1/hb (cm) | N2: M3 | P2: Lado B (cm) | Q2: Lado H (cm) | R2: h0/há (cm) | S2: h1/hb (cm) | T2: M3 | V2: C | W2: L | X2: H | Y2: M3 | AA2: C | AB2: L | AC2: H | AD2: M3 | AF2: C | AG2: H | AH2: M2 | AJ2: C | AK2: L | AL2: H | AM2: M3 | AO2: C | AP2: L | AQ2: L | AR2: H | AS2: M2 | AU2: C | AV2: L | AW2: H | AX2: M3 | AZ2: C | BA2: L | BB2: H | BC2: M2 | BE2: Nome | BF2: Seção (cm) | BG2: l | BH2: L | BI2: H | BJ2: M3 | BL2: Nome | BM2: Seção (cm) | BN2: l | BO2: L | BP2: H | BQ2: M2 | BS2: Local | BT2: AREA (M2) | BU2: PERIMETRO | BV2: PÉ DIREITO | BW2: PAREDES AREA TOTAL (M2) | BY2: Local | BZ2: AREA (M2) | CA2: PERIMETRO | CC2: Local | CD2: PERIMETRO | CE2: PÉ DIREITO | CF2: PAREDES AREA TOTAL (M2)
A3: 1 | B3: C50 | D3: 0.8 | E3: 0.8 | F3: 0 | G3: 0.8 | H3: =D3*E3*G3 -> 0.512 | J3: 0.8 | K3: 0.8 | L3: 0 | M3: 0.05 | N3: =J3*K3*M3 -> 0.032 | P3: 0.8 | Q3: 0.8 | R3: 0 | S3: 0.75 | T3: =P3*Q3*S3 -> 0.48 | V3: 14.45 | W3: 0.2 | X3: 0.55 | Y3: =V3*W3*X3 -> 1.5895 | AA3: 14.45 | AB3: 0.2 | AC3: 0.05 | AD3: =AA3*AB3*AC3 -> 0.1445 | AF3: 14.45 | AG3: 0.5 | AH3: =AF3*AG3*2 -> 14.45 | AJ3: 14.45 | AK3: 0.2 | AL3: 0.5 | AM3: =AJ3*AK3*AL3 -> 1.445 | AO3: 14.45 | AP3: 0.2 | AQ3: 0.2 | AR3: 0.5 | AS3: =AO3*(AP3+AR3+AQ3) -> 13.005 | AU3: 14.45 | AV3: 0.2 | AW3: 0.6 | AX3: =AU3*AV3*AW3 -> 1.734 | AZ3: 14.45 | BA3: 0.2 | BB3: 0.6 | BC3: =(BB3+BB3+BA3)*AZ3 -> 20.23 | BE3: P01 | BF3: 15x50 | BG3: 0.15 | BH3: 0.5 | BI3: 4.58 | BJ3: =BG3*BH3*BI3 -> 0.3435 | BL3: P01 | BM3: 15x50 | BN3: 0.15 | BO3: 0.5 | BP3: 4.58 | BQ3: =((BN3*2)+(BO3*2))*BP3 -> 5.954 | BS3: SALA 1 | BT3: 36 | BU3: 24 | BV3: 3.1 | BW3: =BU3*BV3 -> 74.4 | BY3: SALA 1 | BZ3: 36 | CA3: 24 | CC3: W.C. INFANTIL FEMININO | CD3: 21.7 | CE3: 3.1 | CF3: =CD3*CE3 -> 67.27
A4: 1 | B4: C50 | D4: 0.8 | E4: 0.8 | F4: 0 | G4: 0.8 | H4: =D4*E4*G4 -> 0.512 | J4: 0.8 | K4: 0.8 | L4: 0 | M4: 0.05 | N4: =J4*K4*M4 -> 0.032 | P4: 0.8 | Q4: 0.8 | R4: 0 | S4: 0.75 | T4: =P4*Q4*S4 -> 0.48 | V4: 5.94 | W4: 0.2 | X4: 0.55 | Y4: =V4*W4*X4 -> 0.6534 | AA4: 5.94 | AB4: 0.2 | AC4: 0.05 | AD4: =AA4*AB4*AC4 -> 0.0594 | AF4: 5.94 | AG4: 0.5 | AH4: =AF4*AG4*2 -> 5.94 | AJ4: 5.94 | AK4: 0.2 | AL4: 0.5 | AM4: =AJ4*AK4*AL4 -> 0.594 | AO4: 5.94 | AP4: 0.2 | AQ4: 0.2 | AR4: 0.5 | AS4: =AO4*(AP4+AR4+AQ4) -> 5.346 | AU4: 5.94 | AV4: 0.2 | AW4: 0.6 | AX4: =AU4*AV4*AW4 -> 0.7128 | AZ4: 5.94 | BA4: 0.2 | BB4: 0.6 | BC4: =(BB4+BB4+BA4)*AZ4 -> 8.316 | BE4: P02 | BF4: 15x50 | BG4: 0.15 | BH4: 0.5 | BI4: 4.58 | BJ4: =BG4*BH4*BI4 -> 0.3435 | BL4: P02 | BM4: 15x50 | BN4: 0.15 | BO4: 0.5 | BP4: 4.58 | BQ4: =((BN4*2)+(BO4*2))*BP4 -> 5.954 | BS4: SALA 8 | BT4: 36 | BU4: 24 | BV4: 3.1 | BW4: =BU4*BV4 -> 74.4 | BY4: SALA 8 | BZ4: 36 | CA4: 24 | CC4: BANHEIRO PCD | CD4: 8 | CE4: 3.1 | CF4: =CD4*CE4 -> 24.8
A5: 1 | B5: C40 | D5: 0.7 | E5: 0.7 | F5: 0 | G5: 0.7 | H5: =D5*E5*G5 -> 0.343 | J5: 0.7 | K5: 0.7 | L5: 0 | M5: 0.05 | N5: =J5*K5*M5 -> 0.0245 | P5: 0.7 | Q5: 0.7 | R5: 0 | S5: 0.65 | T5: =P5*Q5*S5 -> 0.3185 | V5: 5.94 | W5: 0.2 | X5: 0.55 | Y5: =V5*W5*X5 -> 0.6534 | AA5: 5.94 | AB5: 0.2 | AC5: 0.05 | AD5: =AA5*AB5*AC5 -> 0.0594 | AF5: 5.94 | AG5: 0.5 | AH5: =AF5*AG5*2 -> 5.94 | AJ5: 5.94 | AK5: 0.2 | AL5: 0.5 | AM5: =AJ5*AK5*AL5 -> 0.594 | AO5: 5.94 | AP5: 0.2 | AQ5: 0.2 | AR5: 0.5 | AS5: =AO5*(AP5+AR5+AQ5) -> 5.346 | AU5: 5.94 | AV5: 0.2 | AW5: 0.3 | AX5: =AU5*AV5*AW5 -> 0.3564 | AZ5: 5.94 | BA5: 0.2 | BB5: 0.3 | BC5: =(BB5+BB5+BA5)*AZ5 -> 4.752 | BE5: P03 | BF5: 15x30 | BG5: 0.15 | BH5: 0.3 | BI5: 4.58 | BJ5: =BG5*BH5*BI5 -> 0.2061 | BL5: P03 | BM5: 15x30 | BN5: 0.15 | BO5: 0.3 | BP5: 4.58 | BQ5: =((BN5*2)+(BO5*2))*BP5 -> 4.122 | BS5: CORREDOR DAS SALAS | BT5: =12+5.4 -> 17.4 | BU5: =(9.4+16-4) -> 21.4 | BV5: 3.1 | BW5: =BU5*BV5 -> 66.34 | BY5: CORREDOR DAS SALAS | BZ5: 61.68 | CA5: 65.68 | CC5: W.C. INFANTIL MASCULINO | CD5: 21.7 | CE5: 3.1 | CF5: =CD5*CE5 -> 67.27
A6: 1 | B6: C40 | D6: 0.7 | E6: 0.7 | F6: 0 | G6: 0.7 | H6: =D6*E6*G6 -> 0.343 | J6: 0.7 | K6: 0.7 | L6: 0 | M6: 0.05 | N6: =J6*K6*M6 -> 0.0245 | P6: 0.7 | Q6: 0.7 | R6: 0 | S6: 0.65 | T6: =P6*Q6*S6 -> 0.3185 | V6: 5.94 | W6: 0.2 | X6: 0.55 | Y6: =V6*W6*X6 -> 0.6534 | AA6: 5.94 | AB6: 0.2 | AC6: 0.05 | AD6: =AA6*AB6*AC6 -> 0.0594 | AF6: 5.94 | AG6: 0.5 | AH6: =AF6*AG6*2 -> 5.94 | AJ6: 5.94 | AK6: 0.2 | AL6: 0.5 | AM6: =AJ6*AK6*AL6 -> 0.594 | AO6: 5.94 | AP6: 0.2 | AQ6: 0.2 | AR6: 0.5 | AS6: =AO6*(AP6+AR6+AQ6) -> 5.346 | AU6: 5.94 | AV6: 0.2 | AW6: 0.3 | AX6: =AU6*AV6*AW6 -> 0.3564 | AZ6: 5.94 | BA6: 0.2 | BB6: 0.3 | BC6: =(BB6+BB6+BA6)*AZ6 -> 4.752 | BE6: P04 | BF6: 15x30 | BG6: 0.15 | BH6: 0.3 | BI6: 4.58 | BJ6: =BG6*BH6*BI6 -> 0.2061 | BL6: P04 | BM6: 15x30 | BN6: 0.15 | BO6: 0.3 | BP6: 4.58 | BQ6: =((BN6*2)+(BO6*2))*BP6 -> 4.122 | BS6: W.C. INFANTIL FEMININO | BT6: 29.1 | BU6: 21.7 | BV6: 3.1 | BW6: =BU6*BV6 -> 67.27 | BY6: W.C. INFANTIL FEMININO | BZ6: 29.1 | CC6: W.C. FEMININO | CD6: 17.86 | CE6: 3.1 | CF6: =CD6*CE6 -> 55.366
A7: 1 | B7: C50 | D7: 0.8 | E7: 0.8 | F7: 0 | G7: 0.8 | H7: =D7*E7*G7 -> 0.512 | J7: 0.8 | K7: 0.8 | L7: 0 | M7: 0.05 | N7: =J7*K7*M7 -> 0.032 | P7: 0.8 | Q7: 0.8 | R7: 0 | S7: 0.75 | T7: =P7*Q7*S7 -> 0.48 | V7: 5.94 | W7: 0.2 | X7: 0.55 | Y7: =V7*W7*X7 -> 0.6534 | AA7: 5.94 | AB7: 0.2 | AC7: 0.05 | AD7: =AA7*AB7*AC7 -> 0.0594 | AF7: 5.94 | AG7: 0.5 | AH7: =AF7*AG7*2 -> 5.94 | AJ7: 5.94 | AK7: 0.2 | AL7: 0.5 | AM7: =AJ7*AK7*AL7 -> 0.594 | AO7: 5.94 | AP7: 0.2 | AQ7: 0.2 | AR7: 0.5 | AS7: =AO7*(AP7+AR7+AQ7) -> 5.346 | AU7: 5.94 | AV7: 0.2 | AW7: 0.3 | AX7: =AU7*AV7*AW7 -> 0.3564 | AZ7: 5.94 | BA7: 0.2 | BB7: 0.3 | BC7: =(BB7+BB7+BA7)*AZ7 -> 4.752 | BE7: P05 | BF7: 15x50 | BG7: 0.15 | BH7: 0.5 | BI7: 4.58 | BJ7: =BG7*BH7*BI7 -> 0.3435 | BL7: P05 | BM7: 15x50 | BN7: 0.15 | BO7: 0.5 | BP7: 4.58 | BQ7: =((BN7*2)+(BO7*2))*BP7 -> 5.954 | BS7: BANHEIRO PCD | BT7: 4 | BU7: 8 | BV7: 3.1 | BW7: =BU7*BV7 -> 24.8 | BY7: BANHEIRO PCD | BZ7: 4 | CC7: W.C. MASCULINO | CD7: 17.86 | CE7: 3.1 | CF7: =CD7*CE7 -> 55.366
A8: 1 | B8: C40 | D8: 0.7 | E8: 0.7 | F8: 0 | G8: 0.7 | H8: =D8*E8*G8 -> 0.343 | J8: 0.7 | K8: 0.7 | L8: 0 | M8: 0.05 | N8: =J8*K8*M8 -> 0.0245 | P8: 0.7 | Q8: 0.7 | R8: 0 | S8: 0.65 | T8: =P8*Q8*S8 -> 0.3185 | V8: 3.97 | W8: 0.2 | X8: 0.55 | Y8: =V8*W8*X8 -> 0.4367 | AA8: 3.97 | AB8: 0.2 | AC8: 0.05 | AD8: =AA8*AB8*AC8 -> 0.0397 | AF8: 3.97 | AG8: 0.5 | AH8: =AF8*AG8*2 -> 3.97 | AJ8: 3.97 | AK8: 0.2 | AL8: 0.5 | AM8: =AJ8*AK8*AL8 -> 0.397 | AO8: 3.97 | AP8: 0.2 | AQ8: 0.2 | AR8: 0.5 | AS8: =AO8*(AP8+AR8+AQ8) -> 3.573 | AU8: 3.97 | AV8: 0.2 | AW8: 0.4 | AX8: =AU8*AV8*AW8 -> 0.3176 | AZ8: 3.97 | BA8: 0.2 | BB8: 0.4 | BC8: =(BB8+BB8+BA8)*AZ8 -> 3.97 | BE8: P06 | BF8: 15x30 | BG8: 0.15 | BH8: 0.3 | BI8: 4.58 | BJ8: =BG8*BH8*BI8 -> 0.2061 | BL8: P06 | BM8: 15x30 | BN8: 0.15 | BO8: 0.3 | BP8: 4.58 | BQ8: =((BN8*2)+(BO8*2))*BP8 -> 4.122 | BS8: W.C. INFANTIL MASCULINO | BT8: 29.1 | BU8: 21.7 | BV8: 3.1 | BW8: =BU8*BV8 -> 67.27 | BY8: W.C. INFANTIL MASCULINO | BZ8: 29.1 | CC8: REFEITÓRIO | CD8: 47.32 | CE8: 1.4 | CF8: =CD8*CE8 -> 66.248
A9: 1 | B9: C20 | D9: 0.5 | E9: 0.5 | F9: 0 | G9: 0.55 | H9: =D9*E9*G9 -> 0.1375 | J9: 0.5 | K9: 0.5 | L9: 0 | M9: 0.05 | N9: =J9*K9*M9 -> 0.0125 | P9: 0.5 | Q9: 0.5 | R9: 0 | S9: 0.5 | T9: =P9*Q9*S9 -> 0.125 | V9: 0.38 | W9: 0.2 | X9: 0.55 | Y9: =V9*W9*X9 -> 0.0418 | AA9: 0.38 | AB9: 0.2 | AC9: 0.05 | AD9: =AA9*AB9*AC9 -> 0.0038 | AF9: 0.38 | AG9: 0.5 | AH9: =AF9*AG9*2 -> 0.38 | AJ9: 0.38 | AK9: 0.2 | AL9: 0.5 | AM9: =AJ9*AK9*AL9 -> 0.038 | AO9: 0.38 | AP9: 0.2 | AQ9: 0.2 | AR9: 0.5 | AS9: =AO9*(AP9+AR9+AQ9) -> 0.342 | AU9: 0.38 | AV9: 0.2 | AW9: 0.4 | AX9: =AU9*AV9*AW9 -> 0.0304 | AZ9: 0.38 | BA9: 0.2 | BB9: 0.4 | BC9: =(BB9+BB9+BA9)*AZ9 -> 0.38 | BE9: P07 | BF9: 15x30 | BG9: 0.15 | BH9: 0.3 | BI9: 3.35 | BJ9: =BG9*BH9*BI9 -> 0.15075 | BL9: P07 | BM9: 15x30 | BN9: 0.15 | BO9: 0.3 | BP9: 3.35 | BQ9: =((BN9*2)+(BO9*2))*BP9 -> 3.015 | BS9: PÁTIO COBERTO | BT9: 103.4 | BU9: 42.68 | BV9: 3.1 | BW9: =BU9*BV9 -> 132.308 | BY9: PÁTIO COBERTO | BZ9: 103.4 | CA9: 42.68 | CC9: COZINHA | CD9: 23.4 | CE9: 3.1 | CF9: =CD9*CE9 -> 72.54
A10: 1 | B10: C40 | D10: 0.7 | E10: 0.7 | F10: 0 | G10: 0.7 | H10: =D10*E10*G10 -> 0.343 | J10: 0.7 | K10: 0.7 | L10: 0 | M10: 0.05 | N10: =J10*K10*M10 -> 0.0245 | P10: 0.7 | Q10: 0.7 | R10: 0 | S10: 0.65 | T10: =P10*Q10*S10 -> 0.3185 | V10: 4.12 | W10: 0.2 | X10: 0.55 | Y10: =V10*W10*X10 -> 0.4532 | AA10: 4.12 | AB10: 0.2 | AC10: 0.05 | AD10: =AA10*AB10*AC10 -> 0.0412 | AF10: 4.12 | AG10: 0.5 | AH10: =AF10*AG10*2 -> 4.12 | AJ10: 4.12 | AK10: 0.2 | AL10: 0.5 | AM10: =AJ10*AK10*AL10 -> 0.412 | AO10: 4.12 | AP10: 0.2 | AQ10: 0.2 | AR10: 0.5 | AS10: =AO10*(AP10+AR10+AQ10) -> 3.708 | AU10: 4.12 | AV10: 0.2 | AW10: 0.4 | AX10: =AU10*AV10*AW10 -> 0.3296 | AZ10: 4.12 | BA10: 0.2 | BB10: 0.4 | BC10: =(BB10+BB10+BA10)*AZ10 -> 4.12 | BE10: P08 | BF10: 15x30 | BG10: 0.15 | BH10: 0.3 | BI10: 3.35 | BJ10: =BG10*BH10*BI10 -> 0.15075 | BL10: P08 | BM10: 15x30 | BN10: 0.15 | BO10: 0.3 | BP10: 3.35 | BQ10: =((BN10*2)+(BO10*2))*BP10 -> 3.015 | BS10: SECRETARIA | BT10: 52.7 | BU10: 33.7 | BV10: 3.1 | BW10: =BU10*BV10 -> 104.47 | BY10: SECRETARIA | BZ10: 52.7 | CA10: 33.7 | CC10: ÁREA DE SERVIÇO | CD10: 11.4 | CE10: 3.1 | CF10: =CD10*CE10 -> 35.34
A11: 1 | B11: C40 | D11: 0.7 | E11: 0.7 | F11: 0 | G11: 0.7 | H11: =D11*E11*G11 -> 0.343 | J11: 0.7 | K11: 0.7 | L11: 0 | M11: 0.05 | N11: =J11*K11*M11 -> 0.0245 | P11: 0.7 | Q11: 0.7 | R11: 0 | S11: 0.65 | T11: =P11*Q11*S11 -> 0.3185 | V11: 5.95 | W11: 0.2 | X11: 0.55 | Y11: =V11*W11*X11 -> 0.6545 | AA11: 5.95 | AB11: 0.2 | AC11: 0.05 | AD11: =AA11*AB11*AC11 -> 0.0595 | AF11: 5.95 | AG11: 0.5 | AH11: =AF11*AG11*2 -> 5.95 | AJ11: 5.95 | AK11: 0.2 | AL11: 0.5 | AM11: =AJ11*AK11*AL11 -> 0.595 | AO11: 5.95 | AP11: 0.2 | AQ11: 0.2 | AR11: 0.5 | AS11: =AO11*(AP11+AR11+AQ11) -> 5.355 | AU11: 5.95 | AV11: 0.2 | AW11: 0.6 | AX11: =AU11*AV11*AW11 -> 0.714 | AZ11: 5.95 | BA11: 0.2 | BB11: 0.6 | BC11: =(BB11+BB11+BA11)*AZ11 -> 8.33 | BE11: P09 | BF11: 15x30 | BG11: 0.15 | BH11: 0.3 | BI11: 3.35 | BJ11: =BG11*BH11*BI11 -> 0.15075 | BL11: P09 | BM11: 15x30 | BN11: 0.15 | BO11: 0.3 | BP11: 3.35 | BQ11: =((BN11*2)+(BO11*2))*BP11 -> 3.015 | BS11: DIRETORIA | BT11: 11.7 | BU11: 12 | BV11: 3.1 | BW11: =BU11*BV11 -> 37.2 | BY11: DIRETORIA | BZ11: 11.7 | CA11: 12 | CC11: ESTOQUE | CD11: 13.6 | CE11: 3.1 | CF11: =CD11*CE11 -> 42.16
A12: 1 | B12: C40 | D12: 0.7 | E12: 0.7 | F12: 0 | G12: 0.7 | H12: =D12*E12*G12 -> 0.343 | J12: 0.7 | K12: 0.7 | L12: 0 | M12: 0.05 | N12: =J12*K12*M12 -> 0.0245 | P12: 0.7 | Q12: 0.7 | R12: 0 | S12: 0.65 | T12: =P12*Q12*S12 -> 0.3185 | V12: 5.95 | W12: 0.2 | X12: 0.55 | Y12: =V12*W12*X12 -> 0.6545 | AA12: 5.95 | AB12: 0.2 | AC12: 0.05 | AD12: =AA12*AB12*AC12 -> 0.0595 | AF12: 5.95 | AG12: 0.5 | AH12: =AF12*AG12*2 -> 5.95 | AJ12: 5.95 | AK12: 0.2 | AL12: 0.5 | AM12: =AJ12*AK12*AL12 -> 0.595 | AO12: 5.95 | AP12: 0.2 | AQ12: 0.2 | AR12: 0.5 | AS12: =AO12*(AP12+AR12+AQ12) -> 5.355 | AU12: 5.95 | AV12: 0.2 | AW12: 0.3 | AX12: =AU12*AV12*AW12 -> 0.357 | AZ12: 5.95 | BA12: 0.2 | BB12: 0.3 | BC12: =(BB12+BB12+BA12)*AZ12 -> 4.76 | BE12: P10 | BF12: 15x30 | BG12: 0.15 | BH12: 0.3 | BI12: 4.58 | BJ12: =BG12*BH12*BI12 -> 0.2061 | BL12: P10 | BM12: 15x30 | BN12: 0.15 | BO12: 0.3 | BP12: 4.58 | BQ12: =((BN12*2)+(BO12*2))*BP12 -> 4.122 | BS12: SALA DOS PROFESSORES | BT12: 24.8 | BU12: 24 | BV12: 3.1 | BW12: =BU12*BV12 -> 74.4 | BY12: SALA DOS PROFESSORES | BZ12: 24.8 | CA12: 24 | CC12: ACESSO ESTOQUE | CD12: 13.6 | CE12: 3.1 | CF12: =CD12*CE12 -> 42.16
A13: 1 | B13: C50 | D13: 0.8 | E13: 0.8 | F13: 0 | G13: 0.8 | H13: =D13*E13*G13 -> 0.512 | J13: 0.8 | K13: 0.8 | L13: 0 | M13: 0.05 | N13: =J13*K13*M13 -> 0.032 | P13: 0.8 | Q13: 0.8 | R13: 0 | S13: 0.75 | T13: =P13*Q13*S13 -> 0.48 | V13: 22.26 | W13: 0.2 | X13: 0.55 | Y13: =V13*W13*X13 -> 2.4486 | AA13: 22.26 | AB13: 0.2 | AC13: 0.05 | AD13: =AA13*AB13*AC13 -> 0.2226 | AF13: 22.26 | AG13: 0.5 | AH13: =AF13*AG13*2 -> 22.26 | AJ13: 22.26 | AK13: 0.2 | AL13: 0.5 | AM13: =AJ13*AK13*AL13 -> 2.226 | AO13: 22.26 | AP13: 0.2 | AQ13: 0.2 | AR13: 0.5 | AS13: =AO13*(AP13+AR13+AQ13) -> 20.034 | AU13: 22.26 | AV13: 0.2 | AW13: 0.5 | AX13: =AU13*AV13*AW13 -> 2.226 | AZ13: 22.26 | BA13: 0.2 | BB13: 0.5 | BC13: =(BB13+BB13+BA13)*AZ13 -> 26.712 | BE13: P11 | BF13: 15x50 | BG13: 0.15 | BH13: 0.5 | BI13: 4.58 | BJ13: =BG13*BH13*BI13 -> 0.3435 | BL13: P11 | BM13: 15x50 | BN13: 0.15 | BO13: 0.5 | BP13: 4.58 | BQ13: =((BN13*2)+(BO13*2))*BP13 -> 5.954 | BS13: COPA | BT13: 10.53 | BU13: 13.2 | BV13: 3.1 | BW13: =BU13*BV13 -> 40.92 | BY13: COPA | BZ13: 10.53 | CA13: 13.2 | CC13: TOTAL: | CD13: TOTAL: | CF13: =SUM(CF3:CF12) -> 528.52
A14: 1 | B14: C40 | D14: 0.7 | E14: 0.7 | F14: 0 | G14: 0.7 | H14: =D14*E14*G14 -> 0.343 | J14: 0.7 | K14: 0.7 | L14: 0 | M14: 0.05 | N14: =J14*K14*M14 -> 0.0245 | P14: 0.7 | Q14: 0.7 | R14: 0 | S14: 0.65 | T14: =P14*Q14*S14 -> 0.3185 | V14: 3.87 | W14: 0.2 | X14: 0.55 | Y14: =V14*W14*X14 -> 0.4257 | AA14: 3.87 | AB14: 0.2 | AC14: 0.05 | AD14: =AA14*AB14*AC14 -> 0.0387 | AF14: 3.87 | AG14: 0.5 | AH14: =AF14*AG14*2 -> 3.87 | AJ14: 3.87 | AK14: 0.2 | AL14: 0.5 | AM14: =AJ14*AK14*AL14 -> 0.387 | AO14: 3.87 | AP14: 0.2 | AQ14: 0.2 | AR14: 0.5 | AS14: =AO14*(AP14+AR14+AQ14) -> 3.483 | AU14: 3.87 | AV14: 0.2 | AW14: 0.5 | AX14: =AU14*AV14*AW14 -> 0.387 | AZ14: 3.87 | BA14: 0.2 | BB14: 0.5 | BC14: =(BB14+BB14+BA14)*AZ14 -> 4.644 | BE14: P12 | BF14: 15x30 | BG14: 0.15 | BH14: 0.3 | BI14: 3.35 | BJ14: =BG14*BH14*BI14 -> 0.15075 | BL14: P12 | BM14: 15x30 | BN14: 0.15 | BO14: 0.3 | BP14: 3.35 | BQ14: =((BN14*2)+(BO14*2))*BP14 -> 3.015 | BS14: SALA DE USO MULTIPLO | BT14: 31.74 | BU14: 22.58 | BV14: 3.1 | BW14: =BU14*BV14 -> 69.998 | BY14: SALA DE USO MULTIPLO | BZ14: 31.74 | CA14: 22.58
A15: 1 | B15: C50 | D15: 0.8 | E15: 0.8 | F15: 0 | G15: 0.8 | H15: =D15*E15*G15 -> 0.512 | J15: 0.8 | K15: 0.8 | L15: 0 | M15: 0.05 | N15: =J15*K15*M15 -> 0.032 | P15: 0.8 | Q15: 0.8 | R15: 0 | S15: 0.75 | T15: =P15*Q15*S15 -> 0.48 | V15: 2.95 | W15: 0.2 | X15: 0.55 | Y15: =V15*W15*X15 -> 0.3245 | AA15: 2.95 | AB15: 0.2 | AC15: 0.05 | AD15: =AA15*AB15*AC15 -> 0.0295 | AF15: 2.95 | AG15: 0.5 | AH15: =AF15*AG15*2 -> 2.95 | AJ15: 2.95 | AK15: 0.2 | AL15: 0.5 | AM15: =AJ15*AK15*AL15 -> 0.295 | AO15: 2.95 | AP15: 0.2 | AQ15: 0.2 | AR15: 0.5 | AS15: =AO15*(AP15+AR15+AQ15) -> 2.655 | AU15: 2.95 | AV15: 0.2 | AW15: 0.3 | AX15: =AU15*AV15*AW15 -> 0.177 | AZ15: 2.95 | BA15: 0.2 | BB15: 0.3 | BC15: =(BB15+BB15+BA15)*AZ15 -> 2.36 | BE15: P13 | BF15: 15x50 | BG15: 0.15 | BH15: 0.5 | BI15: 3.35 | BJ15: =BG15*BH15*BI15 -> 0.25125 | BL15: P13 | BM15: 15x50 | BN15: 0.15 | BO15: 0.5 | BP15: 3.35 | BQ15: =((BN15*2)+(BO15*2))*BP15 -> 4.355 | BS15: ALMOXARIFADO | BT15: 18.48 | BU15: 18.16 | BV15: 3.1 | BW15: =BU15*BV15 -> 56.296 | BY15: ALMOXARIFADO | BZ15: 18.48 | CA15: 18.16
A16: 1 | B16: C40 | D16: 0.7 | E16: 0.7 | F16: 0 | G16: 0.7 | H16: =D16*E16*G16 -> 0.343 | J16: 0.7 | K16: 0.7 | L16: 0 | M16: 0.05 | N16: =J16*K16*M16 -> 0.0245 | P16: 0.7 | Q16: 0.7 | R16: 0 | S16: 0.65 | T16: =P16*Q16*S16 -> 0.3185 | V16: 25.41 | W16: 0.2 | X16: 0.55 | Y16: =V16*W16*X16 -> 2.7951 | AA16: 25.41 | AB16: 0.2 | AC16: 0.05 | AD16: =AA16*AB16*AC16 -> 0.2541 | AF16: 25.41 | AG16: 0.5 | AH16: =AF16*AG16*2 -> 25.41 | AJ16: 25.41 | AK16: 0.2 | AL16: 0.5 | AM16: =AJ16*AK16*AL16 -> 2.541 | AO16: 25.41 | AP16: 0.2 | AQ16: 0.2 | AR16: 0.5 | AS16: =AO16*(AP16+AR16+AQ16) -> 22.869 | AU16: 25.41 | AV16: 0.2 | AW16: 0.5 | AX16: =AU16*AV16*AW16 -> 2.541 | AZ16: 25.41 | BA16: 0.2 | BB16: 0.5 | BC16: =(BB16+BB16+BA16)*AZ16 -> 30.492 | BE16: P14 | BF16: 15x30 | BG16: 0.15 | BH16: 0.3 | BI16: 3.35 | BJ16: =BG16*BH16*BI16 -> 0.15075 | BL16: P14 | BM16: 15x30 | BN16: 0.15 | BO16: 0.3 | BP16: 3.35 | BQ16: =((BN16*2)+(BO16*2))*BP16 -> 3.015 | BS16: ÁREA DE SERVIÇO | BT16: 8.1161 | BU16: 11.4 | BV16: 3.1 | BW16: =BU16*BV16 -> 35.34 | BY16: DML | BZ16: 8.1161 | CA16: 11.4
A17: 1 | B17: C40 | D17: 0.7 | E17: 0.7 | F17: 0 | G17: 0.7 | H17: =D17*E17*G17 -> 0.343 | J17: 0.7 | K17: 0.7 | L17: 0 | M17: 0.05 | N17: =J17*K17*M17 -> 0.0245 | P17: 0.7 | Q17: 0.7 | R17: 0 | S17: 0.65 | T17: =P17*Q17*S17 -> 0.3185 | V17: 5.95 | W17: 0.2 | X17: 0.55 | Y17: =V17*W17*X17 -> 0.6545 | AA17: 5.95 | AB17: 0.2 | AC17: 0.05 | AD17: =AA17*AB17*AC17 -> 0.0595 | AF17: 5.95 | AG17: 0.5 | AH17: =AF17*AG17*2 -> 5.95 | AJ17: 5.95 | AK17: 0.2 | AL17: 0.5 | AM17: =AJ17*AK17*AL17 -> 0.595 | AO17: 5.95 | AP17: 0.2 | AQ17: 0.2 | AR17: 0.5 | AS17: =AO17*(AP17+AR17+AQ17) -> 5.355 | AU17: 5.95 | AV17: 0.2 | AW17: 0.6 | AX17: =AU17*AV17*AW17 -> 0.714 | AZ17: 5.95 | BA17: 0.2 | BB17: 0.6 | BC17: =(BB17+BB17+BA17)*AZ17 -> 8.33 | BE17: P15 | BF17: 15x30 | BG17: 0.15 | BH17: 0.3 | BI17: 3.35 | BJ17: =BG17*BH17*BI17 -> 0.15075 | BL17: P15 | BM17: 15x30 | BN17: 0.15 | BO17: 0.3 | BP17: 3.35 | BQ17: =((BN17*2)+(BO17*2))*BP17 -> 3.015 | BS17: DML | BT17: 8.1161 | BU17: 11.4 | BV17: 3.1 | BW17: =BU17*BV17 -> 35.34 | BY17: CORREDOR 2 | BZ17: 46.3 | CA17: 50.3
A18: 1 | B18: C50 | D18: 0.8 | E18: 0.8 | F18: 0 | G18: 0.8 | H18: =D18*E18*G18 -> 0.512 | J18: 0.8 | K18: 0.8 | L18: 0 | M18: 0.05 | N18: =J18*K18*M18 -> 0.032 | P18: 0.8 | Q18: 0.8 | R18: 0 | S18: 0.75 | T18: =P18*Q18*S18 -> 0.48 | V18: 5.95 | W18: 0.2 | X18: 0.55 | Y18: =V18*W18*X18 -> 0.6545 | AA18: 5.95 | AB18: 0.2 | AC18: 0.05 | AD18: =AA18*AB18*AC18 -> 0.0595 | AF18: 5.95 | AG18: 0.5 | AH18: =AF18*AG18*2 -> 5.95 | AJ18: 5.95 | AK18: 0.2 | AL18: 0.5 | AM18: =AJ18*AK18*AL18 -> 0.595 | AO18: 5.95 | AP18: 0.2 | AQ18: 0.2 | AR18: 0.5 | AS18: =AO18*(AP18+AR18+AQ18) -> 5.355 | AU18: 5.95 | AV18: 0.2 | AW18: 0.4 | AX18: =AU18*AV18*AW18 -> 0.476 | AZ18: 5.95 | BA18: 0.2 | BB18: 0.4 | BC18: =(BB18+BB18+BA18)*AZ18 -> 5.95 | BE18: P16 | BF18: 15x50 | BG18: 0.15 | BH18: 0.5 | BI18: 4.58 | BJ18: =BG18*BH18*BI18 -> 0.3435 | BL18: P16 | BM18: 15x50 | BN18: 0.15 | BO18: 0.5 | BP18: 4.58 | BQ18: =((BN18*2)+(BO18*2))*BP18 -> 5.954 | BS18: REFEITÓRIO | BT18: 113.632 | BU18: 47.32 | BV18: 3.1 | BW18: =BU18*BV18 -> 146.692 | BY18: W.C. FEMININO | BZ18: 17.58
A19: 1 | B19: C40 | D19: 0.7 | E19: 0.7 | F19: 0 | G19: 0.7 | H19: =D19*E19*G19 -> 0.343 | J19: 0.7 | K19: 0.7 | L19: 0 | M19: 0.05 | N19: =J19*K19*M19 -> 0.0245 | P19: 0.7 | Q19: 0.7 | R19: 0 | S19: 0.65 | T19: =P19*Q19*S19 -> 0.3185 | V19: 5.95 | W19: 0.2 | X19: 0.55 | Y19: =V19*W19*X19 -> 0.6545 | AA19: 5.95 | AB19: 0.2 | AC19: 0.05 | AD19: =AA19*AB19*AC19 -> 0.0595 | AF19: 5.95 | AG19: 0.5 | AH19: =AF19*AG19*2 -> 5.95 | AJ19: 5.95 | AK19: 0.2 | AL19: 0.5 | AM19: =AJ19*AK19*AL19 -> 0.595 | AO19: 5.95 | AP19: 0.2 | AQ19: 0.2 | AR19: 0.5 | AS19: =AO19*(AP19+AR19+AQ19) -> 5.355 | AU19: 5.95 | AV19: 0.2 | AW19: 0.4 | AX19: =AU19*AV19*AW19 -> 0.476 | AZ19: 5.95 | BA19: 0.2 | BB19: 0.4 | BC19: =(BB19+BB19+BA19)*AZ19 -> 5.95 | BE19: P17 | BF19: 15x30 | BG19: 0.15 | BH19: 0.3 | BI19: 3.35 | BJ19: =BG19*BH19*BI19 -> 0.15075 | BL19: P17 | BM19: 15x30 | BN19: 0.15 | BO19: 0.3 | BP19: 3.35 | BQ19: =((BN19*2)+(BO19*2))*BP19 -> 3.015 | BS19: COZINHA | BT19: 33.5 | BU19: 23.4 | BV19: 3.1 | BW19: =BU19*BV19 -> 72.54 | BY19: W.C. MASCULINO | BZ19: 17.58
A20: 1 | B20: C40 | D20: 0.7 | E20: 0.7 | F20: 0 | G20: 0.7 | H20: =D20*E20*G20 -> 0.343 | J20: 0.7 | K20: 0.7 | L20: 0 | M20: 0.05 | N20: =J20*K20*M20 -> 0.0245 | P20: 0.7 | Q20: 0.7 | R20: 0 | S20: 0.65 | T20: =P20*Q20*S20 -> 0.3185 | V20: 5.95 | W20: 0.2 | X20: 0.55 | Y20: =V20*W20*X20 -> 0.6545 | AA20: 5.95 | AB20: 0.2 | AC20: 0.05 | AD20: =AA20*AB20*AC20 -> 0.0595 | AF20: 5.95 | AG20: 0.5 | AH20: =AF20*AG20*2 -> 5.95 | AJ20: 5.95 | AK20: 0.2 | AL20: 0.5 | AM20: =AJ20*AK20*AL20 -> 0.595 | AO20: 5.95 | AP20: 0.2 | AQ20: 0.2 | AR20: 0.5 | AS20: =AO20*(AP20+AR20+AQ20) -> 5.355 | AU20: 5.95 | AV20: 0.2 | AW20: 0.4 | AX20: =AU20*AV20*AW20 -> 0.476 | AZ20: 5.95 | BA20: 0.2 | BB20: 0.4 | BC20: =(BB20+BB20+BA20)*AZ20 -> 5.95 | BE20: P18 | BF20: 15x30 | BG20: 0.15 | BH20: 0.3 | BI20: 3.35 | BJ20: =BG20*BH20*BI20 -> 0.15075 | BL20: P18 | BM20: 15x30 | BN20: 0.15 | BO20: 0.3 | BP20: 3.35 | BQ20: =((BN20*2)+(BO20*2))*BP20 -> 3.015 | BS20: ESTOQUE | BT20: 10.34 | BU20: 13.6 | BV20: 3.1 | BW20: =BU20*BV20 -> 42.16 | BY20: SALA 2 | BZ20: 42.84 | CA20: 26.28
A21: 1 | B21: C40 | D21: 0.7 | E21: 0.7 | F21: 0 | G21: 0.7 | H21: =D21*E21*G21 -> 0.343 | J21: 0.7 | K21: 0.7 | L21: 0 | M21: 0.05 | N21: =J21*K21*M21 -> 0.0245 | P21: 0.7 | Q21: 0.7 | R21: 0 | S21: 0.65 | T21: =P21*Q21*S21 -> 0.3185 | V21: 36.45 | W21: 0.2 | X21: 0.55 | Y21: =V21*W21*X21 -> 4.0095 | AA21: 36.45 | AB21: 0.2 | AC21: 0.05 | AD21: =AA21*AB21*AC21 -> 0.3645 | AF21: 36.45 | AG21: 0.5 | AH21: =AF21*AG21*2 -> 36.45 | AJ21: 36.45 | AK21: 0.2 | AL21: 0.5 | AM21: =AJ21*AK21*AL21 -> 3.645 | AO21: 36.45 | AP21: 0.2 | AQ21: 0.2 | AR21: 0.5 | AS21: =AO21*(AP21+AR21+AQ21) -> 32.805 | AU21: 36.45 | AV21: 0.2 | AW21: 0.6 | AX21: =AU21*AV21*AW21 -> 4.374 | AZ21: 36.45 | BA21: 0.2 | BB21: 0.6 | BC21: =(BB21+BB21+BA21)*AZ21 -> 51.03 | BE21: P19 | BF21: 15x30 | BG21: 0.15 | BH21: 0.3 | BI21: 3.35 | BJ21: =BG21*BH21*BI21 -> 0.15075 | BL21: P19 | BM21: 15x30 | BN21: 0.15 | BO21: 0.3 | BP21: 3.35 | BQ21: =((BN21*2)+(BO21*2))*BP21 -> 3.015 | BS21: ACESSO ESTOQUE | BT21: 10.34 | BU21: 13.6 | BV21: 3.1 | BW21: =BU21*BV21 -> 42.16 | BY21: SALA 3 | BZ21: 43.26 | CA21: 26.42
A22: 1 | B22: C50 | D22: 0.8 | E22: 0.8 | F22: 0 | G22: 0.8 | H22: =D22*E22*G22 -> 0.512 | J22: 0.8 | K22: 0.8 | L22: 0 | M22: 0.05 | N22: =J22*K22*M22 -> 0.032 | P22: 0.8 | Q22: 0.8 | R22: 0 | S22: 0.75 | T22: =P22*Q22*S22 -> 0.48 | V22: 23.1 | W22: 0.2 | X22: 0.55 | Y22: =V22*W22*X22 -> 2.541 | AA22: 23.1 | AB22: 0.2 | AC22: 0.05 | AD22: =AA22*AB22*AC22 -> 0.231 | AF22: 23.1 | AG22: 0.5 | AH22: =AF22*AG22*2 -> 23.1 | AJ22: 23.1 | AK22: 0.2 | AL22: 0.5 | AM22: =AJ22*AK22*AL22 -> 2.31 | AO22: 23.1 | AP22: 0.2 | AQ22: 0.2 | AR22: 0.5 | AS22: =AO22*(AP22+AR22+AQ22) -> 20.79 | AU22: 23.1 | AV22: 0.2 | AW22: 0.5 | AX22: =AU22*AV22*AW22 -> 2.31 | AZ22: 23.1 | BA22: 0.2 | BB22: 0.5 | BC22: =(BB22+BB22+BA22)*AZ22 -> 27.72 | BE22: P20 | BF22: 15x50 | BG22: 0.15 | BH22: 0.5 | BI22: 3.35 | BJ22: =BG22*BH22*BI22 -> 0.25125 | BL22: P20 | BM22: 15x50 | BN22: 0.15 | BO22: 0.5 | BP22: 3.35 | BQ22: =((BN22*2)+(BO22*2))*BP22 -> 4.355 | BS22: CORREDOR 2 | BT22: 46.3 | BU22: 50.3 | BV22: 3.1 | BW22: =BU22*BV22 -> 155.93 | BY22: SALA 4 | BZ22: 43.14 | CA22: 26.38
A23: 1 | B23: C40 | D23: 0.7 | E23: 0.7 | F23: 0 | G23: 0.7 | H23: =D23*E23*G23 -> 0.343 | J23: 0.7 | K23: 0.7 | L23: 0 | M23: 0.05 | N23: =J23*K23*M23 -> 0.0245 | P23: 0.7 | Q23: 0.7 | R23: 0 | S23: 0.65 | T23: =P23*Q23*S23 -> 0.3185 | V23: 36.64 | W23: 0.2 | X23: 0.55 | Y23: =V23*W23*X23 -> 4.0304 | AA23: 36.64 | AB23: 0.2 | AC23: 0.05 | AD23: =AA23*AB23*AC23 -> 0.3664 | AF23: 36.64 | AG23: 0.5 | AH23: =AF23*AG23*2 -> 36.64 | AJ23: 36.64 | AK23: 0.2 | AL23: 0.5 | AM23: =AJ23*AK23*AL23 -> 3.664 | AO23: 36.64 | AP23: 0.2 | AQ23: 0.2 | AR23: 0.5 | AS23: =AO23*(AP23+AR23+AQ23) -> 32.976 | AU23: 36.64 | AV23: 0.2 | AW23: 0.4 | AX23: =AU23*AV23*AW23 -> 2.9312 | AZ23: 36.64 | BA23: 0.2 | BB23: 0.4 | BC23: =(BB23+BB23+BA23)*AZ23 -> 36.64 | BE23: P21 | BF23: 15x30 | BG23: 0.15 | BH23: 0.3 | BI23: 3.35 | BJ23: =BG23*BH23*BI23 -> 0.15075 | BL23: P21 | BM23: 15x30 | BN23: 0.15 | BO23: 0.3 | BP23: 3.35 | BQ23: =((BN23*2)+(BO23*2))*BP23 -> 3.015 | BS23: W.C. FEMININO | BT23: 17.58 | BU23: 17.86 | BV23: 3.1 | BW23: =BU23*BV23 -> 55.366 | BY23: SALA 5 | BZ23: 43.14 | CA23: 26.38
A24: 1 | B24: C50 | D24: 0.8 | E24: 0.8 | F24: 0 | G24: 0.8 | H24: =D24*E24*G24 -> 0.512 | J24: 0.8 | K24: 0.8 | L24: 0 | M24: 0.05 | N24: =J24*K24*M24 -> 0.032 | P24: 0.8 | Q24: 0.8 | R24: 0 | S24: 0.75 | T24: =P24*Q24*S24 -> 0.48 | V24: 11.58 | W24: 0.2 | X24: 0.55 | Y24: =V24*W24*X24 -> 1.2738 | AA24: 11.58 | AB24: 0.2 | AC24: 0.05 | AD24: =AA24*AB24*AC24 -> 0.1158 | AF24: 11.58 | AG24: 0.5 | AH24: =AF24*AG24*2 -> 11.58 | AJ24: 11.58 | AK24: 0.2 | AL24: 0.5 | AM24: =AJ24*AK24*AL24 -> 1.158 | AO24: 11.58 | AP24: 0.2 | AQ24: 0.2 | AR24: 0.5 | AS24: =AO24*(AP24+AR24+AQ24) -> 10.422 | AU24: 11.58 | AV24: 0.2 | AW24: 0.7 | AX24: =AU24*AV24*AW24 -> 1.6212 | AZ24: 11.58 | BA24: 0.2 | BB24: 0.7 | BC24: =(BB24+BB24+BA24)*AZ24 -> 18.528 | BE24: P22 | BF24: 15x50 | BG24: 0.15 | BH24: 0.5 | BI24: 4.58 | BJ24: =BG24*BH24*BI24 -> 0.3435 | BL24: P22 | BM24: 15x50 | BN24: 0.15 | BO24: 0.5 | BP24: 4.58 | BQ24: =((BN24*2)+(BO24*2))*BP24 -> 5.954 | BS24: W.C. MASCULINO | BT24: 17.58 | BU24: 17.86 | BV24: 3.1 | BW24: =BU24*BV24 -> 55.366 | BY24: SALA 6 | BZ24: 43.26 | CA24: 26.42
A25: 1 | B25: C40 | D25: 0.7 | E25: 0.7 | F25: 0 | G25: 0.7 | H25: =D25*E25*G25 -> 0.343 | J25: 0.7 | K25: 0.7 | L25: 0 | M25: 0.05 | N25: =J25*K25*M25 -> 0.0245 | P25: 0.7 | Q25: 0.7 | R25: 0 | S25: 0.65 | T25: =P25*Q25*S25 -> 0.3185 | V25: 6.65 | W25: 0.2 | X25: 0.55 | Y25: =V25*W25*X25 -> 0.7315 | AA25: 6.65 | AB25: 0.2 | AC25: 0.05 | AD25: =AA25*AB25*AC25 -> 0.0665 | AF25: 6.65 | AG25: 0.5 | AH25: =AF25*AG25*2 -> 6.65 | AJ25: 6.65 | AK25: 0.2 | AL25: 0.5 | AM25: =AJ25*AK25*AL25 -> 0.665 | AO25: 6.65 | AP25: 0.2 | AQ25: 0.2 | AR25: 0.5 | AS25: =AO25*(AP25+AR25+AQ25) -> 5.985 | AU25: 6.65 | AV25: 0.2 | AW25: 0.7 | AX25: =AU25*AV25*AW25 -> 0.931 | AZ25: 6.65 | BA25: 0.2 | BB25: 0.7 | BC25: =(BB25+BB25+BA25)*AZ25 -> 10.64 | BE25: P23 | BF25: 15x30 | BG25: 0.15 | BH25: 0.3 | BI25: 4.58 | BJ25: =BG25*BH25*BI25 -> 0.2061 | BL25: P23 | BM25: 15x30 | BN25: 0.15 | BO25: 0.3 | BP25: 4.58 | BQ25: =((BN25*2)+(BO25*2))*BP25 -> 4.122 | BS25: TOTAL: | BT25: =SUM(BT3:BT24) -> 670.4542 | BU25: TOTAL: | BW25: =SUM(BW3:BW24) -> 1530.966 | BY25: SALA 7 | BZ25: 42.84 | CA25: 26.28
A26: 1 | B26: C40 | D26: 0.7 | E26: 0.7 | F26: 0 | G26: 0.7 | H26: =D26*E26*G26 -> 0.343 | J26: 0.7 | K26: 0.7 | L26: 0 | M26: 0.05 | N26: =J26*K26*M26 -> 0.0245 | P26: 0.7 | Q26: 0.7 | R26: 0 | S26: 0.65 | T26: =P26*Q26*S26 -> 0.3185 | V26: 6.65 | W26: 0.2 | X26: 0.55 | Y26: =V26*W26*X26 -> 0.7315 | AA26: 6.65 | AB26: 0.2 | AC26: 0.05 | AD26: =AA26*AB26*AC26 -> 0.0665 | AF26: 6.65 | AG26: 0.5 | AH26: =AF26*AG26*2 -> 6.65 | AJ26: 6.65 | AK26: 0.2 | AL26: 0.5 | AM26: =AJ26*AK26*AL26 -> 0.665 | AO26: 6.65 | AP26: 0.2 | AQ26: 0.2 | AR26: 0.5 | AS26: =AO26*(AP26+AR26+AQ26) -> 5.985 | AU26: 6.65 | AV26: 0.2 | AW26: 0.7 | AX26: =AU26*AV26*AW26 -> 0.931 | AZ26: 6.65 | BA26: 0.2 | BB26: 0.7 | BC26: =(BB26+BB26+BA26)*AZ26 -> 10.64 | BE26: P24 | BF26: 15x30 | BG26: 0.15 | BH26: 0.3 | BI26: 4.58 | BJ26: =BG26*BH26*BI26 -> 0.2061 | BL26: P24 | BM26: 15x30 | BN26: 0.15 | BO26: 0.3 | BP26: 4.58 | BQ26: =((BN26*2)+(BO26*2))*BP26 -> 4.122 | BY26: TOTAL: | BZ26: =SUM(BZ3:BZ25) -> 797.2861 | CA26: =SUM(CA3:CA25) -> 499.86
A27: 1 | B27: C50 | D27: 0.8 | E27: 0.8 | F27: 0 | G27: 0.8 | H27: =D27*E27*G27 -> 0.512 | J27: 0.8 | K27: 0.8 | L27: 0 | M27: 0.05 | N27: =J27*K27*M27 -> 0.032 | P27: 0.8 | Q27: 0.8 | R27: 0 | S27: 0.75 | T27: =P27*Q27*S27 -> 0.48 | V27: 6.65 | W27: 0.2 | X27: 0.55 | Y27: =V27*W27*X27 -> 0.7315 | AA27: 6.65 | AB27: 0.2 | AC27: 0.05 | AD27: =AA27*AB27*AC27 -> 0.0665 | AF27: 6.65 | AG27: 0.5 | AH27: =AF27*AG27*2 -> 6.65 | AJ27: 6.65 | AK27: 0.2 | AL27: 0.5 | AM27: =AJ27*AK27*AL27 -> 0.665 | AO27: 6.65 | AP27: 0.2 | AQ27: 0.2 | AR27: 0.5 | AS27: =AO27*(AP27+AR27+AQ27) -> 5.985 | AU27: 6.65 | AV27: 0.2 | AW27: 0.7 | AX27: =AU27*AV27*AW27 -> 0.931 | AZ27: 6.65 | BA27: 0.2 | BB27: 0.7 | BC27: =(BB27+BB27+BA27)*AZ27 -> 10.64 | BE27: P25 | BF27: 15x50 | BG27: 0.15 | BH27: 0.5 | BI27: 4.58 | BJ27: =BG27*BH27*BI27 -> 0.3435 | BL27: P25 | BM27: 15x50 | BN27: 0.15 | BO27: 0.5 | BP27: 4.58 | BQ27: =((BN27*2)+(BO27*2))*BP27 -> 5.954 | BS27: REVESTIMENTO EXISTENTE (CHAPISCO + EMBOÇO + REBOCO)
