Workbook
Name AreaTeste: #REF!
Name AreaTeste2: #REF!
Name CélulaInicioPlanilha: #REF!
Name CélulaResumo: #REF!
Name Excel_BuiltIn_Database: #REF!
Name Excel_BuiltIn_Database_2: #REF!

Sheet Planilha
C4: PLANILHA ORÇAMENTÁRIA
E6: OBRA: CONSTRUÇÃO DE CRECHE MUNICIPAL MANOEL GOMES DOS SANTOS GASTÃO
E7: Rua Gilia N°158 x Rua Albertina, Jd Anchieta - Ferraz de Vasconcelos - SP | F7: Data base:
B9: Referência | C9: Referência | D9: Item | E9: Descrição | F9: Unid | G9: Quantidade | H9: Preço Unit | I9: Total
E10: 1 - SERVIÇOS PRELIMINARES
C11: EDIF | D11: 17030002 | E11: =VLOOKUP(D11,[1]EDIF!$A$2:$D$2826,2,0) -> PLACA DE OBRA EM CHAPA DE AÇO GALVANIZADO | F11: =VLOOKUP(D11,[1]EDIF!$A$2:$D$2826,3,0) -> M2 | G11: 6 | I11: =TRUNC(G11*H11,2) -> 0 | J11: =I11/$I$202 -> #DIV/0!
C12: EDIF | D12: 20003061 | E12: =VLOOKUP(D12,[1]EDIF!$A$2:$D$2826,2,0) -> PROJETO EXECUTIVO (PRANCHA A1) | F12: =VLOOKUP(D12,[1]EDIF!$A$2:$D$2826,3,0) -> UN | G12: 6 | I12: =TRUNC(G12*H12,2) -> 0 | J12: =I12/$I$202 -> #DIV/0!
C13: EDIF | D13: 20005033 | E13: =VLOOKUP(D13,[1]EDIF!$A$2:$D$2826,2,0) -> DESENVOLVIMENTO DE PROJETO TÉCNICO DE PREVENÇÃO E COMBATE A INCÊNDIO E APROVAÇÃO JUNTO AO CORPO DE BOMBEIROS PARA EDIFICAÇÕES ATÉ 2000 M2 | F13: =VLOOKUP(D13,[1]EDIF!$A$2:$D$2826,3,0) -> GL | G13: 1 | I13: =TRUNC(G13*H13,2) -> 0 | J13: =I13/$I$202 -> #DIV/0!
C14: EDIF | D14: 17090003 | E14: =VLOOKUP(D14,[1]EDIF!$A$2:$D$2826,2,0) -> LOCAÇÃO DE CONTAINER 2,30 X 6,00 M, ALT. 2,50 M, PARA ESCRITÓRIO, COM 1 SANITÁRIO, COMPLETO, SEM DIVISÓRIAS INTERNAS | F14: =VLOOKUP(D14,[1]EDIF!$A$2:$D$2826,3,0) -> UNXMÊS | G14: 12 | I14: =TRUNC(G14*H14,2) -> 0 | J14: =I14/$I$202 -> #DIV/0!
C15: SIEC | D15: 02.01.03.220.01 | E15: =VLOOKUP(D15,[1]SIEC!$A$1:$F$4885,2,0) -> Ligação provisória de energia elétrica - instalação mínima | F15: =VLOOKUP(D15,[1]SIEC!$A$1:$F$4885,3,0) -> un | G15: 1 | I15: =TRUNC(G15*H15,2) -> 0 | J15: =I15/$I$202 -> #DIV/0!
C16: SIEC | D16: 02.01.03.210.01 | E16: =VLOOKUP(D16,[1]SIEC!$A$1:$F$4885,2,0) -> Ligação provisória de água e instalação sanitária provisória - instalação mínima | F16: =VLOOKUP(D16,[1]SIEC!$A$1:$F$4885,3,0) -> un | G16: 1 | I16: =TRUNC(G16*H16,2) -> 0 | J16: =I16/$I$202 -> #DIV/0!
C17: CDHU | D17: 01.21.010 | E17: =VLOOKUP($D17,[1]CDHU!$A$1:$G$5122,2,0) -> Taxa de mobilização e desmobilização de equipamentos para execução de sondagem | F17: =VLOOKUP($D17,[1]CDHU!$A$1:$G$5122,3,0) -> TX | G17: 1 | I17: =TRUNC(G17*H17,2) -> 0 | J17: =I17/$I$202 -> #DIV/0!
C18: CDHU | D18: 01.21.110 | E18: =VLOOKUP($D18,[1]CDHU!$A$1:$G$5122,2,0) -> Sondagem do terreno à percussão (mínimo de 30 m) | F18: =VLOOKUP($D18,[1]CDHU!$A$1:$G$5122,3,0) -> M | G18: 150 | I18: =TRUNC(G18*H18,2) -> 0 | J18: =I18/$I$202 -> #DIV/0!
C19: CDHU | D19: 02.10.020 | E19: =VLOOKUP($D19,[1]CDHU!$A$1:$G$5122,2,0) -> Locação de obra de edificação | F19: =VLOOKUP($D19,[1]CDHU!$A$1:$G$5122,3,0) -> M2 | G19: 640 | I19: =TRUNC(G19*H19,2) -> 0 | J19: =I19/$I$202 -> #DIV/0!
C20: EDIF | D20: 1005001 | E20: =VLOOKUP(D20,[1]EDIF!$A$2:$D$2826,2,0) -> TAPUME CHAPA COMPENSADA 6MM | F20: =VLOOKUP(D20,[1]EDIF!$A$2:$D$2826,3,0) -> M2 | G20: 166.54 | I20: =TRUNC(G20*H20,2) -> 0 | J20: =I20/$I$202 -> #DIV/0!
I21: =SUM(I11:I20) -> 0
E22: 2 - LIMPEZA DE TERRENO
C23: EDIF | D23: 4050001 | E23: =VLOOKUP(D23,[1]EDIF!$A$2:$D$2826,2,0) -> DEMOLIÇÃO DE ALVENARIA ESTRUTURAL DE BLOCOS VAZADOS DE CONCRETO | F23: =VLOOKUP(D23,[1]EDIF!$A$2:$D$2826,3,0) -> M3 | G23: 37.69 | I23: =TRUNC(G23*H23,2) -> 0 | J23: =I23/$I$202 -> #DIV/0!
C24: EDIF | D24: 2050003 | E24: =VLOOKUP(D24,[1]EDIF!$A$2:$D$2826,2,0) -> DEMOLIÇÃO MANUAL DE CONCRETO SIMPLES | F24: =VLOOKUP(D24,[1]EDIF!$A$2:$D$2826,3,0) -> M3 | G24: 21.2058 | I24: =TRUNC(G24*H24,2) -> 0 | J24: =I24/$I$202 -> #DIV/0!
C25: EDIF | D25: 1001001 | E25: =VLOOKUP(D25,[1]EDIF!$A$2:$D$2826,2,0) -> LIMPEZA MECANIZADA GERAL, INCLUSIVE REMOÇÃO DA COBERTURA VEGETAL - TRONCOS COM DIÂMETRO ATÉ 10CM - SEM TRANSPORTE | F25: =VLOOKUP(D25,[1]EDIF!$A$2:$D$2826,3,0) -> M2 | G25: 634 | I25: =TRUNC(G25*H25,2) -> 0 | J25: =I25/$I$202 -> #DIV/0!
C26: EDIF | D26: 1001002 | E26: =VLOOKUP(D26,[1]EDIF!$A$2:$D$2826,2,0) -> DESTOCAMENTO, INCLUSIVE REMOÇÃO DAS RAÍZES - DIÂMETROS DE 10,01 À 30CM | F26: =VLOOKUP(D26,[1]EDIF!$A$2:$D$2826,3,0) -> UN | G26: 8 | I26: =TRUNC(G26*H26,2) -> 0 | J26: =I26/$I$202 -> #DIV/0!
C27: EDIF | D27: 1001005 | E27: =VLOOKUP(D27,[1]EDIF!$A$2:$D$2826,2,0) -> CARGA MECANIZADA E REMOÇÃO DE ENTULHO, INCLUSIVE TRANSPORTE ATÉ 1KM | F27: =VLOOKUP(D27,[1]EDIF!$A$2:$D$2826,3,0) -> M3 | G27: 154 | I27: =TRUNC(G27*H27,2) -> 0 | J27: =I27/$I$202 -> #DIV/0!
C28: EDIF | D28: 1001010 | E28: =VLOOKUP(D28,[1]EDIF!$A$2:$D$2826,2,0) -> TRANSPORTE DE ENTULHO POR CAMINHÃO BASCULANTE, A PARTIR DE 1KM | F28: =VLOOKUP(D28,[1]EDIF!$A$2:$D$2826,3,0) -> M3XKM | G28: 2156 | I28: =TRUNC(G28*H28,2) -> 0 | J28: =I28/$I$202 -> #DIV/0!
C29: CDHU | D29: 05.09.006 | E29: =VLOOKUP($D29,[1]CDHU!$A$1:$G$5122,2,0) -> Taxa de destinação de resíduo sólido em aterro, tipo inerte | F29: =VLOOKUP($D29,[1]CDHU!$A$1:$G$5122,3,0) -> T | G29: 246.4 | I29: =TRUNC(G29*H29,2) -> 0 | J29: =I29/$I$202 -> #DIV/0!
I30: =SUM(I23:I29) -> 0
E31: 3 - MOVIMENTAÇÃO DE TERRA
C32: EDIF | D32: 1003005 | E32: =VLOOKUP(D32,[1]EDIF!$A$2:$D$2826,2,0) -> FORNECIMENTO DE TERRA, INCLUSIVE CORTE, CARGA, DESCARGA E TRANSPORTE ATÉ 1KM | F32: =VLOOKUP(D32,[1]EDIF!$A$2:$D$2826,3,0) -> M3 | G32: 317 | I32: =TRUNC(G32*H32,2) -> 0 | J32: =I32/$I$202 -> #DIV/0!
C33: EDIF | D33: 1003010 | E33: =VLOOKUP(D33,[1]EDIF!$A$2:$D$2826,2,0) -> TRANSPORTE DE TERRA POR CAMINHÃO BASCULANTE, A PARTIR DE 1KM | F33: =VLOOKUP(D33,[1]EDIF!$A$2:$D$2826,3,0) -> M3XKM | G33: 4438 | I33: =TRUNC(G33*H33,2) -> 0 | J33: =I33/$I$202 -> #DIV/0!
C34: EDIF | D34: 1002005 | E34: =VLOOKUP(D34,[1]EDIF!$A$2:$D$2826,2,0) -> ATERRO, INCLUSIVE COMPACTAÇÃO MANUAL | F34: =VLOOKUP(D34,[1]EDIF!$A$2:$D$2826,3,0) -> M3 | G34: 317 | I34: =TRUNC(G34*H34,2) -> 0 | J34: =I34/$I$202 -> #DIV/0!
I35: =SUM(I32:I34) -> 0
E36: 4 - ESTRUTURAS
C37: EDIF | D37: 17001070 | E37: =VLOOKUP(D37,[1]EDIF!$A$2:$D$2826,2,0) -> MURO DE ARRIMO H=1,40M, COM DRENAGEM | F37: =VLOOKUP(D37,[1]EDIF!$A$2:$D$2826,3,0) -> M | G37: 37.9 | I37: =TRUNC(G37*H37,2) -> 0 | J37: =I37/$I$202 -> #DIV/0!
C38: EDIF | D38: 2002001 | E38: =VLOOKUP(D38,[1]EDIF!$A$2:$D$2826,2,0) -> ESCAVAÇÃO MANUAL COM PROFUNDIDADE IGUAL OU INFERIOR A 1,50M | F38: =VLOOKUP(D38,[1]EDIF!$A$2:$D$2826,3,0) -> M3 | G38: 22.514 | I38: =TRUNC(G38*H38,2) -> 0 | J38: =I38/$I$202 -> #DIV/0!
C39: EDIF | D39: 2002010 | E39: =VLOOKUP(D39,[1]EDIF!$A$2:$D$2826,2,0) -> APILOAMENTO DO FUNDO DE VALAS, PARA SIMPLES REGULARIZAÇÃO | F39: =VLOOKUP(D39,[1]EDIF!$A$2:$D$2826,3,0) -> M2 | G39: 98 | I39: =TRUNC(G39*H39,2) -> 0 | J39: =I39/$I$202 -> #DIV/0!
C40: EDIF | D40: 2006010 | E40: =VLOOKUP(D40,[1]EDIF!$A$2:$D$2826,2,0) -> REATERRO DE VALAS, INCLUSIVE APILOAMENTO | F40: =VLOOKUP(D40,[1]EDIF!$A$2:$D$2826,3,0) -> M3 | G40: 22.51 | I40: =TRUNC(G40*H40,2) -> 0 | J40: =I40/$I$202 -> #DIV/0!
C41: EDIF | D41: 2001003 | E41: =VLOOKUP(D41,[1]EDIF!$A$2:$D$2826,2,0) -> BROCA DE CONCRETO - DIÂMETRO DE 30CM | F41: =VLOOKUP(D41,[1]EDIF!$A$2:$D$2826,3,0) -> M | G41: 530 | I41: =TRUNC(G41*H41,2) -> 0 | J41: =I41/$I$202 -> #DIV/0!
C42: EDIF | D42: 2004004 | E42: =VLOOKUP(D42,[1]EDIF!$A$2:$D$2826,2,0) -> ARMADURA EM AÇO CA-50 | F42: =VLOOKUP(D42,[1]EDIF!$A$2:$D$2826,3,0) -> KG | G42: 7202 | I42: =TRUNC(G42*H42,2) -> 0 | J42: =I42/$I$202 -> #DIV/0!
C43: EDIF | D43: 2004007 | E43: =VLOOKUP(D43,[1]EDIF!$A$2:$D$2826,2,0) -> ARMADURA EM AÇO CA-60 | F43: =VLOOKUP(D43,[1]EDIF!$A$2:$D$2826,3,0) -> KG | G43: 1800.5 | I43: =TRUNC(G43*H43,2) -> 0 | J43: =I43/$I$202 -> #DIV/0!
C44: EDIF | D44: 2003001 | E44: =VLOOKUP(D44,[1]EDIF!$A$2:$D$2826,2,0) -> FORMA COMUM DE TÁBUAS DE PINUS | F44: =VLOOKUP(D44,[1]EDIF!$A$2:$D$2826,3,0) -> M2 | G44: 720.2 | I44: =TRUNC(G44*H44,2) -> 0 | J44: =I44/$I$202 -> #DIV/0!
C45: EDIF | D45: 2005010 | E45: =VLOOKUP(D45,[1]EDIF!$A$2:$D$2826,2,0) -> CONCRETO FCK=25MPA - USINADO | F45: =VLOOKUP(D45,[1]EDIF!$A$2:$D$2826,3,0) -> M3 | G45: 90.025 | I45: =TRUNC(G45*H45,2) -> 0 | J45: =I45/$I$202 -> #DIV/0!
...

Sheet Cronograma
B5: CRONOGRAMA FISICO-FINANCEIRO
B8: =Planilha!E6 -> OBRA: CONSTRUÇÃO DE CRECHE MUNICIPAL MANOEL GOMES DOS SANTOS GASTÃO
B10: Descrição | C10: MESES | V10: Valor do Item | W10: %
C11: 1 | D11: 2 | E11: 3 | F11: 4 | G11: 5 | H11: 6 | I11: 7 | J11: 8 | K11: 9 | L11: 10 | M11: 11 | N11: 12 | O11: 13 | P11: 14 | Q11: 15 | R11: 16 | S11: 17 | T11: 18 | U11: 19
B12: =Planilha!E10 -> 1 - SERVIÇOS PRELIMINARES | V12: =Planilha!I21 -> 0 | W12: =V12/$V$54 -> #DIV/0!
C14: =V12/2 -> 0 | D14: =C14 -> 0 | E14: =IF(E13="x", $V12/COUNTIF($C13:$U13,"x"), "") | F14: =IF(F13="x", $V12/COUNTIF($C13:$U13,"x"), "") | G14: =IF(G13="x", $V12/COUNTIF($C13:$U13,"x"), "") | H14: =IF(H13="x", $V12/COUNTIF($C13:$U13,"x"), "") | I14: =IF(I13="x", $V12/COUNTIF($C13:$U13,"x"), "") | J14: =IF(J13="x", $V12/COUNTIF($C13:$U13,"x"), "") | K14: =IF(K13="x", $V12/COUNTIF($C13:$U13,"x"), "") | L14: =IF(L13="x", $V12/COUNTIF($C13:$U13,"x"), "") | ... U14: =IF(U13="x", $V12/COUNTIF($C13:$U13,"x"), "")
B15: =Planilha!E22 -> 2 - LIMPEZA DE TERRENO | V15: =Planilha!I30 -> 0 | W15: =V15/$V$54 -> #DIV/0!
C17: =V15/2 -> 0 | D17: =C17 -> 0 | E17: =IF(E16="x", $V15/COUNTIF($C16:$U16,"x"), "") | F17: =IF(F16="x", $V15/COUNTIF($C16:$U16,"x"), "") | G17: =IF(G16="x", $V15/COUNTIF($C16:$U16,"x"), "") | H17: =IF(H16="x", $V15/COUNTIF($C16:$U16,"x"), "") | I17: =IF(I16="x", $V15/COUNTIF($C16:$U16,"x"), "") | J17: =IF(J16="x", $V15/COUNTIF($C16:$U16,"x"), "") | K17: =IF(K16="x", $V15/COUNTIF($C16:$U16,"x"), "") | L17: =IF(L16="x", $V15/COUNTIF($C16:$U16,"x"), "") | ... U17: =IF(U16="x", $V15/COUNTIF($C16:$U16,"x"), "")
B18: =Planilha!E31 -> 3 - MOVIMENTAÇÃO DE TERRA | V18: =Planilha!I35 -> 0 | W18: =V18/$V$54 -> #DIV/0!
C20: =V18/2 -> 0 | D20: =C20 -> 0
B21: =Planilha!E36 -> 4 - ESTRUTURAS | V21: =Planilha!I50 -> 0 | W21: =V21/$V$54 -> #DIV/0!
D23: =V21/4 -> 0 | E23: =D23 -> 0 | F23: =E23 -> 0 | G23: =F23 -> 0
B24: =Planilha!E51 -> 5 - INSTALAÇÕES HIDROSSANITÁRIAS | V24: =Planilha!I89 -> 0 | W24: =V24/$V$54 -> #DIV/0!
F26: =V24/4 -> 0 | G26: =F26 -> 0 | H26: =G26 -> 0 | I26: =H26 -> 0
B27: =Planilha!E90 -> 6 - ABRIGO DE GÁS E ABRIGO DE LIXO | V27: =Planilha!I95 -> 0 | W27: =V27/$V$54 -> #DIV/0!
M29: =N29 -> 0 | N29: =V27/2 -> 0
B30: =Planilha!E96 -> 7 - PROTEÇÃO CONTRA INCÊNDIO | V30: =Planilha!I100 -> 0 | W30: =V30/$V$54 -> #DIV/0!
N32: =V30 -> 0
B33: =Planilha!E101 -> 8 - INSTALAÇÕES ELÉTRICAS | V33: =Planilha!I138 -> 0 | W33: =V33/$V$54 -> #DIV/0!
F35: =V33/6 -> 0 | G35: =F35 -> 0 | H35: =G35 -> 0 | I35: =H35 -> 0 | J35: =I35 -> 0 | K35: =J35 -> 0
B36: =Planilha!E139 -> 9 - PAREDES, REVESTIMENTOS E FORROS | V36: =Planilha!I147 -> 0 | W36: =V36/$V$54 -> #DIV/0!
D38: =V36/7 -> 0 | E38: =D38 -> 0 | F38: =E38 -> 0 | G38: =F38 -> 0 | H38: =G38 -> 0 | I38: =H38 -> 0 | J38: =I38 -> 0
B39: =Planilha!E148 -> 10 - PISOS | V39: =Planilha!I158 -> 0 | W39: =V39/$V$54 -> #DIV/0!
J41: =V39/5 -> 0 | K41: =J41 -> 0 | L41: =K41 -> 0 | M41: =L41 -> 0 | N41: =M41 -> 0
B42: =Planilha!E159 -> 11 - PINTURA | V42: =Planilha!I165 -> 0 | W42: =V42/$V$54 -> #DIV/0!
K44: =V42/3 -> 0 | L44: =K44 -> 0 | M44: =L44 -> 0
B45: =Planilha!E166 -> 12 - COBERTURA | V45: =Planilha!I174 -> 0 | W45: =V45/$V$54 -> #DIV/0!
I47: =V45/4 -> 0 | J47: =I47 -> 0 | K47: =J47 -> 0 | L47: =K47 -> 0
B48: =Planilha!E175 -> 13 - ESQUADRIAS | V48: =Planilha!I192 -> 0 | W48: =V48/$V$54 -> #DIV/0!
K50: =V48/4 -> 0 | L50: =K50 -> 0 | M50: =L50 -> 0 | N50: =M50 -> 0
B51: =Planilha!E193 -> 14 - SERVIÇOS COMPLEMENTARES | V51: =Planilha!I201 -> 0 | W51: =V51/$V$54 -> #DIV/0!
C53: =IF(C52="x", $V51/COUNTIF($C52:$U52,"x"), "") | D53: =IF(D52="x", $V51/COUNTIF($C52:$U52,"x"), "") | E53: =IF(E52="x", $V51/COUNTIF($C52:$U52,"x"), "") | F53: =IF(F52="x", $V51/COUNTIF($C52:$U52,"x"), "") | G53: =IF(G52="x", $V51/COUNTIF($C52:$U52,"x"), "") | H53: =IF(H52="x", $V51/COUNTIF($C52:$U52,"x"), "") | I53: =IF(I52="x", $V51/COUNTIF($C52:$U52,"x"), "") | J53: =IF(J52="x", $V51/COUNTIF($C52:$U52,"x"), "") | ... L53: =IF(L52="x", $V51/COUNTIF($C52:$U52,"x"), "") | M53: =V51/2 -> 0 | N53: =M53 -> 0 | O53: =IF(O52="x", $V51/COUNTIF($C52:$U52,"x"), "") | P53: =IF(P52="x", $V51/COUNTIF($C52:$U52,"x"), "") | Q53: =IF(Q52="x", $V51/COUNTIF($C52:$U52,"x"), "") | R53: =IF(R52="x", $V51/COUNTIF($C52:$U52,"x"), "") | S53: =IF(S52="x", $V51/COUNTIF($C52:$U52,"x"), "") | T53: =IF(T52="x", $V51/COUNTIF($C52:$U52,"x"), "") | U53: =IF(U52="x", $V51/COUNTIF($C52:$U52,"x"), "")
B54: Total: | C54: =SUM(C13:C53) -> 0 | D54: =SUM(D11:D53) -> 2 | E54: =SUM(E11:E53) -> 3 | F54: =SUM(F12:F53) -> 0 | G54: =SUM(G12:G53) -> 0 | H54: =SUM(H12:H53) -> 0 | I54: =SUM(I12:I53) -> 0 | J54: =SUM(J12:J53) -> 0 | K54: =SUM(K12:K53) -> 0 | L54: =SUM(L12:L53) -> 0 | M54: =SUM(M12:M53) -> 0 | N54: =SUM(N12:N53) -> 0 | O54: =SUM(O12:O14) -> 0 | P54: =SUM(P12:P14) -> 0 | Q54: =SUM(Q12:Q14) -> 0 | R54: =SUM(R12:R14) -> 0 | S54: =SUM(S12:S14) -> 0 | T54: =SUM(T12:T14) -> 0 | U54: =SUM(U12:U14) -> 0 | V54: =SUM(V12:V53) -> 0 | W54: =SUM(W12:W53) -> #DIV/0!
B55: BDI (25,00%): | C55: =C54*0.25 -> 0 | D55: =D54*0.25 -> 0.5 | E55: =E54*0.25 -> 0.75 | F55: =F54*0.25 -> 0 | G55: =G54*0.25 -> 0 | H55: =H54*0.25 -> 0 | I55: =I54*0.25 -> 0 | J55: =J54*0.25 -> 0 | ... V55: =V54*0.25 -> 0
B56: TOTAL GERAL: | C56: =SUM(C54:C55) -> 0 | D56: =SUM(D54:D55) -> 2.5 | E56: =SUM(E54:E55) -> 3.75 | F56: =SUM(F54:F55) -> 0 | G56: =SUM(G54:G55) -> 0 | H56: =SUM(H54:H55) -> 0 | I56: =SUM(I54:I55) -> 0 | J56: =SUM(J54:J55) -> 0 | ... V56: =SUM(V54:V55) -> 0
V58: ____/____/____
C59: =Planilha!E209 -> 0
C60: =Planilha!E210 -> 0
C61: =Planilha!E211 -> 0

Sheet BDI
B5: DEMONSTRATIVO DE COMPOSIÇÃO DO BDI
B6: (acórdão 2622/2013-TCU-Plenário)
B8: =Planilha!E6 -> OBRA: CONSTRUÇÃO DE CRECHE MUNICIPAL MANOEL GOMES DOS SANTOS GASTÃO
B12: Itens | E12: Siglas | F12: % Adotado
B14: Administração Central | E14: AC | F14: 0.0485
B15: Seguro e Garantia | E15: SG | F15: 0.008
B16: Risco | E16: R | F16: 0.0127
B17: Despesas Financeiras | E17: DF | F17: 0.0059
B18: Lucro | E18: L | F18: 0.0617
B19: Tributos (impostos COFINS 3%, e PIS 0,65%) | E19: CP | F19: 0.0365
B20: Tributos (ISS, variável de acordo com o município) | E20: ISS | F20: 0.05
B21: Tributos (Contribuição Previdenciária sobre a Receita Bruta - 0% ou 4,5% - Desoneração) | E21: CPRB | F21: 0
B22: Taxa BDI (%) | F22: =(((1+F14+F15+F16)*(1+F17)*(1+F18))/(1-F19-F20))-1 -> 0.2499914
B25: Os valores de BDI foram calculados com o emprego da fórmula (acórdão 2622/2013-TCU-Plenário):
C27: BDI = | D27: ( 1+ AC + S + R + G ) x ( 1 + DF ) x ( 1 + L ) | E27: -1
D28: (1- CP - ISS)
B31: Declaremos sob pena de Lei que a alternativa adotada pela Prefeitura do Município de Ferraz de Vasconcelos é SEM Desoneração e que está é a mais vantajosa para a Administração Pública.
D36: =Cronograma!C59 -> 0
D37: =Cronograma!C60 -> 0
D38: =Cronograma!C61 -> 0
