Workbook
Name AreaTeste: #REF!
Name AreaTeste2: #REF!
Name CélulaInicioPlanilha: #REF!
Name CélulaResumo: #REF!
Name Excel_BuiltIn_Database: #REF!
Name Excel_BuiltIn_Database_2: #REF!

Sheet ORÇ
B3: {=Melhorias no Castelo Zenker} -> #NAME? | H3: LOCAL: | I3: Ferraz de Vasconcelos
B6: REF | C6: CÓDIGO | D6: DESCRIÇÃO DOS SERVIÇOS | I6: UNID | J6: QUANT
M7: =SUMIF(M9:M265,"<>#N/D",M9:M42) -> 233308.88 | N7: =M7*1.25 -> 291636.1
C8: + | D8: 1 - SERVIÇOS PRELIMINARES
B9: EDIF | C9: 17030002 | D9: =UPPER(IF($B9="EDIF",VLOOKUP($C9,[1]EDIF!$A$1:$F$3677,2,0),(IF($B9="INFRA",VLOOKUP($C9,[1]INFRA!$A$1:$F$1859,2,0),(IF($B9="SINAPI",VLOOKUP($C9,[1]SINAPI!$A$1:$G$9552,2,0),(IF($B9="CDHU",VLOOKUP($C9,[1]CDHU!$A$1:$G$5122,2,0),(IF($B9="SIEC",VLOOKUP($C9,[1]SIEC!$A$1:$F$5304,2,0),(IF($B9="DER",VLOOKUP($C9,[1]DER!$A$1:$F$3075,2,0),(IF($B9="FDE",VLOOKUP($C9,[1]FDE!$A$1:$F$3289,2,0),(IF($B9="SICRO",VLOOKUP($C9,[1]SICRO!$A$1:$E$7371,2,0))))))))))))))))) -> PLACA DE OBRA EM CHAPA DE AÇO GALVANIZADO | I9: =UPPER(IF($B9="EDIF",VLOOKUP($C9,[1]EDIF!$A$1:$F$3677,3,0),(IF($B9="INFRA",VLOOKUP($C9,[1]INFRA!$A$1:$F$1859,3,0),(IF($B9="SINAPI",VLOOKUP($C9,[1]SINAPI!$A$1:$G$9552,3,0),(IF($B9="CDHU",VLOOKUP($C9,[1]CDHU!$A$1:$G$5122,3,0),(IF($B9="SIEC",VLOOKUP($C9,[1]SIEC!$A$1:$F$5304,3,0),(IF($B9="DER",VLOOKUP($C9,[1]DER!$A$1:$F$2075,3,0),(IF($B9="FDE",VLOOKUP($C9,[1]FDE!$A$1:$F$3289,3,0),(IF($B9="SICRO",VLOOKUP($C9,[1]SICRO!$A$1:$E$7371,3,0))))))))))))))))) -> M2 | J9: =SUM(K10) -> 6 | L9: =UPPER(ROUND((IF($B9="EDIF",VLOOKUP($C9,[1]EDIF!$A$1:$F$3677,4,0),(IF($B9="INFRA",VLOOKUP($C9,[1]INFRA!$A$1:$F$1859,4,0),(IF($B9="SINAPI",VLOOKUP($C9,[1]SINAPI!$A$1:$G$9552,4,0),(IF($B9="CDHU",VLOOKUP($C9,[1]CDHU!$A$1:$G$5122,6,0),(IF($B9="SIEC",VLOOKUP($C9,[1]SIEC!$A$1:$F$5304,5,0),(IF($B9="DER",VLOOKUP($C9,[1]DER!$A$1:$F$3075,5,0),(IF($B9="FDE",VLOOKUP($C9,[1]FDE!$A$1:$F$3289,5,0),(IF($B9="SICRO",VLOOKUP($C9,[1]SICRO!$A$1:$E$7371,4,0))))))))))))))))),2)) -> 399,72 | M9: =TRUNC(J9*L9,2) -> 2398.32 | N9: =C9 -> 17030002 | O9: =UPPER(IF($B9="EDIF",VLOOKUP($C9,[1]EDIF!$A$1:$F$3677,5,0),(IF($B9="INFRA",VLOOKUP($C9,[1]INFRA!$A$1:$F$1859,5,0),(IF($B9="SINAPI",VLOOKUP($C9,[1]SINAPI!$A$1:$G$9552,6,0),(IF($B9="CDHU",VLOOKUP($C9,[1]CDHU!$A$1:$G$5122,7,0),(IF($B9="SIEC",VLOOKUP($C9,[1]SIEC!$A$1:$F$5304,6,0),(IF($B9="DER",VLOOKUP($C9,[1]DER!$A$1:$F$3075,6,0),(IF($B9="FDE",VLOOKUP($C9,[1]FDE!$A$1:$F$3289,6,0),(IF($B9="SICRO",VLOOKUP($C9,[1]SICRO!$A$1:$E$7371,5,0))))))))))))))))) -> SIURB-E JAN/26
C10: - | D10: Placa de Obra - 2,0 x 3,0 = 6,0m2 | K10: 6
C11: -
B12: EDIF | C12: 17045001 | D12: =UPPER(IF($B12="EDIF",VLOOKUP($C12,[1]EDIF!$A$1:$F$3677,2,0),(IF($B12="INFRA",VLOOKUP($C12,[1]INFRA!$A$1:$F$1859,2,0),(IF($B12="SINAPI",VLOOKUP($C12,[1]SINAPI!$A$1:$G$9552,2,0),(IF($B12="CDHU",VLOOKUP($C12,[1]CDHU!$A$1:$G$5122,2,0),(IF($B12="SIEC",VLOOKUP($C12,[1]SIEC!$A$1:$F$5304,2,0),(IF($B12="DER",VLOOKUP($C12,[1]DER!$A$1:$F$3075,2,0),(IF($B12="FDE",VLOOKUP($C12,[1]FDE!$A$1:$F$3289,2,0),(IF($B12="SICRO",VLOOKUP($C12,[1]SICRO!$A$1:$E$7371,2,0))))))))))))))))) -> ANDAIMES METÁLICOS - FORNECIMENTO | I12: =UPPER(IF($B12="EDIF",VLOOKUP($C12,[1]EDIF!$A$1:$F$3677,3,0),(IF($B12="INFRA",VLOOKUP($C12,[1]INFRA!$A$1:$F$1859,3,0),(IF($B12="SINAPI",VLOOKUP($C12,[1]SINAPI!$A$1:$G$9552,3,0),(IF($B12="CDHU",VLOOKUP($C12,[1]CDHU!$A$1:$G$5122,3,0),(IF($B12="SIEC",VLOOKUP($C12,[1]SIEC!$A$1:$F$5304,3,0),(IF($B12="DER",VLOOKUP($C12,[1]DER!$A$1:$F$2075,3,0),(IF($B12="FDE",VLOOKUP($C12,[1]FDE!$A$1:$F$3289,3,0),(IF($B12="SICRO",VLOOKUP($C12,[1]SICRO!$A$1:$E$7371,3,0))))))))))))))))) -> M3XMÊS | J12: =SUM(K13) -> 432 | L12: =UPPER(ROUND((IF($B12="EDIF",VLOOKUP($C12,[1]EDIF!$A$1:$F$3677,4,0),(IF($B12="INFRA",VLOOKUP($C12,[1]INFRA!$A$1:$F$1859,4,0),(IF($B12="SINAPI",VLOOKUP($C12,[1]SINAPI!$A$1:$G$9552,4,0),(IF($B12="CDHU",VLOOKUP($C12,[1]CDHU!$A$1:$G$5122,6,0),(IF($B12="SIEC",VLOOKUP($C12,[1]SIEC!$A$1:$F$5304,5,0),(IF($B12="DER",VLOOKUP($C12,[1]DER!$A$1:$F$3075,5,0),(IF($B12="FDE",VLOOKUP($C12,[1]FDE!$A$1:$F$3289,5,0),(IF($B12="SICRO",VLOOKUP($C12,[1]SICRO!$A$1:$E$7371,4,0))))))))))))))))),2)) -> 10,42 | M12: =TRUNC(J12*L12,2) -> 4501.44 | N12: =C12 -> 17045001 | O12: =UPPER(IF($B12="EDIF",VLOOKUP($C12,[1]EDIF!$A$1:$F$3677,5,0),(IF($B12="INFRA",VLOOKUP($C12,[1]INFRA!$A$1:$F$1859,5,0),(IF($B12="SINAPI",VLOOKUP($C12,[1]SINAPI!$A$1:$G$9552,6,0),(IF($B12="CDHU",VLOOKUP($C12,[1]CDHU!$A$1:$G$5122,7,0),(IF($B12="SIEC",VLOOKUP($C12,[1]SIEC!$A$1:$F$5304,6,0),(IF($B12="DER",VLOOKUP($C12,[1]DER!$A$1:$F$3075,6,0),(IF($B12="FDE",VLOOKUP($C12,[1]FDE!$A$1:$F$3289,6,0),(IF($B12="SICRO",VLOOKUP($C12,[1]SICRO!$A$1:$E$7371,5,0))))))))))))))))) -> SIURB-E JAN/26
C13: - | K13: =72*6 -> 432
C14: -
B15: EDIF | C15: 17045002 | D15: =UPPER(IF($B15="EDIF",VLOOKUP($C15,[1]EDIF!$A$1:$F$3677,2,0),(IF($B15="INFRA",VLOOKUP($C15,[1]INFRA!$A$1:$F$1859,2,0),(IF($B15="SINAPI",VLOOKUP($C15,[1]SINAPI!$A$1:$G$9552,2,0),(IF($B15="CDHU",VLOOKUP($C15,[1]CDHU!$A$1:$G$5122,2,0),(IF($B15="SIEC",VLOOKUP($C15,[1]SIEC!$A$1:$F$5304,2,0),(IF($B15="DER",VLOOKUP($C15,[1]DER!$A$1:$F$3075,2,0),(IF($B15="FDE",VLOOKUP($C15,[1]FDE!$A$1:$F$3289,2,0),(IF($B15="SICRO",VLOOKUP($C15,[1]SICRO!$A$1:$E$7371,2,0))))))))))))))))) -> ANDAIMES METÁLICOS - MONTAGEM E DESMONTAGEM | I15: =UPPER(IF($B15="EDIF",VLOOKUP($C15,[1]EDIF!$A$1:$F$3677,3,0),(IF($B15="INFRA",VLOOKUP($C15,[1]INFRA!$A$1:$F$1859,3,0),(IF($B15="SINAPI",VLOOKUP($C15,[1]SINAPI!$A$1:$G$9552,3,0),(IF($B15="CDHU",VLOOKUP($C15,[1]CDHU!$A$1:$G$5122,3,0),(IF($B15="SIEC",VLOOKUP($C15,[1]SIEC!$A$1:$F$5304,3,0),(IF($B15="DER",VLOOKUP($C15,[1]DER!$A$1:$F$2075,3,0),(IF($B15="FDE",VLOOKUP($C15,[1]FDE!$A$1:$F$3289,3,0),(IF($B15="SICRO",VLOOKUP($C15,[1]SICRO!$A$1:$E$7371,3,0))))))))))))))))) -> M3 | J15: =SUM(K16) -> 72 | L15: =UPPER(ROUND((IF($B15="EDIF",VLOOKUP($C15,[1]EDIF!$A$1:$F$3677,4,0),(IF($B15="INFRA",VLOOKUP($C15,[1]INFRA!$A$1:$F$1859,4,0),(IF($B15="SINAPI",VLOOKUP($C15,[1]SINAPI!$A$1:$G$9552,4,0),(IF($B15="CDHU",VLOOKUP($C15,[1]CDHU!$A$1:$G$5122,6,0),(IF($B15="SIEC",VLOOKUP($C15,[1]SIEC!$A$1:$F$5304,5,0),(IF($B15="DER",VLOOKUP($C15,[1]DER!$A$1:$F$3075,5,0),(IF($B15="FDE",VLOOKUP($C15,[1]FDE!$A$1:$F$3289,5,0),(IF($B15="SICRO",VLOOKUP($C15,[1]SICRO!$A$1:$E$7371,4,0))))))))))))))))),2)) -> 6,26 | M15: =TRUNC(J15*L15,2) -> 450.72 | N15: =C15 -> 17045002 | O15: =UPPER(IF($B15="EDIF",VLOOKUP($C15,[1]EDIF!$A$1:$F$3677,5,0),(IF($B15="INFRA",VLOOKUP($C15,[1]INFRA!$A$1:$F$1859,5,0),(IF($B15="SINAPI",VLOOKUP($C15,[1]SINAPI!$A$1:$G$9552,6,0),(IF($B15="CDHU",VLOOKUP($C15,[1]CDHU!$A$1:$G$5122,7,0),(IF($B15="SIEC",VLOOKUP($C15,[1]SIEC!$A$1:$F$5304,6,0),(IF($B15="DER",VLOOKUP($C15,[1]DER!$A$1:$F$3075,6,0),(IF($B15="FDE",VLOOKUP($C15,[1]FDE!$A$1:$F$3289,6,0),(IF($B15="SICRO",VLOOKUP($C15,[1]SICRO!$A$1:$E$7371,5,0))))))))))))))))) -> SIURB-E JAN/26
C16: - | D16: 1,50 x 1,50 x 8,00 x 6 meses | K16: 72
C17: -
C18: + | D18: 2 - ADEQUAÇÕES NA REGIÃO DO ELEVADOR E HALL DE ENTRADA
B19: EDIF | C19: 6001030 | D19: =UPPER(IF($B19="EDIF",VLOOKUP($C19,[1]EDIF!$A$1:$F$3677,2,0),(IF($B19="INFRA",VLOOKUP($C19,[1]INFRA!$A$1:$F$1859,2,0),(IF($B19="SINAPI",VLOOKUP($C19,[1]SINAPI!$A$1:$G$9552,2,0),(IF($B19="CDHU",VLOOKUP($C19,[1]CDHU!$A$1:$G$5122,2,0),(IF($B19="SIEC",VLOOKUP($C19,[1]SIEC!$A$1:$F$5304,2,0),(IF($B19="DER",VLOOKUP($C19,[1]DER!$A$1:$F$3075,2,0),(IF($B19="FDE",VLOOKUP($C19,[1]FDE!$A$1:$F$3289,2,0),(IF($B19="SICRO",VLOOKUP($C19,[1]SICRO!$A$1:$E$7371,2,0))))))))))))))))) -> FORNECIMENTO DE ESTRUTURA METÁLICA PARA COBERTURA | I19: =UPPER(IF($B19="EDIF",VLOOKUP($C19,[1]EDIF!$A$1:$F$3677,3,0),(IF($B19="INFRA",VLOOKUP($C19,[1]INFRA!$A$1:$F$1859,3,0),(IF($B19="SINAPI",VLOOKUP($C19,[1]SINAPI!$A$1:$G$9552,3,0),(IF($B19="CDHU",VLOOKUP($C19,[1]CDHU!$A$1:$G$5122,3,0),(IF($B19="SIEC",VLOOKUP($C19,[1]SIEC!$A$1:$F$5304,3,0),(IF($B19="DER",VLOOKUP($C19,[1]DER!$A$1:$F$2075,3,0),(IF($B19="FDE",VLOOKUP($C19,[1]FDE!$A$1:$F$3289,3,0),(IF($B19="SICRO",VLOOKUP($C19,[1]SICRO!$A$1:$E$7371,3,0))))))))))))))))) -> KG | J19: =SUM(K20) -> 125.1 | L19: =UPPER(ROUND((IF($B19="EDIF",VLOOKUP($C19,[1]EDIF!$A$1:$F$3677,4,0),(IF($B19="INFRA",VLOOKUP($C19,[1]INFRA!$A$1:$F$1859,4,0),(IF($B19="SINAPI",VLOOKUP($C19,[1]SINAPI!$A$1:$G$9552,4,0),(IF($B19="CDHU",VLOOKUP($C19,[1]CDHU!$A$1:$G$5122,6,0),(IF($B19="SIEC",VLOOKUP($C19,[1]SIEC!$A$1:$F$5304,5,0),(IF($B19="DER",VLOOKUP($C19,[1]DER!$A$1:$F$3075,5,0),(IF($B19="FDE",VLOOKUP($C19,[1]FDE!$A$1:$F$3289,5,0),(IF($B19="SICRO",VLOOKUP($C19,[1]SICRO!$A$1:$E$7371,4,0))))))))))))))))),2)) -> 15,32 | M19: =TRUNC(J19*L19,2) -> 1916.53 | N19: =C19 -> 6001030 | O19: =UPPER(IF($B19="EDIF",VLOOKUP($C19,[1]EDIF!$A$1:$F$3677,5,0),(IF($B19="INFRA",VLOOKUP($C19,[1]INFRA!$A$1:$F$1859,5,0),(IF($B19="SINAPI",VLOOKUP($C19,[1]SINAPI!$A$1:$G$9552,6,0),(IF($B19="CDHU",VLOOKUP($C19,[1]CDHU!$A$1:$G$5122,7,0),(IF($B19="SIEC",VLOOKUP($C19,[1]SIEC!$A$1:$F$5304,6,0),(IF($B19="DER",VLOOKUP($C19,[1]DER!$A$1:$F$3075,6,0),(IF($B19="FDE",VLOOKUP($C19,[1]FDE!$A$1:$F$3289,6,0),(IF($B19="SICRO",VLOOKUP($C19,[1]SICRO!$A$1:$E$7371,5,0))))))))))))))))) -> SIURB-E JAN/26
C20: - | D20: 20kg por m2 de Cobertura | K20: =K28*20 -> 125.1
C21: - | D21: Cobertura do Hall: 1,05x3,10 | I21: =1.05*3.1 -> 3.255
C22: -
B23: EDIF | C23: 6001031 | D23: =UPPER(IF($B23="EDIF",VLOOKUP($C23,[1]EDIF!$A$1:$F$3677,2,0),(IF($B23="INFRA",VLOOKUP($C23,[1]INFRA!$A$1:$F$1859,2,0),(IF($B23="SINAPI",VLOOKUP($C23,[1]SINAPI!$A$1:$G$9552,2,0),(IF($B23="CDHU",VLOOKUP($C23,[1]CDHU!$A$1:$G$5122,2,0),(IF($B23="SIEC",VLOOKUP($C23,[1]SIEC!$A$1:$F$5304,2,0),(IF($B23="DER",VLOOKUP($C23,[1]DER!$A$1:$F$3075,2,0),(IF($B23="FDE",VLOOKUP($C23,[1]FDE!$A$1:$F$3289,2,0),(IF($B23="SICRO",VLOOKUP($C23,[1]SICRO!$A$1:$E$7371,2,0))))))))))))))))) -> MONTAGEM DE ESTRUTURA METÁLICA PARA COBERTURA | I23: =UPPER(IF($B23="EDIF",VLOOKUP($C23,[1]EDIF!$A$1:$F$3677,3,0),(IF($B23="INFRA",VLOOKUP($C23,[1]INFRA!$A$1:$F$1859,3,0),(IF($B23="SINAPI",VLOOKUP($C23,[1]SINAPI!$A$1:$G$9552,3,0),(IF($B23="CDHU",VLOOKUP($C23,[1]CDHU!$A$1:$G$5122,3,0),(IF($B23="SIEC",VLOOKUP($C23,[1]SIEC!$A$1:$F$5304,3,0),(IF($B23="DER",VLOOKUP($C23,[1]DER!$A$1:$F$2075,3,0),(IF($B23="FDE",VLOOKUP($C23,[1]FDE!$A$1:$F$3289,3,0),(IF($B23="SICRO",VLOOKUP($C23,[1]SICRO!$A$1:$E$7371,3,0))))))))))))))))) -> KG | J23: =SUM(K24) -> 125.1 | L23: =UPPER(ROUND((IF($B23="EDIF",VLOOKUP($C23,[1]EDIF!$A$1:$F$3677,4,0),(IF($B23="INFRA",VLOOKUP($C23,[1]INFRA!$A$1:$F$1859,4,0),(IF($B23="SINAPI",VLOOKUP($C23,[1]SINAPI!$A$1:$G$9552,4,0),(IF($B23="CDHU",VLOOKUP($C23,[1]CDHU!$A$1:$G$5122,6,0),(IF($B23="SIEC",VLOOKUP($C23,[1]SIEC!$A$1:$F$5304,5,0),(IF($B23="DER",VLOOKUP($C23,[1]DER!$A$1:$F$3075,5,0),(IF($B23="FDE",VLOOKUP($C23,[1]FDE!$A$1:$F$3289,5,0),(IF($B23="SICRO",VLOOKUP($C23,[1]SICRO!$A$1:$E$7371,4,0))))))))))))))))),2)) -> 3,65 | M23: =TRUNC(J23*L23,2) -> 456.61 | N23: =C23 -> 6001031 | O23: =UPPER(IF($B23="EDIF",VLOOKUP($C23,[1]EDIF!$A$1:$F$3677,5,0),(IF($B23="INFRA",VLOOKUP($C23,[1]INFRA!$A$1:$F$1859,5,0),(IF($B23="SINAPI",VLOOKUP($C23,[1]SINAPI!$A$1:$G$9552,6,0),(IF($B23="CDHU",VLOOKUP($C23,[1]CDHU!$A$1:$G$5122,7,0),(IF($B23="SIEC",VLOOKUP($C23,[1]SIEC!$A$1:$F$5304,6,0),(IF($B23="DER",VLOOKUP($C23,[1]DER!$A$1:$F$3075,6,0),(IF($B23="FDE",VLOOKUP($C23,[1]FDE!$A$1:$F$3289,6,0),(IF($B23="SICRO",VLOOKUP($C23,[1]SICRO!$A$1:$E$7371,5,0))))))))))))))))) -> SIURB-E JAN/26
C24: - | D24: 20kg por m2 de Cobertura | K24: =K20 -> 125.1
C25: - | D25: Cobertura do Hall: 1,05x3,10 | I25: =1.05*3.1 -> 3.255
C26: -
B27: EDIF | C27: 14001050 | D27: =UPPER(IF($B27="EDIF",VLOOKUP($C27,[1]EDIF!$A$1:$F$3677,2,0),(IF($B27="INFRA",VLOOKUP($C27,[1]INFRA!$A$1:$F$1859,2,0),(IF($B27="SINAPI",VLOOKUP($C27,[1]SINAPI!$A$1:$G$9552,2,0),(IF($B27="CDHU",VLOOKUP($C27,[1]CDHU!$A$1:$G$5122,2,0),(IF($B27="SIEC",VLOOKUP($C27,[1]SIEC!$A$1:$F$5304,2,0),(IF($B27="DER",VLOOKUP($C27,[1]DER!$A$1:$F$3075,2,0),(IF($B27="FDE",VLOOKUP($C27,[1]FDE!$A$1:$F$3289,2,0),(IF($B27="SICRO",VLOOKUP($C27,[1]SICRO!$A$1:$E$7371,2,0))))))))))))))))) -> VIDRO LISO DE SEGURANÇA, TEMPERADO INCOLOR - ESPESSURA 6MM | I27: =UPPER(IF($B27="EDIF",VLOOKUP($C27,[1]EDIF!$A$1:$F$3677,3,0),(IF($B27="INFRA",VLOOKUP($C27,[1]INFRA!$A$1:$F$1859,3,0),(IF($B27="SINAPI",VLOOKUP($C27,[1]SINAPI!$A$1:$G$9552,3,0),(IF($B27="CDHU",VLOOKUP($C27,[1]CDHU!$A$1:$G$5122,3,0),(IF($B27="SIEC",VLOOKUP($C27,[1]SIEC!$A$1:$F$5304,3,0),(IF($B27="DER",VLOOKUP($C27,[1]DER!$A$1:$F$2075,3,0),(IF($B27="FDE",VLOOKUP($C27,[1]FDE!$A$1:$F$3289,3,0),(IF($B27="SICRO",VLOOKUP($C27,[1]SICRO!$A$1:$E$7371,3,0))))))))))))))))) -> M2 | J27: =SUM(K28:K29) -> 6.255 | L27: =UPPER(ROUND((IF($B27="EDIF",VLOOKUP($C27,[1]EDIF!$A$1:$F$3677,4,0),(IF($B27="INFRA",VLOOKUP($C27,[1]INFRA!$A$1:$F$1859,4,0),(IF($B27="SINAPI",VLOOKUP($C27,[1]SINAPI!$A$1:$G$9552,4,0),(IF($B27="CDHU",VLOOKUP($C27,[1]CDHU!$A$1:$G$5122,6,0),(IF($B27="SIEC",VLOOKUP($C27,[1]SIEC!$A$1:$F$5304,5,0),(IF($B27="DER",VLOOKUP($C27,[1]DER!$A$1:$F$3075,5,0),(IF($B27="FDE",VLOOKUP($C27,[1]FDE!$A$1:$F$3289,5,0),(IF($B27="SICRO",VLOOKUP($C27,[1]SICRO!$A$1:$E$7371,4,0))))))))))))))))),2)) -> 388,39 | M27: =TRUNC(J27*L27,2) -> 2429.37 | N27: =C27 -> 14001050 | O27: =UPPER(IF($B27="EDIF",VLOOKUP($C27,[1]EDIF!$A$1:$F$3677,5,0),(IF($B27="INFRA",VLOOKUP($C27,[1]INFRA!$A$1:$F$1859,5,0),(IF($B27="SINAPI",VLOOKUP($C27,[1]SINAPI!$A$1:$G$9552,6,0),(IF($B27="CDHU",VLOOKUP($C27,[1]CDHU!$A$1:$G$5122,7,0),(IF($B27="SIEC",VLOOKUP($C27,[1]SIEC!$A$1:$F$5304,6,0),(IF($B27="DER",VLOOKUP($C27,[1]DER!$A$1:$F$3075,6,0),(IF($B27="FDE",VLOOKUP($C27,[1]FDE!$A$1:$F$3289,6,0),(IF($B27="SICRO",VLOOKUP($C27,[1]SICRO!$A$1:$E$7371,5,0))))))))))))))))) -> SIURB-E JAN/26
C28: - | D28: Cobertura do Elevador: 1,50x1,00 + 1,50x1,00 | K28: =I29+I30 -> 6.255
C29: - | D29: 1,50 + 1,50 | I29: =1.5 + 1.5 -> 3
C30: - | D30: Cobertura do Hall: 1,05x3,10 | I30: =1.05*3.1 -> 3.255
C31: -
B32: EDIF | C32: 10011002 | D32: =UPPER(IF($B32="EDIF",VLOOKUP($C32,[1]EDIF!$A$1:$F$3677,2,0),(IF($B32="INFRA",VLOOKUP($C32,[1]INFRA!$A$1:$F$1859,2,0),(IF($B32="SINAPI",VLOOKUP($C32,[1]SINAPI!$A$1:$G$9552,2,0),(IF($B32="CDHU",VLOOKUP($C32,[1]CDHU!$A$1:$G$5122,2,0),(IF($B32="SIEC",VLOOKUP($C32,[1]SIEC!$A$1:$F$5304,2,0),(IF($B32="DER",VLOOKUP($C32,[1]DER!$A$1:$F$3075,2,0),(IF($B32="FDE",VLOOKUP($C32,[1]FDE!$A$1:$F$3289,2,0),(IF($B32="SICRO",VLOOKUP($C32,[1]SICRO!$A$1:$E$7371,2,0))))))))))))))))) -> CALHA EM CHAPA DE AÇO GALVANIZADO N.24 - DESENVOLVIMENTO 50CM | I32: =UPPER(IF($B32="EDIF",VLOOKUP($C32,[1]EDIF!$A$1:$F$3677,3,0),(IF($B32="INFRA",VLOOKUP($C32,[1]INFRA!$A$1:$F$1859,3,0),(IF($B32="SINAPI",VLOOKUP($C32,[1]SINAPI!$A$1:$G$9552,3,0),(IF($B32="CDHU",VLOOKUP($C32,[1]CDHU!$A$1:$G$5122,3,0),(IF($B32="SIEC",VLOOKUP($C32,[1]SIEC!$A$1:$F$5304,3,0),(IF($B32="DER",VLOOKUP($C32,[1]DER!$A$1:$F$2075,3,0),(IF($B32="FDE",VLOOKUP($C32,[1]FDE!$A$1:$F$3289,3,0),(IF($B32="SICRO",VLOOKUP($C32,[1]SICRO!$A$1:$E$7371,3,0))))))))))))))))) -> M | J32: =SUM(K33) -> 16.2 | L32: =UPPER(ROUND((IF($B32="EDIF",VLOOKUP($C32,[1]EDIF!$A$1:$F$3677,4,0),(IF($B32="INFRA",VLOOKUP($C32,[1]INFRA!$A$1:$F$1859,4,0),(IF($B32="SINAPI",VLOOKUP($C32,[1]SINAPI!$A$1:$G$9552,4,0),(IF($B32="CDHU",VLOOKUP($C32,[1]CDHU!$A$1:$G$5122,6,0),(IF($B32="SIEC",VLOOKUP($C32,[1]SIEC!$A$1:$F$5304,5,0),(IF($B32="DER",VLOOKUP($C32,[1]DER!$A$1:$F$3075,5,0),(IF($B32="FDE",VLOOKUP($C32,[1]FDE!$A$1:$F$3289,5,0),(IF($B32="SICRO",VLOOKUP($C32,[1]SICRO!$A$1:$E$7371,4,0))))))))))))))))),2)) -> 125,73 | M32: =TRUNC(J32*L32,2) -> 2036.82 | N32: =C32 -> 10011002 | O32: =UPPER(IF($B32="EDIF",VLOOKUP($C32,[1]EDIF!$A$1:$F$3677,5,0),(IF($B32="INFRA",VLOOKUP($C32,[1]INFRA!$A$1:$F$1859,5,0),(IF($B32="SINAPI",VLOOKUP($C32,[1]SINAPI!$A$1:$G$9552,6,0),(IF($B32="CDHU",VLOOKUP($C32,[1]CDHU!$A$1:$G$5122,7,0),(IF($B32="SIEC",VLOOKUP($C32,[1]SIEC!$A$1:$F$5304,6,0),(IF($B32="DER",VLOOKUP($C32,[1]DER!$A$1:$F$3075,6,0),(IF($B32="FDE",VLOOKUP($C32,[1]FDE!$A$1:$F$3289,6,0),(IF($B32="SICRO",VLOOKUP($C32,[1]SICRO!$A$1:$E$7371,5,0))))))))))))))))) -> SIURB-E JAN/26
C33: - | D33: Cobertura do Elevador: 1,50+1,50+1,00+1,50+1,50+1,00 | I33: =1.5+1.5+1+1.5+1.5+1 -> 8 | K33: =I33+I34 -> 16.2
C34: - | D34: Cobertura do Hall: 3,10+3,10+1,1+1,1 | I34: =3.1+3.1+1+1 -> 8.2
C35: -
B36: EDIF | C36: 10011033 | D36: =UPPER(IF($B36="EDIF",VLOOKUP($C36,[1]EDIF!$A$1:$F$3677,2,0),(IF($B36="INFRA",VLOOKUP($C36,[1]INFRA!$A$1:$F$1859,2,0),(IF($B36="SINAPI",VLOOKUP($C36,[1]SINAPI!$A$1:$G$9552,2,0),(IF($B36="CDHU",VLOOKUP($C36,[1]CDHU!$A$1:$G$5122,2,0),(IF($B36="SIEC",VLOOKUP($C36,[1]SIEC!$A$1:$F$5304,2,0),(IF($B36="DER",VLOOKUP($C36,[1]DER!$A$1:$F$3075,2,0),(IF($B36="FDE",VLOOKUP($C36,[1]FDE!$A$1:$F$3289,2,0),(IF($B36="SICRO",VLOOKUP($C36,[1]SICRO!$A$1:$E$7371,2,0))))))))))))))))) -> RUFO EM CHAPA DE AÇO GALVANIZADO N.24 - DESENVOLVIMENTO 50CM | I36: =UPPER(IF($B36="EDIF",VLOOKUP($C36,[1]EDIF!$A$1:$F$3677,3,0),(IF($B36="INFRA",VLOOKUP($C36,[1]INFRA!$A$1:$F$1859,3,0),(IF($B36="SINAPI",VLOOKUP($C36,[1]SINAPI!$A$1:$G$9552,3,0),(IF($B36="CDHU",VLOOKUP($C36,[1]CDHU!$A$1:$G$5122,3,0),(IF($B36="SIEC",VLOOKUP($C36,[1]SIEC!$A$1:$F$5304,3,0),(IF($B36="DER",VLOOKUP($C36,[1]DER!$A$1:$F$2075,3,0),(IF($B36="FDE",VLOOKUP($C36,[1]FDE!$A$1:$F$3289,3,0),(IF($B36="SICRO",VLOOKUP($C36,[1]SICRO!$A$1:$E$7371,3,0))))))))))))))))) -> M | J36: =SUM(K37) -> 8.5 | L36: =UPPER(ROUND((IF($B36="EDIF",VLOOKUP($C36,[1]EDIF!$A$1:$F$3677,4,0),(IF($B36="INFRA",VLOOKUP($C36,[1]INFRA!$A$1:$F$1859,4,0),(IF($B36="SINAPI",VLOOKUP($C36,[1]SINAPI!$A$1:$G$9552,4,0),(IF($B36="CDHU",VLOOKUP($C36,[1]CDHU!$A$1:$G$5122,6,0),(IF($B36="SIEC",VLOOKUP($C36,[1]SIEC!$A$1:$F$5304,5,0),(IF($B36="DER",VLOOKUP($C36,[1]DER!$A$1:$F$3075,5,0),(IF($B36="FDE",VLOOKUP($C36,[1]FDE!$A$1:$F$3289,5,0),(IF($B36="SICRO",VLOOKUP($C36,[1]SICRO!$A$1:$E$7371,4,0))))))))))))))))),2)) -> 105,7 | M36: =TRUNC(J36*L36,2) -> 898.45 | N36: =C36 -> 10011033 | O36: =UPPER(IF($B36="EDIF",VLOOKUP($C36,[1]EDIF!$A$1:$F$3677,5,0),(IF($B36="INFRA",VLOOKUP($C36,[1]INFRA!$A$1:$F$1859,5,0),(IF($B36="SINAPI",VLOOKUP($C36,[1]SINAPI!$A$1:$G$9552,6,0),(IF($B36="CDHU",VLOOKUP($C36,[1]CDHU!$A$1:$G$5122,7,0),(IF($B36="SIEC",VLOOKUP($C36,[1]SIEC!$A$1:$F$5304,6,0),(IF($B36="DER",VLOOKUP($C36,[1]DER!$A$1:$F$3075,6,0),(IF($B36="FDE",VLOOKUP($C36,[1]FDE!$A$1:$F$3289,6,0),(IF($B36="SICRO",VLOOKUP($C36,[1]SICRO!$A$1:$E$7371,5,0))))))))))))))))) -> SIURB-E JAN/26
C37: - | D37: Rufo de Proteção 4m | I37: 4 | K37: =I38+I37 -> 8.5
C38: - | D38: Rufo da Cobertura: 0,80+0,80+2,90 | I38: =0.8+0.8+2.9 -> 4.5
C39: -
B40: EDIF | C40: 10012015 | D40: =UPPER(IF($B40="EDIF",VLOOKUP($C40,[1]EDIF!$A$1:$F$3677,2,0),(IF($B40="INFRA",VLOOKUP($C40,[1]INFRA!$A$1:$F$1859,2,0),(IF($B40="SINAPI",VLOOKUP($C40,[1]SINAPI!$A$1:$G$9552,2,0),(IF($B40="CDHU",VLOOKUP($C40,[1]CDHU!$A$1:$G$5122,2,0),(IF($B40="SIEC",VLOOKUP($C40,[1]SIEC!$A$1:$F$5304,2,0),(IF($B40="DER",VLOOKUP($C40,[1]DER!$A$1:$F$3075,2,0),(IF($B40="FDE",VLOOKUP($C40,[1]FDE!$A$1:$F$3289,2,0),(IF($B40="SICRO",VLOOKUP($C40,[1]SICRO!$A$1:$E$7371,2,0))))))))))))))))) -> CONDUTOR EM TUBO DE PVC RÍGIDO, PONTA E BOLSA - 75MM (3") | I40: =UPPER(IF($B40="EDIF",VLOOKUP($C40,[1]EDIF!$A$1:$F$3677,3,0),(IF($B40="INFRA",VLOOKUP($C40,[1]INFRA!$A$1:$F$1859,3,0),(IF($B40="SINAPI",VLOOKUP($C40,[1]SINAPI!$A$1:$G$9552,3,0),(IF($B40="CDHU",VLOOKUP($C40,[1]CDHU!$A$1:$G$5122,3,0),(IF($B40="SIEC",VLOOKUP($C40,[1]SIEC!$A$1:$F$5304,3,0),(IF($B40="DER",VLOOKUP($C40,[1]DER!$A$1:$F$2075,3,0),(IF($B40="FDE",VLOOKUP($C40,[1]FDE!$A$1:$F$3289,3,0),(IF($B40="SICRO",VLOOKUP($C40,[1]SICRO!$A$1:$E$7371,3,0))))))))))))))))) -> M | J40: =SUM(K41) -> 50 | L40: =UPPER(ROUND((IF($B40="EDIF",VLOOKUP($C40,[1]EDIF!$A$1:$F$3677,4,0),(IF($B40="INFRA",VLOOKUP($C40,[1]INFRA!$A$1:$F$1859,4,0),(IF($B40="SINAPI",VLOOKUP($C40,[1]SINAPI!$A$1:$G$9552,4,0),(IF($B40="CDHU",VLOOKUP($C40,[1]CDHU!$A$1:$G$5122,6,0),(IF($B40="SIEC",VLOOKUP($C40,[1]SIEC!$A$1:$F$5304,5,0),(IF($B40="DER",VLOOKUP($C40,[1]DER!$A$1:$F$3075,5,0),(IF($B40="FDE",VLOOKUP($C40,[1]FDE!$A$1:$F$3289,5,0),(IF($B40="SICRO",VLOOKUP($C40,[1]SICRO!$A$1:$E$7371,4,0))))))))))))))))),2)) -> 41,9 | M40: =TRUNC(J40*L40,2) -> 2095 | N40: =C40 -> 10012015 | O40: =UPPER(IF($B40="EDIF",VLOOKUP($C40,[1]EDIF!$A$1:$F$3677,5,0),(IF($B40="INFRA",VLOOKUP($C40,[1]INFRA!$A$1:$F$1859,5,0),(IF($B40="SINAPI",VLOOKUP($C40,[1]SINAPI!$A$1:$G$9552,6,0),(IF($B40="CDHU",VLOOKUP($C40,[1]CDHU!$A$1:$G$5122,7,0),(IF($B40="SIEC",VLOOKUP($C40,[1]SIEC!$A$1:$F$5304,6,0),(IF($B40="DER",VLOOKUP($C40,[1]DER!$A$1:$F$3075,6,0),(IF($B40="FDE",VLOOKUP($C40,[1]FDE!$A$1:$F$3289,6,0),(IF($B40="SICRO",VLOOKUP($C40,[1]SICRO!$A$1:$E$7371,5,0))))))))))))))))) -> SIURB-E JAN/26
C41: - | D41: 1 Tubo por Face tem 6 faces, portanto 6x3m de Altura | K41: =6+6+6+32 -> 50
C42: - | D42: Condutor para Cobertura do Hall: 2m
C43: - | D43: Condutor para Furo no Balaustre: 3m
C44: -
...

Sheet Planilha
C4: PLANILHA ORÇAMENTÁRIA
E6: OBRA: MELHORIAS NO CASTELO ZENKER | F6: Data base: | G6: SIURB JAN/26 | H6: CDHU MAI/26 | I6: SINAPI JUN/26
E7: R. do Castelo, 25 - Jardim do Castelo, Ferraz de Vasconcelos - SP | G7: FDE ABR/26
B8: Referência | C8: Referência | D8: Item | E8: Descrição | F8: Unid | G8: Quantidade | H8: Preço Unit | I8: Total
E9: 1 - SERVIÇOS PRELIMINARES
C10: EDIF | D10: 17030002 | E10: PLACA DE OBRA EM CHAPA DE AÇO GALVANIZADO | F10: M2 | G10: 6
C11: EDIF | D11: 17045001 | E11: ANDAIMES METÁLICOS - FORNECIMENTO | F11: M3XMÊS | G11: 432
C12: EDIF | D12: 17045002 | E12: ANDAIMES METÁLICOS - MONTAGEM E DESMONTAGEM | F12: M3 | G12: 72
H13: Subtotal: | I13: =SUM(I10:I12) -> 0
E14: 2 - ADEQUAÇÕES NA REGIÃO DO ELEVADOR E HALL DE ENTRADA
C15: EDIF | D15: 6001030 | E15: FORNECIMENTO DE ESTRUTURA METÁLICA PARA COBERTURA | F15: KG | G15: 125.1
C16: EDIF | D16: 6001031 | E16: MONTAGEM DE ESTRUTURA METÁLICA PARA COBERTURA | F16: KG | G16: 125.1
C17: EDIF | D17: 14001050 | E17: VIDRO LISO DE SEGURANÇA, TEMPERADO INCOLOR - ESPESSURA 6MM | F17: M2 | G17: 6.255
C18: EDIF | D18: 10011002 | E18: CALHA EM CHAPA DE AÇO GALVANIZADO N.24 - DESENVOLVIMENTO 50CM | F18: M | G18: 16.2
C19: EDIF | D19: 10011033 | E19: RUFO EM CHAPA DE AÇO GALVANIZADO N.24 - DESENVOLVIMENTO 50CM | F19: M | G19: 8.5
C20: EDIF | D20: 10012015 | E20: CONDUTOR EM TUBO DE PVC RÍGIDO, PONTA E BOLSA - 75MM (3") | F20: M | G20: 50
C21: EDIF | D21: 10011076 | E21: CANALETA MEIA CANA EM CONCRETO D=30CM | F21: M | G21: 4
C22: FDE | D22: 06.03.062 | E22: CO-28 CORRIMÃO DUPLO COM MONTANTE VERTICAL AÇO INOX FORNECIDO E INSTALADO | F22: M | G22: 3.72
C23: EDIF | D23: 4001035 | E23: VB.02 - ALVENARIA EM BLOCOS DE CONCRETO ESTRUTURAL 19 X 19 X 39CM - 8MPA | F23: M2 | G23: 2.915
C24: EDIF | D24: 11001001 | E24: CHAPISCO COMUM - ARGAMASSA DE CIMENTO E AREIA 1:3 | F24: M2 | G24: 5.83
C25: EDIF | D25: 11001009 | E25: EMBOÇO DESEMPENADO PARA PINTURA - ARGAMASSA MISTA CIMENTO, CAL E AREIA 1:3/12 | F25: M2 | G25: 5.83
H26: Subtotal: | I26: =SUM(I15:I25) -> 0
E27: 3 - CORREÇÃO DAS INFILTRAÇÕES
C28: EDIF | D28: 6080001 | E28: REVISÃO GERAL DE TELHADOS DE BARRO, INCLUSIVE TOMADA DE GOTEIRA | F28: M2 | G28: 328
C29: EDIF | D29: 6002005 | E29: TELHAS DE BARRO COZIDO - FRANCESA | F29: M2 | G29: 32.8
H30: Subtotal: | I30: =SUM(I28:I29) -> 0
E31: 4 - PINTURA
C32: EDIF | D32: 15050003 | E32: REMOÇÃO DE PINTURA EM ALVENARIA E CONCRETO - LIXA | F32: M2 | G32: 2097.345
C33: EDIF | D33: 15001010 | E33: TINTA PVA (LÁTEX) - CONCRETO OU REBOCO SEM MASSA CORRIDA | F33: M2 | G33: 1562.733
C34: EDIF | D34: 15001011 | E34: TINTA PVA (LÁTEX) - REBOCO COM MASSA CORRIDA | F34: M2 | G34: 75.3
C35: EDIF | D35: 15001015 | E35: TINTA ACRÍLICA - CONCRETO OU REBOCO SEM MASSA CORRIDA | F35: M2 | G35: 534.612
C36: EDIF | D36: 15002060 | E36: VERNIZ A BASE DE POLIURETANO TIPO "MARÍTIMO" - ESQUADRIAS E PEÇAS DE MARCENARIA | F36: M2 | G36: 105.626
C37: EDIF | D37: 15002010 | E37: ESMALTE SINTÉTICO - ESQUADRIAS E PEÇAS DE MARCENARIA, SEM EMASSAMENTO | F37: M2 | G37: 16.8
C38: EDIF | D38: 15003010 | E38: ESMALTE SINTÉTICO - ESQUADRIAS E PEÇAS DE SERRALHERIA | F38: M2 | G38: 27.22
C39: EDIF | D39: 11080006 | E39: REPAROS EM REBOCO - ARGAMASSA DE CAL E AREIA 1:2 | F39: M2 | G39: 95
E41: 5 - PISOS
C42: EDIF | D42: 13060012 | E42: RETIRADA DE SOALHO DE MADEIRA, EXCLUSIVE VIGAMENTO | F42: M2 | G42: 53.475
C43: EDIF | D43: 13050030 | E43: DEMOLIÇÃO DE RODAPÉS EM GERAL, INCLUSIVE ARGAMASSA DE ASSENTAMENTO | F43: M | G43: 24.74
C44: EDIF | D44: 13002013 | E44: CONTRAPISO CONVENCIONAL COM ESPESSURA ATÉ 4 CM | F44: M2 | G44: 53.475
C45: CDHU | D45: 18.08.062 | E45: REVESTIMENTO EM PORCELANATO ESMALTADO POLIDO PARA ÁREA INTERNA E AMBIENTE COM TRÁFEGO MÉDIO, GRUPO DE ABSORÇÃO BIA, ASSENTADO COM ARGAMASSA COLANTE INDUSTRIALIZADA, REJUNTADO | F45: M2 | G45: 53.475
...

Sheet Cronograma
B5: CRONOGRAMA FISICO-FINANCEIRO
B8: =Planilha!E6 -> OBRA: MELHORIAS NO CASTELO ZENKER
B10: Descrição | C10: MESES | V10: Valor do Item | W10: %
C11: 1 | D11: 2 | E11: 3 | F11: 4 | G11: 5 | H11: 6 | I11: 7 | J11: 8 | K11: 9 | L11: 10 | M11: 11 | N11: 12 | O11: 13 | P11: 14 | Q11: 15 | R11: 16 | S11: 17 | T11: 18 | U11: 19
B12: =Planilha!E9 -> 1 - SERVIÇOS PRELIMINARES | V12: =Planilha!I13 -> 0 | W12: =V12/$V$36 -> #DIV/0!
C14: =V12 -> 0 | D14: =IF(D13="x", $V12/COUNTIF($C13:$U13,"x"), "") | E14: =IF(E13="x", $V12/COUNTIF($C13:$U13,"x"), "") | F14: =IF(F13="x", $V12/COUNTIF($C13:$U13,"x"), "") | G14: =IF(G13="x", $V12/COUNTIF($C13:$U13,"x"), "") | H14: =IF(H13="x", $V12/COUNTIF($C13:$U13,"x"), "") | I14: =IF(I13="x", $V12/COUNTIF($C13:$U13,"x"), "") | J14: =IF(J13="x", $V12/COUNTIF($C13:$U13,"x"), "") | K14: =IF(K13="x", $V12/COUNTIF($C13:$U13,"x"), "") | ... U14: =IF(U13="x", $V12/COUNTIF($C13:$U13,"x"), "")
B15: =Planilha!E14 -> 2 - ADEQUAÇÕES NA REGIÃO DO ELEVADOR E HALL DE ENTRADA | V15: =Planilha!I26 -> 0 | W15: =V15/$V$36 -> #DIV/0!
C17: =IF(C16="x", $V15/COUNTIF($C16:$U16,"x"), "") | D17: =V15/2 -> 0 | E17: =D17 -> 0 | F17: =IF(F16="x", $V15/COUNTIF($C16:$U16,"x"), "") | G17: =IF(G16="x", $V15/COUNTIF($C16:$U16,"x"), "") | H17: =IF(H16="x", $V15/COUNTIF($C16:$U16,"x"), "") | I17: =IF(I16="x", $V15/COUNTIF($C16:$U16,"x"), "") | J17: =IF(J16="x", $V15/COUNTIF($C16:$U16,"x"), "") | K17: =IF(K16="x", $V15/COUNTIF($C16:$U16,"x"), "") | L17: =IF(L16="x", $V15/COUNTIF($C16:$U16,"x"), "") | M17: =IF(M16="x", $V15/COUNTIF($C16:$U16,"x"), "") | ... U17: =IF(U16="x", $V15/COUNTIF($C16:$U16,"x"), "")
B18: =Planilha!E27 -> 3 - CORREÇÃO DAS INFILTRAÇÕES | V18: =Planilha!I30 -> 0 | W18: =V18/$V$36 -> #DIV/0!
E20: =V18 -> 0
B21: =Planilha!E31 -> 4 - PINTURA | V21: =Planilha!I40 -> 0 | W21: =V21/$V$36 -> #DIV/0!
D23: =V21/3 -> 0 | E23: =D23 -> 0 | F23: =E23 -> 0
B24: =Planilha!E41 -> 5 - PISOS | V24: =Planilha!I52 -> 0 | W24: =V24/$V$36 -> #DIV/0!
E26: =V24/2 -> 0 | F26: =E26 -> 0
B27: =Planilha!E53 -> 6 - ESQUADRIAS | V27: =Planilha!I58 -> 0 | W27: =V27/$V$36 -> #DIV/0!
B30: =Planilha!E59 -> 7 - INSTALAÇÕES ELÉTRICAS | V30: =Planilha!I74 -> 0 | W30: =V30/$V$36 -> #DIV/0!
C32: =V30/3 -> 0 | D32: =C32 -> 0 | E32: =D32 -> 0
B33: =Planilha!E75 -> 8 - SERVIÇOS COMPLEMENTARES | V33: =Planilha!I91 -> 0 | W33: =V33/$V$36 -> #DIV/0!
C35: =V33/2 -> 0 | D35: =C35 -> 0
B36: Total: | C36: =SUM(C12:C35) -> 0 | D36: =SUM(D12:D35) -> 0 | E36: =SUM(E12:E35) -> 0 | F36: =SUM(F12:F35) -> 0 | G36: =SUM(G12:G14) -> 0 | H36: =SUM(H12:H14) -> 0 | I36: =SUM(I12:I14) -> 0 | J36: =SUM(J12:J14) -> 0 | K36: =SUM(K12:K14) -> 0 | L36: =SUM(L12:L14) -> 0 | M36: =SUM(M12:M14) -> 0 | N36: =SUM(N12:N14) -> 0 | ... U36: =SUM(U12:U14) -> 0 | V36: =SUM(V12:V35) -> 0
F37: BDI (25,00%): | G37: =G36*0.25 -> 0 | H37: =H36*0.25 -> 0 | I37: =I36*0.25 -> 0 | J37: =J36*0.25 -> 0 | K37: =K36*0.25 -> 0 | L37: =L36*0.25 -> 0 | M37: =M36*0.25 -> 0 | N37: =N36*0.25 -> 0 | ... V37: =V36*0.25 -> 0
F38: TOTAL GERAL: | G38: =SUM(G36:G37) -> 0 | H38: =SUM(H36:H37) -> 0 | I38: =SUM(I36:I37) -> 0 | J38: =SUM(J36:J37) -> 0 | K38: =SUM(K36:K37) -> 0 | L38: =SUM(L36:L37) -> 0 | M38: =SUM(M36:M37) -> 0 | N38: =SUM(N36:N37) -> 0 | ... V38: =SUM(V36:V37) -> 0 | W38: =SUM(W12:W37) -> #DIV/0!

Sheet BDI
B5: DEMONSTRATIVO DE COMPOSIÇÃO DO BDI
B6: (acórdão 2622/2013-TCU-Plenário)
B8: =Planilha!E6 -> OBRA: MELHORIAS NO CASTELO ZENKER
B12: Itens | E12: Siglas | F12: % Adotado
B14: Administração Central | E14: AC | F14: 0.0485
B15: Seguro e Garantia | E15: SG | F15: 0.008
B16: Risco | E16: R | F16: 0.0127
B17: Despesas Financeiras | E17: DF | F17: 0.0059
B18: Lucro | E18: L | F18: 0.0617
B19: Tributos (impostos COFINS 3%, e PIS 0,65%) | E19: CP | F19: 0.0365
B20: Tributos (ISS, variável de acordo com o município) | E20: ISS | F20: 0.05
B21: Tributos (Contribuição Previdenciária sobre a Receita Bruta - 0% ou 4,5% - Desoneração) | E21: CPRB | F21: 0
B22: Taxa BDI (%) | F22: =(((1+F14+F15+F16)*(1+F17)*(1+F18))/(1-F19-F20))-1 -> 0.2499914
B25: Os valores de BDI foram calculados com o emprego da fórmula (acórdão 2622/2013-TCU-Plenário):
C27: BDI = | D27: ( 1+ AC + S + R + G ) x ( 1 + DF ) x ( 1 + L ) | E27: -1
D28: (1- CP - ISS)
B31: Declaremos sob pena de Lei que a alternativa adotada pela Prefeitura do Município de Ferraz de Vasconcelos é SEM Desoneração e que está é a mais vantajosa para a Administração Pública.
