Workbook
Name AreaTeste: #REF!
Name AreaTeste2: #REF!
Name CélulaInicioPlanilha: #REF!
Name CélulaResumo: #REF!
Name Excel_BuiltIn_Database: #REF!
Name Excel_BuiltIn_Database_2: #REF!

Sheet ORÇ
F2: MEMÓRIA DE CÁLCULO
C6: OBRA: REFORMA DO PRÉDIO DO CENTRO DE ESPECIALIDADES ODONTOLÓGICAS- CEO | I6: LOCAL: | J6: Ferraz de Vasconcelos
C7: Av.: BRASIL nº 2.141 - VILA ROMANÓPOLIS - FERRAZ DE VASCONCELOS | H7: Dt.B.-FDE-Abr/ 26/-Siurb- Jul/26 -CDHU-Ago/26- Sinapi- Ago/26
C9: REF | D9: CÓDIGO | J9: UNID | K9: QUANT
D11: + | E11: 1 - SERVICOS PRELIMINARES/ DEMOLIÇÕES
C12: EDIF | D12: 17-030-002 | E12: PLACA DE OBRA EM CHAPA DE AÇO GALVANIZADO | J12: M2 | K12: 6 | L12: 411.43 | M12: =ROUND(K12*L12,2) -> 2468.58 | N12: =D12 -> 17-030-002 | O12: =VLOOKUP(C12,[1]EDIF!$A$1:$E$2656,5,0) -> #N/A
D13: - | E13: 3X2=6,00 | M13: =ROUND(K13*L13,2) -> 0
C14: FDE | D14: 16.35.006 | E14: ESCARIFICACAO MECANICA,CORTE CONCRETO C/REBARBADORES ELETR ATE 5,0C | J14: M2 | K14: 2.5 | L14: 253.64 | M14: =ROUND(K14*L14,2) -> 634.1 | N14: =D14 -> 16.35.006 | O14: =VLOOKUP(C14,[1]EDIF!$A$1:$E$2656,5,0) -> #N/A | P14: 311.98 | Q14: =P14/1.23 -> 253.64228
D15: - | E15: CORTE DA LAJE ----- vide plan. Quant. | M15: =ROUND(K15*L15,2) -> 0
D16: - | E16: 2,50*0,12=0,32M3 | M16: =ROUND(K16*L16,2) -> 0
C17: EDIF | D17: 4050001 | E17: DEMOLIÇÃO DE ALVENARIA ESTRUTURAL DE BLOCOS VAZADOS DE CONCRETO | J17: M3 | K17: 12.24 | L17: 108.51 | M17: =ROUND(K17*L17,2) -> 1328.16 | N17: =D17 -> 4050001 | O17: =VLOOKUP(C17,[1]EDIF!$A$1:$E$2656,5,0) -> #N/A
D18: - | E18: vide plan. Quant. | M18: =ROUND(K18*L18,2) -> 0
E19: 2- EXAUSTOR / ALVENARIA | N19: =SUM(M12:M18) -> 4430.84
C21: FDE | D21: 09.12.010 | E21: EXAUSTOR DN 150MM VAZAO 280 M3HORA C/VENEZIANA AUTOFECHANTE INCL.DUTO EXAUST.USO EXCL.PADRAO CRECHE | J21: UND | K21: 11 | L21: 868.37 | M21: =ROUND(K21*L21,2) -> 9552.07 | P21: 1068.1 | Q21: =P21/1.23 -> 868.37398
M22: =ROUND(K22*L22,2) -> 0
C23: EDIF | D23: 17010018 | E23: DUTO EM CHAPA DE AÇO GALVANIZADO N.22 - DIÂMETRO 35CM | J23: M | K23: 16.41 | L23: 320.77 | M23: =ROUND(K23*L23,2) -> 5263.84
M24: =ROUND(K24*L24,2) -> 0
C25: FDE | D25: 16.01.014 | E25: FD-14 FECHAMENTO DE DIVISA/BLOCO DE CONCRETO/ S/REVEST. H=185CM/BROCA | J25: M2 | K25: 28.65 | L25: 689.89 | M25: =ROUND(K25*L25,2) -> 19765.35 | P25: 848.57 | Q25: =P25/1.23 -> 689.89431
E26: 45,25-15,60=28,65
C27: EDIF | D27: 4001060 | E27: VB.02 - ALVENARIA EM BLOCOS DE CONCRETO ESTRUTURAL 14 X 19 X 39CM - ATÉ 6MPA | J27: M2 | K27: 15.6 | L27: 132.37 | M27: =ROUND(K27*L27,2) -> 2064.97
E28: 15.6 | M28: =ROUND(K28*L28,2) -> 0
C29: EDIF | D29: 11001001 | E29: CHAPISCO COMUM - ARGAMASSA DE CIMENTO E AREIA 1:3 | J29: M2 | K29: 90.5 | L29: 20.25 | M29: =ROUND(K29*L29,2) -> 1832.63
E30: 45,25X2 lados =90,50m2 | M30: =ROUND(K30*L30,2) -> 0
C31: EDIF | D31: 11001009 | E31: EMBOÇO DESEMPENADO PARA PINTURA - ARGAMASSA MISTA CIMENTO, CAL E AREIA 1:3/12 | J31: M2 | K31: 90.5 | L31: 57.79 | M31: =ROUND(K31*L31,2) -> 5230
E32: 45,25X2 lados =90,50m2 | M32: =ROUND(K32*L32,2) -> 0
C33: EDIF | D33: 10014076 | E33: TAMPO PARA BANCADA ÚMIDA - GRANITO CINZA MAUA POLIDO - ESPESSURA 2CM | J33: M2 | K33: 0.2 | L33: 689.6 | M33: =ROUND(K33*L33,2) -> 137.92
E34: 0,50X0,40=0,20M2 | M34: =ROUND(K34*L34,2) -> 0
C35: EDIF | D35: 11002029 | E35: AZULEJOS, JUNTA AMARRAÇÃO OU A PRUMO - ASSENTES COM ARGAMASSA COLANTE | J35: M2 | K35: 23.22 | L35: 72.33 | M35: =ROUND(K35*L35,2) -> 1679.5
E36: vide plan. Quant. | M36: =ROUND(K36*L36,2) -> 0
C37: EDIF | D37: 8060001 | E37: RETIRADA DE ESQUADRIAS METÁLICAS EM GERAL, PORTAS OU CAIXILHOS | J37: M2 | K37: 6 | L37: 42.59 | M37: =ROUND(K37*L37,2) -> 255.54
E38: 6,00M2 | M38: =ROUND(K38*L38,2) -> 0
C39: EDIF | D39: 8070001 | E39: RECOLOCAÇÃO DE ESQUADRIAS METÁLICAS EM GERAL, PORTAS OU CAIXILHOS | J39: M2 | K39: 4.08 | L39: 60.84 | M39: =ROUND(K39*L39,2) -> 248.23
E40: 4.08
C41: SINAPI | D41: 99842 | E41: GUARDA-CORPO DE AÇO GALVANIZADO DE 1,10M, MONTANTES TUBULARES DE 1.1/4" ESPAÇADOS 1,20M, TRAVESSA SUPERIOR DE 1.1/2", GRADIL FORMADO POR TUBOS HORIZONTAIS DE 1" E VERTICAIS DE 3/4", FIXADO COM ADESIVO ESTRUTURAL EPOXI. AF_10/2025 | J41: M2 | K41: 3.64 | L41: 584.35 | M41: =ROUND(K41*L41,2) -> 2127.03
E42: 0,46+1,14+0,90+1,14=3,64m2 | M42: =ROUND(K42*L42,2) -> 0
C43: FDE | D43: 06.03.082 | E43: CO-31 CORRIMÃO SIMPLES AÇO INOX FORNECIDO E INSTALADO | J43: M | K43: 12.64 | L43: 341.61 | M43: =ROUND(K43*L43,2) -> 4317.95 | N43: 420.18 | O43: =N43/1.23 -> 341.60976
E44: 2,55+2,70=5,25M+3,55+3,84=12,64 | M44: =ROUND(K44*L44,2) -> 0
C45: SINAPI | D45: 102073 | E45: ESCADA EM CONCRETO ARMADO MOLDADO IN LOCO, FCK 25 MPA, COM 1 LANCE E LAJE PLANA, FÔRMA EM CHAPA DE MADEIRA COMPENSADA RESINADA. AF_11/2020 | J45: M3 | K45: 1.88 | L45: 3982.01 | M45: =ROUND(K45*L45,2) -> 7486.18
E46: 17*0,30=5,10*1,0*0,20=1,02M3 (pisada) + 18*0,18*1,10=3,24m3 *0,20=0,65m3 (espelhos) +(patamar) 1,0*1,0*0,20
E47: (patamar) 1,0*1,0*0,20=0,20 total = 1,03+0,65+0,20= 1,88m3
C48: EDIF | D48: 8002075 | E48: EP.07 - GRADE DE PROTEÇÃO EM FERRO CHATO | J48: M2 | K48: 5.28 | L48: 164.94 | M48: =ROUND(K48*L48,2) -> 870.88
E49: vide plan. Quant. | M49: =ROUND(K49*L49,2) -> 0
C50: EDIF | D50: 8002062 | E50: CA.13 - CAIXILHO EM ALUMÍNIO ANODIZADO - BASCULANTE | J50: M2 | K50: 4 | L50: 1875.72 | M50: =ROUND(K50*L50,2) -> 7502.88
M51: =ROUND(K51*L51,2) -> 0
C52: EDIF | D52: 14001011 | E52: VIDRO IMPRESSO COMUM, TRANSLÚCIDO INCOLOR - TIPO CANELADO, 4MM- LEITOSO | J52: M2 | K52: 4 | L52: 163.64 | M52: =ROUND(K52*L52,2) -> 654.56 | O52: 163.64
M53: =ROUND(K53*L53,2) -> 0
C54: CDHU | D54: 19.01.062 | E54: Peitoril e/ou soleira em granito, espessura de 2 cm e largura até 20 cm, acabamento polido | J54: M | K54: 28.26 | L54: 184.92 | M54: =ROUND(K54*L54,2) -> 5225.84
E55: 23*0,80=18,40+1,02+1,24=20,66M + 1,60+(2*2)+(2*1,00)=20,66+1,60+4,00+2,00= 28,26M | M55: =ROUND(K55*L55,2) -> 0
E56: soleiras e peitoris | M56: =ROUND(K56*L56,2) -> 0
C57: EDIF | D57: 17045001 | E57: ANDAIMES METÁLICOS - FORNECIMENTO | J57: M3xMÊS | K57: 40 | L57: 10.43 | M57: =ROUND(K57*L57,2) -> 417.2
E58: 2X5=10M3 *4= 40 | M58: =ROUND(K58*L58,2) -> 0
C59: EDIF | D59: 17045002 | E59: ANDAIMES METÁLICOS - MONTAGEM E DESMONTAGEM | J59: M3 | K59: 40 | L59: 6.38 | M59: =ROUND(K59*L59,2) -> 255.2
E60: 2X5=10M3 *4= 40 | M60: =ROUND(K60*L60,2) -> 0
C61: EDIF | D61: 12001042 | E61: FORRO DE GESSO ACARTONADO TIPO FGA (FORNECIMENTO E INSTALAÇÃO) | J61: M2 | K61: 42.26 | L61: 147.64 | M61: =ROUND(K61*L61,2) -> 6239.27
E62: 42.26
E63: 3- ESQUADRIAS DE MADEIRA /FERRAGENS | N63: =SUM(M21:M62) -> 81127.04
C65: EDIF | D65: 7060001 | E65: RETIRADA DE FOLHAS DE PORTA DE PASSAGEM OU JANELA | J65: UNID | K65: 31 | L65: 17.55 | M65: =ROUND(K65*L65,2) -> 544.05
E66: 23+1+4+1=29+2(janelas) | M66: =ROUND(K66*L66,2) -> 0
C67: EDIF | D67: 7060002 | E67: RETIRADA DE BATENTES DE MADEIRA | J67: UNID | K67: 29 | L67: 73.01 | M67: =ROUND(K67*L67,2) -> 2117.29
M68: =ROUND(K68*L68,2) -> 0
C69: EDIF | D69: 7060008 | E69: RETIRADA DE GUARNIÇÕES OU MOLDURAS DE MADEIRA | J69: M | K69: 250 | L69: 2.46 | M69: =ROUND(K69*L69,2) -> 615
E70: 0,80+2,10+2,10=5,00 *25* 2 lados | M70: =ROUND(K70*L70,2) -> 0
C71: EDIF | D71: 7070001 | E71: RECOLOCAÇÃO DE FOLHAS DE PORTA DE PASSAGEM OU JANELA | J71: UNID | K71: 4 | L71: 136.91 | M71: =ROUND(K71*L71,2) -> 547.64
M72: =ROUND(K72*L72,2) -> 0
C73: EDIF | D73: 7001012 | E73: PM.12 - PORTA LISA COMUM/ ENCABEÇADA - 82X210CM | J73: UNID | K73: 23 | L73: 403.53 | M73: =ROUND(K73*L73,2) -> 9281.19
M74: =ROUND(K74*L74,2) -> 0
C75: EDIF | D75: 7001014 | E75: PM.14 - PORTA LISA COMUM/ ENCABEÇADA - 102X210CM | J75: UNID | K75: 1 | L75: 521 | M75: =ROUND(K75*L75,2) -> 521
M76: =ROUND(K76*L76,2) -> 0
C77: FDE | D77: 05.01.101 | E77: PM-08 PORTA DE MADEIRA SARRAFEADA P/ PINT. BAT. MADEIRA L=124CM INCLUSIVE REFORÇO FECHADURA | J77: UNID | K77: 1 | L77: 1813.47 | M77: =ROUND(K77*L77,2) -> 1813.47 | O77: 2230.57 | P77: =O77/1.23 -> 1813.4715
M78: =ROUND(K78*L78,2) -> 0
C79: CDHU | D79: 23.04.080 | E79: Porta em laminado fenólico melamínico com batente em alumínio - 60 x 160 cm | J79: UNID | K79: 4 | L79: 1308.17 | M79: =ROUND(K79*L79,2) -> 5232.68
M80: =ROUND(K80*L80,2) -> 0
C81: EDIF | D81: 7001054 | E81: EM.02 - BATENTE DE MADEIRA (25CM) - PARA PORTA DE 1 FOLHA, SEM BANDEIRA | J81: M | K81: 1 | L81: 992.86 | M81: =ROUND(K81*L81,2) -> 992.86
M82: =ROUND(K82*L82,2) -> 0
C83: EDIF | D83: 7001050 | E83: EM.01 - BATENTE DE MADEIRA (14CM) - PARA PORTA DE 1 FOLHA, SEM BANDEIRA | J83: JG | K83: 28 | L83: 927.49 | M83: =ROUND(K83*L83,2) -> 25969.72
M84: =ROUND(K84*L84,2) -> 0
C85: EDIF | D85: 7080002 | E85: GUARNIÇÃO OU MOLDURA DE MADEIRA - 7,5CM | J85: M | K85: 250 | L85: 20.8 | M85: =ROUND(K85*L85,2) -> 5200
M86: =ROUND(K86*L86,2) -> 0
C87: EDIF | D87: 7002002 | E87: CONJUNTO DE FECHADURA DE CILINDRO, 55MM, TRÁFEGO INTENSO, MAÇANETA EM ZAMAC, GUARNIÇÕES EM AÇO, ACABAMENTO CROMADO - PARA PORTA INTERNA OU EXTERNA | J87: JG | K87: 25 | L87: 265.26 | M87: =ROUND(K87*L87,2) -> 6631.5
M88: =ROUND(K88*L88,2) -> 0
C89: EDIF | D89: 7002050 | E89: TARGETA DE SOBREPOR,TIPO "LIVRE-OCUPADO"- 60X65MM | J89: UNID | K89: 4 | L89: 215.77 | M89: =ROUND(K89*L89,2) -> 863.08
M90: =ROUND(K90*L90,2) -> 0
E91: 4- LOUÇAS / ILUMINAÇÃO | O91: =SUM(M65:M91) -> 60329.48
C93: EDIF | D93: 10013040 | E93: TANQUE DE LOUÇA BRANCA, S/COLUNA, CAPAC. MÍNIMA 30L, EXCLUSIVE TORNEIRA | J93: UNID | K93: 1 | L93: 1164.47 | M93: =ROUND(K93*L93,2) -> 1164.47
M94: =ROUND(K94*L94,2) -> 0
C95: EDIF | D95: 10014004 | E95: TORNEIRA DE PRESSÃO PARA USO GERAL, METAL CROMADO - 3/4" | J95: UNID | K95: 1 | L95: 65.19 | M95: =ROUND(K95*L95,2) -> 65.19
M96: =ROUND(K96*L96,2) -> 0
C97: EDIF | D97: 6002050 | E97: TELHAS EM POLICARBONATO ALVEOLAR 6MM C/ESTRUTURA METÁLICA GALV. INSTALADA | J97: M2 | K97: 24.5 | L97: 641.85 | M97: =ROUND(K97*L97,2) -> 15725.33
E98: 24.5 | M98: =ROUND(K98*L98,2) -> 0
C99: FDE | D99: 05.05.105 | E99: CC-05 CUBA INOX (50X40X25CM) TORNEIRA DE MESA INCL.VÁLVULA AMERICANA-GRANITO | J99: UNID | K99: 2 | L99: 3228.44 | M99: =ROUND(K99*L99,2) -> 6456.88 | P99: 3970.98 | Q99: =P99/1.23 -> 3228.439
E100: completa | M100: =ROUND(K100*L100,2) -> 0 | Q100: =P100/1.23 -> 0
C101: FDE | D101: 09.09.048 | E101: IL-95 LUMINÁRIA LED QUADRADA DE EMBUTIR COM DIFUSOR TRANSLÚCIDO <= 40W | J101: UNID | K101: 12 | L101: 465.94 | M101: =ROUND(K101*L101,2) -> 5591.28 | P101: 573.11 | Q101: =P101/1.23 -> 465.94309
M102: =ROUND(K102*L102,2) -> 0 | Q102: =P102/1.23 -> 0
C103: FDE | D103: 09.84.009 | E103: TOMADA 2P+T PADRAO NBR 14136 CORRENTE 10A-250V | J103: UNID | K103: 11 | L103: 23.22 | M103: =ROUND(K103*L103,2) -> 255.42 | P103: 28.56 | Q103: =P103/1.23 -> 23.219512
E104: 2+2+6 | M104: =ROUND(K104*L104,2) -> 0 | Q104: =P104/1.23 -> 0
C105: FDE | D105: 09.84.010 | E105: TOMADA 2P+T PADRAO NBR 14136 CORRENTE 20A-250V | J105: UNID | K105: 5 | L105: 28.28 | M105: =ROUND(K105*L105,2) -> 141.4 | P105: 34.78 | Q105: =P105/1.23 -> 28.276423
E106: 1+1+2 | M106: =ROUND(K106*L106,2) -> 0 | Q106: =P106/1.23 -> 0
C107: FDE | D107: 09.84.020 | E107: ESPELHO DE 4'X2' | J107: UNID | K107: 19 | L107: 6.76 | M107: =ROUND(K107*L107,2) -> 128.44 | P107: 8.31 | Q107: =P107/1.23 -> 6.7560976
M108: =ROUND(K108*L108,2) -> 0 | Q108: =P108/1.23 -> 0
C109: FDE | D109: 09.84.001 | E109: INTERRUPTOR DE 1 TECLA | J109: UNID | K109: 3 | L109: 18.3 | M109: =ROUND(K109*L109,2) -> 54.9 | P109: 22.51 | Q109: =P109/1.23 -> 18.300813
...

Sheet Planilha
D7: =ORÇ!C6 -> OBRA: REFORMA DO PRÉDIO DO CENTRO DE ESPECIALIDADES ODONTOLÓGICAS- CEO
D8: =ORÇ!C7 -> Av.: BRASIL nº 2.141 - VILA ROMANÓPOLIS - FERRAZ DE VASCONCELOS
D9: =ORÇ!H7 -> Dt.B.-FDE-Abr/ 26/-Siurb- Jul/26 -CDHU-Ago/26- Sinapi- Ago/26
B10: Referência | C10: Item | D10: Descrição | E10: Unid | F10: Quantidade | G10: Preço Unit | H10: Total | I10: =B10 -> Referência
D11: =ORÇ!E11 -> 1 - SERVICOS PRELIMINARES/ DEMOLIÇÕES | I11: =B11 -> 0
B12: EDIF | C12: =ORÇ!D12 -> 17-030-002 | D12: =ORÇ!E12 -> PLACA DE OBRA EM CHAPA DE AÇO GALVANIZADO | E12: =ORÇ!J12 -> M2 | F12: 6 | H12: =ROUND(F12*G12,2) -> 0 | I12: =B12 -> EDIF
B13: EDIF | C13: =ORÇ!D14 -> 16.35.006 | D13: =ORÇ!E14 -> ESCARIFICACAO MECANICA,CORTE CONCRETO C/REBARBADORES ELETR ATE 5,0C | E13: =ORÇ!J14 -> M2 | F13: =ORÇ!K14 -> 2.5 | H13: =ROUND(F13*G13,2) -> 0 | I13: =B13 -> EDIF
B14: EDIF | C14: =ORÇ!D17 -> 4050001 | D14: =ORÇ!E17 -> DEMOLIÇÃO DE ALVENARIA ESTRUTURAL DE BLOCOS VAZADOS DE CONCRETO | E14: =ORÇ!J17 -> M3 | F14: =ORÇ!K17 -> 12.24 | H14: =ROUND(F14*G14,2) -> 0 | I14: =B14 -> EDIF
G15: SUB TOTAL | H15: =SUM(H12:H14) -> 0
D16: =ORÇ!E19 -> 2- EXAUSTOR / ALVENARIA
B17: CDHU | C17: =ORÇ!D21 -> 09.12.010 | D17: =ORÇ!E21 -> EXAUSTOR DN 150MM VAZAO 280 M3HORA C/VENEZIANA AUTOFECHANTE INCL.DUTO EXAUST.USO EXCL.PADRAO CRECHE | E17: UNID | F17: =VLOOKUP(C17,ORÇ!D17:O137,8,0) -> 11 | H17: =ROUND(F17*G17,2) -> 0
B18: EDIF | C18: =ORÇ!D23 -> 17010018 | D18: =ORÇ!E23 -> DUTO EM CHAPA DE AÇO GALVANIZADO N.22 - DIÂMETRO 35CM | E18: =ORÇ!J23 -> M | F18: =ORÇ!K23 -> 16.41 | H18: =ROUND(F18*G18,2) -> 0
B19: EDIF | C19: =ORÇ!D25 -> 16.01.014 | D19: =ORÇ!E25 -> FD-14 FECHAMENTO DE DIVISA/BLOCO DE CONCRETO/ S/REVEST. H=185CM/BROCA | E19: M2 | F19: 28.65 | H19: =ROUND(F19*G19,2) -> 0
B20: EDIF | C20: =ORÇ!D27 -> 4001060 | D20: =ORÇ!E27 -> VB.02 - ALVENARIA EM BLOCOS DE CONCRETO ESTRUTURAL 14 X 19 X 39CM - ATÉ 6MPA | E20: M2 | F20: =ORÇ!K27 -> 15.6 | H20: =ROUND(F20*G20,2) -> 0
B21: EDIF | C21: =ORÇ!D29 -> 11001001 | D21: =ORÇ!E29 -> CHAPISCO COMUM - ARGAMASSA DE CIMENTO E AREIA 1:3 | E21: M2 | F21: =VLOOKUP(C21,ORÇ!D19:O139,8,0) -> 90.5 | H21: =ROUND(F21*G21,2) -> 0
B22: EDIF | C22: =ORÇ!D31 -> 11001009 | D22: =ORÇ!E31 -> EMBOÇO DESEMPENADO PARA PINTURA - ARGAMASSA MISTA CIMENTO, CAL E AREIA 1:3/12 | E22: M2 | F22: =VLOOKUP(C22,ORÇ!D31:O140,8,0) -> 90.5 | H22: =ROUND(F22*G22,2) -> 0
B23: EDIF | C23: =ORÇ!D33 -> 10014076 | D23: =ORÇ!E33 -> TAMPO PARA BANCADA ÚMIDA - GRANITO CINZA MAUA POLIDO - ESPESSURA 2CM | E23: M2 | F23: =VLOOKUP(C23,ORÇ!D31:O141,8,0) -> 0.2 | H23: =ROUND(F23*G23,2) -> 0
B24: EDIF | C24: =ORÇ!D35 -> 11002029 | D24: =ORÇ!E35 -> AZULEJOS, JUNTA AMARRAÇÃO OU A PRUMO - ASSENTES COM ARGAMASSA COLANTE | E24: M2 | F24: =VLOOKUP(C24,ORÇ!D31:O142,8,0) -> 23.22 | H24: =ROUND(F24*G24,2) -> 0
B25: EDIF | C25: =ORÇ!D37 -> 8060001 | D25: =ORÇ!E37 -> RETIRADA DE ESQUADRIAS METÁLICAS EM GERAL, PORTAS OU CAIXILHOS | E25: M2 | F25: 6 | H25: =ROUND(F25*G25,2) -> 0
B26: EDIF | C26: =ORÇ!D39 -> 8070001 | D26: =ORÇ!E39 -> RECOLOCAÇÃO DE ESQUADRIAS METÁLICAS EM GERAL, PORTAS OU CAIXILHOS | E26: M2 | F26: 4.08 | H26: =ROUND(F26*G26,2) -> 0
B27: =ORÇ!C41 -> SINAPI | C27: =ORÇ!D41 -> 99842 | D27: =ORÇ!E41 -> GUARDA-CORPO DE AÇO GALVANIZADO DE 1,10M, MONTANTES TUBULARES DE 1.1/4" ESPAÇADOS 1,20M, TRAVESSA SUPERIOR DE 1.1/2", GRADIL FORMADO POR TUBOS HORIZONTAIS DE 1" E VERTICAIS DE 3/4", FIXADO COM ADESIVO ESTRUTURAL EPOXI. AF_10/2025 | E27: =ORÇ!J41 -> M2 | F27: =ORÇ!K41 -> 3.64 | H27: =ROUND(F27*G27,2) -> 0
B28: =ORÇ!C43 -> FDE | C28: =ORÇ!D43 -> 06.03.082 | D28: =ORÇ!E43 -> CO-31 CORRIMÃO SIMPLES AÇO INOX FORNECIDO E INSTALADO | E28: =ORÇ!J43 -> M | F28: =ORÇ!K43 -> 12.64 | H28: =ROUND(F28*G28,2) -> 0
B29: =ORÇ!C45 -> SINAPI | C29: =ORÇ!D45 -> 102073 | D29: =ORÇ!E45 -> ESCADA EM CONCRETO ARMADO MOLDADO IN LOCO, FCK 25 MPA, COM 1 LANCE E LAJE PLANA, FÔRMA EM CHAPA DE MADEIRA COMPENSADA RESINADA. AF_11/2020 | E29: =ORÇ!J45 -> M3 | F29: =ORÇ!K45 -> 1.88 | H29: =ROUND(F29*G29,2) -> 0
B30: EDIF | C30: =ORÇ!D48 -> 8002075 | D30: =ORÇ!E48 -> EP.07 - GRADE DE PROTEÇÃO EM FERRO CHATO | E30: M2 | F30: 5.28 | H30: =ROUND(F30*G30,2) -> 0
B31: EDIF | C31: =ORÇ!D50 -> 8002062 | D31: =ORÇ!E50 -> CA.13 - CAIXILHO EM ALUMÍNIO ANODIZADO - BASCULANTE | E31: M2 | F31: 4 | H31: =ROUND(F31*G31,2) -> 0
B32: EDIF | C32: =ORÇ!D52 -> 14001011 | D32: =ORÇ!E52 -> VIDRO IMPRESSO COMUM, TRANSLÚCIDO INCOLOR - TIPO CANELADO, 4MM- LEITOSO | E32: M2 | F32: 4 | H32: =ROUND(F32*G32,2) -> 0
B33: CDHU | C33: =ORÇ!D54 -> 19.01.062 | D33: =ORÇ!E54 -> Peitoril e/ou soleira em granito, espessura de 2 cm e largura até 20 cm, acabamento polido | E33: M | F33: 28.26 | H33: =ROUND(F33*G33,2) -> 0
B34: EDIF | C34: =ORÇ!D57 -> 17045001 | D34: =ORÇ!E57 -> ANDAIMES METÁLICOS - FORNECIMENTO | E34: M3XMÊS | F34: 40 | H34: =ROUND(F34*G34,2) -> 0
B35: EDIF | C35: =ORÇ!D59 -> 17045002 | D35: =ORÇ!E59 -> ANDAIMES METÁLICOS - MONTAGEM E DESMONTAGEM | E35: M3 | F35: 40 | H35: =ROUND(F35*G35,2) -> 0
B36: EDIF | C36: =ORÇ!D61 -> 12001042 | D36: =ORÇ!E61 -> FORRO DE GESSO ACARTONADO TIPO FGA (FORNECIMENTO E INSTALAÇÃO) | E36: M2 | F36: 42.26 | H36: =ROUND(F36*G36,2) -> 0
G37: SUB TOTAL | H37: =SUM(H17:I36) -> 0
D38: =ORÇ!E63 -> 3- ESQUADRIAS DE MADEIRA /FERRAGENS
B39: EDIF | C39: =ORÇ!D65 -> 7060001 | D39: =ORÇ!E65 -> RETIRADA DE FOLHAS DE PORTA DE PASSAGEM OU JANELA | E39: UNID | F39: 31 | H39: =ROUND(F39*G39,2) -> 0
B40: EDIF | C40: =ORÇ!D67 -> 7060002 | D40: =ORÇ!E67 -> RETIRADA DE BATENTES DE MADEIRA | E40: UNID | F40: 29 | H40: =ROUND(F40*G40,2) -> 0
B41: EDIF | C41: =ORÇ!D69 -> 7060008 | D41: =ORÇ!E69 -> RETIRADA DE GUARNIÇÕES OU MOLDURAS DE MADEIRA | E41: M | F41: 250 | H41: =ROUND(F41*G41,2) -> 0
B42: EDIF | C42: =ORÇ!D71 -> 7070001 | D42: =ORÇ!E71 -> RECOLOCAÇÃO DE FOLHAS DE PORTA DE PASSAGEM OU JANELA | E42: UNID | F42: 4 | H42: =ROUND(F42*G42,2) -> 0
B43: EDIF | C43: =ORÇ!D73 -> 7001012 | D43: =ORÇ!E73 -> PM.12 - PORTA LISA COMUM/ ENCABEÇADA - 82X210CM | E43: UNID | F43: 23 | H43: =ROUND(F43*G43,2) -> 0
B44: EDIF | C44: =ORÇ!D75 -> 7001014 | D44: =ORÇ!E75 -> PM.14 - PORTA LISA COMUM/ ENCABEÇADA - 102X210CM | E44: UNID | F44: 1 | H44: =ROUND(F44*G44,2) -> 0
B45: FDE | C45: =ORÇ!D77 -> 05.01.101 | D45: =ORÇ!E77 -> PM-08 PORTA DE MADEIRA SARRAFEADA P/ PINT. BAT. MADEIRA L=124CM INCLUSIVE REFORÇO FECHADURA | E45: UNID | F45: 1 | H45: =ROUND(F45*G45,2) -> 0
B46: CDHU | C46: =ORÇ!D79 -> 23.04.080 | D46: =ORÇ!E79 -> Porta em laminado fenólico melamínico com batente em alumínio - 60 x 160 cm | E46: UNID | F46: 4 | H46: =ROUND(F46*G46,2) -> 0
B47: EDIF | C47: =ORÇ!D81 -> 7001054 | D47: =ORÇ!E81 -> EM.02 - BATENTE DE MADEIRA (25CM) - PARA PORTA DE 1 FOLHA, SEM BANDEIRA | E47: M | F47: 1 | H47: =ROUND(F47*G47,2) -> 0
B48: EDIF | C48: =ORÇ!D83 -> 7001050 | D48: =ORÇ!E83 -> EM.01 - BATENTE DE MADEIRA (14CM) - PARA PORTA DE 1 FOLHA, SEM BANDEIRA | E48: JG | F48: =ORÇ!K83 -> 28 | H48: =ROUND(F48*G48,2) -> 0
B49: EDIF | C49: =ORÇ!D85 -> 7080002 | D49: =ORÇ!E85 -> GUARNIÇÃO OU MOLDURA DE MADEIRA - 7,5CM | E49: M | F49: =ORÇ!K85 -> 250 | H49: =ROUND(F49*G49,2) -> 0
B50: EDIF | C50: =ORÇ!D87 -> 7002002 | D50: =ORÇ!E87 -> CONJUNTO DE FECHADURA DE CILINDRO, 55MM, TRÁFEGO INTENSO, MAÇANETA EM ZAMAC, GUARNIÇÕES EM AÇO, ACABAMENTO CROMADO - PARA PORTA INTERNA OU EXTERNA | E50: JG | F50: =ORÇ!K87 -> 25 | H50: =ROUND(F50*G50,2) -> 0
B51: EDIF | C51: =ORÇ!D89 -> 7002050 | D51: =ORÇ!E89 -> TARGETA DE SOBREPOR,TIPO "LIVRE-OCUPADO"- 60X65MM | E51: UNID | F51: =ORÇ!K89 -> 4 | H51: =ROUND(F51*G51,2) -> 0
D52: =ORÇ!E91 -> 4- LOUÇAS / ILUMINAÇÃO | G52: SUB TOTAL | H52: =SUM(H39:H51) -> 0
B53: EDIF | C53: =ORÇ!D93 -> 10013040 | D53: =ORÇ!E93 -> TANQUE DE LOUÇA BRANCA, S/COLUNA, CAPAC. MÍNIMA 30L, EXCLUSIVE TORNEIRA | E53: UNID | F53: 1 | H53: =ROUND(F53*G53,2) -> 0
B54: EDIF | C54: =ORÇ!D95 -> 10014004 | D54: =ORÇ!E95 -> TORNEIRA DE PRESSÃO PARA USO GERAL, METAL CROMADO - 3/4" | E54: Unid | F54: 1 | H54: =ROUND(F54*G54,2) -> 0
B55: EDIF | C55: =ORÇ!D97 -> 6002050 | D55: =ORÇ!E97 -> TELHAS EM POLICARBONATO ALVEOLAR 6MM C/ESTRUTURA METÁLICA GALV. INSTALADA | E55: =ORÇ!J97 -> M2 | F55: 24.5 | H55: =ROUND(F55*G55,2) -> 0
B56: FDE | C56: =ORÇ!D99 -> 05.05.105 | D56: =ORÇ!E99 -> CC-05 CUBA INOX (50X40X25CM) TORNEIRA DE MESA INCL.VÁLVULA AMERICANA-GRANITO | E56: =ORÇ!J99 -> UNID | F56: =ORÇ!K99 -> 2 | H56: =ROUND(F56*G56,2) -> 0
B57: FDE | C57: =ORÇ!D101 -> 09.09.048 | D57: =ORÇ!E101 -> IL-95 LUMINÁRIA LED QUADRADA DE EMBUTIR COM DIFUSOR TRANSLÚCIDO <= 40W | E57: =ORÇ!J101 -> UNID | F57: 12 | H57: =ROUND(F57*G57,2) -> 0
B58: FDE | C58: =ORÇ!D103 -> 09.84.009 | D58: =ORÇ!E103 -> TOMADA 2P+T PADRAO NBR 14136 CORRENTE 10A-250V | E58: UNID | F58: 11 | H58: =ROUND(F58*G58,2) -> 0
B59: FDE | C59: =ORÇ!D105 -> 09.84.010 | D59: =ORÇ!E105 -> TOMADA 2P+T PADRAO NBR 14136 CORRENTE 20A-250V | E59: UNID | F59: 5 | H59: =ROUND(F59*G59,2) -> 0
B60: FDE | C60: =ORÇ!D107 -> 09.84.020 | D60: =ORÇ!E107 -> ESPELHO DE 4'X2' | E60: UNID | F60: 19 | H60: =ROUND(F60*G60,2) -> 0
B61: FDE | C61: =ORÇ!D109 -> 09.84.001 | D61: =ORÇ!E109 -> INTERRUPTOR DE 1 TECLA | E61: UNID | F61: 3 | H61: =ROUND(F61*G61,2) -> 0
B62: FDE | C62: =ORÇ!D111 -> 09.84.003 | D62: =ORÇ!E111 -> INTERRUPTOR DE 3 TECLAS | E62: UNID | F62: 2 | H62: =ROUND(F62*G62,2) -> 0
G63: SUB TOTAL | H63: =SUM(H53:H62) -> 0
D64: =ORÇ!E113 -> 5 - PINTURA
B65: EDIF | C65: =ORÇ!D115 -> 15001015 | D65: =ORÇ!E115 -> TINTA ACRÍLICA - CONCRETO OU REBOCO SEM MASSA CORRIDA | E65: M2 | F65: =ORÇ!K115 -> 602.3 | H65: =ROUND(F65*G65,2) -> 0
B66: EDIF | C66: =ORÇ!D117 -> 15002011 | D66: =ORÇ!E117 -> ESMALTE SINTÉTICO - ESQUADRIAS E PEÇAS DE MARCENARIA, COM EMASSAMENTO | E66: M2 | F66: =ORÇ!K117 -> 123 | H66: =ROUND(F66*G66,2) -> 0
G67: SUB TOTAL | H67: =SUM(H65:H66) -> 0
D68: =ORÇ!E119 -> 6 - ENTULHOS/COMPLEMENTARES
B69: EDIF | C69: =ORÇ!D121 -> 1001007 | D69: =ORÇ!E121 -> REMOÇÃO DE ENTULHO COM CAÇAMBA METÁLICA, INCLUSIVE CARGA MANUAL E DESCARGA EM BOTA-FORA | E69: M3 | F69: =ORÇ!K121 -> 16.74 | H69: =ROUND(F69*G69,2) -> 0
B70: CDHU | C70: =ORÇ!D123 -> 05.09.006 | D70: =ORÇ!E123 -> Taxa de destinação de resíduo sólido em aterro, tipo inerte | E70: T | F70: =ORÇ!K123 -> 20.09 | H70: =ROUND(F70*G70,2) -> 0
B71: EDIF | C71: =ORÇ!D125 -> 17004001 | D71: =ORÇ!E125 -> LIMPEZA GERAL DA OBRA | E71: M2 | F71: =VLOOKUP(C71,ORÇ!D31:O143,8,0) -> 238 | H71: =ROUND(F71*G71,2) -> 0
F72: SUB TOTAL | H72: =SUM(H69:H71) -> 0 | I72: =B72 -> 0
B74: OBSERVAÇÕES: | G74: Total: | H74: =SUM(H11:H72)/2 -> 0
G75: BDI (25,00%): | H75: =H74*0.25 -> 0
G76: TOTAL GERAL: | H76: =SUM(H74:H75) -> 0

Sheet Cronograma
B8: =Planilha!D7 -> OBRA: REFORMA DO PRÉDIO DO CENTRO DE ESPECIALIDADES ODONTOLÓGICAS- CEO
B9: =ORÇ!C7 -> Av.: BRASIL nº 2.141 - VILA ROMANÓPOLIS - FERRAZ DE VASCONCELOS
B10: Descrição | C10: MESES | N10: Valor do Item | O10: %
C11: 1 | D11: 2 | E11: 3 | F11: 4 | G11: 13 | H11: 14 | I11: 15 | J11: 16 | K11: 17 | L11: 18 | M11: 19
B12: =Planilha!D11 -> 1 - SERVICOS PRELIMINARES/ DEMOLIÇÕES | C12: =N12/1 -> 0 | N12: =Planilha!H15*1.25 -> 0 | O12: =N12/$N$30 -> #DIV/0!
C13: X
B15: =Planilha!D16 -> 2- EXAUSTOR / ALVENARIA | C15: =N15/4 -> 0 | D15: =N15/4 -> 0 | E15: =N15/4 -> 0 | F15: =N15/4 -> 0 | N15: =Planilha!H37*1.25 -> 0 | O15: =N15/$N$30 -> #DIV/0!
C16: X | D16: X | F16: X
B18: =Planilha!D38 -> 3- ESQUADRIAS DE MADEIRA /FERRAGENS | D18: =N18/3 -> 0 | E18: =N18/3 -> 0 | F18: =N18/3 -> 0 | N18: =Planilha!H52*1.25 -> 0 | O18: =N18/$N$30 -> #DIV/0!
D19: X | F19: X
B21: =Planilha!D52 -> 4- LOUÇAS / ILUMINAÇÃO | C21: =N21/1 -> 0 | N21: =Planilha!H63*1.25 -> 0 | O21: =N21/$N$30 -> #DIV/0!
C22: X
B24: =Planilha!D64 -> 5 - PINTURA | E24: =N24/2 -> 0 | F24: =N24/2 -> 0 | N24: =Planilha!H67*1.25 -> 0 | O24: =N24/$N$30 -> #DIV/0!
F25: X
B27: =Planilha!D68 -> 6 - ENTULHOS/COMPLEMENTARES | F27: =N27/1 -> 0 | N27: =Planilha!H72*1.25 -> 0 | O27: =N27/$N$30 -> #DIV/0!
F28: X
C30: =C21+C12+C15 -> 0 | D30: =D24+D15+D18 -> 0 | E30: =E24+E18+E15 -> 0 | F30: =F24+F27+F18+F15 -> 0 | N30: =SUM(N12:N29) -> 0 | O30: =SUM(O12,O15,O18,O21,O24,O27) -> #DIV/0!
B33: CRITÉRIO POR MEDIÇÃO ---- Lat:23º 32' 39.61 " S Log.:46º 22' 24.73 " O

Sheet QUANTITATIVOS
B1: QUANTIT. | C1: 2.75 | D1: PAREDE | E1: total | F1: total
B2: m2 | C2: 1 | D2: 15cm | E2: area | F2: volume
A3: demolição paredes | B3: =(2.55*C1)+(1.2*C1)-1.68 -> 8.6325 | S3: EMPOLAM.
A4: demolição janelas | B4: =K4+M4+L4+N4+O4 -> 3.605 | K4: =(0.8+0.8)*1 -> 1.6 | L4: =1.2*1 -> 1.2 | M4: =(0.25+0.35)*1 -> 0.6 | N4: =0.2*0.2 -> 0.04 | O4: =(0.15*0.4)*2.75 -> 0.165 | S4: 0.3
A5: TOTAL | B5: =SUM(B3:B4) -> 12.2375 | D5: =B5*0.2 -> 2.4475 | E5: =D5+D6 -> 3.2455 | F5: =E5*1.3 -> 4.21915 | R5: 12.24
A6: CORTE - EM laje M2 A= 2,50 | B6: 5.32 | D6: =B6*0.15 -> 0.798 | K6: escada | L6: sob escad | M6: sl. almox. | N6: sl. Expurg. | R6: =B6*0.12 -> 0.6384
A7: FECHAMENTO BLOCO 15CM | B7: =(K7+L7+M7+N7+O7+P7) -> 45.2535 | K7: 1.67 | L7: =1.44*1.15 -> 1.656 | M7: =(2.55+0.3)*2.75 -> 7.8375 | N7: =(3.4*2.75)-(1*0.5) -> 8.85 | O7: =((1.59+0.95+2.45+2.45+1)*2.75)-(1.68*2) -> 19.85 | P7: =(0.9+1+3)*1.1 -> 5.39 | R7: =SUM(R5:R6) -> 12.8784 | S7: =R7*1.3 -> 16.74192
A8: chapisco | B8: 45.25 | C8: =B8*2 -> 90.5
A9: emboço | B9: 45.25 | C9: =B9*2 -> 90.5
A10: tampo de granito (PASSA PRATO) | B10: 0.2 | K10: =0.5*0.4 -> 0.2
A11: retirada de porta | B11: 1
A12: recolocação de porta | B12: 1
A13: porta 0,80 | B13: 3 | H13: teto | I13: lix | J13: alm | K13: esc | L13: integ. Cur | M13: recep. | N13: anex ext. | O13: bloco térr | P13: ext
A14: forro de gesso | B14: 42.26
A15: PINTURA LATEX ACRILICO | B15: 602.3 | H15: 126.6 | I15: 6.1 | J15: 38.5 | K15: 27.5 | L15: 52.5 | M15: 60.36 | N15: 45.78 | O15: =37.92*6.46 -> 244.9632
A16: vento kit | B16: 11
A17: duto de vento kit m | B17: =K17 -> 16.41 | K17: =(6.25+4.9+1.35+3.91) -> 16.41
A18: azulejos | B18: =K18+L18+M18 -> 23.22 | K18: =(3.4*1.8)*2 -> 12.24 | L18: =(2.45*1.8)*2 -> 8.82 | M18: =(1+0.2)*1.8 -> 2.16
A19: PORTAS --- 0,8X2,10 | B19: 23
A20: PORTAS ---- 1,25X 2,10 | B20: 1
A21: PORTAS --- 0,60X 0,80 | B21: 4
A22: PORTAS ---- 1,00 X 2,10 | B22: 1 | D22: J2 | E22: J3 | F22: J5 | G22: J9
A23: retirada de janelas J2,J3 (J5 )*2 | B23: 4 | D23: =1.6*1 -> 1.6 | E23: =1.2*1 -> 1.2 | F23: =2*1*0.6 -> 1.2 | G23: =2*1 -> 2 | H23: 6,00M2
A24: recolocação de janelas j5x2 +J2 | B24: 5 | D24: =1.8*1.2 -> 2.16 | F24: =2*1.2*0.8 -> 1.92 | H24: 4,08M2
A25: RETIRADA DA GRADE | B25: 4 | D25: =1.8*1.2 -> 2.16 | E25: =1.4*1.2 -> 1.68 | F25: =2*1.2*0.8 -> 1.92 | H25: 5,76M2
A26: RECOLOCAÇÃO DE GRADE | B26: 5 | D26: =1.8*1.2 -> 2.16 | E26: =1.4*1.2 -> 1.68 | F26: =2*1.2*0.8 -> 1.92 | H26: 5,76M2
A27: JANELA 2,00X1,00 nova J9 | B27: 2 | G27: =2*1*2 -> 4 | H27: 4,00M2
A28: GRADE DE PROTEÇÃO DE JANELA | G28: =2.2*1.2*2 -> 5.28 | H28: 5,28M2
A29: azulejos | I29: 2UNID | J29: 25 UNID
A30: VIDROS MINI BOREAL | B30: 4 | I30: PORTAS | K30: batentes | M30: guarnições
A31: PINTURA ESMALTE PORTAS | I31: 1,24CM 1,02CM | K31: 14cm 25cm | M31: =(0.8+2.1+2.1)*0.075*2*25 -> 18.75 | N31: =((1.24+1.02)+(2.1+2.1)*2) -> 10.66
I32: =(1.24+1.02)*2.1*2 -> 9.492 | K32: =(2.1+2.1+0.9)*0.14*28 -> 19.992 | L32: =(2.1+2.1+1.24)*2*0.25 -> 2.72
J33: =25*0.8*2.1*2 -> 84
A34: LIMPEZA DE OBRA | B34: =118.96 * 2 -> 237.92
